Workbook

Sheet Eval
D2: Niveau 1 | F2: Niveau 2 | H2: Niveau 3
A3: num | B3: Noms | C3: Prénom | D3: Réussite bonus | E3: Compétence | F3: Réussite bonus | G3: Compétence | H3: Réussite bonus | I3: Compétence
A4: 1 | D4: =COUNTIF('S1'!B13:P13,"OK") -> 3 | E4: =IF(D4>3,"ECA","DA") -> DA | F4: =COUNTIF('S1'!B24:P24,"OK") -> 3 | G4: =IF(F4>2,"PA","ECA") -> PA | H4: =COUNTIF('S1'!B35:P35,"OK") -> 2 | I4: =IF(H4>2,"A","PA") -> PA
A5: =A4+1 -> 2 | C5: A | D5: =IF(COUNTIF('S1'!$B$3:$P$3,C5)>0,'S1'!$H$17,0)+IF(COUNTIF('S1'!$R$3:$AF$3,C5)>0,'S1'!$X$17,0)+IF(COUNTIF('S1'!$AH$3:$AV$3,C5)>0,'S1'!$AN$17,0)+IF(COUNTIF('S2'!$B$3:$P$3,C5)>0,'S2'!$H$17,0)+IF(COUNTIF('S2'!$R$3:$AF$3,C5)>0,'S2'!$X$17,0)+IF(COUNTIF('S2'!$AH$3:$AV$3,C5)>0,'S2'!$AN$17,0)+IF(COUNTIF('S3'!$B$3:$P$3,C5)>0,'S3'!$H$17,0)+IF(COUNTIF('S3'!$R$3:$AF$3,C5)>0,'S3'!$X$17,0)+IF(COUNTIF('S3'!$AH$3:$AV$3,C5)>0,'S3'!$AN$17,0) -> 6 | E5: =IF(D5>3,"ECA","DA") -> ECA | F5: =IF(COUNTIF('S1'!$B$3:$P$3,C5)>0,'S1'!$H$28,0)+IF(COUNTIF('S1'!$R$3:$AF$3,C5)>0,'S1'!$X$28,0)+IF(COUNTIF('S1'!$AH$3:$AV$3,C5)>0,'S1'!$AN$28,0)+IF(COUNTIF('S2'!$B$3:$P$3,C5)>0,'S2'!$H$28,0)+IF(COUNTIF('S2'!$R$3:$AF$3,C5)>0,'S2'!$X$28,0)+IF(COUNTIF('S2'!$AH$3:$AV$3,C5)>0,'S2'!$AN$28,0)+IF(COUNTIF('S3'!$B$3:$P$3,C5)>0,'S3'!$H$28,0)+IF(COUNTIF('S3'!$R$3:$AF$3,C5)>0,'S3'!$X$28,0)+IF(COUNTIF('S3'!$AH$3:$AV$3,C5)>0,'S3'!$AN$28,0) -> 3 | G5: =IF(F5>2,"PA","ECA") -> PA | H5: =IF(COUNTIF('S1'!$B$3:$P$3,C5)>0,'S1'!$H$39,0)+IF(COUNTIF('S1'!$R$3:$AF$3,C5)>0,'S1'!$X$39,0)+IF(COUNTIF('S1'!$AH$3:$AV$3,C5)>0,'S1'!$AN$39,0)+IF(COUNTIF('S2'!$B$3:$P$3,C5)>0,'S2'!$H$39,0)+IF(COUNTIF('S2'!$R$3:$AF$3,C5)>0,'S2'!$X$39,0)+IF(COUNTIF('S2'!$AH$3:$AV$3,C5)>0,'S2'!$AN$39,0)+IF(COUNTIF('S3'!$B$3:$P$3,C5)>0,'S3'!$H$39,0)+IF(COUNTIF('S3'!$R$3:$AF$3,C5)>0,'S3'!$X$39,0)+IF(COUNTIF('S3'!$AH$3:$AV$3,C5)>0,'S3'!$AN$39,0) -> 2 | I5: =IF(H5>2,"A","PA") -> PA
A6: =A5+1 -> 3 | C6: B | D6: =IF(COUNTIF('S1'!$B$3:$P$3,C6)>0,'S1'!$H$17,0)+IF(COUNTIF('S1'!$R$3:$AF$3,C6)>0,'S1'!$X$17,0)+IF(COUNTIF('S1'!$AH$3:$AV$3,C6)>0,'S1'!$AN$17,0)+IF(COUNTIF('S2'!$B$3:$P$3,C6)>0,'S2'!$H$17,0)+IF(COUNTIF('S2'!$R$3:$AF$3,C6)>0,'S2'!$X$17,0)+IF(COUNTIF('S2'!$AH$3:$AV$3,C6)>0,'S2'!$AN$17,0)+IF(COUNTIF('S3'!$B$3:$P$3,C6)>0,'S3'!$H$17,0)+IF(COUNTIF('S3'!$R$3:$AF$3,C6)>0,'S3'!$X$17,0)+IF(COUNTIF('S3'!$AH$3:$AV$3,C6)>0,'S3'!$AN$17,0) -> 6 | E6: =IF(D6>3,"ECA","DA") -> ECA | F6: =IF(COUNTIF('S1'!$B$3:$P$3,C6)>0,'S1'!$H$28,0)+IF(COUNTIF('S1'!$R$3:$AF$3,C6)>0,'S1'!$X$28,0)+IF(COUNTIF('S1'!$AH$3:$AV$3,C6)>0,'S1'!$AN$28,0)+IF(COUNTIF('S2'!$B$3:$P$3,C6)>0,'S2'!$H$28,0)+IF(COUNTIF('S2'!$R$3:$AF$3,C6)>0,'S2'!$X$28,0)+IF(COUNTIF('S2'!$AH$3:$AV$3,C6)>0,'S2'!$AN$28,0)+IF(COUNTIF('S3'!$B$3:$P$3,C6)>0,'S3'!$H$28,0)+IF(COUNTIF('S3'!$R$3:$AF$3,C6)>0,'S3'!$X$28,0)+IF(COUNTIF('S3'!$AH$3:$AV$3,C6)>0,'S3'!$AN$28,0) -> 0 | G6: =IF(F6>2,"PA","ECA") -> ECA | H6: =IF(COUNTIF('S1'!$B$3:$P$3,C6)>0,'S1'!$H$39,0)+IF(COUNTIF('S1'!$R$3:$AF$3,C6)>0,'S1'!$X$39,0)+IF(COUNTIF('S1'!$AH$3:$AV$3,C6)>0,'S1'!$AN$39,0)+IF(COUNTIF('S2'!$B$3:$P$3,C6)>0,'S2'!$H$39,0)+IF(COUNTIF('S2'!$R$3:$AF$3,C6)>0,'S2'!$X$39,0)+IF(COUNTIF('S2'!$AH$3:$AV$3,C6)>0,'S2'!$AN$39,0)+IF(COUNTIF('S3'!$B$3:$P$3,C6)>0,'S3'!$H$39,0)+IF(COUNTIF('S3'!$R$3:$AF$3,C6)>0,'S3'!$X$39,0)+IF(COUNTIF('S3'!$AH$3:$AV$3,C6)>0,'S3'!$AN$39,0) -> 0 | I6: =IF(H6>2,"A","PA") -> PA
A7: =A6+1 -> 4 | C7: C | D7: =IF(COUNTIF('S1'!$B$3:$P$3,C7)>0,'S1'!$H$17,0)+IF(COUNTIF('S1'!$R$3:$AF$3,C7)>0,'S1'!$X$17,0)+IF(COUNTIF('S1'!$AH$3:$AV$3,C7)>0,'S1'!$AN$17,0)+IF(COUNTIF('S2'!$B$3:$P$3,C7)>0,'S2'!$H$17,0)+IF(COUNTIF('S2'!$R$3:$AF$3,C7)>0,'S2'!$X$17,0)+IF(COUNTIF('S2'!$AH$3:$AV$3,C7)>0,'S2'!$AN$17,0)+IF(COUNTIF('S3'!$B$3:$P$3,C7)>0,'S3'!$H$17,0)+IF(COUNTIF('S3'!$R$3:$AF$3,C7)>0,'S3'!$X$17,0)+IF(COUNTIF('S3'!$AH$3:$AV$3,C7)>0,'S3'!$AN$17,0) -> 7 | E7: =IF(D7>3,"ECA","DA") -> ECA | F7: =IF(COUNTIF('S1'!$B$3:$P$3,C7)>0,'S1'!$H$28,0)+IF(COUNTIF('S1'!$R$3:$AF$3,C7)>0,'S1'!$X$28,0)+IF(COUNTIF('S1'!$AH$3:$AV$3,C7)>0,'S1'!$AN$28,0)+IF(COUNTIF('S2'!$B$3:$P$3,C7)>0,'S2'!$H$28,0)+IF(COUNTIF('S2'!$R$3:$AF$3,C7)>0,'S2'!$X$28,0)+IF(COUNTIF('S2'!$AH$3:$AV$3,C7)>0,'S2'!$AN$28,0)+IF(COUNTIF('S3'!$B$3:$P$3,C7)>0,'S3'!$H$28,0)+IF(COUNTIF('S3'!$R$3:$AF$3,C7)>0,'S3'!$X$28,0)+IF(COUNTIF('S3'!$AH$3:$AV$3,C7)>0,'S3'!$AN$28,0) -> 3 | G7: =IF(F7>2,"PA","ECA") -> PA | H7: =IF(COUNTIF('S1'!$B$3:$P$3,C7)>0,'S1'!$H$39,0)+IF(COUNTIF('S1'!$R$3:$AF$3,C7)>0,'S1'!$X$39,0)+IF(COUNTIF('S1'!$AH$3:$AV$3,C7)>0,'S1'!$AN$39,0)+IF(COUNTIF('S2'!$B$3:$P$3,C7)>0,'S2'!$H$39,0)+IF(COUNTIF('S2'!$R$3:$AF$3,C7)>0,'S2'!$X$39,0)+IF(COUNTIF('S2'!$AH$3:$AV$3,C7)>0,'S2'!$AN$39,0)+IF(COUNTIF('S3'!$B$3:$P$3,C7)>0,'S3'!$H$39,0)+IF(COUNTIF('S3'!$R$3:$AF$3,C7)>0,'S3'!$X$39,0)+IF(COUNTIF('S3'!$AH$3:$AV$3,C7)>0,'S3'!$AN$39,0) -> 2 | I7: =IF(H7>2,"A","PA") -> PA
A8: =A7+1 -> 5 | C8: D | D8: =IF(COUNTIF('S1'!$B$3:$P$3,C8)>0,'S1'!$H$17,0)+IF(COUNTIF('S1'!$R$3:$AF$3,C8)>0,'S1'!$X$17,0)+IF(COUNTIF('S1'!$AH$3:$AV$3,C8)>0,'S1'!$AN$17,0)+IF(COUNTIF('S2'!$B$3:$P$3,C8)>0,'S2'!$H$17,0)+IF(COUNTIF('S2'!$R$3:$AF$3,C8)>0,'S2'!$X$17,0)+IF(COUNTIF('S2'!$AH$3:$AV$3,C8)>0,'S2'!$AN$17,0)+IF(COUNTIF('S3'!$B$3:$P$3,C8)>0,'S3'!$H$17,0)+IF(COUNTIF('S3'!$R$3:$AF$3,C8)>0,'S3'!$X$17,0)+IF(COUNTIF('S3'!$AH$3:$AV$3,C8)>0,'S3'!$AN$17,0) -> 10 | E8: =IF(D8>3,"ECA","DA") -> ECA | F8: =IF(COUNTIF('S1'!$B$3:$P$3,C8)>0,'S1'!$H$28,0)+IF(COUNTIF('S1'!$R$3:$AF$3,C8)>0,'S1'!$X$28,0)+IF(COUNTIF('S1'!$AH$3:$AV$3,C8)>0,'S1'!$AN$28,0)+IF(COUNTIF('S2'!$B$3:$P$3,C8)>0,'S2'!$H$28,0)+IF(COUNTIF('S2'!$R$3:$AF$3,C8)>0,'S2'!$X$28,0)+IF(COUNTIF('S2'!$AH$3:$AV$3,C8)>0,'S2'!$AN$28,0)+IF(COUNTIF('S3'!$B$3:$P$3,C8)>0,'S3'!$H$28,0)+IF(COUNTIF('S3'!$R$3:$AF$3,C8)>0,'S3'!$X$28,0)+IF(COUNTIF('S3'!$AH$3:$AV$3,C8)>0,'S3'!$AN$28,0) -> 6 | G8: =IF(F8>2,"PA","ECA") -> PA | H8: =IF(COUNTIF('S1'!$B$3:$P$3,C8)>0,'S1'!$H$39,0)+IF(COUNTIF('S1'!$R$3:$AF$3,C8)>0,'S1'!$X$39,0)+IF(COUNTIF('S1'!$AH$3:$AV$3,C8)>0,'S1'!$AN$39,0)+IF(COUNTIF('S2'!$B$3:$P$3,C8)>0,'S2'!$H$39,0)+IF(COUNTIF('S2'!$R$3:$AF$3,C8)>0,'S2'!$X$39,0)+IF(COUNTIF('S2'!$AH$3:$AV$3,C8)>0,'S2'!$AN$39,0)+IF(COUNTIF('S3'!$B$3:$P$3,C8)>0,'S3'!$H$39,0)+IF(COUNTIF('S3'!$R$3:$AF$3,C8)>0,'S3'!$X$39,0)+IF(COUNTIF('S3'!$AH$3:$AV$3,C8)>0,'S3'!$AN$39,0) -> 4 | I8: =IF(H8>2,"A","PA") -> A
A9: =A8+1 -> 6 | C9: E | D9: =IF(COUNTIF('S1'!$B$3:$P$3,C9)>0,'S1'!$H$17,0)+IF(COUNTIF('S1'!$R$3:$AF$3,C9)>0,'S1'!$X$17,0)+IF(COUNTIF('S1'!$AH$3:$AV$3,C9)>0,'S1'!$AN$17,0)+IF(COUNTIF('S2'!$B$3:$P$3,C9)>0,'S2'!$H$17,0)+IF(COUNTIF('S2'!$R$3:$AF$3,C9)>0,'S2'!$X$17,0)+IF(COUNTIF('S2'!$AH$3:$AV$3,C9)>0,'S2'!$AN$17,0)+IF(COUNTIF('S3'!$B$3:$P$3,C9)>0,'S3'!$H$17,0)+IF(COUNTIF('S3'!$R$3:$AF$3,C9)>0,'S3'!$X$17,0)+IF(COUNTIF('S3'!$AH$3:$AV$3,C9)>0,'S3'!$AN$17,0) -> 3 | E9: =IF(D9>3,"ECA","DA") -> DA | F9: =IF(COUNTIF('S1'!$B$3:$P$3,C9)>0,'S1'!$H$28,0)+IF(COUNTIF('S1'!$R$3:$AF$3,C9)>0,'S1'!$X$28,0)+IF(COUNTIF('S1'!$AH$3:$AV$3,C9)>0,'S1'!$AN$28,0)+IF(COUNTIF('S2'!$B$3:$P$3,C9)>0,'S2'!$H$28,0)+IF(COUNTIF('S2'!$R$3:$AF$3,C9)>0,'S2'!$X$28,0)+IF(COUNTIF('S2'!$AH$3:$AV$3,C9)>0,'S2'!$AN$28,0)+IF(COUNTIF('S3'!$B$3:$P$3,C9)>0,'S3'!$H$28,0)+IF(COUNTIF('S3'!$R$3:$AF$3,C9)>0,'S3'!$X$28,0)+IF(COUNTIF('S3'!$AH$3:$AV$3,C9)>0,'S3'!$AN$28,0) -> 3 | G9: =IF(F9>2,"PA","ECA") -> PA | H9: =IF(COUNTIF('S1'!$B$3:$P$3,C9)>0,'S1'!$H$39,0)+IF(COUNTIF('S1'!$R$3:$AF$3,C9)>0,'S1'!$X$39,0)+IF(COUNTIF('S1'!$AH$3:$AV$3,C9)>0,'S1'!$AN$39,0)+IF(COUNTIF('S2'!$B$3:$P$3,C9)>0,'S2'!$H$39,0)+IF(COUNTIF('S2'!$R$3:$AF$3,C9)>0,'S2'!$X$39,0)+IF(COUNTIF('S2'!$AH$3:$AV$3,C9)>0,'S2'!$AN$39,0)+IF(COUNTIF('S3'!$B$3:$P$3,C9)>0,'S3'!$H$39,0)+IF(COUNTIF('S3'!$R$3:$AF$3,C9)>0,'S3'!$X$39,0)+IF(COUNTIF('S3'!$AH$3:$AV$3,C9)>0,'S3'!$AN$39,0) -> 2 | I9: =IF(H9>2,"A","PA") -> PA
A10: =A9+1 -> 7 | C10: F | D10: =IF(COUNTIF('S1'!$B$3:$P$3,C10)>0,'S1'!$H$17,0)+IF(COUNTIF('S1'!$R$3:$AF$3,C10)>0,'S1'!$X$17,0)+IF(COUNTIF('S1'!$AH$3:$AV$3,C10)>0,'S1'!$AN$17,0)+IF(COUNTIF('S2'!$B$3:$P$3,C10)>0,'S2'!$H$17,0)+IF(COUNTIF('S2'!$R$3:$AF$3,C10)>0,'S2'!$X$17,0)+IF(COUNTIF('S2'!$AH$3:$AV$3,C10)>0,'S2'!$AN$17,0)+IF(COUNTIF('S3'!$B$3:$P$3,C10)>0,'S3'!$H$17,0)+IF(COUNTIF('S3'!$R$3:$AF$3,C10)>0,'S3'!$X$17,0)+IF(COUNTIF('S3'!$AH$3:$AV$3,C10)>0,'S3'!$AN$17,0) -> 3 | E10: =IF(D10>3,"ECA","DA") -> DA | F10: =IF(COUNTIF('S1'!$B$3:$P$3,C10)>0,'S1'!$H$28,0)+IF(COUNTIF('S1'!$R$3:$AF$3,C10)>0,'S1'!$X$28,0)+IF(COUNTIF('S1'!$AH$3:$AV$3,C10)>0,'S1'!$AN$28,0)+IF(COUNTIF('S2'!$B$3:$P$3,C10)>0,'S2'!$H$28,0)+IF(COUNTIF('S2'!$R$3:$AF$3,C10)>0,'S2'!$X$28,0)+IF(COUNTIF('S2'!$AH$3:$AV$3,C10)>0,'S2'!$AN$28,0)+IF(COUNTIF('S3'!$B$3:$P$3,C10)>0,'S3'!$H$28,0)+IF(COUNTIF('S3'!$R$3:$AF$3,C10)>0,'S3'!$X$28,0)+IF(COUNTIF('S3'!$AH$3:$AV$3,C10)>0,'S3'!$AN$28,0) -> 3 | G10: =IF(F10>2,"PA","ECA") -> PA | H10: =IF(COUNTIF('S1'!$B$3:$P$3,C10)>0,'S1'!$H$39,0)+IF(COUNTIF('S1'!$R$3:$AF$3,C10)>0,'S1'!$X$39,0)+IF(COUNTIF('S1'!$AH$3:$AV$3,C10)>0,'S1'!$AN$39,0)+IF(COUNTIF('S2'!$B$3:$P$3,C10)>0,'S2'!$H$39,0)+IF(COUNTIF('S2'!$R$3:$AF$3,C10)>0,'S2'!$X$39,0)+IF(COUNTIF('S2'!$AH$3:$AV$3,C10)>0,'S2'!$AN$39,0)+IF(COUNTIF('S3'!$B$3:$P$3,C10)>0,'S3'!$H$39,0)+IF(COUNTIF('S3'!$R$3:$AF$3,C10)>0,'S3'!$X$39,0)+IF(COUNTIF('S3'!$AH$3:$AV$3,C10)>0,'S3'!$AN$39,0) -> 2 | I10: =IF(H10>2,"A","PA") -> PA
A11: =A10+1 -> 8
A12: =A11+1 -> 9
A13: =A12+1 -> 10
A14: =A13+1 -> 11
A15: =A14+1 -> 12
A16: =A15+1 -> 13
A17: =A16+1 -> 14
A18: =A17+1 -> 15
A19: =A18+1 -> 16
A20: =A19+1 -> 17
A21: =A20+1 -> 18
A22: =A21+1 -> 19
... A33: =A32+1 -> 30

Sheet S1
A1: Carnet de Suivi Handball - Classe de 5ème | Q1: Carnet de Suivi Handball - Classe de 5ème | AG1: Carnet de Suivi Handball - Classe de 5ème | AW1: Carnet de Suivi Handball - Classe de 5ème | BM1: Carnet de Suivi Handball - Classe de 5ème
A3: Équipe 1 | B3: A | C3: D | Q3: Équipe 2 | R3: B | AG3: Équipe 3 | AH3: C | AW3: Équipe 4 | AX3: E | BM3: Équipe 5 | BN3: F
A5: Domaine 2 (méthde et outils pour apprendre : coopérer et démarche de recherche) | Q5: Domaine 2 (méthde et outils pour apprendre : coopérer et démarche de recherche) | AG5: Domaine 2 (méthde et outils pour apprendre : coopérer et démarche de recherche) | AW5: Domaine 2 (méthde et outils pour apprendre : coopérer et démarche de recherche) | BM5: Domaine 2 (méthde et outils pour apprendre : coopérer et démarche de recherche)
A7: Compétence: S'organiser collectivement pour conserver la balle et atteindre la cible rapidement | Q7: Compétence: S'organiser collectivement pour conserver la balle et atteindre la cible rapidement | AG7: Compétence: S'organiser collectivement pour conserver la balle et atteindre la cible rapidement | AW7: Compétence: S'organiser collectivement pour conserver la balle et atteindre la cible rapidement | BM7: Compétence: S'organiser collectivement pour conserver la balle et atteindre la cible rapidement
A9: Matchs NIVEAU 1 | Q9: Matchs NIVEAU 1 | AG9: Matchs NIVEAU 1 | AW9: Matchs NIVEAU 1 | BM9: Matchs NIVEAU 1
A10: Contrat Collectif | B10: Bonus 1: Réaliser 3 passes consécutives 5 fois - Coupelle BLANCHE | Q10: Contrat Collectif | R10: Bonus 1: Réaliser 3 passes consécutives 5 fois - Coupelle BLANCHE | AG10: Contrat Collectif | AH10: Bonus 1: Réaliser 3 passes consécutives 5 fois - Coupelle BLANCHE | AW10: Contrat Collectif | AX10: Bonus 1: Réaliser 3 passes consécutives 5 fois - Coupelle BLANCHE | BM10: Contrat Collectif | BN10: Bonus 1: Réaliser 3 passes consécutives 5 fois - Coupelle BLANCHE
B11: Bonus 2: Tenter au moins 5 tirs en position favorable (sans adversaire devant soi) - Coupelle JAUNE | R11: Bonus 2: Tenter au moins 5 tirs en position favorable (sans adversaire devant soi) - Coupelle JAUNE | AH11: Bonus 2: Tenter au moins 5 tirs en position favorable (sans adversaire devant soi) - Coupelle JAUNE | AX11: Bonus 2: Tenter au moins 5 tirs en position favorable (sans adversaire devant soi) - Coupelle JAUNE | BN11: Bonus 2: Tenter au moins 5 tirs en position favorable (sans adversaire devant soi) - Coupelle JAUNE
B12: Bonus 3: Perdre moins de 8 ballons avant d'avoir réalisé 3 passes - Coupelle ROUGE | R12: Bonus 3: Perdre moins de 8 ballons avant d'avoir réalisé 3 passes - Coupelle ROUGE | AH12: Bonus 3: Perdre moins de 8 ballons avant d'avoir réalisé 3 passes - Coupelle ROUGE | AX12: Bonus 3: Perdre moins de 8 ballons avant d'avoir réalisé 3 passes - Coupelle ROUGE | BN12: Bonus 3: Perdre moins de 8 ballons avant d'avoir réalisé 3 passes - Coupelle ROUGE
A13: Matchs | B13: =IF(B14="X",IF(B15="X",IF(B16="X","OK","NON"),"NON"),"1") -> OK | C13: =IF(C14="X",IF(C15="X",IF(C16="X","OK","NON"),"NON"),"2") -> NON | D13: =IF(D14="X",IF(D15="X",IF(D16="X","OK","NON"),"NON"),"3") -> OK | E13: =IF(E14="X",IF(E15="X",IF(E16="X","OK","NON"),"NON"),"4") -> OK | F13: =IF(F14="X",IF(F15="X",IF(F16="X","OK","NON"),"NON"),"5") -> NON | G13: =IF(G14="X",IF(G15="X",IF(G16="X","OK","NON"),"NON"),"6") -> 6 | H13: =IF(H14="X",IF(H15="X",IF(H16="X","OK","NON"),"NON"),"7") -> 7 | I13: =IF(I14="X",IF(I15="X",IF(I16="X","OK","NON"),"NON"),"8") -> 8 | J13: =IF(J14="X",IF(J15="X",IF(J16="X","OK","NON"),"NON"),"9") -> 9 | K13: =IF(K14="X",IF(K15="X",IF(K16="X","OK","NON"),"NON"),"10") -> 10 | L13: =IF(L14="X",IF(L15="X",IF(L16="X","OK","NON"),"NON"),"11") -> 11 | M13: =IF(M14="X",IF(M15="X",IF(M16="X","OK","NON"),"NON"),"12") -> 12 | N13: =IF(N14="X",IF(N15="X",IF(N16="X","OK","NON"),"NON"),"13") -> 13 | O13: =IF(O14="X",IF(O15="X",IF(O16="X","OK","NON"),"NON"),"14") -> 14 | P13: =IF(P14="X",IF(P15="X",IF(P16="X","OK","NON"),"NON"),"15") -> 15 | Q13: Matchs | R13: =IF(R14="X",IF(R15="X",IF(R16="X","OK","NON"),"NON"),"1") -> OK | S13: =IF(S14="X",IF(S15="X",IF(S16="X","OK","NON"),"NON"),"2") -> OK | T13: =IF(T14="X",IF(T15="X",IF(T16="X","OK","NON"),"NON"),"3") -> 3 | U13: =IF(U14="X",IF(U15="X",IF(U16="X","OK","NON"),"NON"),"4") -> 4 | V13: =IF(V14="X",IF(V15="X",IF(V16="X","OK","NON"),"NON"),"5") -> 5 | W13: =IF(W14="X",IF(W15="X",IF(W16="X","OK","NON"),"NON"),"6") -> 6 | X13: =IF(X14="X",IF(X15="X",IF(X16="X","OK","NON"),"NON"),"7") -> 7 | Y13: =IF(Y14="X",IF(Y15="X",IF(Y16="X","OK","NON"),"NON"),"8") -> 8 | Z13: =IF(Z14="X",IF(Z15="X",IF(Z16="X","OK","NON"),"NON"),"9") -> 9 | AA13: =IF(AA14="X",IF(AA15="X",IF(AA16="X","OK","NON"),"NON"),"10") -> 10 | AB13: =IF(AB14="X",IF(AB15="X",IF(AB16="X","OK","NON"),"NON"),"11") -> 11 | AC13: =IF(AC14="X",IF(AC15="X",IF(AC16="X","OK","NON"),"NON"),"12") -> 12 | AD13: =IF(AD14="X",IF(AD15="X",IF(AD16="X","OK","NON"),"NON"),"13") -> 13 | AE13: =IF(AE14="X",IF(AE15="X",IF(AE16="X","OK","NON"),"NON"),"14") -> 14 | AF13: =IF(AF14="X",IF(AF15="X",IF(AF16="X","OK","NON"),"NON"),"15") -> 15 | AG13: Matchs | AH13: =IF(AH14="X",IF(AH15="X",IF(AH16="X","OK","NON"),"NON"),"1") -> OK | AI13: =IF(AI14="X",IF(AI15="X",IF(AI16="X","OK","NON"),"NON"),"2") -> OK | AJ13: =IF(AJ14="X",IF(AJ15="X",IF(AJ16="X","OK","NON"),"NON"),"3") -> OK | AK13: =IF(AK14="X",IF(AK15="X",IF(AK16="X","OK","NON"),"NON"),"4") -> OK | AL13: =IF(AL14="X",IF(AL15="X",IF(AL16="X","OK","NON"),"NON"),"5") -> 5 | AM13: =IF(AM14="X",IF(AM15="X",IF(AM16="X","OK","NON"),"NON"),"6") -> 6 | AN13: =IF(AN14="X",IF(AN15="X",IF(AN16="X","OK","NON"),"NON"),"7") -> 7 | AO13: =IF(AO14="X",IF(AO15="X",IF(AO16="X","OK","NON"),"NON"),"8") -> 8 | AP13: =IF(AP14="X",IF(AP15="X",IF(AP16="X","OK","NON"),"NON"),"9") -> 9 | AQ13: =IF(AQ14="X",IF(AQ15="X",IF(AQ16="X","OK","NON"),"NON"),"10") -> 10 | AR13: =IF(AR14="X",IF(AR15="X",IF(AR16="X","OK","NON"),"NON"),"11") -> 11 | AS13: =IF(AS14="X",IF(AS15="X",IF(AS16="X","OK","NON"),"NON"),"12") -> 12 | AT13: =IF(AT14="X",IF(AT15="X",IF(AT16="X","OK","NON"),"NON"),"13") -> 13 | AU13: =IF(AU14="X",IF(AU15="X",IF(AU16="X","OK","NON"),"NON"),"14") -> 14 | AV13: =IF(AV14="X",IF(AV15="X",IF(AV16="X","OK","NON"),"NON"),"15") -> 15 | AW13: Matchs | AX13: =IF(AX14="X",IF(AX15="X",IF(AX16="X","OK","NON"),"NON"),"1") -> OK | AY13: =IF(AY14="X",IF(AY15="X",IF(AY16="X","OK","NON"),"NON"),"2") -> OK | AZ13: =IF(AZ14="X",IF(AZ15="X",IF(AZ16="X","OK","NON"),"NON"),"3") -> OK | BA13: =IF(BA14="X",IF(BA15="X",IF(BA16="X","OK","NON"),"NON"),"4") -> 4 | BB13: =IF(BB14="X",IF(BB15="X",IF(BB16="X","OK","NON"),"NON"),"5") -> 5 | BC13: =IF(BC14="X",IF(BC15="X",IF(BC16="X","OK","NON"),"NON"),"6") -> 6 | BD13: =IF(BD14="X",IF(BD15="X",IF(BD16="X","OK","NON"),"NON"),"7") -> 7 | BE13: =IF(BE14="X",IF(BE15="X",IF(BE16="X","OK","NON"),"NON"),"8") -> 8 | BF13: =IF(BF14="X",IF(BF15="X",IF(BF16="X","OK","NON"),"NON"),"9") -> 9 | BG13: =IF(BG14="X",IF(BG15="X",IF(BG16="X","OK","NON"),"NON"),"10") -> 10 | BH13: =IF(BH14="X",IF(BH15="X",IF(BH16="X","OK","NON"),"NON"),"11") -> 11 | BI13: =IF(BI14="X",IF(BI15="X",IF(BI16="X","OK","NON"),"NON"),"12") -> 12 | BJ13: =IF(BJ14="X",IF(BJ15="X",IF(BJ16="X","OK","NON"),"NON"),"13") -> 13 | BK13: =IF(BK14="X",IF(BK15="X",IF(BK16="X","OK","NON"),"NON"),"14") -> 14 | BL13: =IF(BL14="X",IF(BL15="X",IF(BL16="X","OK","NON"),"NON"),"15") -> 15 | BM13: Matchs | BN13: =IF(BN14="X",IF(BN15="X",IF(BN16="X","OK","NON"),"NON"),"1") -> OK | BO13: =IF(BO14="X",IF(BO15="X",IF(BO16="X","OK","NON"),"NON"),"2") -> OK | BP13: =IF(BP14="X",IF(BP15="X",IF(BP16="X","OK","NON"),"NON"),"3") -> OK | BQ13: =IF(BQ14="X",IF(BQ15="X",IF(BQ16="X","OK","NON"),"NON"),"4") -> OK | BR13: =IF(BR14="X",IF(BR15="X",IF(BR16="X","OK","NON"),"NON"),"5") -> 5 | BS13: =IF(BS14="X",IF(BS15="X",IF(BS16="X","OK","NON"),"NON"),"6") -> 6 | BT13: =IF(BT14="X",IF(BT15="X",IF(BT16="X","OK","NON"),"NON"),"7") -> 7 | BU13: =IF(BU14="X",IF(BU15="X",IF(BU16="X","OK","NON"),"NON"),"8") -> 8 | BV13: =IF(BV14="X",IF(BV15="X",IF(BV16="X","OK","NON"),"NON"),"9") -> 9 | BW13: =IF(BW14="X",IF(BW15="X",IF(BW16="X","OK","NON"),"NON"),"10") -> 10 | BX13: =IF(BX14="X",IF(BX15="X",IF(BX16="X","OK","NON"),"NON"),"11") -> 11 | BY13: =IF(BY14="X",IF(BY15="X",IF(BY16="X","OK","NON"),"NON"),"12") -> 12 | BZ13: =IF(BZ14="X",IF(BZ15="X",IF(BZ16="X","OK","NON"),"NON"),"13") -> 13 | CA13: =IF(CA14="X",IF(CA15="X",IF(CA16="X","OK","NON"),"NON"),"14") -> 14 | CB13: =IF(CB14="X",IF(CB15="X",IF(CB16="X","OK","NON"),"NON"),"15") -> 15
A14: Bonus 1 | B14: X | C14: X | D14: X | E14: X | F14: X | Q14: Bonus 1 | R14: X | S14: X | AG14: Bonus 1 | AH14: X | AI14: X | AJ14: X | AK14: X | AW14: Bonus 1 | AX14: X | AY14: X | AZ14: X | BM14: Bonus 1 | BN14: X | BO14: X | BP14: X | BQ14: X
A15: Bonus 2 | B15: X | C15: X | D15: X | E15: X | Q15: Bonus 2 | R15: X | S15: X | AG15: Bonus 2 | AH15: X | AI15: X | AJ15: X | AK15: X | AW15: Bonus 2 | AX15: X | AY15: X | AZ15: X | BM15: Bonus 2 | BN15: X | BO15: X | BP15: X | BQ15: X
A16: Bonus 3 | B16: X | D16: X | E16: X | F16: X | Q16: Bonus 3 | R16: X | S16: X | AG16: Bonus 3 | AH16: X | AI16: X | AJ16: X | AK16: X | AW16: Bonus 3 | AX16: X | AY16: X | AZ16: X | BM16: Bonus 3 | BN16: X | BO16: X | BP16: X | BQ16: X
A17: Si chaque bonus réussi sur au moins 4 matchs | H17: =COUNTIF(B13:P13,"OK") -> 3 | J17: Maîtrise compétence : | Q17: Si chaque bonus réussi sur au moins 4 matchs | X17: =COUNTIF(R13:AF13,"OK") -> 2 | Z17: Maîtrise compétence : | AG17: Si chaque bonus réussi sur au moins 4 matchs | AN17: =COUNTIF(AH13:AV13,"OK") -> 4 | AP17: Maîtrise compétence : | AW17: Si chaque bonus réussi sur au moins 4 matchs | BD17: =COUNTIF(AX13:BL13,"OK") -> 3 | BF17: Maîtrise compétence : | BM17: Si chaque bonus réussi sur au moins 4 matchs | BT17: =COUNTIF(BN13:CB13,"OK") -> 4 | BV17: Maîtrise compétence :
J18: FRAGILE | Z18: FRAGILE | AP18: FRAGILE | BF18: FRAGILE | BV18: FRAGILE
A20: Matchs NIVEAU 2 | Q20: Matchs NIVEAU 2 | AG20: Matchs NIVEAU 2 | AW20: Matchs NIVEAU 2 | BM20: Matchs NIVEAU 2
A21: Contrat Collectif | B21: Bonus 1: Réaliser 3 passes consécutives vers l'avant 5 fois - Coupelle BLANCHE | Q21: Contrat Collectif | R21: Bonus 1: Réaliser 3 passes consécutives vers l'avant 5 fois - Coupelle BLANCHE | AG21: Contrat Collectif | AH21: Bonus 1: Réaliser 3 passes consécutives vers l'avant 5 fois - Coupelle BLANCHE | AW21: Contrat Collectif | AX21: Bonus 1: Réaliser 3 passes consécutives vers l'avant 5 fois - Coupelle BLANCHE | BM21: Contrat Collectif | BN21: Bonus 1: Réaliser 3 passes consécutives vers l'avant 5 fois - Coupelle BLANCHE
B22: Bonus 2: Tenter au moins 5 tirs cadrés en position favorable - Coupelle JAUNE | R22: Bonus 2: Tenter au moins 5 tirs cadrés en position favorable - Coupelle JAUNE | AH22: Bonus 2: Tenter au moins 5 tirs cadrés en position favorable - Coupelle JAUNE | AX22: Bonus 2: Tenter au moins 5 tirs cadrés en position favorable - Coupelle JAUNE | BN22: Bonus 2: Tenter au moins 5 tirs cadrés en position favorable - Coupelle JAUNE
B23: Bonus 3: Perdre moins de 6 ballons avant d'avoir réalisé 3 passes - Coupelle ROUGE | R23: Bonus 3: Perdre moins de 6 ballons avant d'avoir réalisé 3 passes - Coupelle ROUGE | AH23: Bonus 3: Perdre moins de 6 ballons avant d'avoir réalisé 3 passes - Coupelle ROUGE | AX23: Bonus 3: Perdre moins de 6 ballons avant d'avoir réalisé 3 passes - Coupelle ROUGE | BN23: Bonus 3: Perdre moins de 6 ballons avant d'avoir réalisé 3 passes - Coupelle ROUGE
A24: Matchs | B24: =IF(B25="X",IF(B26="X",IF(B27="X","OK","NON"),"NON"),"1") -> OK | C24: =IF(C25="X",IF(C26="X",IF(C27="X","OK","NON"),"NON"),"2") -> OK | D24: =IF(D25="X",IF(D26="X",IF(D27="X","OK","NON"),"NON"),"3") -> OK | E24: =IF(E25="X",IF(E26="X",IF(E27="X","OK","NON"),"NON"),"4") -> 4 | F24: =IF(F25="X",IF(F26="X",IF(F27="X","OK","NON"),"NON"),"5") -> 5 | G24: =IF(G25="X",IF(G26="X",IF(G27="X","OK","NON"),"NON"),"6") -> 6 | H24: =IF(H25="X",IF(H26="X",IF(H27="X","OK","NON"),"NON"),"7") -> 7 | I24: =IF(I25="X",IF(I26="X",IF(I27="X","OK","NON"),"NON"),"8") -> 8 | J24: =IF(J25="X",IF(J26="X",IF(J27="X","OK","NON"),"NON"),"9") -> 9 | K24: =IF(K25="X",IF(K26="X",IF(K27="X","OK","NON"),"NON"),"10") -> 10 | L24: =IF(L25="X",IF(L26="X",IF(L27="X","OK","NON"),"NON"),"11") -> 11 | M24: =IF(M25="X",IF(M26="X",IF(M27="X","OK","NON"),"NON"),"12") -> 12 | N24: =IF(N25="X",IF(N26="X",IF(N27="X","OK","NON"),"NON"),"13") -> 13 | O24: =IF(O25="X",IF(O26="X",IF(O27="X","OK","NON"),"NON"),"14") -> 14 | P24: =IF(P25="X",IF(P26="X",IF(P27="X","OK","NON"),"NON"),"15") -> 15 | Q24: Matchs | R24: =IF(R25="X",IF(R26="X",IF(R27="X","OK","NON"),"NON"),"1") -> 1 | S24: =IF(S25="X",IF(S26="X",IF(S27="X","OK","NON"),"NON"),"2") -> 2 | T24: =IF(T25="X",IF(T26="X",IF(T27="X","OK","NON"),"NON"),"3") -> 3 | U24: =IF(U25="X",IF(U26="X",IF(U27="X","OK","NON"),"NON"),"4") -> 4 | V24: =IF(V25="X",IF(V26="X",IF(V27="X","OK","NON"),"NON"),"5") -> 5 | W24: =IF(W25="X",IF(W26="X",IF(W27="X","OK","NON"),"NON"),"6") -> 6 | X24: =IF(X25="X",IF(X26="X",IF(X27="X","OK","NON"),"NON"),"7") -> 7 | Y24: =IF(Y25="X",IF(Y26="X",IF(Y27="X","OK","NON"),"NON"),"8") -> 8 | Z24: =IF(Z25="X",IF(Z26="X",IF(Z27="X","OK","NON"),"NON"),"9") -> 9 | AA24: =IF(AA25="X",IF(AA26="X",IF(AA27="X","OK","NON"),"NON"),"10") -> 10 | AB24: =IF(AB25="X",IF(AB26="X",IF(AB27="X","OK","NON"),"NON"),"11") -> 11 | AC24: =IF(AC25="X",IF(AC26="X",IF(AC27="X","OK","NON"),"NON"),"12") -> 12 | AD24: =IF(AD25="X",IF(AD26="X",IF(AD27="X","OK","NON"),"NON"),"13") -> 13 | AE24: =IF(AE25="X",IF(AE26="X",IF(AE27="X","OK","NON"),"NON"),"14") -> 14 | AF24: =IF(AF25="X",IF(AF26="X",IF(AF27="X","OK","NON"),"NON"),"15") -> 15 | AG24: Matchs | AH24: =IF(AH25="X",IF(AH26="X",IF(AH27="X","OK","NON"),"NON"),"1") -> 1 | AI24: =IF(AI25="X",IF(AI26="X",IF(AI27="X","OK","NON"),"NON"),"2") -> 2 | AJ24: =IF(AJ25="X",IF(AJ26="X",IF(AJ27="X","OK","NON"),"NON"),"3") -> 3 | AK24: =IF(AK25="X",IF(AK26="X",IF(AK27="X","OK","NON"),"NON"),"4") -> 4 | AL24: =IF(AL25="X",IF(AL26="X",IF(AL27="X","OK","NON"),"NON"),"5") -> 5 | AM24: =IF(AM25="X",IF(AM26="X",IF(AM27="X","OK","NON"),"NON"),"6") -> 6 | AN24: =IF(AN25="X",IF(AN26="X",IF(AN27="X","OK","NON"),"NON"),"7") -> 7 | AO24: =IF(AO25="X",IF(AO26="X",IF(AO27="X","OK","NON"),"NON"),"8") -> 8 | AP24: =IF(AP25="X",IF(AP26="X",IF(AP27="X","OK","NON"),"NON"),"9") -> 9 | AQ24: =IF(AQ25="X",IF(AQ26="X",IF(AQ27="X","OK","NON"),"NON"),"10") -> 10 | AR24: =IF(AR25="X",IF(AR26="X",IF(AR27="X","OK","NON"),"NON"),"11") -> 11 | AS24: =IF(AS25="X",IF(AS26="X",IF(AS27="X","OK","NON"),"NON"),"12") -> 12 | AT24: =IF(AT25="X",IF(AT26="X",IF(AT27="X","OK","NON"),"NON"),"13") -> 13 | AU24: =IF(AU25="X",IF(AU26="X",IF(AU27="X","OK","NON"),"NON"),"14") -> 14 | AV24: =IF(AV25="X",IF(AV26="X",IF(AV27="X","OK","NON"),"NON"),"15") -> 15 | AW24: Matchs | AX24: =IF(AX25="X",IF(AX26="X",IF(AX27="X","OK","NON"),"NON"),"1") -> 1 | AY24: =IF(AY25="X",IF(AY26="X",IF(AY27="X","OK","NON"),"NON"),"2") -> 2 | AZ24: =IF(AZ25="X",IF(AZ26="X",IF(AZ27="X","OK","NON"),"NON"),"3") -> 3 | BA24: =IF(BA25="X",IF(BA26="X",IF(BA27="X","OK","NON"),"NON"),"4") -> 4 | BB24: =IF(BB25="X",IF(BB26="X",IF(BB27="X","OK","NON"),"NON"),"5") -> 5 | BC24: =IF(BC25="X",IF(BC26="X",IF(BC27="X","OK","NON"),"NON"),"6") -> 6 | BD24: =IF(BD25="X",IF(BD26="X",IF(BD27="X","OK","NON"),"NON"),"7") -> 7 | BE24: =IF(BE25="X",IF(BE26="X",IF(BE27="X","OK","NON"),"NON"),"8") -> 8 | BF24: =IF(BF25="X",IF(BF26="X",IF(BF27="X","OK","NON"),"NON"),"9") -> 9 | BG24: =IF(BG25="X",IF(BG26="X",IF(BG27="X","OK","NON"),"NON"),"10") -> 10 | BH24: =IF(BH25="X",IF(BH26="X",IF(BH27="X","OK","NON"),"NON"),"11") -> 11 | BI24: =IF(BI25="X",IF(BI26="X",IF(BI27="X","OK","NON"),"NON"),"12") -> 12 | BJ24: =IF(BJ25="X",IF(BJ26="X",IF(BJ27="X","OK","NON"),"NON"),"13") -> 13 | BK24: =IF(BK25="X",IF(BK26="X",IF(BK27="X","OK","NON"),"NON"),"14") -> 14 | BL24: =IF(BL25="X",IF(BL26="X",IF(BL27="X","OK","NON"),"NON"),"15") -> 15 | BM24: Matchs | BN24: =IF(BN25="X",IF(BN26="X",IF(BN27="X","OK","NON"),"NON"),"1") -> 1 | BO24: =IF(BO25="X",IF(BO26="X",IF(BO27="X","OK","NON"),"NON"),"2") -> 2 | BP24: =IF(BP25="X",IF(BP26="X",IF(BP27="X","OK","NON"),"NON"),"3") -> 3 | BQ24: =IF(BQ25="X",IF(BQ26="X",IF(BQ27="X","OK","NON"),"NON"),"4") -> 4 | BR24: =IF(BR25="X",IF(BR26="X",IF(BR27="X","OK","NON"),"NON"),"5") -> 5 | BS24: =IF(BS25="X",IF(BS26="X",IF(BS27="X","OK","NON"),"NON"),"6") -> 6 | BT24: =IF(BT25="X",IF(BT26="X",IF(BT27="X","OK","NON"),"NON"),"7") -> 7 | BU24: =IF(BU25="X",IF(BU26="X",IF(BU27="X","OK","NON"),"NON"),"8") -> 8 | BV24: =IF(BV25="X",IF(BV26="X",IF(BV27="X","OK","NON"),"NON"),"9") -> 9 | BW24: =IF(BW25="X",IF(BW26="X",IF(BW27="X","OK","NON"),"NON"),"10") -> 10 | BX24: =IF(BX25="X",IF(BX26="X",IF(BX27="X","OK","NON"),"NON"),"11") -> 11 | BY24: =IF(BY25="X",IF(BY26="X",IF(BY27="X","OK","NON"),"NON"),"12") -> 12 | BZ24: =IF(BZ25="X",IF(BZ26="X",IF(BZ27="X","OK","NON"),"NON"),"13") -> 13 | CA24: =IF(CA25="X",IF(CA26="X",IF(CA27="X","OK","NON"),"NON"),"14") -> 14 | CB24: =IF(CB25="X",IF(CB26="X",IF(CB27="X","OK","NON"),"NON"),"15") -> 15
A25: Bonus 1 | B25: X | C25: X | D25: X | Q25: Bonus 1 | AG25: Bonus 1 | AW25: Bonus 1 | BM25: Bonus 1
A26: Bonus 2 | B26: X | C26: X | D26: X | Q26: Bonus 2 | AG26: Bonus 2 | AW26: Bonus 2 | BM26: Bonus 2
A27: Bonus 3 | B27: X | C27: X | D27: X | Q27: Bonus 3 | AG27: Bonus 3 | AW27: Bonus 3 | BM27: Bonus 3
A28: Si chaque bonus réussi sur au moins 3 matchs | H28: =COUNTIF(B24:P24,"OK") -> 3 | J28: Maîtrise compétence : | Q28: Si chaque bonus réussi sur au moins 4 matchs | X28: =COUNTIF(R24:AF24,"OK") -> 0 | Z28: Maîtrise compétence : | AG28: Si chaque bonus réussi sur au moins 4 matchs | AN28: =COUNTIF(AH24:AV24,"OK") -> 0 | AP28: Maîtrise compétence : | AW28: Si chaque bonus réussi sur au moins 4 matchs | BD28: =COUNTIF(AX24:BL24,"OK") -> 0 | BF28: Maîtrise compétence : | BM28: Si chaque bonus réussi sur au moins 4 matchs | BT28: =COUNTIF(BN24:CB24,"OK") -> 0 | BV28: Maîtrise compétence :
J29: SATISFAISANTE | Z29: SATISFAISANTE | AP29: SATISFAISANTE | BF29: SATISFAISANTE | BV29: SATISFAISANTE
A31: Matchs NIVEAU 3 | Q31: Matchs NIVEAU 3 | AG31: Matchs NIVEAU 3 | AW31: Matchs NIVEAU 3 | BM31: Matchs NIVEAU 3
A32: Contrat Collectif | B32: Bonus 1: Réaliser 3 passes consécutives vers l'avant 7 fois - Coupelle BLANCHE | Q32: Contrat Collectif | R32: Bonus 1: Réaliser 3 passes consécutives vers l'avant 7 fois - Coupelle BLANCHE | AG32: Contrat Collectif | AH32: Bonus 1: Réaliser 3 passes consécutives vers l'avant 7 fois - Coupelle BLANCHE | AW32: Contrat Collectif | AX32: Bonus 1: Réaliser 3 passes consécutives vers l'avant 7 fois - Coupelle BLANCHE | BM32: Contrat Collectif | BN32: Bonus 1: Réaliser 3 passes consécutives vers l'avant 7 fois - Coupelle BLANCHE
B33: Bonus 2: Tenter au moins 7 tirs cadrés en position favorable - Coupelle JAUNE | R33: Bonus 2: Tenter au moins 7 tirs cadrés en position favorable - Coupelle JAUNE | AH33: Bonus 2: Tenter au moins 7 tirs cadrés en position favorable - Coupelle JAUNE | AX33: Bonus 2: Tenter au moins 7 tirs cadrés en position favorable - Coupelle JAUNE | BN33: Bonus 2: Tenter au moins 7 tirs cadrés en position favorable - Coupelle JAUNE
B34: Bonus 3: Perdre moins de 4 ballons avant d'avoir réalisé 3 passes - Coupelle ROUGE | R34: Bonus 3: Perdre moins de 4 ballons avant d'avoir réalisé 3 passes - Coupelle ROUGE | AH34: Bonus 3: Perdre moins de 4 ballons avant d'avoir réalisé 3 passes - Coupelle ROUGE | AX34: Bonus 3: Perdre moins de 4 ballons avant d'avoir réalisé 3 passes - Coupelle ROUGE | BN34: Bonus 3: Perdre moins de 4 ballons avant d'avoir réalisé 3 passes - Coupelle ROUGE
A35: Matchs | B35: =IF(B36="X",IF(B37="X",IF(B38="X","OK","NON"),"NON"),"1") -> OK | C35: =IF(C36="X",IF(C37="X",IF(C38="X","OK","NON"),"NON"),"2") -> OK | D35: =IF(D36="X",IF(D37="X",IF(D38="X","OK","NON"),"NON"),"3") -> 3 | E35: =IF(E36="X",IF(E37="X",IF(E38="X","OK","NON"),"NON"),"4") -> 4 | F35: =IF(F36="X",IF(F37="X",IF(F38="X","OK","NON"),"NON"),"5") -> 5 | G35: =IF(G36="X",IF(G37="X",IF(G38="X","OK","NON"),"NON"),"6") -> 6 | H35: =IF(H36="X",IF(H37="X",IF(H38="X","OK","NON"),"NON"),"7") -> 7 | I35: =IF(I36="X",IF(I37="X",IF(I38="X","OK","NON"),"NON"),"8") -> 8 | J35: =IF(J36="X",IF(J37="X",IF(J38="X","OK","NON"),"NON"),"9") -> 9 | K35: =IF(K36="X",IF(K37="X",IF(K38="X","OK","NON"),"NON"),"10") -> 10 | L35: =IF(L36="X",IF(L37="X",IF(L38="X","OK","NON"),"NON"),"11") -> 11 | M35: =IF(M36="X",IF(M37="X",IF(M38="X","OK","NON"),"NON"),"12") -> 12 | N35: =IF(N36="X",IF(N37="X",IF(N38="X","OK","NON"),"NON"),"13") -> 13 | O35: =IF(O36="X",IF(O37="X",IF(O38="X","OK","NON"),"NON"),"14") -> 14 | P35: =IF(P36="X",IF(P37="X",IF(P38="X","OK","NON"),"NON"),"15") -> 15 | Q35: Matchs | R35: =IF(R36="X",IF(R37="X",IF(R38="X","OK","NON"),"NON"),"1") -> 1 | S35: =IF(S36="X",IF(S37="X",IF(S38="X","OK","NON"),"NON"),"2") -> 2 | T35: =IF(T36="X",IF(T37="X",IF(T38="X","OK","NON"),"NON"),"3") -> 3 | U35: =IF(U36="X",IF(U37="X",IF(U38="X","OK","NON"),"NON"),"4") -> 4 | V35: =IF(V36="X",IF(V37="X",IF(V38="X","OK","NON"),"NON"),"5") -> 5 | W35: =IF(W36="X",IF(W37="X",IF(W38="X","OK","NON"),"NON"),"6") -> 6 | X35: =IF(X36="X",IF(X37="X",IF(X38="X","OK","NON"),"NON"),"7") -> 7 | Y35: =IF(Y36="X",IF(Y37="X",IF(Y38="X","OK","NON"),"NON"),"8") -> 8 | Z35: =IF(Z36="X",IF(Z37="X",IF(Z38="X","OK","NON"),"NON"),"9") -> 9 | AA35: =IF(AA36="X",IF(AA37="X",IF(AA38="X","OK","NON"),"NON"),"10") -> 10 | AB35: =IF(AB36="X",IF(AB37="X",IF(AB38="X","OK","NON"),"NON"),"11") -> 11 | AC35: =IF(AC36="X",IF(AC37="X",IF(AC38="X","OK","NON"),"NON"),"12") -> 12 | AD35: =IF(AD36="X",IF(AD37="X",IF(AD38="X","OK","NON"),"NON"),"13") -> 13 | AE35: =IF(AE36="X",IF(AE37="X",IF(AE38="X","OK","NON"),"NON"),"14") -> 14 | AF35: =IF(AF36="X",IF(AF37="X",IF(AF38="X","OK","NON"),"NON"),"15") -> 15 | AG35: Matchs | AH35: =IF(AH36="X",IF(AH37="X",IF(AH38="X","OK","NON"),"NON"),"1") -> 1 | AI35: =IF(AI36="X",IF(AI37="X",IF(AI38="X","OK","NON"),"NON"),"2") -> 2 | AJ35: =IF(AJ36="X",IF(AJ37="X",IF(AJ38="X","OK","NON"),"NON"),"3") -> 3 | AK35: =IF(AK36="X",IF(AK37="X",IF(AK38="X","OK","NON"),"NON"),"4") -> 4 | AL35: =IF(AL36="X",IF(AL37="X",IF(AL38="X","OK","NON"),"NON"),"5") -> 5 | AM35: =IF(AM36="X",IF(AM37="X",IF(AM38="X","OK","NON"),"NON"),"6") -> 6 | AN35: =IF(AN36="X",IF(AN37="X",IF(AN38="X","OK","NON"),"NON"),"7") -> 7 | AO35: =IF(AO36="X",IF(AO37="X",IF(AO38="X","OK","NON"),"NON"),"8") -> 8 | AP35: =IF(AP36="X",IF(AP37="X",IF(AP38="X","OK","NON"),"NON"),"9") -> 9 | AQ35: =IF(AQ36="X",IF(AQ37="X",IF(AQ38="X","OK","NON"),"NON"),"10") -> 10 | AR35: =IF(AR36="X",IF(AR37="X",IF(AR38="X","OK","NON"),"NON"),"11") -> 11 | AS35: =IF(AS36="X",IF(AS37="X",IF(AS38="X","OK","NON"),"NON"),"12") -> 12 | AT35: =IF(AT36="X",IF(AT37="X",IF(AT38="X","OK","NON"),"NON"),"13") -> 13 | AU35: =IF(AU36="X",IF(AU37="X",IF(AU38="X","OK","NON"),"NON"),"14") -> 14 | AV35: =IF(AV36="X",IF(AV37="X",IF(AV38="X","OK","NON"),"NON"),"15") -> 15 | AW35: Matchs | AX35: =IF(AX36="X",IF(AX37="X",IF(AX38="X","OK","NON"),"NON"),"1") -> 1 | AY35: =IF(AY36="X",IF(AY37="X",IF(AY38="X","OK","NON"),"NON"),"2") -> 2 | AZ35: =IF(AZ36="X",IF(AZ37="X",IF(AZ38="X","OK","NON"),"NON"),"3") -> 3 | BA35: =IF(BA36="X",IF(BA37="X",IF(BA38="X","OK","NON"),"NON"),"4") -> 4 | BB35: =IF(BB36="X",IF(BB37="X",IF(BB38="X","OK","NON"),"NON"),"5") -> 5 | BC35: =IF(BC36="X",IF(BC37="X",IF(BC38="X","OK","NON"),"NON"),"6") -> 6 | BD35: =IF(BD36="X",IF(BD37="X",IF(BD38="X","OK","NON"),"NON"),"7") -> 7 | BE35: =IF(BE36="X",IF(BE37="X",IF(BE38="X","OK","NON"),"NON"),"8") -> 8 | BF35: =IF(BF36="X",IF(BF37="X",IF(BF38="X","OK","NON"),"NON"),"9") -> 9 | BG35: =IF(BG36="X",IF(BG37="X",IF(BG38="X","OK","NON"),"NON"),"10") -> 10 | BH35: =IF(BH36="X",IF(BH37="X",IF(BH38="X","OK","NON"),"NON"),"11") -> 11 | BI35: =IF(BI36="X",IF(BI37="X",IF(BI38="X","OK","NON"),"NON"),"12") -> 12 | BJ35: =IF(BJ36="X",IF(BJ37="X",IF(BJ38="X","OK","NON"),"NON"),"13") -> 13 | BK35: =IF(BK36="X",IF(BK37="X",IF(BK38="X","OK","NON"),"NON"),"14") -> 14 | BL35: =IF(BL36="X",IF(BL37="X",IF(BL38="X","OK","NON"),"NON"),"15") -> 15 | BM35: Matchs | BN35: =IF(BN36="X",IF(BN37="X",IF(BN38="X","OK","NON"),"NON"),"1") -> 1 | BO35: =IF(BO36="X",IF(BO37="X",IF(BO38="X","OK","NON"),"NON"),"2") -> 2 | BP35: =IF(BP36="X",IF(BP37="X",IF(BP38="X","OK","NON"),"NON"),"3") -> 3 | BQ35: =IF(BQ36="X",IF(BQ37="X",IF(BQ38="X","OK","NON"),"NON"),"4") -> 4 | BR35: =IF(BR36="X",IF(BR37="X",IF(BR38="X","OK","NON"),"NON"),"5") -> 5 | BS35: =IF(BS36="X",IF(BS37="X",IF(BS38="X","OK","NON"),"NON"),"6") -> 6 | BT35: =IF(BT36="X",IF(BT37="X",IF(BT38="X","OK","NON"),"NON"),"7") -> 7 | BU35: =IF(BU36="X",IF(BU37="X",IF(BU38="X","OK","NON"),"NON"),"8") -> 8 | BV35: =IF(BV36="X",IF(BV37="X",IF(BV38="X","OK","NON"),"NON"),"9") -> 9 | BW35: =IF(BW36="X",IF(BW37="X",IF(BW38="X","OK","NON"),"NON"),"10") -> 10 | BX35: =IF(BX36="X",IF(BX37="X",IF(BX38="X","OK","NON"),"NON"),"11") -> 11 | BY35: =IF(BY36="X",IF(BY37="X",IF(BY38="X","OK","NON"),"NON"),"12") -> 12 | BZ35: =IF(BZ36="X",IF(BZ37="X",IF(BZ38="X","OK","NON"),"NON"),"13") -> 13 | CA35: =IF(CA36="X",IF(CA37="X",IF(CA38="X","OK","NON"),"NON"),"14") -> 14 | CB35: =IF(CB36="X",IF(CB37="X",IF(CB38="X","OK","NON"),"NON"),"15") -> 15
A36: Bonus 1 | B36: X | C36: X | Q36: Bonus 1 | AG36: Bonus 1 | AW36: Bonus 1 | BM36: Bonus 1
A37: Bonus 2 | B37: X | C37: X | D37: X | Q37: Bonus 2 | AG37: Bonus 2 | AW37: Bonus 2 | BM37: Bonus 2
A38: Bonus 3 | B38: X | C38: X | D38: X | E38: X | Q38: Bonus 3 | AG38: Bonus 3 | AW38: Bonus 3 | BM38: Bonus 3
A39: Si chaque bonus réussi sur au moins 3 matchs | H39: =COUNTIF(B35:P35,"OK") -> 2 | J39: Maîtrise compétence : | Q39: Si chaque bonus réussi sur au moins 4 matchs | X39: =COUNTIF(R35:AF35,"OK") -> 0 | Z39: Maîtrise compétence : | AG39: Si chaque bonus réussi sur au moins 4 matchs | AN39: =COUNTIF(AH35:AV35,"OK") -> 0 | AP39: Maîtrise compétence : | AW39: Si chaque bonus réussi sur au moins 4 matchs | BD39: =COUNTIF(AX35:BL35,"OK") -> 0 | BF39: Maîtrise compétence : | BM39: Si chaque bonus réussi sur au moins 4 matchs | BT39: =COUNTIF(BN35:CB35,"OK") -> 0 | BV39: Maîtrise compétence :
J40: TRÈS SATISFAISANTE | Z40: TRÈS SATISFAISANTE | AP40: TRÈS SATISFAISANTE | BF40: TRÈS SATISFAISANTE | BV40: TRÈS SATISFAISANTE

Sheet S2
A1: Carnet de Suivi Handball - Classe de 5ème | Q1: Carnet de Suivi Handball - Classe de 5ème | AG1: Carnet de Suivi Handball - Classe de 5ème | AW1: Carnet de Suivi Handball - Classe de 5ème | BM1: Carnet de Suivi Handball - Classe de 5ème
A3: Équipe 1 | B3: E | C3: F | Q3: Équipe 2 | R3: A | AG3: Équipe 3 | AH3: D | AW3: Équipe 4 | AX3: E | BM3: Équipe 5 | BN3: C
A5: Domaine 2 (méthde et outils pour apprendre : coopérer et démarche de recherche) | Q5: Domaine 2 (méthde et outils pour apprendre : coopérer et démarche de recherche) | AG5: Domaine 2 (méthde et outils pour apprendre : coopérer et démarche de recherche) | AW5: Domaine 2 (méthde et outils pour apprendre : coopérer et démarche de recherche) | BM5: Domaine 2 (méthde et outils pour apprendre : coopérer et démarche de recherche)
A7: Compétence: S'organiser collectivement pour conserver la balle et atteindre la cible rapidement | Q7: Compétence: S'organiser collectivement pour conserver la balle et atteindre la cible rapidement | AG7: Compétence: S'organiser collectivement pour conserver la balle et atteindre la cible rapidement | AW7: Compétence: S'organiser collectivement pour conserver la balle et atteindre la cible rapidement | BM7: Compétence: S'organiser collectivement pour conserver la balle et atteindre la cible rapidement
A9: Matchs NIVEAU 1 | Q9: Matchs NIVEAU 1 | AG9: Matchs NIVEAU 1 | AW9: Matchs NIVEAU 1 | BM9: Matchs NIVEAU 1
A10: Contrat Collectif | B10: Bonus 1: Réaliser 3 passes consécutives 5 fois - Coupelle BLANCHE | Q10: Contrat Collectif | R10: Bonus 1: Réaliser 3 passes consécutives 5 fois - Coupelle BLANCHE | AG10: Contrat Collectif | AH10: Bonus 1: Réaliser 3 passes consécutives 5 fois - Coupelle BLANCHE | AW10: Contrat Collectif | AX10: Bonus 1: Réaliser 3 passes consécutives 5 fois - Coupelle BLANCHE | BM10: Contrat Collectif | BN10: Bonus 1: Réaliser 3 passes consécutives 5 fois - Coupelle BLANCHE
B11: Bonus 2: Tenter au moins 5 tirs en position favorable (sans adversaire devant soi) - Coupelle JAUNE | R11: Bonus 2: Tenter au moins 5 tirs en position favorable (sans adversaire devant soi) - Coupelle JAUNE | AH11: Bonus 2: Tenter au moins 5 tirs en position favorable (sans adversaire devant soi) - Coupelle JAUNE | AX11: Bonus 2: Tenter au moins 5 tirs en position favorable (sans adversaire devant soi) - Coupelle JAUNE | BN11: Bonus 2: Tenter au moins 5 tirs en position favorable (sans adversaire devant soi) - Coupelle JAUNE
B12: Bonus 3: Perdre moins de 8 ballons avant d'avoir réalisé 3 passes - Coupelle ROUGE | R12: Bonus 3: Perdre moins de 8 ballons avant d'avoir réalisé 3 passes - Coupelle ROUGE | AH12: Bonus 3: Perdre moins de 8 ballons avant d'avoir réalisé 3 passes - Coupelle ROUGE | AX12: Bonus 3: Perdre moins de 8 ballons avant d'avoir réalisé 3 passes - Coupelle ROUGE | BN12: Bonus 3: Perdre moins de 8 ballons avant d'avoir réalisé 3 passes - Coupelle ROUGE
A13: Matchs | B13: =IF(B14="X",IF(B15="X",IF(B16="X","OK","NON"),"NON"),"1") -> OK | C13: =IF(C14="X",IF(C15="X",IF(C16="X","OK","NON"),"NON"),"2") -> NON | D13: =IF(D14="X",IF(D15="X",IF(D16="X","OK","NON"),"NON"),"3") -> OK | E13: =IF(E14="X",IF(E15="X",IF(E16="X","OK","NON"),"NON"),"4") -> OK | F13: =IF(F14="X",IF(F15="X",IF(F16="X","OK","NON"),"NON"),"5") -> NON | G13: =IF(G14="X",IF(G15="X",IF(G16="X","OK","NON"),"NON"),"6") -> 6 | H13: =IF(H14="X",IF(H15="X",IF(H16="X","OK","NON"),"NON"),"7") -> 7 | I13: =IF(I14="X",IF(I15="X",IF(I16="X","OK","NON"),"NON"),"8") -> 8 | J13: =IF(J14="X",IF(J15="X",IF(J16="X","OK","NON"),"NON"),"9") -> 9 | K13: =IF(K14="X",IF(K15="X",IF(K16="X","OK","NON"),"NON"),"10") -> 10 | L13: =IF(L14="X",IF(L15="X",IF(L16="X","OK","NON"),"NON"),"11") -> 11 | M13: =IF(M14="X",IF(M15="X",IF(M16="X","OK","NON"),"NON"),"12") -> 12 | N13: =IF(N14="X",IF(N15="X",IF(N16="X","OK","NON"),"NON"),"13") -> 13 | O13: =IF(O14="X",IF(O15="X",IF(O16="X","OK","NON"),"NON"),"14") -> 14 | P13: =IF(P14="X",IF(P15="X",IF(P16="X","OK","NON"),"NON"),"15") -> 15 | Q13: Matchs | R13: =IF(R14="X",IF(R15="X",IF(R16="X","OK","NON"),"NON"),"1") -> OK | S13: =IF(S14="X",IF(S15="X",IF(S16="X","OK","NON"),"NON"),"2") -> 2 | T13: =IF(T14="X",IF(T15="X",IF(T16="X","OK","NON"),"NON"),"3") -> 3 | U13: =IF(U14="X",IF(U15="X",IF(U16="X","OK","NON"),"NON"),"4") -> 4 | V13: =IF(V14="X",IF(V15="X",IF(V16="X","OK","NON"),"NON"),"5") -> 5 | W13: =IF(W14="X",IF(W15="X",IF(W16="X","OK","NON"),"NON"),"6") -> 6 | X13: =IF(X14="X",IF(X15="X",IF(X16="X","OK","NON"),"NON"),"7") -> 7 | Y13: =IF(Y14="X",IF(Y15="X",IF(Y16="X","OK","NON"),"NON"),"8") -> 8 | Z13: =IF(Z14="X",IF(Z15="X",IF(Z16="X","OK","NON"),"NON"),"9") -> 9 | AA13: =IF(AA14="X",IF(AA15="X",IF(AA16="X","OK","NON"),"NON"),"10") -> 10 | AB13: =IF(AB14="X",IF(AB15="X",IF(AB16="X","OK","NON"),"NON"),"11") -> 11 | AC13: =IF(AC14="X",IF(AC15="X",IF(AC16="X","OK","NON"),"NON"),"12") -> 12 | AD13: =IF(AD14="X",IF(AD15="X",IF(AD16="X","OK","NON"),"NON"),"13") -> 13 | AE13: =IF(AE14="X",IF(AE15="X",IF(AE16="X","OK","NON"),"NON"),"14") -> 14 | AF13: =IF(AF14="X",IF(AF15="X",IF(AF16="X","OK","NON"),"NON"),"15") -> 15 | AG13: Matchs | AH13: =IF(AH14="X",IF(AH15="X",IF(AH16="X","OK","NON"),"NON"),"1") -> OK | AI13: =IF(AI14="X",IF(AI15="X",IF(AI16="X","OK","NON"),"NON"),"2") -> OK | AJ13: =IF(AJ14="X",IF(AJ15="X",IF(AJ16="X","OK","NON"),"NON"),"3") -> OK | AK13: =IF(AK14="X",IF(AK15="X",IF(AK16="X","OK","NON"),"NON"),"4") -> OK | AL13: =IF(AL14="X",IF(AL15="X",IF(AL16="X","OK","NON"),"NON"),"5") -> 5 | AM13: =IF(AM14="X",IF(AM15="X",IF(AM16="X","OK","NON"),"NON"),"6") -> 6 | AN13: =IF(AN14="X",IF(AN15="X",IF(AN16="X","OK","NON"),"NON"),"7") -> 7 | AO13: =IF(AO14="X",IF(AO15="X",IF(AO16="X","OK","NON"),"NON"),"8") -> 8 | AP13: =IF(AP14="X",IF(AP15="X",IF(AP16="X","OK","NON"),"NON"),"9") -> 9 | AQ13: =IF(AQ14="X",IF(AQ15="X",IF(AQ16="X","OK","NON"),"NON"),"10") -> 10 | AR13: =IF(AR14="X",IF(AR15="X",IF(AR16="X","OK","NON"),"NON"),"11") -> 11 | AS13: =IF(AS14="X",IF(AS15="X",IF(AS16="X","OK","NON"),"NON"),"12") -> 12 | AT13: =IF(AT14="X",IF(AT15="X",IF(AT16="X","OK","NON"),"NON"),"13") -> 13 | AU13: =IF(AU14="X",IF(AU15="X",IF(AU16="X","OK","NON"),"NON"),"14") -> 14 | AV13: =IF(AV14="X",IF(AV15="X",IF(AV16="X","OK","NON"),"NON"),"15") -> 15 | AW13: Matchs | AX13: =IF(AX14="X",IF(AX15="X",IF(AX16="X","OK","NON"),"NON"),"1") -> OK | AY13: =IF(AY14="X",IF(AY15="X",IF(AY16="X","OK","NON"),"NON"),"2") -> OK | AZ13: =IF(AZ14="X",IF(AZ15="X",IF(AZ16="X","OK","NON"),"NON"),"3") -> OK | BA13: =IF(BA14="X",IF(BA15="X",IF(BA16="X","OK","NON"),"NON"),"4") -> 4 | BB13: =IF(BB14="X",IF(BB15="X",IF(BB16="X","OK","NON"),"NON"),"5") -> 5 | BC13: =IF(BC14="X",IF(BC15="X",IF(BC16="X","OK","NON"),"NON"),"6") -> 6 | BD13: =IF(BD14="X",IF(BD15="X",IF(BD16="X","OK","NON"),"NON"),"7") -> 7 | BE13: =IF(BE14="X",IF(BE15="X",IF(BE16="X","OK","NON"),"NON"),"8") -> 8 | BF13: =IF(BF14="X",IF(BF15="X",IF(BF16="X","OK","NON"),"NON"),"9") -> 9 | BG13: =IF(BG14="X",IF(BG15="X",IF(BG16="X","OK","NON"),"NON"),"10") -> 10 | BH13: =IF(BH14="X",IF(BH15="X",IF(BH16="X","OK","NON"),"NON"),"11") -> 11 | BI13: =IF(BI14="X",IF(BI15="X",IF(BI16="X","OK","NON"),"NON"),"12") -> 12 | BJ13: =IF(BJ14="X",IF(BJ15="X",IF(BJ16="X","OK","NON"),"NON"),"13") -> 13 | BK13: =IF(BK14="X",IF(BK15="X",IF(BK16="X","OK","NON"),"NON"),"14") -> 14 | BL13: =IF(BL14="X",IF(BL15="X",IF(BL16="X","OK","NON"),"NON"),"15") -> 15 | BM13: Matchs | BN13: =IF(BN14="X",IF(BN15="X",IF(BN16="X","OK","NON"),"NON"),"1") -> OK | BO13: =IF(BO14="X",IF(BO15="X",IF(BO16="X","OK","NON"),"NON"),"2") -> OK | BP13: =IF(BP14="X",IF(BP15="X",IF(BP16="X","OK","NON"),"NON"),"3") -> OK | BQ13: =IF(BQ14="X",IF(BQ15="X",IF(BQ16="X","OK","NON"),"NON"),"4") -> OK | BR13: =IF(BR14="X",IF(BR15="X",IF(BR16="X","OK","NON"),"NON"),"5") -> 5 | BS13: =IF(BS14="X",IF(BS15="X",IF(BS16="X","OK","NON"),"NON"),"6") -> 6 | BT13: =IF(BT14="X",IF(BT15="X",IF(BT16="X","OK","NON"),"NON"),"7") -> 7 | BU13: =IF(BU14="X",IF(BU15="X",IF(BU16="X","OK","NON"),"NON"),"8") -> 8 | BV13: =IF(BV14="X",IF(BV15="X",IF(BV16="X","OK","NON"),"NON"),"9") -> 9 | BW13: =IF(BW14="X",IF(BW15="X",IF(BW16="X","OK","NON"),"NON"),"10") -> 10 | BX13: =IF(BX14="X",IF(BX15="X",IF(BX16="X","OK","NON"),"NON"),"11") -> 11 | BY13: =IF(BY14="X",IF(BY15="X",IF(BY16="X","OK","NON"),"NON"),"12") -> 12 | BZ13: =IF(BZ14="X",IF(BZ15="X",IF(BZ16="X","OK","NON"),"NON"),"13") -> 13 | CA13: =IF(CA14="X",IF(CA15="X",IF(CA16="X","OK","NON"),"NON"),"14") -> 14 | CB13: =IF(CB14="X",IF(CB15="X",IF(CB16="X","OK","NON"),"NON"),"15") -> 15
A14: Bonus 1 | B14: X | C14: X | D14: X | E14: X | F14: X | Q14: Bonus 1 | R14: X | AG14: Bonus 1 | AH14: X | AI14: X | AJ14: X | AK14: X | AW14: Bonus 1 | AX14: X | AY14: X | AZ14: X | BM14: Bonus 1 | BN14: X | BO14: X | BP14: X | BQ14: X
A15: Bonus 2 | B15: X | C15: X | D15: X | E15: X | Q15: Bonus 2 | R15: X | AG15: Bonus 2 | AH15: X | AI15: X | AJ15: X | AK15: X | AW15: Bonus 2 | AX15: X | AY15: X | AZ15: X | BM15: Bonus 2 | BN15: X | BO15: X | BP15: X | BQ15: X
A16: Bonus 3 | B16: X | D16: X | E16: X | F16: X | Q16: Bonus 3 | R16: X | AG16: Bonus 3 | AH16: X | AI16: X | AJ16: X | AK16: X | AW16: Bonus 3 | AX16: X | AY16: X | AZ16: X | BM16: Bonus 3 | BN16: X | BO16: X | BP16: X | BQ16: X
A17: Si chaque bonus réussi sur au moins 4 matchs | H17: =COUNTIF(B13:P13,"OK") -> 3 | J17: Maîtrise compétence : | Q17: Si chaque bonus réussi sur au moins 4 matchs | X17: =COUNTIF(R13:AF13,"OK") -> 1 | Z17: Maîtrise compétence : | AG17: Si chaque bonus réussi sur au moins 4 matchs | AN17: =COUNTIF(AH13:AV13,"OK") -> 4 | AP17: Maîtrise compétence : | AW17: Si chaque bonus réussi sur au moins 4 matchs | BD17: =COUNTIF(AX13:BL13,"OK") -> 3 | BF17: Maîtrise compétence : | BM17: Si chaque bonus réussi sur au moins 4 matchs | BT17: =COUNTIF(BN13:CB13,"OK") -> 4 | BV17: Maîtrise compétence :
J18: FRAGILE | Z18: FRAGILE | AP18: FRAGILE | BF18: FRAGILE | BV18: FRAGILE
A20: Matchs NIVEAU 2 | Q20: Matchs NIVEAU 2 | AG20: Matchs NIVEAU 2 | AW20: Matchs NIVEAU 2 | BM20: Matchs NIVEAU 2
A21: Contrat Collectif | B21: Bonus 1: Réaliser 3 passes consécutives vers l'avant 5 fois - Coupelle BLANCHE | Q21: Contrat Collectif | R21: Bonus 1: Réaliser 3 passes consécutives vers l'avant 5 fois - Coupelle BLANCHE | AG21: Contrat Collectif | AH21: Bonus 1: Réaliser 3 passes consécutives vers l'avant 5 fois - Coupelle BLANCHE | AW21: Contrat Collectif | AX21: Bonus 1: Réaliser 3 passes consécutives vers l'avant 5 fois - Coupelle BLANCHE | BM21: Contrat Collectif | BN21: Bonus 1: Réaliser 3 passes consécutives vers l'avant 5 fois - Coupelle BLANCHE
B22: Bonus 2: Tenter au moins 5 tirs cadrés en position favorable - Coupelle JAUNE | R22: Bonus 2: Tenter au moins 5 tirs cadrés en position favorable - Coupelle JAUNE | AH22: Bonus 2: Tenter au moins 5 tirs cadrés en position favorable - Coupelle JAUNE | AX22: Bonus 2: Tenter au moins 5 tirs cadrés en position favorable - Coupelle JAUNE | BN22: Bonus 2: Tenter au moins 5 tirs cadrés en position favorable - Coupelle JAUNE
B23: Bonus 3: Perdre moins de 6 ballons avant d'avoir réalisé 3 passes - Coupelle ROUGE | R23: Bonus 3: Perdre moins de 6 ballons avant d'avoir réalisé 3 passes - Coupelle ROUGE | AH23: Bonus 3: Perdre moins de 6 ballons avant d'avoir réalisé 3 passes - Coupelle ROUGE | AX23: Bonus 3: Perdre moins de 6 ballons avant d'avoir réalisé 3 passes - Coupelle ROUGE | BN23: Bonus 3: Perdre moins de 6 ballons avant d'avoir réalisé 3 passes - Coupelle ROUGE
A24: Matchs | B24: =IF(B25="X",IF(B26="X",IF(B27="X","OK","NON"),"NON"),"1") -> OK | C24: =IF(C25="X",IF(C26="X",IF(C27="X","OK","NON"),"NON"),"2") -> OK | D24: =IF(D25="X",IF(D26="X",IF(D27="X","OK","NON"),"NON"),"3") -> OK | E24: =IF(E25="X",IF(E26="X",IF(E27="X","OK","NON"),"NON"),"4") -> 4 | F24: =IF(F25="X",IF(F26="X",IF(F27="X","OK","NON"),"NON"),"5") -> 5 | G24: =IF(G25="X",IF(G26="X",IF(G27="X","OK","NON"),"NON"),"6") -> 6 | H24: =IF(H25="X",IF(H26="X",IF(H27="X","OK","NON"),"NON"),"7") -> 7 | I24: =IF(I25="X",IF(I26="X",IF(I27="X","OK","NON"),"NON"),"8") -> 8 | J24: =IF(J25="X",IF(J26="X",IF(J27="X","OK","NON"),"NON"),"9") -> 9 | K24: =IF(K25="X",IF(K26="X",IF(K27="X","OK","NON"),"NON"),"10") -> 10 | L24: =IF(L25="X",IF(L26="X",IF(L27="X","OK","NON"),"NON"),"11") -> 11 | M24: =IF(M25="X",IF(M26="X",IF(M27="X","OK","NON"),"NON"),"12") -> 12 | N24: =IF(N25="X",IF(N26="X",IF(N27="X","OK","NON"),"NON"),"13") -> 13 | O24: =IF(O25="X",IF(O26="X",IF(O27="X","OK","NON"),"NON"),"14") -> 14 | P24: =IF(P25="X",IF(P26="X",IF(P27="X","OK","NON"),"NON"),"15") -> 15 | Q24: Matchs | R24: =IF(R25="X",IF(R26="X",IF(R27="X","OK","NON"),"NON"),"1") -> 1 | S24: =IF(S25="X",IF(S26="X",IF(S27="X","OK","NON"),"NON"),"2") -> 2 | T24: =IF(T25="X",IF(T26="X",IF(T27="X","OK","NON"),"NON"),"3") -> 3 | U24: =IF(U25="X",IF(U26="X",IF(U27="X","OK","NON"),"NON"),"4") -> 4 | V24: =IF(V25="X",IF(V26="X",IF(V27="X","OK","NON"),"NON"),"5") -> 5 | W24: =IF(W25="X",IF(W26="X",IF(W27="X","OK","NON"),"NON"),"6") -> 6 | X24: =IF(X25="X",IF(X26="X",IF(X27="X","OK","NON"),"NON"),"7") -> 7 | Y24: =IF(Y25="X",IF(Y26="X",IF(Y27="X","OK","NON"),"NON"),"8") -> 8 | Z24: =IF(Z25="X",IF(Z26="X",IF(Z27="X","OK","NON"),"NON"),"9") -> 9 | AA24: =IF(AA25="X",IF(AA26="X",IF(AA27="X","OK","NON"),"NON"),"10") -> 10 | AB24: =IF(AB25="X",IF(AB26="X",IF(AB27="X","OK","NON"),"NON"),"11") -> 11 | AC24: =IF(AC25="X",IF(AC26="X",IF(AC27="X","OK","NON"),"NON"),"12") -> 12 | AD24: =IF(AD25="X",IF(AD26="X",IF(AD27="X","OK","NON"),"NON"),"13") -> 13 | AE24: =IF(AE25="X",IF(AE26="X",IF(AE27="X","OK","NON"),"NON"),"14") -> 14 | AF24: =IF(AF25="X",IF(AF26="X",IF(AF27="X","OK","NON"),"NON"),"15") -> 15 | AG24: Matchs | AH24: =IF(AH25="X",IF(AH26="X",IF(AH27="X","OK","NON"),"NON"),"1") -> 1 | AI24: =IF(AI25="X",IF(AI26="X",IF(AI27="X","OK","NON"),"NON"),"2") -> 2 | AJ24: =IF(AJ25="X",IF(AJ26="X",IF(AJ27="X","OK","NON"),"NON"),"3") -> 3 | AK24: =IF(AK25="X",IF(AK26="X",IF(AK27="X","OK","NON"),"NON"),"4") -> 4 | AL24: =IF(AL25="X",IF(AL26="X",IF(AL27="X","OK","NON"),"NON"),"5") -> 5 | AM24: =IF(AM25="X",IF(AM26="X",IF(AM27="X","OK","NON"),"NON"),"6") -> 6 | AN24: =IF(AN25="X",IF(AN26="X",IF(AN27="X","OK","NON"),"NON"),"7") -> 7 | AO24: =IF(AO25="X",IF(AO26="X",IF(AO27="X","OK","NON"),"NON"),"8") -> 8 | AP24: =IF(AP25="X",IF(AP26="X",IF(AP27="X","OK","NON"),"NON"),"9") -> 9 | AQ24: =IF(AQ25="X",IF(AQ26="X",IF(AQ27="X","OK","NON"),"NON"),"10") -> 10 | AR24: =IF(AR25="X",IF(AR26="X",IF(AR27="X","OK","NON"),"NON"),"11") -> 11 | AS24: =IF(AS25="X",IF(AS26="X",IF(AS27="X","OK","NON"),"NON"),"12") -> 12 | AT24: =IF(AT25="X",IF(AT26="X",IF(AT27="X","OK","NON"),"NON"),"13") -> 13 | AU24: =IF(AU25="X",IF(AU26="X",IF(AU27="X","OK","NON"),"NON"),"14") -> 14 | AV24: =IF(AV25="X",IF(AV26="X",IF(AV27="X","OK","NON"),"NON"),"15") -> 15 | AW24: Matchs | AX24: =IF(AX25="X",IF(AX26="X",IF(AX27="X","OK","NON"),"NON"),"1") -> 1 | AY24: =IF(AY25="X",IF(AY26="X",IF(AY27="X","OK","NON"),"NON"),"2") -> 2 | AZ24: =IF(AZ25="X",IF(AZ26="X",IF(AZ27="X","OK","NON"),"NON"),"3") -> 3 | BA24: =IF(BA25="X",IF(BA26="X",IF(BA27="X","OK","NON"),"NON"),"4") -> 4 | BB24: =IF(BB25="X",IF(BB26="X",IF(BB27="X","OK","NON"),"NON"),"5") -> 5 | BC24: =IF(BC25="X",IF(BC26="X",IF(BC27="X","OK","NON"),"NON"),"6") -> 6 | BD24: =IF(BD25="X",IF(BD26="X",IF(BD27="X","OK","NON"),"NON"),"7") -> 7 | BE24: =IF(BE25="X",IF(BE26="X",IF(BE27="X","OK","NON"),"NON"),"8") -> 8 | BF24: =IF(BF25="X",IF(BF26="X",IF(BF27="X","OK","NON"),"NON"),"9") -> 9 | BG24: =IF(BG25="X",IF(BG26="X",IF(BG27="X","OK","NON"),"NON"),"10") -> 10 | BH24: =IF(BH25="X",IF(BH26="X",IF(BH27="X","OK","NON"),"NON"),"11") -> 11 | BI24: =IF(BI25="X",IF(BI26="X",IF(BI27="X","OK","NON"),"NON"),"12") -> 12 | BJ24: =IF(BJ25="X",IF(BJ26="X",IF(BJ27="X","OK","NON"),"NON"),"13") -> 13 | BK24: =IF(BK25="X",IF(BK26="X",IF(BK27="X","OK","NON"),"NON"),"14") -> 14 | BL24: =IF(BL25="X",IF(BL26="X",IF(BL27="X","OK","NON"),"NON"),"15") -> 15 | BM24: Matchs | BN24: =IF(BN25="X",IF(BN26="X",IF(BN27="X","OK","NON"),"NON"),"1") -> 1 | BO24: =IF(BO25="X",IF(BO26="X",IF(BO27="X","OK","NON"),"NON"),"2") -> 2 | BP24: =IF(BP25="X",IF(BP26="X",IF(BP27="X","OK","NON"),"NON"),"3") -> 3 | BQ24: =IF(BQ25="X",IF(BQ26="X",IF(BQ27="X","OK","NON"),"NON"),"4") -> 4 | BR24: =IF(BR25="X",IF(BR26="X",IF(BR27="X","OK","NON"),"NON"),"5") -> 5 | BS24: =IF(BS25="X",IF(BS26="X",IF(BS27="X","OK","NON"),"NON"),"6") -> 6 | BT24: =IF(BT25="X",IF(BT26="X",IF(BT27="X","OK","NON"),"NON"),"7") -> 7 | BU24: =IF(BU25="X",IF(BU26="X",IF(BU27="X","OK","NON"),"NON"),"8") -> 8 | BV24: =IF(BV25="X",IF(BV26="X",IF(BV27="X","OK","NON"),"NON"),"9") -> 9 | BW24: =IF(BW25="X",IF(BW26="X",IF(BW27="X","OK","NON"),"NON"),"10") -> 10 | BX24: =IF(BX25="X",IF(BX26="X",IF(BX27="X","OK","NON"),"NON"),"11") -> 11 | BY24: =IF(BY25="X",IF(BY26="X",IF(BY27="X","OK","NON"),"NON"),"12") -> 12 | BZ24: =IF(BZ25="X",IF(BZ26="X",IF(BZ27="X","OK","NON"),"NON"),"13") -> 13 | CA24: =IF(CA25="X",IF(CA26="X",IF(CA27="X","OK","NON"),"NON"),"14") -> 14 | CB24: =IF(CB25="X",IF(CB26="X",IF(CB27="X","OK","NON"),"NON"),"15") -> 15
A25: Bonus 1 | B25: X | C25: X | D25: X | Q25: Bonus 1 | AG25: Bonus 1 | AW25: Bonus 1 | BM25: Bonus 1
A26: Bonus 2 | B26: X | C26: X | D26: X | Q26: Bonus 2 | AG26: Bonus 2 | AW26: Bonus 2 | BM26: Bonus 2
A27: Bonus 3 | B27: X | C27: X | D27: X | Q27: Bonus 3 | AG27: Bonus 3 | AW27: Bonus 3 | BM27: Bonus 3
A28: Si chaque bonus réussi sur au moins 3 matchs | H28: =COUNTIF(B24:P24,"OK") -> 3 | J28: Maîtrise compétence : | Q28: Si chaque bonus réussi sur au moins 4 matchs | X28: =COUNTIF(R24:AF24,"OK") -> 0 | Z28: Maîtrise compétence : | AG28: Si chaque bonus réussi sur au moins 4 matchs | AN28: =COUNTIF(AH24:AV24,"OK") -> 0 | AP28: Maîtrise compétence : | AW28: Si chaque bonus réussi sur au moins 4 matchs | BD28: =COUNTIF(AX24:BL24,"OK") -> 0 | BF28: Maîtrise compétence : | BM28: Si chaque bonus réussi sur au moins 4 matchs | BT28: =COUNTIF(BN24:CB24,"OK") -> 0 | BV28: Maîtrise compétence :
J29: SATISFAISANTE | Z29: SATISFAISANTE | AP29: SATISFAISANTE | BF29: SATISFAISANTE | BV29: SATISFAISANTE
A31: Matchs NIVEAU 3 | Q31: Matchs NIVEAU 3 | AG31: Matchs NIVEAU 3 | AW31: Matchs NIVEAU 3 | BM31: Matchs NIVEAU 3
A32: Contrat Collectif | B32: Bonus 1: Réaliser 3 passes consécutives vers l'avant 7 fois - Coupelle BLANCHE | Q32: Contrat Collectif | R32: Bonus 1: Réaliser 3 passes consécutives vers l'avant 7 fois - Coupelle BLANCHE | AG32: Contrat Collectif | AH32: Bonus 1: Réaliser 3 passes consécutives vers l'avant 7 fois - Coupelle BLANCHE | AW32: Contrat Collectif | AX32: Bonus 1: Réaliser 3 passes consécutives vers l'avant 7 fois - Coupelle BLANCHE | BM32: Contrat Collectif | BN32: Bonus 1: Réaliser 3 passes consécutives vers l'avant 7 fois - Coupelle BLANCHE
B33: Bonus 2: Tenter au moins 7 tirs cadrés en position favorable - Coupelle JAUNE | R33: Bonus 2: Tenter au moins 7 tirs cadrés en position favorable - Coupelle JAUNE | AH33: Bonus 2: Tenter au moins 7 tirs cadrés en position favorable - Coupelle JAUNE | AX33: Bonus 2: Tenter au moins 7 tirs cadrés en position favorable - Coupelle JAUNE | BN33: Bonus 2: Tenter au moins 7 tirs cadrés en position favorable - Coupelle JAUNE
B34: Bonus 3: Perdre moins de 4 ballons avant d'avoir réalisé 3 passes - Coupelle ROUGE | R34: Bonus 3: Perdre moins de 4 ballons avant d'avoir réalisé 3 passes - Coupelle ROUGE | AH34: Bonus 3: Perdre moins de 4 ballons avant d'avoir réalisé 3 passes - Coupelle ROUGE | AX34: Bonus 3: Perdre moins de 4 ballons avant d'avoir réalisé 3 passes - Coupelle ROUGE | BN34: Bonus 3: Perdre moins de 4 ballons avant d'avoir réalisé 3 passes - Coupelle ROUGE
