Workbook

Sheet Gestion du stock
E1: QUEL STOCK POUR FABRICATION DE
A2: Désignation | B2: Qté nécessaire | C2: Stock disponible | E2: 10 | J2: 20
A3: Arc E | B3: 2 | C3: 44 | E3: BESOIN | F3: DESIGNATION | G3: QTE | H3: Etat | J3: BESOIN | K3: DESIGNATION | L3: QTE | M3: ETAT
A4: Serre-joint D | B4: 1 | C4: 11 | E4: =B20*$E$2 -> 10 | F4: Carton emballage PN | G4: =B20 -> 1 | H4: =IF(E4<=C20,"OK","NOK") -> OK | J4: =B20*$J$2 -> 20 | K4: Carton emballage PN | L4: =B20 -> 1 | M4: =IF(J4<=C20,"OK","NOK") -> OK | P4: PRODUITS
A5: Arc siège B | B5: 2 | C5: 152 | E5: =B21*$E$2 -> 10 | F5: Cale carton emballage PN | G5: =B21 -> 1 | H5: =IF(E5<=C21,"OK","NOK") -> OK | J5: =B21*$J$2 -> 20 | K5: Cale carton emballage PN | L5: =B21 -> 1 | M5: =IF(J5<=C21,"OK","NOK") -> OK | P5: NEO SPECIFIQUE
A6: Bague intermédiaire EP 3C | B6: 1 | C6: 36 | E6: =B3*$E$2 -> 20 | F6: Arc E | G6: =B3 -> 2 | H6: =IF(E6<=C3,"OK","NOK") -> OK | J6: =Tableau34[[#This Row],[Qté nécessaire]]*$J$2 -> 20 | K6: Arc siège B | L6: =Tableau34[[#This Row],[Qté nécessaire]] -> 1 | M6: =IF(J6<=C7,"OK","NOK") -> OK | P6: SWAN SPECIFIQUE
A7: Barre de siège E | B7: 1 | C7: 44 | E7: =B4*$E$2 -> 10 | F7: Serre-joint D | G7: =B4 -> 1 | H7: =IF(E7<=C4,"OK","NOK") -> OK | J7: =Tableau34[[#This Row],[Qté nécessaire]]*$J$2 -> 20 | K7: Bague intermédiaire EP 3C | L7: =Tableau34[[#This Row],[Qté nécessaire]] -> 1 | M7: =IF(J7<=C8,"OK","NOK") -> OK | P7: KIT SPECIFIQUE
A8: Cache écrou M10 | B8: 4 | C8: 240 | E8: =B22*$E$2 -> 20 | F8: Bague J | G8: =B22 -> 2 | H8: =IF(E8<=C22,"OK","NOK") -> OK | J8: =Tableau34[[#This Row],[Qté nécessaire]]*$J$2 -> 80 | K8: Barre de siège E | L8: =Tableau34[[#This Row],[Qté nécessaire]] -> 4 | M8: =IF(J8<=C9,"OK","NOK") -> OK | P8: COMMUNE-PN-PS
A9: Cache écrou M6 | B9: 4 | C9: 260 | E9: =B23*$E$2 -> 20 | F9: Bouchon plastique | G9: 2 | H9: =IF(E9<=C23,"OK","NOK") -> OK | J9: =Tableau34[[#This Row],[Qté nécessaire]]*$J$2 -> 80 | K9: Cache écrou M10 | L9: =Tableau34[[#This Row],[Qté nécessaire]] -> 4 | M9: =IF(J9<=C10,"OK","NOK") -> OK | P9: COMMUNE-PS-PK
A10: Cache profil Poppelmann | B10: 1 | C10: 88 | E10: =B24*$E$2 -> 20 | F10: Bouton tonneau | G10: 2 | H10: =IF(E10<=C24,"OK","NOK") -> OK | J10: =Tableau34[[#This Row],[Qté nécessaire]]*$J$2 -> 20 | K10: Cache écrou M6 | L10: =Tableau34[[#This Row],[Qté nécessaire]] -> 1 | M10: =IF(J10<=C11,"OK","NOK") -> OK | P10: COMMUNE-PN-PS-PK
A11: Collier Rislan | B11: 2 | C11: 100 | E11: =B25*$E$2 -> 10 | F11: Bride M | G11: 1 | H11: =IF(E11<=C25,"OK","NOK") -> OK | J11: =Tableau34[[#This Row],[Qté nécessaire]]*$J$2 -> 40 | K11: Cache profil Poppelmann | L11: =Tableau34[[#This Row],[Qté nécessaire]] -> 2 | M11: =IF(J11<=C12,"OK","NOK") -> OK
A12: Ecrou Inox M10 Nylstop | B12: 2 | C12: 170 | E12: =B26*$E$2 -> 10 | F12: Capuchon carré | G12: 1 | H12: =IF(E12<=C26,"OK","NOK") -> OK | J12: =Tableau34[[#This Row],[Qté nécessaire]]*$J$2 -> 40 | K12: Collier Rislan | L12: =Tableau34[[#This Row],[Qté nécessaire]] -> 2 | M12: =IF(J12<=C13,"OK","NOK") -> OK
A13: Ecrou Inox M6 Nylstop | B13: 3 | C13: 290 | E13: =B27*$E$2 -> 10 | F13: Flyer | G13: 1 | H13: =IF(E13<=C27,"OK","NOK") -> OK | J13: =Tableau34[[#This Row],[Qté nécessaire]]*$J$2 -> 60 | K13: Ecrou Inox M10 Nylstop | L13: =Tableau34[[#This Row],[Qté nécessaire]] -> 3 | M13: =IF(J13<=C14,"OK","NOK") -> NOK
A14: Etiquette recommandation PSA | B14: 1 | C14: 46 | E14: =B28*$E$2 -> 40 | F14: Goupille cylindrique D2X24 | G14: 4 | H14: =IF(E14<=C28,"OK","NOK") -> OK | J14: =Tableau34[[#This Row],[Qté nécessaire]]*$J$2 -> 20 | K14: Ecrou Inox M6 Nylstop | L14: =Tableau34[[#This Row],[Qté nécessaire]] -> 1 | M14: =IF(J14<=C15,"OK","NOK") -> OK
A15: Interface siège L | B15: 1 | C15: 40 | E15: =B29*$E$2 -> 40 | F15: Goupille cylindrique D8X28 | G15: 4 | H15: =IF(E15<=C29,"OK","NOK") -> OK | J15: =Tableau34[[#This Row],[Qté nécessaire]]*$J$2 -> 20 | K15: Etiquette recommandation PSA | L15: =Tableau34[[#This Row],[Qté nécessaire]] -> 1 | M15: =IF(J15<=C16,"OK","NOK") -> OK
A16: Rondelle inox Z10 | B16: 4 | C16: 222 | E16: =B30*$E$2 -> 20 | F16: Paire de brassière | G16: 2 | H16: =IF(E16<=C30,"OK","NOK") -> OK | J16: =Tableau34[[#This Row],[Qté nécessaire]]*$J$2 -> 80 | K16: Interface siège L | L16: =Tableau34[[#This Row],[Qté nécessaire]] -> 4 | M16: =IF(J16<=C17,"OK","NOK") -> OK
A17: Vis inox H M10X30 | B17: 2 | C17: 147 | E17: =B31*$E$2 -> 10 | F17: Paire élastique | G17: 1 | H17: =IF(E17<=C31,"OK","NOK") -> OK | J17: =Tableau34[[#This Row],[Qté nécessaire]]*$J$2 -> 40 | K17: Rondelle inox Z10 | L17: =Tableau34[[#This Row],[Qté nécessaire]] -> 2 | M17: =IF(J17<=C18,"OK","NOK") -> OK
A18: Vis inox H M6X16 | B18: 1 | C18: 118 | E18: =B32*$E$2 -> 10 | F18: Papier de soie | G18: 1 | H18: =IF(E18<=C32,"OK","NOK") -> OK | J18: =Tableau34[[#This Row],[Qté nécessaire]]*$J$2 -> 20 | K18: Vis inox H M10X30 | L18: =Tableau34[[#This Row],[Qté nécessaire]] -> 1 | M18: =IF(J18<=C19,"OK","NOK") -> OK
A19: Vis inox H M6X45 | B19: 2 | C19: 136 | E19: =B33*$E$2 -> 20 | F19: Poignée indexable | G19: 2 | H19: =IF(E19<=C33,"OK","NOK") -> OK | J19: =Tableau34[[#This Row],[Qté nécessaire]]*$J$2 -> 40 | K19: Vis inox H M6X16 | L19: =Tableau34[[#This Row],[Qté nécessaire]] -> 2 | M19: =IF(J19<=C20,"OK","NOK") -> OK
A20: Carton emballage PN | B20: 1 | C20: 53 | E20: =B34*$E$2 -> 40 | F20: Porte poulie K | G20: 4 | H20: =IF(E20<=C34,"OK","NOK") -> NOK | J20: =Tableau34[[#This Row],[Qté nécessaire]]*$J$2 -> 20 | K20: Vis inox H M6X45 | L20: =Tableau34[[#This Row],[Qté nécessaire]] -> 1 | M20: =IF(J20<=C21,"OK","NOK") -> OK
A21: Cale carton emballage PN | B21: 1 | C21: 53 | E21: =B35*$E$2 -> 40 | F21: Poulie Caujolie 66015 | G21: 4 | H21: =IF(E21<=C35,"OK","NOK") -> OK | J21: =B22*$J$2 -> 40 | K21: Bague J | L21: =B22 -> 2 | M21: =IF(J21<=C22,"OK","NOK") -> OK
A22: Bague J | B22: 2 | C22: 435 | E22: =B36*$E$2 -> 20 | F22: Rondelle inoz Z6 | G22: 2 | H22: =IF(E22<=C36,"OK","NOK") -> OK | J22: =B22*$J$2 -> 40 | K22: Bouchon plastique | L22: =B23 -> 2 | M22: =IF(J22<=C23,"OK","NOK") -> OK
A23: Bouchon plastique | B23: 2 | C23: 598 | E23: =B37*$E$2 -> 10 | F23: Tambour L | G23: 1 | H23: =IF(E23<=C37,"OK","NOK") -> OK | J23: =B23*$J$2 -> 40 | K23: Bouton tonneau | L23: =B24 -> 2 | M23: =IF(J23<=C24,"OK","NOK") -> OK
A24: Bouton tonneau | B24: 2 | C24: 400 | E24: =B38*$E$2 -> 20 | F24: Vis inox STHC M5X4 | G24: 2 | H24: =IF(E24<=C38,"OK","NOK") -> OK | J24: =B24*$J$2 -> 40 | K24: Bride M | L24: =B25 -> 1 | M24: =IF(J24<=C25,"OK","NOK") -> OK
A25: Bride M | B25: 1 | C25: 43 | E25: =B39*$E$2 -> 10 | F25: Vis inox STHC M6X45 | G25: 1 | H25: =IF(E25<=C39,"OK","NOK") -> OK | J25: =B25*$J$2 -> 20 | K25: Capuchon carré | L25: =B26 -> 1 | M25: =IF(J25<=C26,"OK","NOK") -> OK
A26: Capuchon carré | B26: 1 | C26: 345 | J26: =B26*$J$2 -> 20 | K26: Flyer | L26: =B27 -> 1 | M26: =IF(J26<=C27,"OK","NOK") -> OK
A27: Flyer | B27: 1 | C27: 175 | J27: =B27*$J$2 -> 20 | K27: Goupille cylindrique D2X24 | L27: =B28 -> 4 | M27: =IF(J27<=C28,"OK","NOK") -> OK
A28: Goupille cylindrique D2X24 | B28: 4 | C28: 176 | J28: =B28*$J$2 -> 80 | K28: Goupille cylindrique D8X28 | L28: =B29 -> 4 | M28: =IF(J28<=C29,"OK","NOK") -> NOK
A29: Goupille cylindrique D8X28 | B29: 4 | C29: 76 | J29: =B29*$J$2 -> 80 | K29: Paire de brassière | L29: =B30 -> 2 | M29: =IF(J29<=C30,"OK","NOK") -> OK
A30: Paire de brassière | B30: 2 | C30: 173 | J30: =B30*$J$2 -> 40 | K30: Paire élastique | L30: =B31 -> 1 | M30: =IF(J30<=C31,"OK","NOK") -> OK
A31: Paire élastique | B31: 1 | C31: 65 | J31: =B31*$J$2 -> 20 | K31: Papier de soie | L31: =B32 -> 1 | M31: =IF(J31<=C32,"OK","NOK") -> OK
A32: Papier de soie | B32: 1 | C32: 200 | J32: =B32*$J$2 -> 20 | K32: Poignée indexable | L32: =B33 -> 2 | M32: =IF(J32<=C33,"OK","NOK") -> OK
A33: Poignée indexable | B33: 2 | C33: 145 | J33: =B33*$J$2 -> 40 | K33: Porte poulie K | L33: =B34 -> 4 | M33: =IF(J33<=C34,"OK","NOK") -> NOK
A34: Porte poulie K | B34: 4 | C34: 15 | J34: =B34*$J$2 -> 80 | K34: Poulie Caujolie 66015 | L34: =B35 -> 4 | M34: =IF(J34<=C35,"OK","NOK") -> OK
A35: Poulie Caujolie 66015 | B35: 4 | C35: 411 | J35: =B35*$J$2 -> 80 | K35: Rondelle inoz Z6 | L35: =B36 -> 2 | M35: =IF(J35<=C36,"OK","NOK") -> OK
A36: Rondelle inoz Z6 | B36: 2 | C36: 230 | J36: =B36*$J$2 -> 40 | K36: Tambour L | L36: =B37 -> 1 | M36: =IF(J36<=C37,"OK","NOK") -> OK
A37: Tambour L | B37: 1 | C37: 49 | J37: =B37*$J$2 -> 20 | K37: Vis inox STHC M5X4 | L37: =B38 -> 2 | M37: =IF(J37<=C38,"OK","NOK") -> OK
A38: Vis inox STHC M5X4 | B38: 2 | C38: 167 | J38: =B38*$J$2 -> 40 | K38: Vis inox STHC M6X45 | L38: =B39 -> 1 | M38: =IF(J38<=C39,"OK","NOK") -> OK
A39: Vis inox STHC M6X45 | B39: 1 | C39: 229

Sheet Besoins
J2: Toujours 100% dans cette case
B3: =ROUNDDOWN((MIN(D7:D28)),0) -> 10 | D3: 0.68 | F3: =ROUNDDOWN(MIN(H7:H41),0) -> 4 | H3: =J3-D3 -> 0.32 | J3: 1
B5: NEO | F5: SWAN
B6: DESIGNATION | C6: QTE | D6: BESOIN | F6: DESIGNATION | G6: QTE | H6: BESOIN
B7: Arc E | C7: ='Gestion du stock'!B3 -> 2 | D7: ='Gestion du stock'!C3 -> 44 | F7: Arc siège B | G7: ='Gestion du stock'!B5 -> 2 | H7: ='Gestion du stock'!C5 -> 152
B8: Serre-joint D | C8: ='Gestion du stock'!B4 -> 1 | D8: ='Gestion du stock'!C4 -> 11 | F8: Bague intermédiaire EP 3C | G8: ='Gestion du stock'!B6 -> 1 | H8: ='Gestion du stock'!C6 -> 36
B9: Cale carton emballage PN | C9: ='Gestion du stock'!B20 -> 1 | D9: ='Gestion du stock'!C20*Besoins!$D$3 -> 36.04 | F9: Barre de siège E | G9: ='Gestion du stock'!B7 -> 1 | H9: ='Gestion du stock'!C7 -> 44
B10: Carton emballage PN | C10: ='Gestion du stock'!B21 -> 1 | D10: ='Gestion du stock'!C21*Besoins!$D$3 -> 36.04 | F10: Cache écrou M10 | G10: ='Gestion du stock'!B8 -> 4 | H10: ='Gestion du stock'!C8 -> 240
B11: Bague J | C11: ='Gestion du stock'!B22 -> 2 | D11: ='Gestion du stock'!C22*Besoins!$D$3 -> 295.8 | F11: Cache écrou M6 | G11: ='Gestion du stock'!B9 -> 4 | H11: ='Gestion du stock'!C9 -> 260
B12: Bouchon plastique | C12: ='Gestion du stock'!B23 -> 2 | D12: ='Gestion du stock'!C23*Besoins!$D$3 -> 406.64 | F12: Cache profil Poppelmann | G12: ='Gestion du stock'!B10 -> 1 | H12: ='Gestion du stock'!C10 -> 88
B13: Bouton tonneau | C13: ='Gestion du stock'!B24 -> 2 | D13: ='Gestion du stock'!C24*Besoins!$D$3 -> 272 | F13: Collier Rislan | G13: ='Gestion du stock'!B11 -> 2 | H13: ='Gestion du stock'!C11 -> 100
B14: Bride M | C14: ='Gestion du stock'!B25 -> 1 | D14: ='Gestion du stock'!C25*Besoins!$D$3 -> 29.24 | F14: Ecrou Inox M10 Nylstop | G14: ='Gestion du stock'!B12 -> 2 | H14: ='Gestion du stock'!C12 -> 170
B15: Capuchon carré | C15: ='Gestion du stock'!B26 -> 1 | D15: ='Gestion du stock'!C26*Besoins!$D$3 -> 234.6 | F15: Ecrou Inox M6 Nylstop | G15: ='Gestion du stock'!B13 -> 3 | H15: ='Gestion du stock'!C13 -> 290
B16: Flyer | C16: ='Gestion du stock'!B27 -> 1 | D16: ='Gestion du stock'!C27*Besoins!$D$3 -> 119 | F16: Etiquette recommandation PSA | G16: ='Gestion du stock'!B14 -> 1 | H16: ='Gestion du stock'!C14 -> 46
B17: Goupille cylindrique D2X24 | C17: ='Gestion du stock'!B28 -> 4 | D17: ='Gestion du stock'!C28*Besoins!$D$3 -> 119.68 | F17: Interface siège L | G17: ='Gestion du stock'!B15 -> 1 | H17: ='Gestion du stock'!C15 -> 40
B18: Goupille cylindrique D8X28 | C18: ='Gestion du stock'!B29 -> 4 | D18: ='Gestion du stock'!C29*Besoins!$D$3 -> 51.68 | F18: Rondelle inox Z10 | G18: ='Gestion du stock'!B16 -> 4 | H18: ='Gestion du stock'!C16 -> 222
B19: Paire de brassière | C19: ='Gestion du stock'!B30 -> 2 | D19: ='Gestion du stock'!C30*Besoins!$D$3 -> 117.64 | F19: Vis inox H M10X30 | G19: ='Gestion du stock'!B17 -> 2 | H19: ='Gestion du stock'!C17 -> 147
B20: Paire élastique | C20: ='Gestion du stock'!B31 -> 1 | D20: ='Gestion du stock'!C31*Besoins!$D$3 -> 44.2 | F20: Vis inox H M6X16 | G20: ='Gestion du stock'!B18 -> 1 | H20: ='Gestion du stock'!C18 -> 118
B21: Papier de soie | C21: ='Gestion du stock'!B32 -> 1 | D21: ='Gestion du stock'!C32*Besoins!$D$3 -> 136 | F21: Vis inox H M6X45 | G21: ='Gestion du stock'!B19 -> 2 | H21: ='Gestion du stock'!C19 -> 136
B22: Poignée indexable | C22: ='Gestion du stock'!B33 -> 2 | D22: ='Gestion du stock'!C33*Besoins!$D$3 -> 98.6 | F22: Carton emballage PN | G22: ='Gestion du stock'!B20 -> 1 | H22: ='Gestion du stock'!C20*Besoins!$H$3 -> 16.96
B23: Porte poulie K | C23: ='Gestion du stock'!B34 -> 4 | D23: ='Gestion du stock'!C34*Besoins!$D$3 -> 10.2 | F23: Cale carton emballage PN | G23: ='Gestion du stock'!B21 -> 1 | H23: ='Gestion du stock'!C21*Besoins!$H$3 -> 16.96
B24: Poulie Caujolie 66015 | C24: ='Gestion du stock'!B35 -> 4 | D24: ='Gestion du stock'!C35*Besoins!$D$3 -> 279.48 | F24: Bague J | G24: ='Gestion du stock'!B22 -> 2 | H24: ='Gestion du stock'!C22*Besoins!$H$3 -> 139.2
B25: Rondelle inoz Z6 | C25: ='Gestion du stock'!B36 -> 2 | D25: ='Gestion du stock'!C36*Besoins!$D$3 -> 156.4 | F25: Bouchon plastique | G25: ='Gestion du stock'!B23 -> 2 | H25: ='Gestion du stock'!C23*Besoins!$H$3 -> 191.36
B26: Tambour L | C26: ='Gestion du stock'!B37 -> 1 | D26: ='Gestion du stock'!C37*Besoins!$D$3 -> 33.32 | F26: Bouton tonneau | G26: ='Gestion du stock'!B24 -> 2 | H26: ='Gestion du stock'!C24*Besoins!$H$3 -> 128
B27: Vis inox STHC M5X4 | C27: ='Gestion du stock'!B38 -> 2 | D27: ='Gestion du stock'!C38*Besoins!$D$3 -> 113.56 | F27: Bride M | G27: ='Gestion du stock'!B25 -> 1 | H27: ='Gestion du stock'!C25*Besoins!$H$3 -> 13.76
B28: Vis inox STHC M6X45 | C28: ='Gestion du stock'!B39 -> 1 | D28: ='Gestion du stock'!C39*Besoins!$D$3 -> 155.72 | F28: Capuchon carré | G28: ='Gestion du stock'!B26 -> 1 | H28: ='Gestion du stock'!C26*Besoins!$H$3 -> 110.4
F29: Flyer | G29: ='Gestion du stock'!B27 -> 1 | H29: ='Gestion du stock'!C27*Besoins!$H$3 -> 56
B30: Nombre de pièces | C30: =SUM(C7:C28) -> 42 | F30: Goupille cylindrique D2X24 | G30: ='Gestion du stock'!B28 -> 4 | H30: ='Gestion du stock'!C28*Besoins!$H$3 -> 56.32
F31: Goupille cylindrique D8X28 | G31: ='Gestion du stock'!B29 -> 4 | H31: ='Gestion du stock'!C29*Besoins!$H$3 -> 24.32
F32: Paire de brassière | G32: ='Gestion du stock'!B30 -> 2 | H32: ='Gestion du stock'!C30*Besoins!$H$3 -> 55.36
F33: Paire élastique | G33: ='Gestion du stock'!B31 -> 1 | H33: ='Gestion du stock'!C31*Besoins!$H$3 -> 20.8
F34: Papier de soie | G34: ='Gestion du stock'!B32 -> 1 | H34: ='Gestion du stock'!C32*Besoins!$H$3 -> 64
F35: Poignée indexable | G35: ='Gestion du stock'!B33 -> 2 | H35: ='Gestion du stock'!C33*Besoins!$H$3 -> 46.4
F36: Porte poulie K | G36: ='Gestion du stock'!B34 -> 4 | H36: ='Gestion du stock'!C34*Besoins!$H$3 -> 4.8
F37: Poulie Caujolie 66015 | G37: ='Gestion du stock'!B35 -> 4 | H37: ='Gestion du stock'!C35*Besoins!$H$3 -> 131.52
F38: Rondelle inoz Z6 | G38: ='Gestion du stock'!B36 -> 2 | H38: ='Gestion du stock'!C36*Besoins!$H$3 -> 73.6
F39: Tambour L | G39: ='Gestion du stock'!B37 -> 1 | H39: ='Gestion du stock'!C37*Besoins!$H$3 -> 15.68
F40: Vis inox STHC M5X4 | G40: ='Gestion du stock'!B38 -> 2 | H40: ='Gestion du stock'!C38*Besoins!$H$3 -> 53.44
F41: Vis inox STHC M6X45 | G41: ='Gestion du stock'!B39 -> 1 | H41: ='Gestion du stock'!C39*Besoins!$H$3 -> 73.28
F43: Nombre de pièces | G43: =COUNTA(G7:G41) -> 35

Sheet Feuil3
A1: QUEL STOCK POUR FABRICATION DE
A2: 10 | F2: 20
A3: BESOIN | B3: DESIGNATION | C3: QTE | D3: Etat | F3: BESOIN | G3: DESIGNATION | H3: QTE | I3: ETAT
A4: =#REF!*$E$2 -> #REF! | B4: Carton emballage PN | C4: =#REF! -> #REF! | D4: =IF(A4<=#REF!,"OK","NOK") -> #REF! | F4: =#REF!*$J$2 -> #REF! | G4: Carton emballage PN | H4: =#REF! -> #REF! | I4: =IF(F4<=#REF!,"OK","NOK") -> #REF!
A5: =#REF!*$E$2 -> #REF! | B5: Cale carton emballage PN | C5: =#REF! -> #REF! | D5: =IF(A5<=#REF!,"OK","NOK") -> #REF! | F5: =#REF!*$J$2 -> #REF! | G5: Cale carton emballage PN | H5: =#REF! -> #REF! | I5: =IF(F5<=#REF!,"OK","NOK") -> #REF!
A6: =#REF!*$E$2 -> #REF! | B6: Arc E | C6: =#REF! -> #REF! | D6: =IF(A6<=#REF!,"OK","NOK") -> #REF! | F6: =Tableau34[[#This Row],[Qté nécessaire]]*$J$2 -> 0 | G6: Arc siège B | H6: =Tableau34[[#This Row],[Qté nécessaire]] -> 1 | I6: =IF(F6<=#REF!,"OK","NOK") -> #REF!
A7: =#REF!*$E$2 -> #REF! | B7: Serre-joint D | C7: =#REF! -> #REF! | D7: =IF(A7<=#REF!,"OK","NOK") -> #REF! | F7: =Tableau34[[#This Row],[Qté nécessaire]]*$J$2 -> 0 | G7: Bague intermédiaire EP 3C | H7: =Tableau34[[#This Row],[Qté nécessaire]] -> 1 | I7: =IF(F7<=#REF!,"OK","NOK") -> #REF!
A8: =#REF!*$E$2 -> #REF! | B8: Bague J | C8: =#REF! -> #REF! | D8: =IF(A8<=#REF!,"OK","NOK") -> #REF! | F8: =Tableau34[[#This Row],[Qté nécessaire]]*$J$2 -> 0 | G8: Barre de siège E | H8: =Tableau34[[#This Row],[Qté nécessaire]] -> 4 | I8: =IF(F8<=#REF!,"OK","NOK") -> #REF!
A9: =#REF!*$E$2 -> #REF! | B9: Bouchon plastique | C9: 2 | D9: =IF(A9<=#REF!,"OK","NOK") -> #REF! | F9: =Tableau34[[#This Row],[Qté nécessaire]]*$J$2 -> 0 | G9: Cache écrou M10 | H9: =Tableau34[[#This Row],[Qté nécessaire]] -> 4 | I9: =IF(F9<=#REF!,"OK","NOK") -> #REF!
A10: =#REF!*$E$2 -> #REF! | B10: Bouton tonneau | C10: 2 | D10: =IF(A10<=#REF!,"OK","NOK") -> #REF! | F10: =Tableau34[[#This Row],[Qté nécessaire]]*$J$2 -> 0 | G10: Cache écrou M6 | H10: =Tableau34[[#This Row],[Qté nécessaire]] -> 1 | I10: =IF(F10<=#REF!,"OK","NOK") -> #REF!
A11: =#REF!*$E$2 -> #REF! | B11: Bride M | C11: 1 | D11: =IF(A11<=#REF!,"OK","NOK") -> #REF! | F11: =Tableau34[[#This Row],[Qté nécessaire]]*$J$2 -> 0 | G11: Cache profil Poppelmann | H11: =Tableau34[[#This Row],[Qté nécessaire]] -> 2 | I11: =IF(F11<=#REF!,"OK","NOK") -> #REF!
A12: =#REF!*$E$2 -> #REF! | B12: Capuchon carré | C12: 1 | D12: =IF(A12<=#REF!,"OK","NOK") -> #REF! | F12: =Tableau34[[#This Row],[Qté nécessaire]]*$J$2 -> 0 | G12: Collier Rislan | H12: =Tableau34[[#This Row],[Qté nécessaire]] -> 2 | I12: =IF(F12<=#REF!,"OK","NOK") -> #REF!
A13: =#REF!*$E$2 -> #REF! | B13: Flyer | C13: 1 | D13: =IF(A13<=#REF!,"OK","NOK") -> #REF! | F13: =Tableau34[[#This Row],[Qté nécessaire]]*$J$2 -> 0 | G13: Ecrou Inox M10 Nylstop | H13: =Tableau34[[#This Row],[Qté nécessaire]] -> 3 | I13: =IF(F13<=#REF!,"OK","NOK") -> #REF!
A14: =#REF!*$E$2 -> #REF! | B14: Goupille cylindrique D2X24 | C14: 4 | D14: =IF(A14<=#REF!,"OK","NOK") -> #REF! | F14: =Tableau34[[#This Row],[Qté nécessaire]]*$J$2 -> 0 | G14: Ecrou Inox M6 Nylstop | H14: =Tableau34[[#This Row],[Qté nécessaire]] -> 1 | I14: =IF(F14<=#REF!,"OK","NOK") -> #REF!
A15: =#REF!*$E$2 -> #REF! | B15: Goupille cylindrique D8X28 | C15: 4 | D15: =IF(A15<=#REF!,"OK","NOK") -> #REF! | F15: =Tableau34[[#This Row],[Qté nécessaire]]*$J$2 -> 0 | G15: Etiquette recommandation PSA | H15: =Tableau34[[#This Row],[Qté nécessaire]] -> 1 | I15: =IF(F15<=#REF!,"OK","NOK") -> #REF!
A16: =#REF!*$E$2 -> #REF! | B16: Paire de brassière | C16: 2 | D16: =IF(A16<=#REF!,"OK","NOK") -> #REF! | F16: =Tableau34[[#This Row],[Qté nécessaire]]*$J$2 -> 0 | G16: Interface siège L | H16: =Tableau34[[#This Row],[Qté nécessaire]] -> 4 | I16: =IF(F16<=#REF!,"OK","NOK") -> #REF!
A17: =#REF!*$E$2 -> #REF! | B17: Paire élastique | C17: 1 | D17: =IF(A17<=#REF!,"OK","NOK") -> #REF! | F17: =Tableau34[[#This Row],[Qté nécessaire]]*$J$2 -> 0 | G17: Rondelle inox Z10 | H17: =Tableau34[[#This Row],[Qté nécessaire]] -> 2 | I17: =IF(F17<=#REF!,"OK","NOK") -> #REF!
A18: =#REF!*$E$2 -> #REF! | B18: Papier de soie | C18: 1 | D18: =IF(A18<=#REF!,"OK","NOK") -> #REF! | F18: =Tableau34[[#This Row],[Qté nécessaire]]*$J$2 -> 0 | G18: Vis inox H M10X30 | H18: =Tableau34[[#This Row],[Qté nécessaire]] -> 1 | I18: =IF(F18<=#REF!,"OK","NOK") -> #REF!
A19: =#REF!*$E$2 -> #REF! | B19: Poignée indexable | C19: 2 | D19: =IF(A19<=#REF!,"OK","NOK") -> #REF! | F19: =Tableau34[[#This Row],[Qté nécessaire]]*$J$2 -> 0 | G19: Vis inox H M6X16 | H19: =Tableau34[[#This Row],[Qté nécessaire]] -> 2 | I19: =IF(F19<=#REF!,"OK","NOK") -> #REF!
A20: =#REF!*$E$2 -> #REF! | B20: Porte poulie K | C20: 4 | D20: =IF(A20<=#REF!,"OK","NOK") -> #REF! | F20: =Tableau34[[#This Row],[Qté nécessaire]]*$J$2 -> 0 | G20: Vis inox H M6X45 | H20: =Tableau34[[#This Row],[Qté nécessaire]] -> 1 | I20: =IF(F20<=#REF!,"OK","NOK") -> #REF!
A21: =#REF!*$E$2 -> #REF! | B21: Poulie Caujolie 66015 | C21: 4 | D21: =IF(A21<=#REF!,"OK","NOK") -> #REF! | F21: =#REF!*$J$2 -> #REF! | G21: Bague J | H21: =#REF! -> #REF! | I21: =IF(F21<=#REF!,"OK","NOK") -> #REF!
A22: =#REF!*$E$2 -> #REF! | B22: Rondelle inoz Z6 | C22: 2 | D22: =IF(A22<=#REF!,"OK","NOK") -> #REF! | F22: =#REF!*$J$2 -> #REF! | G22: Bouchon plastique | H22: =#REF! -> #REF! | I22: =IF(F22<=#REF!,"OK","NOK") -> #REF!
A23: =#REF!*$E$2 -> #REF! | B23: Tambour L | C23: 1 | D23: =IF(A23<=#REF!,"OK","NOK") -> #REF! | F23: =#REF!*$J$2 -> #REF! | G23: Bouton tonneau | H23: =#REF! -> #REF! | I23: =IF(F23<=#REF!,"OK","NOK") -> #REF!
A24: =#REF!*$E$2 -> #REF! | B24: Vis inox STHC M5X4 | C24: 2 | D24: =IF(A24<=#REF!,"OK","NOK") -> #REF! | F24: =#REF!*$J$2 -> #REF! | G24: Bride M | H24: =#REF! -> #REF! | I24: =IF(F24<=#REF!,"OK","NOK") -> #REF!
A25: =#REF!*$E$2 -> #REF! | B25: Vis inox STHC M6X45 | C25: 1 | D25: =IF(A25<=#REF!,"OK","NOK") -> #REF! | F25: =#REF!*$J$2 -> #REF! | G25: Capuchon carré | H25: =#REF! -> #REF! | I25: =IF(F25<=#REF!,"OK","NOK") -> #REF!
F26: =#REF!*$J$2 -> #REF! | G26: Flyer | H26: =#REF! -> #REF! | I26: =IF(F26<=#REF!,"OK","NOK") -> #REF!
F27: =#REF!*$J$2 -> #REF! | G27: Goupille cylindrique D2X24 | H27: =#REF! -> #REF! | I27: =IF(F27<=#REF!,"OK","NOK") -> #REF!
F28: =#REF!*$J$2 -> #REF! | G28: Goupille cylindrique D8X28 | H28: =#REF! -> #REF! | I28: =IF(F28<=#REF!,"OK","NOK") -> #REF!
F29: =#REF!*$J$2 -> #REF! | G29: Paire de brassière | H29: =#REF! -> #REF! | I29: =IF(F29<=#REF!,"OK","NOK") -> #REF!
F30: =#REF!*$J$2 -> #REF! | G30: Paire élastique | H30: =#REF! -> #REF! | I30: =IF(F30<=#REF!,"OK","NOK") -> #REF!
F31: =#REF!*$J$2 -> #REF! | G31: Papier de soie | H31: =#REF! -> #REF! | I31: =IF(F31<=#REF!,"OK","NOK") -> #REF!
F32: =#REF!*$J$2 -> #REF! | G32: Poignée indexable | H32: =#REF! -> #REF! | I32: =IF(F32<=#REF!,"OK","NOK") -> #REF!
F33: =#REF!*$J$2 -> #REF! | G33: Porte poulie K | H33: =#REF! -> #REF! | I33: =IF(F33<=#REF!,"OK","NOK") -> #REF!
F34: =#REF!*$J$2 -> #REF! | G34: Poulie Caujolie 66015 | H34: =#REF! -> #REF! | I34: =IF(F34<=#REF!,"OK","NOK") -> #REF!
F35: =#REF!*$J$2 -> #REF! | G35: Rondelle inoz Z6 | H35: =#REF! -> #REF! | I35: =IF(F35<=#REF!,"OK","NOK") -> #REF!
F36: =#REF!*$J$2 -> #REF! | G36: Tambour L | H36: =#REF! -> #REF! | I36: =IF(F36<=#REF!,"OK","NOK") -> #REF!
F37: =#REF!*$J$2 -> #REF! | G37: Vis inox STHC M5X4 | H37: =#REF! -> #REF! | I37: =IF(F37<=#REF!,"OK","NOK") -> #REF!
F38: =#REF!*$J$2 -> #REF! | G38: Vis inox STHC M6X45 | H38: =#REF! -> #REF! | I38: =IF(F38<=#REF!,"OK","NOK") -> #REF!
