Workbook

Sheet 2024
C1: 2024 | AC1: Notes
B3: 45292 | K3: 45323 | T3: 45352
B4: S | C4: Lu | D4: Ma | E4: Me | F4: Je | G4: Ve | H4: Sa | I4: Di | K4: S | L4: Lu | M4: Ma | N4: Me | O4: Je | P4: Ve | Q4: Sa | R4: Di | T4: S | U4: Lu | V4: Ma | W4: Me | X4: Je | Y4: Ve | Z4: Sa | AA4: Di
B5: 1 | C5: 45292 | D5: 45293 | E5: 45294 | F5: 45295 | G5: 45296 | H5: 45297 | I5: 45298 | K5: 5 | O5: 45323 | P5: 45324 | Q5: 45325 | R5: 45326 | T5: 9 | Y5: 45352 | Z5: 45353 | AA5: 45354
B6: 2 | C6: 45299 | D6: 45300 | E6: 45301 | F6: 45302 | G6: 45303 | H6: 45304 | I6: 45305 | K6: 6 | L6: 45327 | M6: 45328 | N6: 45329 | O6: 45330 | P6: 45331 | Q6: 45332 | R6: 45333 | T6: 10 | U6: 45355 | V6: 45356 | W6: 45357 | X6: 45358 | Y6: 45359 | Z6: 45360 | AA6: 45361
B7: 3 | C7: 45306 | D7: 45307 | E7: 45308 | F7: 45309 | G7: 45310 | H7: 45311 | I7: 45312 | K7: 7 | L7: 45334 | M7: 45335 | N7: 45336 | O7: 45337 | P7: 45338 | Q7: 45339 | R7: 45340 | T7: 11 | U7: 45362 | V7: 45363 | W7: 45364 | X7: 45365 | Y7: 45366 | Z7: 45367 | AA7: 45368
B8: 4 | C8: 45313 | D8: 45314 | E8: 45315 | F8: 45316 | G8: 45317 | H8: 45318 | I8: 45319 | K8: 8 | L8: 45341 | M8: 45342 | N8: 45343 | O8: 45344 | P8: 45345 | Q8: 45346 | R8: 45347 | T8: 12 | U8: 45369 | V8: 45370 | W8: 45371 | X8: 45372 | Y8: 45373 | Z8: 45374 | AA8: 45375
B9: 5 | C9: 45320 | D9: 45321 | E9: 45322 | K9: 9 | L9: 45348 | M9: 45349 | N9: 45350 | O9: 45351 | T9: 13 | U9: 45376 | V9: 45377 | W9: 45378 | X9: 45379 | Y9: 45380 | Z9: 45381 | AA9: 45382
B11: 45383 | K11: 45413 | T11: 45444
B12: S | C12: Lu | D12: Ma | E12: Me | F12: Je | G12: Ve | H12: Sa | I12: Di | K12: S | L12: Lu | M12: Ma | N12: Me | O12: Je | P12: Ve | Q12: Sa | R12: Di | T12: S | U12: Lu | V12: Ma | W12: Me | X12: Je | Y12: Ve | Z12: Sa | AA12: Di
B13: 14 | C13: 45383 | D13: 45384 | E13: 45385 | F13: 45386 | G13: 45387 | H13: 45388 | I13: 45389 | K13: 18 | N13: 45413 | O13: 45414 | P13: 45415 | Q13: 45416 | R13: 45417 | T13: 22 | Z13: 45444 | AA13: 45445
B14: 15 | C14: 45390 | D14: 45391 | E14: 45392 | F14: 45393 | G14: 45394 | H14: 45395 | I14: 45396 | K14: 19 | L14: 45418 | M14: 45419 | N14: 45420 | O14: 45421 | P14: 45422 | Q14: 45423 | R14: 45424 | T14: 23 | U14: 45446 | V14: 45447 | W14: 45448 | X14: 45449 | Y14: 45450 | Z14: 45451 | AA14: 45452
B15: 16 | C15: 45397 | D15: 45398 | E15: 45399 | F15: 45400 | G15: 45401 | H15: 45402 | I15: 45403 | K15: 20 | L15: 45425 | M15: 45426 | N15: 45427 | O15: 45428 | P15: 45429 | Q15: 45430 | R15: 45431 | T15: 24 | U15: 45453 | V15: 45454 | W15: 45455 | X15: 45456 | Y15: 45457 | Z15: 45458 | AA15: 45459
B16: 17 | C16: 45404 | D16: 45405 | E16: 45406 | F16: 45407 | G16: 45408 | H16: 45409 | I16: 45410 | K16: 21 | L16: 45432 | M16: 45433 | N16: 45434 | O16: 45435 | P16: 45436 | Q16: 45437 | R16: 45438 | T16: 25 | U16: 45460 | V16: 45461 | W16: 45462 | X16: 45463 | Y16: 45464 | Z16: 45465 | AA16: 45466
B17: 18 | C17: 45411 | D17: 45412 | K17: 22 | L17: 45439 | M17: 45440 | N17: 45441 | O17: 45442 | P17: 45443 | T17: 26 | U17: 45467 | V17: 45468 | W17: 45469 | X17: 45470 | Y17: 45471 | Z17: 45472 | AA17: 45473
B19: 45474 | K19: 45505 | T19: 45536
B20: S | C20: Lu | D20: Ma | E20: Me | F20: Je | G20: Ve | H20: Sa | I20: Di | K20: S | L20: Lu | M20: Ma | N20: Me | O20: Je | P20: Ve | Q20: Sa | R20: Di | T20: S | U20: Lu | V20: Ma | W20: Me | X20: Je | Y20: Ve | Z20: Sa | AA20: Di
B21: 27 | C21: 45474 | D21: 45475 | E21: 45476 | F21: 45477 | G21: 45478 | H21: 45479 | I21: 45480 | K21: 31 | O21: 45505 | P21: 45506 | Q21: 45507 | R21: 45508 | T21: 35 | AA21: 45536
B22: 28 | C22: 45481 | D22: 45482 | E22: 45483 | F22: 45484 | G22: 45485 | H22: 45486 | I22: 45487 | K22: 32 | L22: 45509 | M22: 45510 | N22: 45511 | O22: 45512 | P22: 45513 | Q22: 45514 | R22: 45515 | T22: 36 | U22: 45537 | V22: 45538 | W22: 45539 | X22: 45540 | Y22: 45541 | Z22: 45542 | AA22: 45543
B23: 29 | C23: 45488 | D23: 45489 | E23: 45490 | F23: 45491 | G23: 45492 | H23: 45493 | I23: 45494 | K23: 33 | L23: 45516 | M23: 45517 | N23: 45518 | O23: 45519 | P23: 45520 | Q23: 45521 | R23: 45522 | T23: 37 | U23: 45544 | V23: 45545 | W23: 45546 | X23: 45547 | Y23: 45548 | Z23: 45549 | AA23: 45550
B24: 30 | C24: 45495 | D24: 45496 | E24: 45497 | F24: 45498 | G24: 45499 | H24: 45500 | I24: 45501 | K24: 34 | L24: 45523 | M24: 45524 | N24: 45525 | O24: 45526 | P24: 45527 | Q24: 45528 | R24: 45529 | T24: 38 | U24: 45551 | V24: 45552 | W24: 45553 | X24: 45554 | Y24: 45555 | Z24: 45556 | AA24: 45557
B25: 31 | C25: 45502 | D25: 45503 | E25: 45504 | K25: 35 | L25: 45530 | M25: 45531 | N25: 45532 | O25: 45533 | P25: 45534 | Q25: 45535 | T25: 39 | U25: 45558 | V25: 45559 | W25: 45560 | X25: 45561 | Y25: 45562 | Z25: 45563 | AA25: 45564
T26: 40 | U26: 45565
B28: 45566 | K28: 45597 | T28: 45627
B29: S | C29: Lu | D29: Ma | E29: Me | F29: Je | G29: Ve | H29: Sa | I29: Di | K29: S | L29: Lu | M29: Ma | N29: Me | O29: Je | P29: Ve | Q29: Sa | R29: Di | T29: S | U29: Lu | V29: Ma | W29: Me | X29: Je | Y29: Ve | Z29: Sa | AA29: Di
B30: 40 | D30: 45566 | E30: 45567 | F30: 45568 | G30: 45569 | H30: 45570 | I30: 45571 | K30: 44 | P30: 45597 | Q30: 45598 | R30: 45599 | T30: 48 | AA30: 45627
B31: 41 | C31: 45572 | D31: 45573 | E31: 45574 | F31: 45575 | G31: 45576 | H31: 45577 | I31: 45578 | K31: 45 | L31: 45600 | M31: 45601 | N31: 45602 | O31: 45603 | P31: 45604 | Q31: 45605 | R31: 45606 | T31: 49 | U31: 45628 | V31: 45629 | W31: 45630 | X31: 45631 | Y31: 45632 | Z31: 45633 | AA31: 45634
B32: 42 | C32: 45579 | D32: 45576 | E32: 45573 | F32: 45570 | G32: 45567 | H32: 45564 | I32: 45561 | K32: 46 | L32: 45607 | M32: 45608 | N32: 45609 | O32: 45610 | P32: 45611 | Q32: 45612 | R32: 45613 | T32: 50 | U32: 45635 | V32: 45636 | W32: 45637 | X32: 45638 | Y32: 45639 | Z32: 45640 | AA32: 45641
B33: 43 | C33: 45586 | D33: 45587 | E33: 45588 | F33: 45589 | G33: 45590 | H33: 45591 | I33: 45592 | K33: 47 | L33: 45614 | M33: 45615 | N33: 45616 | O33: 45617 | P33: 45618 | Q33: 45619 | R33: 45620 | T33: 51 | U33: 45642 | V33: 45643 | W33: 45644 | X33: 45645 | Y33: 45646 | Z33: 45647 | AA33: 45648
B34: 44 | C34: 45593 | D34: 45594 | E34: 45595 | F34: 45596 | K34: 48 | L34: 45621 | M34: 45622 | N34: 45623 | O34: 45624 | P34: 45625 | Q34: 45626 | T34: 52 | U34: 45649 | V34: 45650 | W34: 45651 | X34: 45652 | Y34: 45653 | Z34: 45654 | AA34: 45655
T35: 1 | U35: 45656 | V35: 45657

Sheet Jan
B2: 45292
J3: Liste de choses à faire :
B4: Lundi | C4: Mardi | D4: Mercredi | E4: Jeudi | F4: Vendredi | G4: Samedi | H4: Dimanche
B5: ='2024'!C5 -> 45292 | C5: ='2024'!D5 -> 45293 | D5: ='2024'!E5 -> 45294 | E5: ='2024'!F5 -> 45295 | F5: ='2024'!G5 -> 45296 | G5: ='2024'!H5 -> 45297 | H5: ='2024'!I5 -> 45298
B6: Férié
B10: ='2024'!C6 -> 45299 | C10: ='2024'!D6 -> 45300 | D10: ='2024'!E6 -> 45301 | E10: ='2024'!F6 -> 45302 | F10: ='2024'!G6 -> 45303 | G10: ='2024'!H6 -> 45304 | H10: ='2024'!I6 -> 45305
B15: ='2024'!C7 -> 45306 | C15: ='2024'!D7 -> 45307 | D15: ='2024'!E7 -> 45308 | E15: ='2024'!F7 -> 45309 | F15: ='2024'!G7 -> 45310 | G15: ='2024'!H7 -> 45311 | H15: ='2024'!I7 -> 45312
B20: ='2024'!C8 -> 45313 | C20: ='2024'!D8 -> 45314 | D20: ='2024'!E8 -> 45315 | E20: ='2024'!F8 -> 45316 | F20: ='2024'!G8 -> 45317 | G20: ='2024'!H8 -> 45318 | H20: ='2024'!I8 -> 45319
B25: ='2024'!C9 -> 45320 | C25: ='2024'!D9 -> 45321 | D25: ='2024'!E9 -> 45322

Sheet Fév
B2: 45323
J3: Liste de choses à faire :
B4: Lundi | C4: Mardi | D4: Mercredi | E4: Jeudi | F4: Vendredi | G4: Samedi | H4: Dimanche
E5: ='2024'!O5 -> 45323 | F5: ='2024'!P5 -> 45324 | G5: ='2024'!Q5 -> 45325 | H5: ='2024'!R5 -> 45326
B10: ='2024'!L6 -> 45327 | C10: ='2024'!M6 -> 45328 | D10: ='2024'!N6 -> 45329 | E10: ='2024'!O6 -> 45330 | F10: ='2024'!P6 -> 45331 | G10: ='2024'!Q6 -> 45332 | H10: ='2024'!R6 -> 45333
B15: ='2024'!L7 -> 45334 | C15: ='2024'!M7 -> 45335 | D15: ='2024'!N7 -> 45336 | E15: ='2024'!O7 -> 45337 | F15: ='2024'!P7 -> 45338 | G15: ='2024'!Q7 -> 45339 | H15: ='2024'!R7 -> 45340
B20: ='2024'!L8 -> 45341 | C20: ='2024'!M8 -> 45342 | D20: ='2024'!N8 -> 45343 | E20: ='2024'!O8 -> 45344 | F20: ='2024'!P8 -> 45345 | G20: ='2024'!Q8 -> 45346 | H20: ='2024'!R8 -> 45347
B25: ='2024'!L9 -> 45348 | C25: ='2024'!M9 -> 45349 | D25: ='2024'!N9 -> 45350 | E25: ='2024'!O9 -> 45351

Sheet Mars
B2: 45352
J3: Liste de choses à faire :
B4: Lundi | C4: Mardi | D4: Mercredi | E4: Jeudi | F4: Vendredi | G4: Samedi | H4: Dimanche
F5: ='2024'!Y5 -> 45352 | G5: ='2024'!Z5 -> 45353 | H5: ='2024'!AA5 -> 45354
B10: ='2024'!U6 -> 45355 | C10: ='2024'!V6 -> 45356 | D10: ='2024'!W6 -> 45357 | E10: ='2024'!X6 -> 45358 | F10: ='2024'!Y6 -> 45359 | G10: ='2024'!Z6 -> 45360 | H10: ='2024'!AA6 -> 45361
B15: ='2024'!U7 -> 45362 | C15: ='2024'!V7 -> 45363 | D15: ='2024'!W7 -> 45364 | E15: ='2024'!X7 -> 45365 | F15: ='2024'!Y7 -> 45366 | G15: ='2024'!Z7 -> 45367 | H15: ='2024'!AA7 -> 45368
B20: ='2024'!U8 -> 45369 | C20: ='2024'!V8 -> 45370 | D20: ='2024'!W8 -> 45371 | E20: ='2024'!X8 -> 45372 | F20: ='2024'!Y8 -> 45373 | G20: ='2024'!Z8 -> 45374 | H20: ='2024'!AA8 -> 45375
B25: ='2024'!U9 -> 45376 | C25: ='2024'!V9 -> 45377 | D25: ='2024'!W9 -> 45378 | E25: ='2024'!X9 -> 45379 | F25: ='2024'!Y9 -> 45380 | G25: ='2024'!Z9 -> 45381 | H25: ='2024'!AA9 -> 45382

Sheet Avr
B2: 45383
J3: Liste de choses à faire :
B4: Lundi | C4: Mardi | D4: Mercredi | E4: Jeudi | F4: Vendredi | G4: Samedi | H4: Dimanche
B5: ='2024'!C13 -> 45383 | C5: ='2024'!D13 -> 45384 | D5: ='2024'!E13 -> 45385 | E5: ='2024'!F13 -> 45386 | F5: ='2024'!G13 -> 45387 | G5: ='2024'!H13 -> 45388 | H5: ='2024'!I13 -> 45389
B6: Férié
B10: ='2024'!C14 -> 45390 | C10: ='2024'!D14 -> 45391 | D10: ='2024'!E14 -> 45392 | E10: ='2024'!F14 -> 45393 | F10: ='2024'!G14 -> 45394 | G10: ='2024'!H14 -> 45395 | H10: ='2024'!I14 -> 45396
B15: ='2024'!C15 -> 45397 | C15: ='2024'!D15 -> 45398 | D15: ='2024'!E15 -> 45399 | E15: ='2024'!F15 -> 45400 | F15: ='2024'!G15 -> 45401 | G15: ='2024'!H15 -> 45402 | H15: ='2024'!I15 -> 45403
B20: ='2024'!C16 -> 45404 | C20: ='2024'!D16 -> 45405 | D20: ='2024'!E16 -> 45406 | E20: ='2024'!F16 -> 45407 | F20: ='2024'!G16 -> 45408 | G20: ='2024'!H16 -> 45409 | H20: ='2024'!I16 -> 45410
B25: ='2024'!C17 -> 45411 | C25: ='2024'!D17 -> 45412

Sheet Mai
B2: 45413
J3: Liste de choses à faire :
B4: Lundi | C4: Mardi | D4: Mercredi | E4: Jeudi | F4: Vendredi | G4: Samedi | H4: Dimanche
D5: ='2024'!N13 -> 45413 | E5: ='2024'!O13 -> 45414 | F5: ='2024'!P13 -> 45415 | G5: ='2024'!Q13 -> 45416 | H5: ='2024'!R13 -> 45417
D6: Férié
B10: ='2024'!L14 -> 45418 | C10: ='2024'!M14 -> 45419 | D10: ='2024'!N14 -> 45420 | E10: ='2024'!O14 -> 45421 | F10: ='2024'!P14 -> 45422 | G10: ='2024'!Q14 -> 45423 | H10: ='2024'!R14 -> 45424
D11: Férié | E11: Férié
B15: ='2024'!L15 -> 45425 | C15: ='2024'!M15 -> 45426 | D15: ='2024'!N15 -> 45427 | E15: ='2024'!O15 -> 45428 | F15: ='2024'!P15 -> 45429 | G15: ='2024'!Q15 -> 45430 | H15: ='2024'!R15 -> 45431
B20: ='2024'!L16 -> 45432 | C20: ='2024'!M16 -> 45433 | D20: ='2024'!N16 -> 45434 | E20: ='2024'!O16 -> 45435 | F20: ='2024'!P16 -> 45436 | G20: ='2024'!Q16 -> 45437 | H20: ='2024'!R16 -> 45438
B21: Férié
B25: ='2024'!L17 -> 45439 | C25: ='2024'!M17 -> 45440 | D25: ='2024'!N17 -> 45441 | E25: ='2024'!O17 -> 45442 | F25: ='2024'!P17 -> 45443

Sheet Juin
B2: 45444
J3: Liste de choses à faire :
B4: Lundi | C4: Mardi | D4: Mercredi | E4: Jeudi | F4: Vendredi | G4: Samedi | H4: Dimanche
G5: ='2024'!Z13 -> 45444 | H5: ='2024'!AA13 -> 45445
B10: ='2024'!U14 -> 45446 | C10: ='2024'!V14 -> 45447 | D10: ='2024'!W14 -> 45448 | E10: ='2024'!X14 -> 45449 | F10: ='2024'!Y14 -> 45450 | G10: ='2024'!Z14 -> 45451 | H10: ='2024'!AA14 -> 45452
B15: ='2024'!U15 -> 45453 | C15: ='2024'!V15 -> 45454 | D15: ='2024'!W15 -> 45455 | E15: ='2024'!X15 -> 45456 | F15: ='2024'!Y15 -> 45457 | G15: ='2024'!Z15 -> 45458 | H15: ='2024'!AA15 -> 45459
B20: ='2024'!U16 -> 45460 | C20: ='2024'!V16 -> 45461 | D20: ='2024'!W16 -> 45462 | E20: ='2024'!X16 -> 45463 | F20: ='2024'!Y16 -> 45464 | G20: ='2024'!Z16 -> 45465 | H20: ='2024'!AA16 -> 45466
B25: ='2024'!U17 -> 45467 | C25: ='2024'!V17 -> 45468 | D25: ='2024'!W17 -> 45469 | E25: ='2024'!X17 -> 45470 | F25: ='2024'!Y17 -> 45471 | G25: ='2024'!Z17 -> 45472 | H25: ='2024'!AA17 -> 45473

Sheet Juil
B2: 45474
J3: Liste de choses à faire :
B4: Lundi | C4: Mardi | D4: Mercredi | E4: Jeudi | F4: Vendredi | G4: Samedi | H4: Dimanche
B5: ='2024'!C21 -> 45474 | C5: ='2024'!D21 -> 45475 | D5: ='2024'!E21 -> 45476 | E5: ='2024'!F21 -> 45477 | F5: ='2024'!G21 -> 45478 | G5: ='2024'!H21 -> 45479 | H5: ='2024'!I21 -> 45480
B10: ='2024'!C22 -> 45481 | C10: ='2024'!D22 -> 45482 | D10: ='2024'!E22 -> 45483 | E10: ='2024'!F22 -> 45484 | F10: ='2024'!G22 -> 45485 | G10: ='2024'!H22 -> 45486 | H10: ='2024'!I22 -> 45487
H11: Férié
B15: ='2024'!C23 -> 45488 | C15: ='2024'!D23 -> 45489 | D15: ='2024'!E23 -> 45490 | E15: ='2024'!F23 -> 45491 | F15: ='2024'!G23 -> 45492 | G15: ='2024'!H23 -> 45493 | H15: ='2024'!I23 -> 45494
B20: ='2024'!C24 -> 45495 | C20: ='2024'!D24 -> 45496 | D20: ='2024'!E24 -> 45497 | E20: ='2024'!F24 -> 45498 | F20: ='2024'!G24 -> 45499 | G20: ='2024'!H24 -> 45500 | H20: ='2024'!I24 -> 45501
B25: ='2024'!C25 -> 45502 | C25: ='2024'!D25 -> 45503 | D25: ='2024'!E25 -> 45504

Sheet Août
B2: 45505
J3: Liste de choses à faire :
B4: Lundi | C4: Mardi | D4: Mercredi | E4: Jeudi | F4: Vendredi | G4: Samedi | H4: Dimanche
E5: ='2024'!O21 -> 45505 | F5: ='2024'!P21 -> 45506 | G5: ='2024'!Q21 -> 45507 | H5: ='2024'!R21 -> 45508
B10: ='2024'!L22 -> 45509 | C10: ='2024'!M22 -> 45510 | D10: ='2024'!N22 -> 45511 | E10: ='2024'!O22 -> 45512 | F10: ='2024'!P22 -> 45513 | G10: ='2024'!Q22 -> 45514 | H10: ='2024'!R22 -> 45515
B15: ='2024'!L23 -> 45516 | C15: ='2024'!M23 -> 45517 | D15: ='2024'!N23 -> 45518 | E15: ='2024'!O23 -> 45519 | F15: ='2024'!P23 -> 45520 | G15: ='2024'!Q23 -> 45521 | H15: ='2024'!R23 -> 45522
E16: Férié
B20: ='2024'!L24 -> 45523 | C20: ='2024'!M24 -> 45524 | D20: ='2024'!N24 -> 45525 | E20: ='2024'!O24 -> 45526 | F20: ='2024'!P24 -> 45527 | G20: ='2024'!Q24 -> 45528 | H20: ='2024'!R24 -> 45529
B25: ='2024'!L25 -> 45530 | C25: ='2024'!M25 -> 45531 | D25: ='2024'!N25 -> 45532 | E25: ='2024'!O25 -> 45533 | F25: ='2024'!P25 -> 45534 | G25: ='2024'!Q25 -> 45535

Sheet Sept
B2: 45536
J3: Liste de choses à faire :
B4: Lundi | C4: Mardi | D4: Mercredi | E4: Jeudi | F4: Vendredi | G4: Samedi | H4: Dimanche
H5: ='2024'!AA21 -> 45536
B10: ='2024'!U22 -> 45537 | C10: ='2024'!V22 -> 45538 | D10: ='2024'!W22 -> 45539 | E10: ='2024'!X22 -> 45540 | F10: ='2024'!Y22 -> 45541 | G10: ='2024'!Z22 -> 45542 | H10: ='2024'!AA22 -> 45543
B15: ='2024'!U23 -> 45544 | C15: ='2024'!V23 -> 45545 | D15: ='2024'!W23 -> 45546 | E15: ='2024'!X23 -> 45547 | F15: ='2024'!Y23 -> 45548 | G15: ='2024'!Z23 -> 45549 | H15: ='2024'!AA23 -> 45550
B20: ='2024'!U24 -> 45551 | C20: ='2024'!V24 -> 45552 | D20: ='2024'!W24 -> 45553 | E20: ='2024'!X24 -> 45554 | F20: ='2024'!Y24 -> 45555 | G20: ='2024'!Z24 -> 45556 | H20: ='2024'!AA24 -> 45557
B25: ='2024'!U25 -> 45558 | C25: ='2024'!V25 -> 45559 | D25: ='2024'!W25 -> 45560 | E25: ='2024'!X25 -> 45561 | F25: ='2024'!Y25 -> 45562 | G25: ='2024'!Z25 -> 45563 | H25: ='2024'!AA25 -> 45564
B30: ='2024'!U26 -> 45565

Sheet Oct
B2: 45566
J3: Liste de choses à faire :
B4: Lundi | C4: Mardi | D4: Mercredi | E4: Jeudi | F4: Vendredi | G4: Samedi | H4: Dimanche
C5: ='2024'!D30 -> 45566 | D5: ='2024'!E30 -> 45567 | E5: ='2024'!F30 -> 45568 | F5: ='2024'!G30 -> 45569 | G5: ='2024'!H30 -> 45570 | H5: ='2024'!I30 -> 45571
B10: ='2024'!C31 -> 45572 | C10: ='2024'!D31 -> 45573 | D10: ='2024'!E31 -> 45574 | E10: ='2024'!F31 -> 45575 | F10: ='2024'!G31 -> 45576 | G10: ='2024'!H31 -> 45577 | H10: ='2024'!I31 -> 45578
B15: ='2024'!C32 -> 45579 | C15: ='2024'!D32 -> 45576 | D15: ='2024'!E32 -> 45573 | E15: ='2024'!F32 -> 45570 | F15: ='2024'!G32 -> 45567 | G15: ='2024'!H32 -> 45564 | H15: ='2024'!I32 -> 45561
B20: ='2024'!C33 -> 45586 | C20: ='2024'!D33 -> 45587 | D20: ='2024'!E33 -> 45588 | E20: ='2024'!F33 -> 45589 | F20: ='2024'!G33 -> 45590 | G20: ='2024'!H33 -> 45591 | H20: ='2024'!I33 -> 45592
B25: ='2024'!C34 -> 45593 | C25: ='2024'!D34 -> 45594 | D25: ='2024'!E34 -> 45595 | E25: ='2024'!F34 -> 45596

Sheet Nov
B2: 45597
J3: Liste de choses à faire :
B4: Lundi | C4: Mardi | D4: Mercredi | E4: Jeudi | F4: Vendredi | G4: Samedi | H4: Dimanche
F5: ='2024'!P30 -> 45597 | G5: ='2024'!Q30 -> 45598 | H5: ='2024'!R30 -> 45599
F6: Férié
B10: ='2024'!L31 -> 45600 | C10: ='2024'!M31 -> 45601 | D10: ='2024'!N31 -> 45602 | E10: ='2024'!O31 -> 45603 | F10: ='2024'!P31 -> 45604 | G10: ='2024'!Q31 -> 45605 | H10: ='2024'!R31 -> 45606
B15: ='2024'!L32 -> 45607 | C15: ='2024'!M32 -> 45608 | D15: ='2024'!N32 -> 45609 | E15: ='2024'!O32 -> 45610 | F15: ='2024'!P32 -> 45611 | G15: ='2024'!Q32 -> 45612 | H15: ='2024'!R32 -> 45613
B16: Férié
B20: ='2024'!L33 -> 45614 | C20: ='2024'!M33 -> 45615 | D20: ='2024'!N33 -> 45616 | E20: ='2024'!O33 -> 45617 | F20: ='2024'!P33 -> 45618 | G20: ='2024'!Q33 -> 45619 | H20: ='2024'!R33 -> 45620
B25: ='2024'!L34 -> 45621 | C25: ='2024'!M34 -> 45622 | D25: ='2024'!N34 -> 45623 | E25: ='2024'!O34 -> 45624 | F25: ='2024'!P34 -> 45625 | G25: ='2024'!Q34 -> 45626

Sheet Déc
B2: 45627
J3: Liste de choses à faire :
B4: Lundi | C4: Mardi | D4: Mercredi | E4: Jeudi | F4: Vendredi | G4: Samedi | H4: Dimanche
H5: ='2024'!AA30 -> 45627
B10: ='2024'!U31 -> 45628 | C10: ='2024'!V31 -> 45629 | D10: ='2024'!W31 -> 45630 | E10: ='2024'!X31 -> 45631 | F10: ='2024'!Y31 -> 45632 | G10: ='2024'!Z31 -> 45633 | H10: ='2024'!AA31 -> 45634
B15: ='2024'!U32 -> 45635 | C15: ='2024'!V32 -> 45636 | D15: ='2024'!W32 -> 45637 | E15: ='2024'!X32 -> 45638 | F15: ='2024'!Y32 -> 45639 | G15: ='2024'!Z32 -> 45640 | H15: ='2024'!AA32 -> 45641
B20: ='2024'!U33 -> 45642 | C20: ='2024'!V33 -> 45643 | D20: ='2024'!W33 -> 45644 | E20: ='2024'!X33 -> 45645 | F20: ='2024'!Y33 -> 45646 | G20: ='2024'!Z33 -> 45647 | H20: ='2024'!AA33 -> 45648
B25: ='2024'!U34 -> 45649 | C25: ='2024'!V34 -> 45650 | D25: ='2024'!W34 -> 45651 | E25: ='2024'!X34 -> 45652 | F25: ='2024'!Y34 -> 45653 | G25: ='2024'!Z34 -> 45654 | H25: ='2024'!AA34 -> 45655
D26: Férié
B30: ='2024'!U35 -> 45656 | C30: ='2024'!V35 -> 45657
