Workbook

Sheet Feuil1
B1: 1 | C1: 2 | D1: 3 | E1: 4 | F1: 5
B2: =VLOOKUP(B1,'recherche V'!$A$1:$C$8,2) -> Congés | C2: =VLOOKUP(C1,'recherche V'!$A$1:$C$8,2) -> Horaire 1 | D2: =VLOOKUP(D1,'recherche V'!$A$1:$C$8,2) -> Horaire 2 | E2: =VLOOKUP(E1,'recherche V'!$A$1:$C$8,2) -> Horaire 3 | F2: =VLOOKUP(F1,'recherche V'!$A$1:$C$8,2) -> Horaire 4
A3: 1 | B3: =VLOOKUP(B1,'recherche V'!$A$1:$C$8,3) -> 7.6 | C3: =VLOOKUP(C1,'recherche V'!$A$1:$C$8,3) -> 7.6 | D3: =VLOOKUP(D1,'recherche V'!$A$1:$C$8,3) -> 5.7 | E3: =VLOOKUP(E1,'recherche V'!$A$1:$C$8,3) -> 3.8 | F3: =VLOOKUP(F1,'recherche V'!$A$1:$C$8,3) -> 6.08
B4: 1 | C4: 2 | D4: 3 | E4: 4 | F4: 5
B5: =VLOOKUP(B4,'recherche V'!$A$1:$C$8,2) -> Congés | C5: =VLOOKUP(C4,'recherche V'!$A$1:$C$8,2) -> Horaire 1 | D5: =VLOOKUP(D4,'recherche V'!$A$1:$C$8,2) -> Horaire 2 | E5: =VLOOKUP(E4,'recherche V'!$A$1:$C$8,2) -> Horaire 3 | F5: =VLOOKUP(F4,'recherche V'!$A$1:$C$8,2) -> Horaire 4
A6: 0.5 | B6: 3.8 | C6: =VLOOKUP(C4,'recherche V'!$A$1:$C$8,3) -> 7.6 | D6: =VLOOKUP(D4,'recherche V'!$A$1:$C$8,3) -> 5.7 | E6: =VLOOKUP(E4,'recherche V'!$A$1:$C$8,3) -> 3.8 | F6: =VLOOKUP(F4,'recherche V'!$A$1:$C$8,3) -> 6.08
C9: Lundi | D9: Mardi | E9: Mercredi | F9: Jeudi | G9: Vendredi | H9: Samedi | I9: Dimanche
A10: Horaire de X | C10: 1 | D10: 4 | E10: 4 | F10: 4 | G10: 4
C11: =VLOOKUP(C10,'recherche V'!$A$1:$C$8,2) -> Congés | D11: =VLOOKUP(D10,'recherche V'!$A$1:$C$8,2) -> Horaire 3 | E11: =VLOOKUP(E10,'recherche V'!$A$1:$C$8,2) -> Horaire 3 | F11: =VLOOKUP(F10,'recherche V'!$A$1:$C$8,2) -> Horaire 3 | G11: =VLOOKUP(G10,'recherche V'!$A$1:$C$8,2) -> Horaire 3 | H11: Repos | I11: Repos
A12: 0.5 | C12: =VLOOKUP(C10,'recherche V'!$A$1:$C$8,3) -> 7.6 | D12: =VLOOKUP(D10,'recherche V'!$A$1:$C$8,3) -> 3.8 | E12: =VLOOKUP(E10,'recherche V'!$A$1:$C$8,3) -> 3.8 | F12: =VLOOKUP(F10,'recherche V'!$A$1:$C$8,3) -> 3.8 | G12: =VLOOKUP(G10,'recherche V'!$A$1:$C$8,3) -> 3.8 | H12: 0 | I12: 0
C13: 3.8
C15: Lundi | D15: Mardi | E15: Mercredi | F15: Jeudi | G15: Vendredi | H15: Samedi | I15: Dimanche
A16: Horaire de y | C16: 5 | D16: 5 | E16: 1 | F16: 5 | G16: 5
C17: =VLOOKUP(C16,'recherche V'!$A$1:$C$8,2) -> Horaire 4 | D17: =VLOOKUP(D16,'recherche V'!$A$1:$C$8,2) -> Horaire 4 | E17: =VLOOKUP(E16,'recherche V'!$A$1:$C$8,2) -> Congés | F17: =VLOOKUP(F16,'recherche V'!$A$1:$C$8,2) -> Horaire 4 | G17: =VLOOKUP(G16,'recherche V'!$A$1:$C$8,2) -> Horaire 4 | H17: Repos | I17: Repos
A18: 0.8 | C18: =VLOOKUP(C16,'recherche V'!$A$1:$C$8,3) -> 6.08 | D18: =VLOOKUP(D16,'recherche V'!$A$1:$C$8,3) -> 6.08 | E18: =VLOOKUP(E16,'recherche V'!$A$1:$C$8,3) -> 7.6 | F18: =VLOOKUP(F16,'recherche V'!$A$1:$C$8,3) -> 6.08 | G18: =VLOOKUP(G16,'recherche V'!$A$1:$C$8,3) -> 6.08 | H18: 0 | I18: 0
E19: 6.08

Sheet recherche V
A1: 1 | B1: Congés | C1: 7.6
A2: 2 | B2: Horaire 1 | C2: 7.6
A3: 3 | B3: Horaire 2 | C3: 5.7
A4: 4 | B4: Horaire 3 | C4: 3.8
A5: 5 | B5: Horaire 4 | C5: 6.08
A6: 6 | B6: Horaire 5 | C6: 7.6
A7: 7 | B7: Horaire 6 | C7: 4.05
A8: 8 | B8: Horaire 7 | C8: 7.6
