Workbook

Sheet Du 24 juin au 28 juillet
A1: FIN DE PERIODE PRECEDENTE | G1: SERVICE OU UNITÉ | O1: JJ | Z1: PÉRIODE DU 24 JUIN AU 28 JUILLET 2024 | AP1: SOLDE FIN DE PÉRIODE | AV1: VALIDATION GRILLE PAR LES PROFESSIONNELS EN FIN DE CYCLE
A2: CP | B2: CA | C2: CT | D2: solde d’heure | E2: Noms des professionnels | G2: L | H2: M | I2: M | J2: J | K2: V | L2: S | M2: D | N2: L | O2: M | P2: M | Q2: J | R2: V | S2: S | T2: D | U2: L | V2: M | W2: M | X2: J | Y2: V | Z2: S | AA2: D | AB2: L | AC2: M | AD2: M | AE2: J | AF2: V | AG2: S | AH2: D | AI2: L | AJ2: M | AK2: M | AL2: J | AM2: V | AN2: S | AO2: D | AP2: Total | AQ2: CP | AR2: CA | AS2: CT | AT2: RH | AU2: solde d’heure
G3: 24 | H3: 25 | I3: 26 | J3: 27 | K3: 28 | L3: 29 | M3: 30 | N3: 1 | O3: 2 | P3: 3 | Q3: 4 | R3: 5 | S3: 6 | T3: 7 | U3: 8 | V3: 9 | W3: 10 | X3: 11 | Y3: 12 | Z3: 13 | AA3: 14 | AB3: 15 | AC3: 16 | AD3: 17 | AE3: 18 | AF3: 19 | AG3: 20 | AH3: 21 | AI3: 22 | AJ3: 23 | AK3: 24 | AL3: 25 | AM3: 26 | AN3: 27 | AO3: 28
A4: 0 | B4: 0 | C4: 0 | D4: 0 | E4: AA | F4: début | G4: 0.29166667 | I4: 0.29166667 | L4: 0.33333333 | M4: 0.33333333 | V4: 0.29166667 | AD4: 0.375 | AL4: 0.29166667 | AM4: 0.29166667 | AP4: =G11+N11+U11+AB11+AI11 -> 7.3541667 | AQ4: =A4-(COUNTIF(G8:AO8,"CP")) -> -1 | AR4: =B4-(COUNTIF(G8:AO8,"CA")) -> -1 | AS4: =C4-(COUNTIF(G8:AO8,"CT")) -> -1 | AT4: =10-(COUNTIF(G8:AO8,"RH")) -> 0 | AU4: =D4+AP4-AP10 -> 0.0625
F5: Fin | G5: 0.59375 | I5: 0.59375 | L5: 0.70833333 | M5: 0.58333333 | V5: 0.70833333 | AD5: 0.75 | AL5: 0.59375 | AM5: 0.59375
E6: AA | F6: début | H6: 0.5625 | O6: 0.5625 | P6: 0.5625 | S6: 0.5 | T6: 0.5 | W6: 0.54166667 | X6: 0.58333333 | Y6: 0.58333333 | AB6: 0.58333333 | AC6: 0.5625 | AE6: 0.58333333 | AF6: 0.58333333 | AI6: 0.58333333 | AJ6: 0.5625
F7: Fin | H7: 0.83333333 | O7: 0.91666667 | P7: 0.91666667 | S7: 0.91666667 | T7: 0.91666667 | W7: 0.91666667 | X7: 0.91666667 | Y7: 0.91666667 | AB7: 0.91666667 | AC7: 0.75 | AE7: 0.91666667 | AF7: 0.91666667 | AI7: 0.91666667 | AJ7: 0.91666667
J8: RH | K8: RH | Q8: RH | R8: RH | V8: CP | W8: CA | X8: CT | Z8: RH | AA8: RH | AG8: RH | AH8: RH | AN8: RH | AO8: RH
G9: Contre poste, congés et formation | L9: 0 | N9: Contre poste, congés et formation | S9: 0 | U9: Contre poste, congés et formation | Z9: 0 | AB9: Contre poste, congés et formation | AG9: 0 | AI9: Contre poste, congés et formation | AN9: 0 | AP9: HEURES A REALISER SUR LA PERIODE
E10: Temps de travail | G10: =G5-G4+G7-G6 -> 0.30208333 | H10: =H5-H4+H7-H6 -> 0.27083333 | I10: =I5-I4+I7-I6 -> 0.30208333 | J10: =J5-J4+J7-J6 -> 0 | K10: =K5-K4+K7-K6 -> 0 | L10: =L5-L4+L7-L6 -> 0.375 | M10: =M5-M4+M7-M6 -> 0.25 | N10: =N5-N4+N7-N6 -> 0 | ... AO10: =AO5-AO4+AO7-AO6 -> 0 | AP10: 7.2916667
G11: =G10+H10+I10+J10+K10+L10+M10+L9 -> 1.5 | N11: =N10+O10+P10+Q10+R10+S10+T10+S9 -> 1.5416667 | U11: =U10+V10+W10+X10+Y10+Z10+AA10+Z9 -> 1.4583333 | AB11: =AB10+AC10+AD10+AE10+AF10+AG10+AH10+AG9 -> 1.5625 | AI11: =AI10+AJ10+AK10+AL10+AM10+AN10+AO10+AN9 -> 1.2916667
A12: 0 | B12: 0 | C12: 0 | D12: 0 | E12: BB | F12: début | O12: 0.29166667 | W12: 0.375 | AE12: 0.29166667 | AF12: 0.29166667 | AI12: 0.29166667 | AK12: 0.29166667 | AN12: 0.33333333 | AO12: 0.33333333 | AP12: =G19+N19+U19+AB19+AI19 -> 7.34375 | AQ12: =A12-(COUNTIF(G16:AO16,"CP")) -> 0 | AR12: =B12-(COUNTIF(G16:AO16,"CA")) -> 0 | AS12: =C12-(COUNTIF(G16:AO16,"CT")) -> 0 | AT12: =10-(COUNTIF(G16:AO16,"RH")) -> 0 | AU12: =D12+AP12-AP18 -> 0.052083333
F13: Fin | O13: 0.70833333 | W13: 0.75 | AE13: 0.58333333 | AF13: 0.59375 | AI13: 0.59375 | AK13: 0.59375 | AN13: 0.70833333 | AO13: 0.58333333
E14: BB | F14: début | H14: 0.5625 | I14: 0.5625 | L14: 0.5 | M14: 0.5 | P14: 0.54166667 | Q14: 0.58333333 | R14: 0.58333333 | U14: 0.58333333 | V14: 0.5625 | X14: 0.58333333 | Y14: 0.58333333 | AB14: 0.58333333 | AC14: 0.5625 | AJ14: 0.5625
F15: Fin | H15: 0.91666667 | I15: 0.91666667 | L15: 0.91666667 | M15: 0.91666667 | P15: 0.91666667 | Q15: 0.91666667 | R15: 0.91666667 | U15: 0.91666667 | V15: 0.75 | X15: 0.91666667 | Y15: 0.91666667 | AB15: 0.91666667 | AC15: 0.91666667 | AJ15: 0.83333333
J16: RH | K16: RH | S16: RH | T16: RH | Z16: RH | AA16: RH | AG16: RH | AH16: RH | AL16: RH | AM16: RH
G17: Contre poste, congés et formation | L17: 0 | N17: Contre poste, congés et formation | S17: 0 | U17: Contre poste, congés et formation | Z17: 0 | AB17: Contre poste, congés et formation | AG17: 0 | AI17: Contre poste, congés et formation | AN17: 0 | AP17: HEURES A REALISER SUR LA PERIODE
E18: Temps de travail | G18: =G13-G12+G15-G14 -> 0 | H18: =H13-H12+H15-H14 -> 0.35416667 | I18: =I13-I12+I15-I14 -> 0.35416667 | J18: =J13-J12+J15-J14 -> 0 | K18: =K13-K12+K15-K14 -> 0 | L18: =L13-L12+L15-L14 -> 0.41666667 | M18: =M13-M12+M15-M14 -> 0.41666667 | N18: =N13-N12+N15-N14 -> 0 | ... AO18: =AO13-AO12+AO15-AO14 -> 0.25 | AP18: 7.2916667
G19: =G18+H18+I18+J18+K18+L18+M18+L17 -> 1.5416667 | N19: =N18+O18+P18+Q18+R18+S18+T18+S17 -> 1.4583333 | U19: =U18+V18+W18+X18+Y18+Z18+AA18+Z17 -> 1.5625 | AB19: =AB18+AC18+AD18+AE18+AF18+AG18+AH18+AG17 -> 1.28125 | AI19: =AI18+AJ18+AK18+AL18+AM18+AN18+AO18+AN17 -> 1.5
A20: 0 | B20: 0 | C20: 0 | D20: 0 | E20: CC | F20: début | H20: 0.29166667 | P20: 0.375 | X20: 0.29166667 | Y20: 0.29166667 | AB20: 0.29166667 | AD20: 0.29166667 | AG20: 0.33333333 | AH20: 0.33333333 | AP20: =G27+N27+U27+AB27+AI27 -> 7.3541667 | AQ20: =A20-(COUNTIF(G24:AO24,"CP")) -> 0 | AR20: =B20-(COUNTIF(G24:AO24,"CA")) -> 0 | AS20: =C20-(COUNTIF(G24:AO24,"CT")) -> 0 | AT20: =10-(COUNTIF(G24:AO24,"RH")) -> 0 | AU20: =D20+AP20-AP26 -> 0.0625
F21: Fin | H21: 0.70833333 | P21: 0.75 | X21: 0.59375 | Y21: 0.59375 | AB21: 0.59375 | AD21: 0.59375 | AG21: 0.70833333 | AH21: 0.58333333
E22: CC | F22: début | I22: 0.54166667 | J22: 0.58333333 | K22: 0.58333333 | N22: 0.58333333 | O22: 0.5625 | Q22: 0.58333333 | R22: 0.58333333 | U22: 0.58333333 | V22: 0.5625 | AC22: 0.5625 | AJ22: 0.5625 | AK22: 0.5625 | AN22: 0.5 | AO22: 0.5
F23: Fin | I23: 0.91666667 | J23: 0.91666667 | K23: 0.91666667 | N23: 0.91666667 | O23: 0.75 | Q23: 0.91666667 | R23: 0.91666667 | U23: 0.91666667 | V23: 0.91666667 | AC23: 0.83333333 | AJ23: 0.91666667 | AK23: 0.91666667 | AN23: 0.91666667 | AO23: 0.91666667
L24: RH | M24: RH | S24: RH | T24: RH | Z24: RH | AA24: RH | AE24: RH | AF24: RH | AL24: RH | AM24: RH
G25: Contre poste, congés et formation | L25: 0 | N25: Contre poste, congés et formation | S25: 0 | U25: Contre poste, congés et formation | Z25: 0 | AB25: Contre poste, congés et formation | AG25: 0 | AI25: Contre poste, congés et formation | AN25: 0 | AP25: HEURES A REALISER SUR LA PERIODE
E26: Temps de travail | G26: =G21-G20+G23-G22 -> 0 | H26: =H21-H20+H23-H22 -> 0.41666667 | I26: =I21-I20+I23-I22 -> 0.375 | J26: =J21-J20+J23-J22 -> 0.33333333 | K26: =K21-K20+K23-K22 -> 0.33333333 | L26: =L21-L20+L23-L22 -> 0 | M26: =M21-M20+M23-M22 -> 0 | N26: =N21-N20+N23-N22 -> 0.33333333 | ... AO26: =AO21-AO20+AO23-AO22 -> 0.41666667 | AP26: 7.2916667
G27: =G26+H26+I26+J26+K26+L26+M26+L25 -> 1.4583333 | N27: =N26+O26+P26+Q26+R26+S26+T26+S25 -> 1.5625 | U27: =U26+V26+W26+X26+Y26+Z26+AA26+Z25 -> 1.2916667 | AB27: =AB26+AC26+AD26+AE26+AF26+AG26+AH26+AG25 -> 1.5 | AI27: =AI26+AJ26+AK26+AL26+AM26+AN26+AO26+AN25 -> 1.5416667
A28: 0 | B28: 0 | C28: 0 | D28: 0 | E28: DD | F28: début | I28: 0.375 | Q28: 0.29166667 | R28: 0.29166667 | U28: 0.29166667 | W28: 0.29166667 | Z28: 0.33333333 | AA28: 0.33333333 | AJ28: 0.29166667 | AP28: =G35+N35+U35+AB35+AI35 -> 7.3541667 | AQ28: =A28-(COUNTIF(G32:AO32,"CP")) -> 0 | AR28: =B28-(COUNTIF(G32:AO32,"CA")) -> 0 | AS28: =C28-(COUNTIF(G32:AO32,"CT")) -> 0 | AT28: =10-(COUNTIF(G32:AO32,"RH")) -> 0 | AU28: =D28+AP28-AP34 -> 0.0625
F29: Fin | I29: 0.75 | Q29: 0.59375 | R29: 0.59375 | U29: 0.59375 | W29: 0.59375 | Z29: 0.70833333 | AA29: 0.58333333 | AJ29: 0.70833333
E30: DD | F30: début | G30: 0.58333333 | H30: 0.5625 | J30: 0.58333333 | K30: 0.58333333 | N30: 0.58333333 | O30: 0.5625 | V30: 0.5625 | AC30: 0.5625 | AD30: 0.5625 | AG30: 0.5 | AH30: 0.5 | AK30: 0.54166667 | AL30: 0.58333333 | AM30: 0.58333333
F31: Fin | G31: 0.91666667 | H31: 0.75 | J31: 0.91666667 | K31: 0.91666667 | N31: 0.91666667 | O31: 0.91666667 | V31: 0.83333333 | AC31: 0.91666667 | AD31: 0.91666667 | AG31: 0.91666667 | AH31: 0.91666667 | AK31: 0.91666667 | AL31: 0.91666667 | AM31: 0.91666667
L32: RH | M32: RH | S32: RH | T32: RH | X32: RH | Y32: RH | AE32: RH | AF32: RH | AN32: RH | AO32: RH
G33: Contre poste, congés et formation | L33: 0 | N33: Contre poste, congés et formation | S33: 0 | U33: Contre poste, congés et formation | Z33: 0 | AB33: Contre poste, congés et formation | AG33: 0 | AI33: Contre poste, congés et formation | AN33: 0 | AP33: HEURES A REALISER SUR LA PERIODE
E34: Temps de travail | G34: =G29-G28+G31-G30 -> 0.33333333 | H34: =H29-H28+H31-H30 -> 0.1875 | I34: =I29-I28+I31-I30 -> 0.375 | J34: =J29-J28+J31-J30 -> 0.33333333 | K34: =K29-K28+K31-K30 -> 0.33333333 | L34: =L29-L28+L31-L30 -> 0 | M34: =M29-M28+M31-M30 -> 0 | N34: =N29-N28+N31-N30 -> 0.33333333 | ... AO34: =AO29-AO28+AO31-AO30 -> 0 | AP34: 7.2916667
G35: =G34+H34+I34+J34+K34+L34+M34+L33 -> 1.5625 | N35: =N34+O34+P34+Q34+R34+S34+T34+S33 -> 1.2916667 | U35: =U34+V34+W34+X34+Y34+Z34+AA34+Z33 -> 1.5 | AB35: =AB34+AC34+AD34+AE34+AF34+AG34+AH34+AG33 -> 1.5416667 | AI35: =AI34+AJ34+AK34+AL34+AM34+AN34+AO34+AN33 -> 1.4583333
A36: 0 | B36: 0 | C36: 0 | D36: 0 | E36: EE | F36: début | J36: 0.29166667 | K36: 0.29166667 | N36: 0.29166667 | P36: 0.29166667 | S36: 0.33333333 | T36: 0.33333333 | AC36: 0.29166667 | AK36: 0.375 | AP36: =G43+N43+U43+AB43+AI43 -> 7.3541667 | AQ36: =A36-(COUNTIF(G40:AO40,"CP")) -> 0 | AR36: =B36-(COUNTIF(G40:AO40,"CA")) -> 0 | AS36: =C36-(COUNTIF(G40:AO40,"CT")) -> 0 | AT36: =10-(COUNTIF(G40:AO40,"RH")) -> 0 | AU36: =D36+AP36-AP42 -> 0.0625
F37: Fin | J37: 0.59375 | K37: 0.59375 | N37: 0.59375 | P37: 0.59375 | S37: 0.70833333 | T37: 0.58333333 | AC37: 0.70833333 | AK37: 0.75
E38: EE | F38: début | G38: 0.58333333 | H38: 0.5625 | O38: 0.5625 | V38: 0.5625 | W38: 0.5625 | Z38: 0.5 | AA38: 0.5 | AD38: 0.54166667 | AE38: 0.58333333 | AF38: 0.58333333 | AI38: 0.58333333 | AJ38: 0.5625 | AL38: 0.58333333 | AM38: 0.58333333
F39: Fin | G39: 0.91666667 | H39: 0.91666667 | O39: 0.83333333 | V39: 0.91666667 | W39: 0.91666667 | Z39: 0.91666667 | AA39: 0.91666667 | AD39: 0.91666667 | AE39: 0.91666667 | AF39: 0.91666667 | AI39: 0.91666667 | AJ39: 0.75 | AL39: 0.91666667 | AM39: 0.91666667
L40: RH | M40: RH | Q40: RH | R40: RH | X40: RH | Y40: RH | AG40: RH | AH40: RH | AN40: RH | AO40: RH
G41: Contre poste, congés et formation | L41: 0 | N41: Contre poste, congés et formation | S41: 0 | U41: Contre poste, congés et formation | Z41: 0 | AB41: Contre poste, congés et formation | AG41: 0 | AI41: Contre poste, congés et formation | AN41: 0 | AP41: HEURES A REALISER SUR LA PERIODE
E42: Temps de travail | G42: =G37-G36+G39-G38 -> 0.33333333 | H42: =H37-H36+H39-H38 -> 0.35416667 | I42: =I37-I36+I39-I38 -> 0 | J42: =J37-J36+J39-J38 -> 0.30208333 | K42: =K37-K36+K39-K38 -> 0.30208333 | L42: =L37-L36+L39-L38 -> 0 | M42: =M37-M36+M39-M38 -> 0 | N42: =N37-N36+N39-N38 -> 0.30208333 | ... AO42: =AO37-AO36+AO39-AO38 -> 0 | AP42: 7.2916667
G43: =G42+H42+I42+J42+K42+L42+M42+L41 -> 1.2916667 | N43: =N42+O42+P42+Q42+R42+S42+T42+S41 -> 1.5 | U43: =U42+V42+W42+X42+Y42+Z42+AA42+Z41 -> 1.5416667 | AB43: =AB42+AC42+AD42+AE42+AF42+AG42+AH42+AG41 -> 1.4583333 | AI43: =AI42+AJ42+AK42+AL42+AM42+AN42+AO42+AN41 -> 1.5625
A44: 0 | B44: 0 | C44: 0 | D44: 0 | E44: FF | F44: début | AP44: =G51+N51+U51+AB51+AI51 -> 0 | AQ44: =A44-(COUNTIF(G48:AO48,"CP")) -> 0 | AR44: =B44-(COUNTIF(G48:AO48,"CA")) -> 0 | AS44: =C44-(COUNTIF(G48:AO48,"CT")) -> 0 | AT44: =10-(COUNTIF(G48:AO48,"RH")) -> 10 | AU44: =D44+AP44-AP50 -> -7.2916667
F45: Fin
E46: FF | F46: début
F47: Fin
G49: Contre poste, congés et formation | L49: 0 | N49: Contre poste, congés et formation | S49: 0 | U49: Contre poste, congés et formation | Z49: 0 | AB49: Contre poste, congés et formation | AG49: 0 | AI49: Contre poste, congés et formation | AN49: 0 | AP49: HEURES A REALISER SUR LA PERIODE
E50: Temps de travail | G50: =G45-G44+G47-G46 -> 0 | H50: =H45-H44+H47-H46 -> 0 | I50: =I45-I44+I47-I46 -> 0 | J50: =J45-J44+J47-J46 -> 0 | K50: =K45-K44+K47-K46 -> 0 | L50: =L45-L44+L47-L46 -> 0 | M50: =M45-M44+M47-M46 -> 0 | N50: =N45-N44+N47-N46 -> 0 | ... AO50: =AO45-AO44+AO47-AO46 -> 0 | AP50: 7.2916667
G51: =G50+H50+I50+J50+K50+L50+M50+L49 -> 0 | N51: =N50+O50+P50+Q50+R50+S50+T50+S49 -> 0 | U51: =U50+V50+W50+X50+Y50+Z50+AA50+Z49 -> 0 | AB51: =AB50+AC50+AD50+AE50+AF50+AG50+AH50+AG49 -> 0 | AI51: =AI50+AJ50+AK50+AL50+AM50+AN50+AO50+AN49 -> 0
A52: 0 | B52: 0 | C52: 0 | D52: 0 | E52: GG | F52: début | AP52: =G59+N59+U59+AB59+AI59 -> 0 | AQ52: =A52-(COUNTIF(G56:AO56,"CP")) -> 0 | AR52: =B52-(COUNTIF(G56:AO56,"CA")) -> 0 | AS52: =C52-(COUNTIF(G56:AO56,"CT")) -> 0 | AT52: =10-(COUNTIF(G56:AO56,"RH")) -> 10 | AU52: =D52+AP52-AP58 -> -7.2916667
F53: Fin
E54: GG | F54: début
F55: Fin
G57: Contre poste, congés et formation | L57: 0 | N57: Contre poste, congés et formation | S57: 0 | U57: Contre poste, congés et formation | Z57: 0 | AB57: Contre poste, congés et formation | AG57: 0 | AI57: Contre poste, congés et formation | AN57: 0 | AP57: HEURES A REALISER SUR LA PERIODE
E58: Temps de travail | G58: =G53-G52+G55-G54 -> 0 | H58: =H53-H52+H55-H54 -> 0 | I58: =I53-I52+I55-I54 -> 0 | J58: =J53-J52+J55-J54 -> 0 | K58: =K53-K52+K55-K54 -> 0 | L58: =L53-L52+L55-L54 -> 0 | M58: =M53-M52+M55-M54 -> 0 | N58: =N53-N52+N55-N54 -> 0 | ... AO58: =AO53-AO52+AO55-AO54 -> 0 | AP58: 7.2916667
G59: =G58+H58+I58+J58+K58+L58+M58+L57 -> 0 | N59: =N58+O58+P58+Q58+R58+S58+T58+S57 -> 0 | U59: =U58+V58+W58+X58+Y58+Z58+AA58+Z57 -> 0 | AB59: =AB58+AC58+AD58+AE58+AF58+AG58+AH58+AG57 -> 0 | AI59: =AI58+AJ58+AK58+AL58+AM58+AN58+AO58+AN57 -> 0
A60: 0 | B60: 0 | C60: 0 | D60: 0 | E60: HH | F60: début | AP60: =G67+N67+U67+AB67+AI67 -> 0 | AQ60: =A60-(COUNTIF(G64:AO64,"CP")) -> 0 | AR60: =B60-(COUNTIF(G64:AO64,"CA")) -> 0 | AS60: =C60-(COUNTIF(G64:AO64,"CT")) -> 0 | AT60: =10-(COUNTIF(G64:AO64,"RH")) -> 10 | AU60: =D60+AP60-AP66 -> -7.2916667
F61: Fin
E62: HH | F62: début
F63: Fin
G65: Contre poste, congés et formation | L65: 0 | N65: Contre poste, congés et formation | S65: 0 | U65: Contre poste, congés et formation | Z65: 0 | AB65: Contre poste, congés et formation | AG65: 0 | AI65: Contre poste, congés et formation | AN65: 0 | AP65: HEURES A REALISER SUR LA PERIODE
E66: Temps de travail | G66: =G61-G60+G63-G62 -> 0 | H66: =H61-H60+H63-H62 -> 0 | I66: =I61-I60+I63-I62 -> 0 | J66: =J61-J60+J63-J62 -> 0 | K66: =K61-K60+K63-K62 -> 0 | L66: =L61-L60+L63-L62 -> 0 | M66: =M61-M60+M63-M62 -> 0 | N66: =N61-N60+N63-N62 -> 0 | ... AO66: =AO61-AO60+AO63-AO62 -> 0 | AP66: 7.2916667
G67: =G66+H66+I66+J66+K66+L66+M66+L65 -> 0 | N67: =N66+O66+P66+Q66+R66+S66+T66+S65 -> 0 | U67: =U66+V66+W66+X66+Y66+Z66+AA66+Z65 -> 0 | AB67: =AB66+AC66+AD66+AE66+AF66+AG66+AH66+AG65 -> 0 | AI67: =AI66+AJ66+AK66+AL66+AM66+AN66+AO66+AN65 -> 0
A68: 0 | B68: 0 | C68: 0 | D68: 0 | E68: II | F68: début | AP68: =G75+N75+U75+AB75+AI75 -> 0 | AQ68: =A68-(COUNTIF(G72:AO72,"CP")) -> 0 | AR68: =B68-(COUNTIF(G72:AO72,"CA")) -> 0 | AS68: =C68-(COUNTIF(G72:AO72,"CT")) -> 0 | AT68: =10-(COUNTIF(G72:AO72,"RH")) -> 10 | AU68: =D68+AP68-AP74 -> -7.2916667
F69: Fin
E70: II | F70: début
F71: Fin
G73: Contre poste, congés et formation | L73: 0 | N73: Contre poste, congés et formation | S73: 0 | U73: Contre poste, congés et formation | Z73: 0 | AB73: Contre poste, congés et formation | AG73: 0 | AI73: Contre poste, congés et formation | AN73: 0 | AP73: HEURES A REALISER SUR LA PERIODE
E74: Temps de travail | G74: =G69-G68+G71-G70 -> 0 | H74: =H69-H68+H71-H70 -> 0 | I74: =I69-I68+I71-I70 -> 0 | J74: =J69-J68+J71-J70 -> 0 | K74: =K69-K68+K71-K70 -> 0 | L74: =L69-L68+L71-L70 -> 0 | M74: =M69-M68+M71-M70 -> 0 | N74: =N69-N68+N71-N70 -> 0 | ... AO74: =AO69-AO68+AO71-AO70 -> 0 | AP74: 7.2916667
G75: =G74+H74+I74+J74+K74+L74+M74+L73 -> 0 | N75: =N74+O74+P74+Q74+R74+S74+T74+S73 -> 0 | U75: =U74+V74+W74+X74+Y74+Z74+AA74+Z73 -> 0 | AB75: =AB74+AC74+AD74+AE74+AF74+AG74+AH74+AG73 -> 0 | AI75: =AI74+AJ74+AK74+AL74+AM74+AN74+AO74+AN73 -> 0
A76: Planning réalisé le | H76: MAJ le | M76: Le/la chef(fe) de service éducatif | AB76: La direction | AP76: Page 1/2
G77: SERVICE OU UNITÉ | O77: =O1 -> JJ | Z77: PÉRIODE DU 5 JUIN AU 9 JUILLET 2023 | AP77: SOLDE FIN DE PÉRIODE | AV77: VALIDATION GRILLE PAR LES PROFESSIONNELS EN FIN DE CYCLE
A78: CP | B78: CA | C78: CT | D78: solde d’heure | E78: Noms des professionnels | G78: L | H78: M | I78: M | J78: J | K78: V | L78: S | M78: D | N78: L | O78: M | P78: M | Q78: J | R78: V | S78: S | T78: D | U78: L | V78: M | W78: M | X78: J | Y78: V | Z78: S | AA78: D | AB78: L | AC78: M | AD78: M | AE78: J | AF78: V | AG78: S | AH78: D | AI78: L | AJ78: M | AK78: M | AL78: J | AM78: V | AN78: S | AO78: D | AP78: Total | AQ78: CP | AR78: CA | AS78: CT | AT78: RH | AU78: solde d’heure
G79: 24 | H79: 25 | I79: 26 | J79: 27 | K79: 28 | L79: 29 | M79: 30 | N79: 1 | O79: 2 | P79: 3 | Q79: 4 | R79: 5 | S79: 6 | T79: 7 | U79: 8 | V79: 9 | W79: 10 | X79: 11 | Y79: 12 | Z79: 13 | AA79: 14 | AB79: 15 | AC79: 16 | AD79: 17 | AE79: 18 | AF79: 19 | AG79: 20 | AH79: 21 | AI79: 22 | AJ79: 23 | AK79: 24 | AL79: 25 | AM79: 26 | AN79: 27 | AO79: 28
A80: 0 | B80: 0 | C80: 0 | D80: 0 | E80: JJ | F80: début | AP80: =G87+N87+U87+AB87+AI87 -> 0 | AQ80: =A80-(COUNTIF(G84:AO84,"CP")) -> 0 | AR80: =B80-(COUNTIF(G84:AO84,"CA")) -> 0 | AS80: =C80-(COUNTIF(G84:AO84,"CT")) -> 0 | AT80: =10-(COUNTIF(G84:AO84,"RH")) -> 10 | AU80: =D80+AP80-AP86 -> -7.2916667
F81: Fin
E82: JJ | F82: début
F83: Fin
G85: Contre poste, congés et formation | L85: 0 | N85: Contre poste, congés et formation | S85: 0 | U85: Contre poste, congés et formation | Z85: 0 | AB85: Contre poste, congés et formation | AG85: 0 | AI85: Contre poste, congés et formation | AN85: 0 | AP85: HEURES A REALISER SUR LA PERIODE
E86: Temps de travail | G86: =G81-G80+G83-G82 -> 0 | H86: =H81-H80+H83-H82 -> 0 | I86: =I81-I80+I83-I82 -> 0 | J86: =J81-J80+J83-J82 -> 0 | K86: =K81-K80+K83-K82 -> 0 | L86: =L81-L80+L83-L82 -> 0 | M86: =M81-M80+M83-M82 -> 0 | N86: =N81-N80+N83-N82 -> 0 | ... AO86: =AO81-AO80+AO83-AO82 -> 0 | AP86: 7.2916667
G87: =G86+H86+I86+J86+K86+L86+M86+L85 -> 0 | N87: =N86+O86+P86+Q86+R86+S86+T86+S85 -> 0 | U87: =U86+V86+W86+X86+Y86+Z86+AA86+Z85 -> 0 | AB87: =AB86+AC86+AD86+AE86+AF86+AG86+AH86+AG85 -> 0 | AI87: =AI86+AJ86+AK86+AL86+AM86+AN86+AO86+AN85 -> 0
A88: 0 | B88: 0 | C88: 0 | D88: 0 | E88: KK | F88: début | AP88: =G95+N95+U95+AB95+AI95 -> 0 | AQ88: =A88-(COUNTIF(G92:AO92,"CP")) -> 0 | AR88: =B88-(COUNTIF(G92:AO92,"CA")) -> 0 | AS88: =C88-(COUNTIF(G92:AO92,"CT")) -> 0 | AT88: =10-(COUNTIF(G92:AO92,"RH")) -> 10 | AU88: =D88+AP88-AP94 -> -7.2916667
F89: Fin
E90: KK | F90: début
F91: Fin
G93: Contre poste, congés et formation | L93: 0 | N93: Contre poste, congés et formation | S93: 0 | U93: Contre poste, congés et formation | Z93: 0 | AB93: Contre poste, congés et formation | AG93: 0 | AI93: Contre poste, congés et formation | AN93: 0 | AP93: HEURES A REALISER SUR LA PERIODE
E94: Temps de travail | G94: =G89-G88+G91-G90 -> 0 | H94: =H89-H88+H91-H90 -> 0 | I94: =I89-I88+I91-I90 -> 0 | J94: =J89-J88+J91-J90 -> 0 | K94: =K89-K88+K91-K90 -> 0 | L94: =L89-L88+L91-L90 -> 0 | M94: =M89-M88+M91-M90 -> 0 | N94: =N89-N88+N91-N90 -> 0 | ... AO94: =AO89-AO88+AO91-AO90 -> 0 | AP94: 7.2916667
G95: =G94+H94+I94+J94+K94+L94+M94+L93 -> 0 | N95: =N94+O94+P94+Q94+R94+S94+T94+S93 -> 0 | U95: =U94+V94+W94+X94+Y94+Z94+AA94+Z93 -> 0 | AB95: =AB94+AC94+AD94+AE94+AF94+AG94+AH94+AG93 -> 0 | AI95: =AI94+AJ94+AK94+AL94+AM94+AN94+AO94+AN93 -> 0
A96: 0 | B96: 0 | C96: 0 | D96: 0 | E96: LL | F96: début | AP96: =G103+N103+U103+AB103+AI103 -> 0 | AQ96: =A96-(COUNTIF(G100:AO100,"CP")) -> 0 | AR96: =B96-(COUNTIF(G100:AO100,"CA")) -> 0 | AS96: =C96-(COUNTIF(G100:AO100,"CT")) -> 0 | AT96: =10-(COUNTIF(G100:AO100,"RH")) -> 10 | AU96: =D96+AP96-AP102 -> -7.2916667
F97: Fin
E98: LL | F98: début
F99: Fin
G101: Contre poste, congés et formation | L101: 0 | N101: Contre poste, congés et formation | S101: 0 | U101: Contre poste, congés et formation | Z101: 0 | AB101: Contre poste, congés et formation | AG101: 0 | AI101: Contre poste, congés et formation | AN101: 0 | AP101: HEURES A REALISER SUR LA PERIODE
E102: Temps de travail | G102: =G97-G96+G99-G98 -> 0 | H102: =H97-H96+H99-H98 -> 0 | I102: =I97-I96+I99-I98 -> 0 | J102: =J97-J96+J99-J98 -> 0 | K102: =K97-K96+K99-K98 -> 0 | L102: =L97-L96+L99-L98 -> 0 | M102: =M97-M96+M99-M98 -> 0 | N102: =N97-N96+N99-N98 -> 0 | ... AO102: =AO97-AO96+AO99-AO98 -> 0 | AP102: 7.2916667
G103: =G102+H102+I102+J102+K102+L102+M102+L101 -> 0 | N103: =N102+O102+P102+Q102+R102+S102+T102+S101 -> 0 | U103: =U102+V102+W102+X102+Y102+Z102+AA102+Z101 -> 0 | AB103: =AB102+AC102+AD102+AE102+AF102+AG102+AH102+AG101 -> 0 | AI103: =AI102+AJ102+AK102+AL102+AM102+AN102+AO102+AN101 -> 0
A104: 0 | B104: 0 | C104: 0 | D104: 0 | E104: MM | F104: début | AP104: =G111+N111+U111+AB111+AI111 -> 0 | AQ104: =A104-(COUNTIF(G108:AO108,"CP")) -> 0 | AR104: =B104-(COUNTIF(G108:AO108,"CA")) -> 0 | AS104: =C104-(COUNTIF(G108:AO108,"CT")) -> 0 | AT104: =10-(COUNTIF(G108:AO108,"RH")) -> 10 | AU104: =D104+AP104-AP110 -> -7.2916667
F105: Fin
E106: MM | F106: début
F107: Fin
...

Sheet Du 29 juillet au 01 septembre
A1: FIN DE PERIODE PRECEDENTE | G1: SERVICE OU UNITÉ | O1: ='Du 24 juin au 28 juillet'!O1 -> JJ | Z1: PÉRIODE DU 29 JUILLET AU 01 SEPTEMBRE 2024 | AP1: SOLDE FIN DE PÉRIODE | AV1: VALIDATION GRILLE PAR LES PROFESSIONNELS EN FIN DE CYCLE
A2: CP | B2: CA | C2: CT | D2: solde d’heure | E2: Noms des professionnels | G2: L | H2: M | I2: M | J2: J | K2: V | L2: S | M2: D | N2: L | O2: M | P2: M | Q2: J | R2: V | S2: S | T2: D | U2: L | V2: M | W2: M | X2: J | Y2: V | Z2: S | AA2: D | AB2: L | AC2: M | AD2: M | AE2: J | AF2: V | AG2: S | AH2: D | AI2: L | AJ2: M | AK2: M | AL2: J | AM2: V | AN2: S | AO2: D | AP2: Total | AQ2: CP | AR2: CA | AS2: CT | AT2: RH | AU2: solde d’heure
G3: 29 | H3: 30 | I3: 31 | J3: 1 | K3: 2 | L3: 3 | M3: 4 | N3: 5 | O3: 6 | P3: 7 | Q3: 8 | R3: 9 | S3: 10 | T3: 11 | U3: 12 | V3: 13 | W3: 14 | X3: 15 | Y3: 16 | Z3: 17 | AA3: 18 | AB3: 19 | AC3: 20 | AD3: 21 | AE3: 22 | AF3: 23 | AG3: 24 | AH3: 25 | AI3: 26 | AJ3: 27 | AK3: 28 | AL3: 29 | AM3: 30 | AN3: 31 | AO3: 1
A4: ='Du 24 juin au 28 juillet'!AQ4 -> -1 | B4: ='Du 24 juin au 28 juillet'!AR4 -> -1 | C4: ='Du 24 juin au 28 juillet'!AS4 -> -1 | D4: ='Du 24 juin au 28 juillet'!AP4 -> 7.3541667 | E4: ='Du 24 juin au 28 juillet'!E4 -> AA | F4: début | G4: 0.29166667 | I4: 0.29166667 | L4: 0.33333333 | M4: 0.33333333 | V4: 0.29166667 | AD4: 0.375 | AL4: 0.29166667 | AM4: 0.29166667 | AP4: =G11+N11+U11+AB11+AI11 -> 7.3541667 | AQ4: =A4-(COUNTIF(G8:AO8,"CP")) -> -1 | AR4: =B4-(COUNTIF(G8:AO8,"CA")) -> -1 | AS4: =C4-(COUNTIF(G8:AO8,"CT")) -> -1 | AT4: =10-(COUNTIF(G8:AO8,"RH")) -> 0 | AU4: =D4+AP4-AP10 -> 7.4166667
F5: Fin | G5: 0.59375 | I5: 0.59375 | L5: 0.70833333 | M5: 0.58333333 | V5: 0.70833333 | AD5: 0.75 | AL5: 0.59375 | AM5: 0.59375
E6: ='Du 24 juin au 28 juillet'!E6 -> AA | F6: début | H6: 0.5625 | O6: 0.5625 | P6: 0.5625 | S6: 0.5 | T6: 0.5 | W6: 0.54166667 | X6: 0.58333333 | Y6: 0.58333333 | AB6: 0.58333333 | AC6: 0.5625 | AE6: 0.58333333 | AF6: 0.58333333 | AI6: 0.58333333 | AJ6: 0.5625
F7: Fin | H7: 0.83333333 | O7: 0.91666667 | P7: 0.91666667 | S7: 0.91666667 | T7: 0.91666667 | W7: 0.91666667 | X7: 0.91666667 | Y7: 0.91666667 | AB7: 0.91666667 | AC7: 0.75 | AE7: 0.91666667 | AF7: 0.91666667 | AI7: 0.91666667 | AJ7: 0.91666667
J8: RH | K8: RH | Q8: RH | R8: RH | Z8: RH | AA8: RH | AG8: RH | AH8: RH | AN8: RH | AO8: RH
G9: Contre poste, congés et formation | L9: 0 | N9: Contre poste, congés et formation | S9: 0 | U9: Contre poste, congés et formation | Z9: 0 | AB9: Contre poste, congés et formation | AG9: 0 | AI9: Contre poste, congés et formation | AN9: 0 | AP9: HEURES A REALISER SUR LA PERIODE
E10: Temps de travail | G10: =G5-G4+G7-G6 -> 0.30208333 | H10: =H5-H4+H7-H6 -> 0.27083333 | I10: =I5-I4+I7-I6 -> 0.30208333 | J10: =J5-J4+J7-J6 -> 0 | K10: =K5-K4+K7-K6 -> 0 | L10: =L5-L4+L7-L6 -> 0.375 | M10: =M5-M4+M7-M6 -> 0.25 | N10: =N5-N4+N7-N6 -> 0 | ... AO10: =AO5-AO4+AO7-AO6 -> 0 | AP10: 7.2916667
G11: =G10+H10+I10+J10+K10+L10+M10+L9 -> 1.5 | N11: =N10+O10+P10+Q10+R10+S10+T10+S9 -> 1.5416667 | U11: =U10+V10+W10+X10+Y10+Z10+AA10+Z9 -> 1.4583333 | AB11: =AB10+AC10+AD10+AE10+AF10+AG10+AH10+AG9 -> 1.5625 | AI11: =AI10+AJ10+AK10+AL10+AM10+AN10+AO10+AN9 -> 1.2916667
A12: ='Du 24 juin au 28 juillet'!AQ12 -> 0 | B12: ='Du 24 juin au 28 juillet'!AR12 -> 0 | C12: ='Du 24 juin au 28 juillet'!AS12 -> 0 | D12: ='Du 24 juin au 28 juillet'!AP12 -> 7.34375 | E12: ='Du 24 juin au 28 juillet'!E12 -> BB | F12: début | AP12: =G19+N19+U19+AB19+AI19 -> 0 | AQ12: =A12-(COUNTIF(G16:AO16,"CP")) -> 0 | AR12: =B12-(COUNTIF(G16:AO16,"CA")) -> 0 | AS12: =C12-(COUNTIF(G16:AO16,"CT")) -> 0 | AT12: =10-(COUNTIF(G16:AO16,"RH")) -> 10 | AU12: =D12+AP12-AP18 -> 0.052083333
F13: Fin
E14: ='Du 24 juin au 28 juillet'!E14 -> BB | F14: début
F15: Fin
G17: Contre poste, congés et formation | L17: 0 | N17: Contre poste, congés et formation | S17: 0 | U17: Contre poste, congés et formation | Z17: 0 | AB17: Contre poste, congés et formation | AG17: 0 | AI17: Contre poste, congés et formation | AN17: 0 | AP17: HEURES A REALISER SUR LA PERIODE
E18: Temps de travail | G18: =G13-G12+G15-G14 -> 0 | H18: =H13-H12+H15-H14 -> 0 | I18: =I13-I12+I15-I14 -> 0 | J18: =J13-J12+J15-J14 -> 0 | K18: =K13-K12+K15-K14 -> 0 | L18: =L13-L12+L15-L14 -> 0 | M18: =M13-M12+M15-M14 -> 0 | N18: =N13-N12+N15-N14 -> 0 | ... AO18: =AO13-AO12+AO15-AO14 -> 0 | AP18: 7.2916667
G19: =G18+H18+I18+J18+K18+L18+M18+L17 -> 0 | N19: =N18+O18+P18+Q18+R18+S18+T18+S17 -> 0 | U19: =U18+V18+W18+X18+Y18+Z18+AA18+Z17 -> 0 | AB19: =AB18+AC18+AD18+AE18+AF18+AG18+AH18+AG17 -> 0 | AI19: =AI18+AJ18+AK18+AL18+AM18+AN18+AO18+AN17 -> 0
A20: ='Du 24 juin au 28 juillet'!AQ20 -> 0 | B20: ='Du 24 juin au 28 juillet'!AR20 -> 0 | C20: ='Du 24 juin au 28 juillet'!AS20 -> 0 | D20: ='Du 24 juin au 28 juillet'!AP20 -> 7.3541667 | E20: ='Du 24 juin au 28 juillet'!E20 -> CC | F20: début | AP20: =G27+N27+U27+AB27+AI27 -> 0 | AQ20: =A20-(COUNTIF(G24:AO24,"CP")) -> 0 | AR20: =B20-(COUNTIF(G24:AO24,"CA")) -> 0 | AS20: =C20-(COUNTIF(G24:AO24,"CT")) -> 0 | AT20: =10-(COUNTIF(G24:AO24,"RH")) -> 10 | AU20: =D20+AP20-AP26 -> 0.0625
F21: Fin
E22: ='Du 24 juin au 28 juillet'!E22 -> CC | F22: début
F23: Fin
G25: Contre poste, congés et formation | L25: 0 | N25: Contre poste, congés et formation | S25: 0 | U25: Contre poste, congés et formation | Z25: 0 | AB25: Contre poste, congés et formation | AG25: 0 | AI25: Contre poste, congés et formation | AN25: 0 | AP25: HEURES A REALISER SUR LA PERIODE
E26: Temps de travail | G26: =G21-G20+G23-G22 -> 0 | H26: =H21-H20+H23-H22 -> 0 | I26: =I21-I20+I23-I22 -> 0 | J26: =J21-J20+J23-J22 -> 0 | K26: =K21-K20+K23-K22 -> 0 | L26: =L21-L20+L23-L22 -> 0 | M26: =M21-M20+M23-M22 -> 0 | N26: =N21-N20+N23-N22 -> 0 | ... AO26: =AO21-AO20+AO23-AO22 -> 0 | AP26: 7.2916667
G27: =G26+H26+I26+J26+K26+L26+M26+L25 -> 0 | N27: =N26+O26+P26+Q26+R26+S26+T26+S25 -> 0 | U27: =U26+V26+W26+X26+Y26+Z26+AA26+Z25 -> 0 | AB27: =AB26+AC26+AD26+AE26+AF26+AG26+AH26+AG25 -> 0 | AI27: =AI26+AJ26+AK26+AL26+AM26+AN26+AO26+AN25 -> 0
A28: ='Du 24 juin au 28 juillet'!AQ28 -> 0 | B28: ='Du 24 juin au 28 juillet'!AR28 -> 0 | C28: ='Du 24 juin au 28 juillet'!AS28 -> 0 | D28: ='Du 24 juin au 28 juillet'!AP28 -> 7.3541667 | E28: ='Du 24 juin au 28 juillet'!E28 -> DD | F28: début | AP28: =G35+N35+U35+AB35+AI35 -> 0 | AQ28: =A28-(COUNTIF(G32:AO32,"CP")) -> 0 | AR28: =B28-(COUNTIF(G32:AO32,"CA")) -> 0 | AS28: =C28-(COUNTIF(G32:AO32,"CT")) -> 0 | AT28: =10-(COUNTIF(G32:AO32,"RH")) -> 10 | AU28: =D28+AP28-AP34 -> 0.0625
F29: Fin
E30: ='Du 24 juin au 28 juillet'!E30 -> DD | F30: début
F31: Fin
G33: Contre poste, congés et formation | L33: 0 | N33: Contre poste, congés et formation | S33: 0 | U33: Contre poste, congés et formation | Z33: 0 | AB33: Contre poste, congés et formation | AG33: 0 | AI33: Contre poste, congés et formation | AN33: 0 | AP33: HEURES A REALISER SUR LA PERIODE
E34: Temps de travail | G34: =G29-G28+G31-G30 -> 0 | H34: =H29-H28+H31-H30 -> 0 | I34: =I29-I28+I31-I30 -> 0 | J34: =J29-J28+J31-J30 -> 0 | K34: =K29-K28+K31-K30 -> 0 | L34: =L29-L28+L31-L30 -> 0 | M34: =M29-M28+M31-M30 -> 0 | N34: =N29-N28+N31-N30 -> 0 | ... AO34: =AO29-AO28+AO31-AO30 -> 0 | AP34: 7.2916667
G35: =G34+H34+I34+J34+K34+L34+M34+L33 -> 0 | N35: =N34+O34+P34+Q34+R34+S34+T34+S33 -> 0 | U35: =U34+V34+W34+X34+Y34+Z34+AA34+Z33 -> 0 | AB35: =AB34+AC34+AD34+AE34+AF34+AG34+AH34+AG33 -> 0 | AI35: =AI34+AJ34+AK34+AL34+AM34+AN34+AO34+AN33 -> 0
A36: ='Du 24 juin au 28 juillet'!AQ36 -> 0 | B36: ='Du 24 juin au 28 juillet'!AR36 -> 0 | C36: ='Du 24 juin au 28 juillet'!AS36 -> 0 | D36: ='Du 24 juin au 28 juillet'!AP36 -> 7.3541667 | E36: ='Du 24 juin au 28 juillet'!E36 -> EE | F36: début | AP36: =G43+N43+U43+AB43+AI43 -> 0 | AQ36: =A36-(COUNTIF(G40:AO40,"CP")) -> 0 | AR36: =B36-(COUNTIF(G40:AO40,"CA")) -> 0 | AS36: =C36-(COUNTIF(G40:AO40,"CT")) -> 0 | AT36: =10-(COUNTIF(G40:AO40,"RH")) -> 10 | AU36: =D36+AP36-AP42 -> 0.0625
F37: Fin
E38: ='Du 24 juin au 28 juillet'!E38 -> EE | F38: début
F39: Fin
G41: Contre poste, congés et formation | L41: 0 | N41: Contre poste, congés et formation | S41: 0 | U41: Contre poste, congés et formation | Z41: 0 | AB41: Contre poste, congés et formation | AG41: 0 | AI41: Contre poste, congés et formation | AN41: 0 | AP41: HEURES A REALISER SUR LA PERIODE
E42: Temps de travail | G42: =G37-G36+G39-G38 -> 0 | H42: =H37-H36+H39-H38 -> 0 | I42: =I37-I36+I39-I38 -> 0 | J42: =J37-J36+J39-J38 -> 0 | K42: =K37-K36+K39-K38 -> 0 | L42: =L37-L36+L39-L38 -> 0 | M42: =M37-M36+M39-M38 -> 0 | N42: =N37-N36+N39-N38 -> 0 | ... AO42: =AO37-AO36+AO39-AO38 -> 0 | AP42: 7.2916667
G43: =G42+H42+I42+J42+K42+L42+M42+L41 -> 0 | N43: =N42+O42+P42+Q42+R42+S42+T42+S41 -> 0 | U43: =U42+V42+W42+X42+Y42+Z42+AA42+Z41 -> 0 | AB43: =AB42+AC42+AD42+AE42+AF42+AG42+AH42+AG41 -> 0 | AI43: =AI42+AJ42+AK42+AL42+AM42+AN42+AO42+AN41 -> 0
A44: ='Du 24 juin au 28 juillet'!AQ44 -> 0 | B44: ='Du 24 juin au 28 juillet'!AR44 -> 0 | C44: ='Du 24 juin au 28 juillet'!AS44 -> 0 | D44: ='Du 24 juin au 28 juillet'!AP44 -> 0 | E44: ='Du 24 juin au 28 juillet'!E44 -> FF | F44: début | AP44: =G51+N51+U51+AB51+AI51 -> 0 | AQ44: =A44-(COUNTIF(G48:AO48,"CP")) -> 0 | AR44: =B44-(COUNTIF(G48:AO48,"CA")) -> 0 | AS44: =C44-(COUNTIF(G48:AO48,"CT")) -> 0 | AT44: =10-(COUNTIF(G48:AO48,"RH")) -> 10 | AU44: =D44+AP44-AP50 -> -7.2916667
F45: Fin
E46: ='Du 24 juin au 28 juillet'!E46 -> FF | F46: début
F47: Fin
G49: Contre poste, congés et formation | L49: 0 | N49: Contre poste, congés et formation | S49: 0 | U49: Contre poste, congés et formation | Z49: 0 | AB49: Contre poste, congés et formation | AG49: 0 | AI49: Contre poste, congés et formation | AN49: 0 | AP49: HEURES A REALISER SUR LA PERIODE
E50: Temps de travail | G50: =G45-G44+G47-G46 -> 0 | H50: =H45-H44+H47-H46 -> 0 | I50: =I45-I44+I47-I46 -> 0 | J50: =J45-J44+J47-J46 -> 0 | K50: =K45-K44+K47-K46 -> 0 | L50: =L45-L44+L47-L46 -> 0 | M50: =M45-M44+M47-M46 -> 0 | N50: =N45-N44+N47-N46 -> 0 | ... AO50: =AO45-AO44+AO47-AO46 -> 0 | AP50: 7.2916667
G51: =G50+H50+I50+J50+K50+L50+M50+L49 -> 0 | N51: =N50+O50+P50+Q50+R50+S50+T50+S49 -> 0 | U51: =U50+V50+W50+X50+Y50+Z50+AA50+Z49 -> 0 | AB51: =AB50+AC50+AD50+AE50+AF50+AG50+AH50+AG49 -> 0 | AI51: =AI50+AJ50+AK50+AL50+AM50+AN50+AO50+AN49 -> 0
A52: ='Du 24 juin au 28 juillet'!AQ52 -> 0 | B52: ='Du 24 juin au 28 juillet'!AR52 -> 0 | C52: ='Du 24 juin au 28 juillet'!AS52 -> 0 | D52: ='Du 24 juin au 28 juillet'!AP52 -> 0 | E52: ='Du 24 juin au 28 juillet'!E52 -> GG | F52: début | AP52: =G59+N59+U59+AB59+AI59 -> 0 | AQ52: =A52-(COUNTIF(G56:AO56,"CP")) -> 0 | AR52: =B52-(COUNTIF(G56:AO56,"CA")) -> 0 | AS52: =C52-(COUNTIF(G56:AO56,"CT")) -> 0 | AT52: =10-(COUNTIF(G56:AO56,"RH")) -> 10 | AU52: =D52+AP52-AP58 -> -7.2916667
F53: Fin
E54: ='Du 24 juin au 28 juillet'!E54 -> GG | F54: début
F55: Fin
G57: Contre poste, congés et formation | L57: 0 | N57: Contre poste, congés et formation | S57: 0 | U57: Contre poste, congés et formation | Z57: 0 | AB57: Contre poste, congés et formation | AG57: 0 | AI57: Contre poste, congés et formation | AN57: 0 | AP57: HEURES A REALISER SUR LA PERIODE
E58: Temps de travail | G58: =G53-G52+G55-G54 -> 0 | H58: =H53-H52+H55-H54 -> 0 | I58: =I53-I52+I55-I54 -> 0 | J58: =J53-J52+J55-J54 -> 0 | K58: =K53-K52+K55-K54 -> 0 | L58: =L53-L52+L55-L54 -> 0 | M58: =M53-M52+M55-M54 -> 0 | N58: =N53-N52+N55-N54 -> 0 | ... AO58: =AO53-AO52+AO55-AO54 -> 0 | AP58: 7.2916667
G59: =G58+H58+I58+J58+K58+L58+M58+L57 -> 0 | N59: =N58+O58+P58+Q58+R58+S58+T58+S57 -> 0 | U59: =U58+V58+W58+X58+Y58+Z58+AA58+Z57 -> 0 | AB59: =AB58+AC58+AD58+AE58+AF58+AG58+AH58+AG57 -> 0 | AI59: =AI58+AJ58+AK58+AL58+AM58+AN58+AO58+AN57 -> 0
A60: ='Du 24 juin au 28 juillet'!AQ60 -> 0 | B60: ='Du 24 juin au 28 juillet'!AR60 -> 0 | C60: ='Du 24 juin au 28 juillet'!AS60 -> 0 | D60: ='Du 24 juin au 28 juillet'!AP60 -> 0 | E60: ='Du 24 juin au 28 juillet'!E60 -> HH | F60: début | AP60: =G67+N67+U67+AB67+AI67 -> 0 | AQ60: =A60-(COUNTIF(G64:AO64,"CP")) -> 0 | AR60: =B60-(COUNTIF(G64:AO64,"CA")) -> 0 | AS60: =C60-(COUNTIF(G64:AO64,"CT")) -> 0 | AT60: =10-(COUNTIF(G64:AO64,"RH")) -> 10 | AU60: =D60+AP60-AP66 -> -7.2916667
F61: Fin
E62: ='Du 24 juin au 28 juillet'!E62 -> HH | F62: début
F63: Fin
G65: Contre poste, congés et formation | L65: 0 | N65: Contre poste, congés et formation | S65: 0 | U65: Contre poste, congés et formation | Z65: 0 | AB65: Contre poste, congés et formation | AG65: 0 | AI65: Contre poste, congés et formation | AN65: 0 | AP65: HEURES A REALISER SUR LA PERIODE
E66: Temps de travail | G66: =G61-G60+G63-G62 -> 0 | H66: =H61-H60+H63-H62 -> 0 | I66: =I61-I60+I63-I62 -> 0 | J66: =J61-J60+J63-J62 -> 0 | K66: =K61-K60+K63-K62 -> 0 | L66: =L61-L60+L63-L62 -> 0 | M66: =M61-M60+M63-M62 -> 0 | N66: =N61-N60+N63-N62 -> 0 | ... AO66: =AO61-AO60+AO63-AO62 -> 0 | AP66: 7.2916667
G67: =G66+H66+I66+J66+K66+L66+M66+L65 -> 0 | N67: =N66+O66+P66+Q66+R66+S66+T66+S65 -> 0 | U67: =U66+V66+W66+X66+Y66+Z66+AA66+Z65 -> 0 | AB67: =AB66+AC66+AD66+AE66+AF66+AG66+AH66+AG65 -> 0 | AI67: =AI66+AJ66+AK66+AL66+AM66+AN66+AO66+AN65 -> 0
A68: ='Du 24 juin au 28 juillet'!AQ68 -> 0 | B68: ='Du 24 juin au 28 juillet'!AR68 -> 0 | C68: ='Du 24 juin au 28 juillet'!AS68 -> 0 | D68: ='Du 24 juin au 28 juillet'!AP68 -> 0 | E68: ='Du 24 juin au 28 juillet'!E68 -> II | F68: début | AP68: =G75+N75+U75+AB75+AI75 -> 0 | AQ68: =A68-(COUNTIF(G72:AO72,"CP")) -> 0 | AR68: =B68-(COUNTIF(G72:AO72,"CA")) -> 0 | AS68: =C68-(COUNTIF(G72:AO72,"CT")) -> 0 | AT68: =10-(COUNTIF(G72:AO72,"RH")) -> 10 | AU68: =D68+AP68-AP74 -> -7.2916667
F69: Fin
E70: ='Du 24 juin au 28 juillet'!E70 -> II | F70: début
F71: Fin
G73: Contre poste, congés et formation | L73: 0 | N73: Contre poste, congés et formation | S73: 0 | U73: Contre poste, congés et formation | Z73: 0 | AB73: Contre poste, congés et formation | AG73: 0 | AI73: Contre poste, congés et formation | AN73: 0 | AP73: HEURES A REALISER SUR LA PERIODE
E74: Temps de travail | G74: =G69-G68+G71-G70 -> 0 | H74: =H69-H68+H71-H70 -> 0 | I74: =I69-I68+I71-I70 -> 0 | J74: =J69-J68+J71-J70 -> 0 | K74: =K69-K68+K71-K70 -> 0 | L74: =L69-L68+L71-L70 -> 0 | M74: =M69-M68+M71-M70 -> 0 | N74: =N69-N68+N71-N70 -> 0 | ... AO74: =AO69-AO68+AO71-AO70 -> 0 | AP74: 7.2916667
G75: =G74+H74+I74+J74+K74+L74+M74+L73 -> 0 | N75: =N74+O74+P74+Q74+R74+S74+T74+S73 -> 0 | U75: =U74+V74+W74+X74+Y74+Z74+AA74+Z73 -> 0 | AB75: =AB74+AC74+AD74+AE74+AF74+AG74+AH74+AG73 -> 0 | AI75: =AI74+AJ74+AK74+AL74+AM74+AN74+AO74+AN73 -> 0
A76: Planning réalisé le | H76: MAJ le | M76: Le/la chef(fe) de service éducatif | AB76: La direction | AP76: Page 1/2
G77: SERVICE OU UNITÉ | O77: =O1 -> JJ | Z77: PÉRIODE DU 5 JUIN AU 9 JUILLET 2023 | AP77: SOLDE FIN DE PÉRIODE | AV77: VALIDATION GRILLE PAR LES PROFESSIONNELS EN FIN DE CYCLE
A78: CP | B78: CA | C78: CT | D78: solde d’heure | E78: Noms des professionnels | G78: L | H78: M | I78: M | J78: J | K78: V | L78: S | M78: D | N78: L | O78: M | P78: M | Q78: J | R78: V | S78: S | T78: D | U78: L | V78: M | W78: M | X78: J | Y78: V | Z78: S | AA78: D | AB78: L | AC78: M | AD78: M | AE78: J | AF78: V | AG78: S | AH78: D | AI78: L | AJ78: M | AK78: M | AL78: J | AM78: V | AN78: S | AO78: D | AP78: Total | AQ78: CP | AR78: CA | AS78: CT | AT78: RH | AU78: solde d’heure
G79: 24 | H79: 25 | I79: 26 | J79: 27 | K79: 28 | L79: 29 | M79: 30 | N79: 1 | O79: 2 | P79: 3 | Q79: 4 | R79: 5 | S79: 6 | T79: 7 | U79: 8 | V79: 9 | W79: 10 | X79: 11 | Y79: 12 | Z79: 13 | AA79: 14 | AB79: 15 | AC79: 16 | AD79: 17 | AE79: 18 | AF79: 19 | AG79: 20 | AH79: 21 | AI79: 22 | AJ79: 23 | AK79: 24 | AL79: 25 | AM79: 26 | AN79: 27 | AO79: 28
A80: ='Du 24 juin au 28 juillet'!AQ80 -> 0 | B80: ='Du 24 juin au 28 juillet'!AR80 -> 0 | C80: ='Du 24 juin au 28 juillet'!AS80 -> 0 | D80: ='Du 24 juin au 28 juillet'!AP80 -> 0 | E80: ='Du 24 juin au 28 juillet'!E80 -> JJ | F80: début | AP80: =G87+N87+U87+AB87+AI87 -> 0 | AQ80: =A80-(COUNTIF(G84:AO84,"CP")) -> 0 | AR80: =B80-(COUNTIF(G84:AO84,"CA")) -> 0 | AS80: =C80-(COUNTIF(G84:AO84,"CT")) -> 0 | AT80: =10-(COUNTIF(G84:AO84,"RH")) -> 10 | AU80: =D80+AP80-AP86 -> -7.2916667
F81: Fin
E82: ='Du 24 juin au 28 juillet'!E82 -> JJ | F82: début
F83: Fin
G85: Contre poste, congés et formation | L85: 0 | N85: Contre poste, congés et formation | S85: 0 | U85: Contre poste, congés et formation | Z85: 0 | AB85: Contre poste, congés et formation | AG85: 0 | AI85: Contre poste, congés et formation | AN85: 0 | AP85: HEURES A REALISER SUR LA PERIODE
E86: Temps de travail | G86: =G81-G80+G83-G82 -> 0 | H86: =H81-H80+H83-H82 -> 0 | I86: =I81-I80+I83-I82 -> 0 | J86: =J81-J80+J83-J82 -> 0 | K86: =K81-K80+K83-K82 -> 0 | L86: =L81-L80+L83-L82 -> 0 | M86: =M81-M80+M83-M82 -> 0 | N86: =N81-N80+N83-N82 -> 0 | ... AO86: =AO81-AO80+AO83-AO82 -> 0 | AP86: 7.2916667
G87: =G86+H86+I86+J86+K86+L86+M86+L85 -> 0 | N87: =N86+O86+P86+Q86+R86+S86+T86+S85 -> 0 | U87: =U86+V86+W86+X86+Y86+Z86+AA86+Z85 -> 0 | AB87: =AB86+AC86+AD86+AE86+AF86+AG86+AH86+AG85 -> 0 | AI87: =AI86+AJ86+AK86+AL86+AM86+AN86+AO86+AN85 -> 0
A88: ='Du 24 juin au 28 juillet'!AQ88 -> 0 | B88: ='Du 24 juin au 28 juillet'!AR88 -> 0 | C88: ='Du 24 juin au 28 juillet'!AS88 -> 0 | D88: ='Du 24 juin au 28 juillet'!AP88 -> 0 | E88: ='Du 24 juin au 28 juillet'!E88 -> KK | F88: début | AP88: =G95+N95+U95+AB95+AI95 -> 0 | AQ88: =A88-(COUNTIF(G92:AO92,"CP")) -> 0 | AR88: =B88-(COUNTIF(G92:AO92,"CA")) -> 0 | AS88: =C88-(COUNTIF(G92:AO92,"CT")) -> 0 | AT88: =10-(COUNTIF(G92:AO92,"RH")) -> 10 | AU88: =D88+AP88-AP94 -> -7.2916667
F89: Fin
E90: ='Du 24 juin au 28 juillet'!E90 -> KK | F90: début
F91: Fin
G93: Contre poste, congés et formation | L93: 0 | N93: Contre poste, congés et formation | S93: 0 | U93: Contre poste, congés et formation | Z93: 0 | AB93: Contre poste, congés et formation | AG93: 0 | AI93: Contre poste, congés et formation | AN93: 0 | AP93: HEURES A REALISER SUR LA PERIODE
E94: Temps de travail | G94: =G89-G88+G91-G90 -> 0 | H94: =H89-H88+H91-H90 -> 0 | I94: =I89-I88+I91-I90 -> 0 | J94: =J89-J88+J91-J90 -> 0 | K94: =K89-K88+K91-K90 -> 0 | L94: =L89-L88+L91-L90 -> 0 | M94: =M89-M88+M91-M90 -> 0 | N94: =N89-N88+N91-N90 -> 0 | ... AO94: =AO89-AO88+AO91-AO90 -> 0 | AP94: 7.2916667
G95: =G94+H94+I94+J94+K94+L94+M94+L93 -> 0 | N95: =N94+O94+P94+Q94+R94+S94+T94+S93 -> 0 | U95: =U94+V94+W94+X94+Y94+Z94+AA94+Z93 -> 0 | AB95: =AB94+AC94+AD94+AE94+AF94+AG94+AH94+AG93 -> 0 | AI95: =AI94+AJ94+AK94+AL94+AM94+AN94+AO94+AN93 -> 0
A96: ='Du 24 juin au 28 juillet'!AQ96 -> 0 | B96: ='Du 24 juin au 28 juillet'!AR96 -> 0 | C96: ='Du 24 juin au 28 juillet'!AS96 -> 0 | D96: ='Du 24 juin au 28 juillet'!AP96 -> 0 | E96: ='Du 24 juin au 28 juillet'!E96 -> LL | F96: début | AP96: =G103+N103+U103+AB103+AI103 -> 0 | AQ96: =A96-(COUNTIF(G100:AO100,"CP")) -> 0 | AR96: =B96-(COUNTIF(G100:AO100,"CA")) -> 0 | AS96: =C96-(COUNTIF(G100:AO100,"CT")) -> 0 | AT96: =10-(COUNTIF(G100:AO100,"RH")) -> 10 | AU96: =D96+AP96-AP102 -> -7.2916667
F97: Fin
E98: ='Du 24 juin au 28 juillet'!E98 -> LL | F98: début
F99: Fin
G101: Contre poste, congés et formation | L101: 0 | N101: Contre poste, congés et formation | S101: 0 | U101: Contre poste, congés et formation | Z101: 0 | AB101: Contre poste, congés et formation | AG101: 0 | AI101: Contre poste, congés et formation | AN101: 0 | AP101: HEURES A REALISER SUR LA PERIODE
E102: Temps de travail | G102: =G97-G96+G99-G98 -> 0 | H102: =H97-H96+H99-H98 -> 0 | I102: =I97-I96+I99-I98 -> 0 | J102: =J97-J96+J99-J98 -> 0 | K102: =K97-K96+K99-K98 -> 0 | L102: =L97-L96+L99-L98 -> 0 | M102: =M97-M96+M99-M98 -> 0 | N102: =N97-N96+N99-N98 -> 0 | ... AO102: =AO97-AO96+AO99-AO98 -> 0 | AP102: 7.2916667
G103: =G102+H102+I102+J102+K102+L102+M102+L101 -> 0 | N103: =N102+O102+P102+Q102+R102+S102+T102+S101 -> 0 | U103: =U102+V102+W102+X102+Y102+Z102+AA102+Z101 -> 0 | AB103: =AB102+AC102+AD102+AE102+AF102+AG102+AH102+AG101 -> 0 | AI103: =AI102+AJ102+AK102+AL102+AM102+AN102+AO102+AN101 -> 0
A104: ='Du 24 juin au 28 juillet'!AQ104 -> 0 | B104: ='Du 24 juin au 28 juillet'!AR104 -> 0 | C104: ='Du 24 juin au 28 juillet'!AS104 -> 0 | D104: ='Du 24 juin au 28 juillet'!AP104 -> 0 | E104: ='Du 24 juin au 28 juillet'!E104 -> MM | F104: début | AP104: =G111+N111+U111+AB111+AI111 -> 0 | AQ104: =A104-(COUNTIF(G108:AO108,"CP")) -> 0 | AR104: =B104-(COUNTIF(G108:AO108,"CA")) -> 0 | AS104: =C104-(COUNTIF(G108:AO108,"CT")) -> 0 | AT104: =10-(COUNTIF(G108:AO108,"RH")) -> 10 | AU104: =D104+AP104-AP110 -> -7.2916667
F105: Fin
E106: ='Du 24 juin au 28 juillet'!E106 -> MM | F106: début
F107: Fin
G109: Contre poste, congés et formation | L109: 0 | N109: Contre poste, congés et formation | S109: 0 | U109: Contre poste, congés et formation | Z109: 0 | AB109: Contre poste, congés et formation | AG109: 0 | AI109: Contre poste, congés et formation | AN109: 0 | AP109: HEURES A REALISER SUR LA PERIODE
E110: Temps de travail | G110: =G105-G104+G107-G106 -> 0 | H110: =H105-H104+H107-H106 -> 0 | I110: =I105-I104+I107-I106 -> 0 | J110: =J105-J104+J107-J106 -> 0 | K110: =K105-K104+K107-K106 -> 0 | L110: =L105-L104+L107-L106 -> 0 | M110: =M105-M104+M107-M106 -> 0 | N110: =N105-N104+N107-N106 -> 0 | ... AO110: =AO105-AO104+AO107-AO106 -> 0 | AP110: 7.2916667
G111: =G110+H110+I110+J110+K110+L110+M110+L109 -> 0 | N111: =N110+O110+P110+Q110+R110+S110+T110+S109 -> 0 | U111: =U110+V110+W110+X110+Y110+Z110+AA110+Z109 -> 0 | AB111: =AB110+AC110+AD110+AE110+AF110+AG110+AH110+AG109 -> 0 | AI111: =AI110+AJ110+AK110+AL110+AM110+AN110+AO110+AN109 -> 0
A112: Planning réalisé le | F112: =F76 -> 0 | H112: MAJ le | J112: =J76 -> 0 | AB112: La direction | AP112: Page 2/2

Sheet Du 02 septembre au 06 octob
A1: FIN DE PERIODE PRECEDENTE | G1: SERVICE OU UNITÉ | O1: ='Du 24 juin au 28 juillet'!O1 -> JJ | Z1: PÉRIODE DU 02 SEPTEMBRE AU 06 OCTOBRE 2024 | AP1: SOLDE FIN DE PÉRIODE | AV1: VALIDATION GRILLE PAR LES PROFESSIONNELS EN FIN DE CYCLE
A2: CP | B2: CA | C2: CT | D2: solde d’heure | E2: Noms des professionnels | G2: L | H2: M | I2: M | J2: J | K2: V | L2: S | M2: D | N2: L | O2: M | P2: M | Q2: J | R2: V | S2: S | T2: D | U2: L | V2: M | W2: M | X2: J | Y2: V | Z2: S | AA2: D | AB2: L | AC2: M | AD2: M | AE2: J | AF2: V | AG2: S | AH2: D | AI2: L | AJ2: M | AK2: M | AL2: J | AM2: V | AN2: S | AO2: D | AP2: Total | AQ2: CP | AR2: CA | AS2: CT | AT2: RH | AU2: solde d’heure
G3: 2 | H3: 3 | I3: 4 | J3: 5 | K3: 6 | L3: 7 | M3: 8 | N3: 9 | O3: 10 | P3: 11 | Q3: 12 | R3: 13 | S3: 14 | T3: 15 | U3: 16 | V3: 17 | W3: 18 | X3: 19 | Y3: 20 | Z3: 21 | AA3: 22 | AB3: 23 | AC3: 24 | AD3: 25 | AE3: 26 | AF3: 27 | AG3: 28 | AH3: 29 | AI3: 30 | AJ3: 1 | AK3: 2 | AL3: 3 | AM3: 4 | AN3: 5 | AO3: 6
A4: ='Du 24 juin au 28 juillet'!AQ4 -> -1 | B4: ='Du 24 juin au 28 juillet'!AR4 -> -1 | C4: ='Du 24 juin au 28 juillet'!AS4 -> -1 | D4: ='Du 24 juin au 28 juillet'!AP4 -> 7.3541667 | E4: ='Du 24 juin au 28 juillet'!E4 -> AA | F4: début | G4: 0.29166667 | I4: 0.29166667 | L4: 0.33333333 | M4: 0.33333333 | V4: 0.29166667 | AD4: 0.375 | AL4: 0.29166667 | AM4: 0.29166667 | AP4: =G11+N11+U11+AB11+AI11 -> 7.3541667 | AQ4: =A4-(COUNTIF(G8:AO8,"CP")) -> -1 | AR4: =B4-(COUNTIF(G8:AO8,"CA")) -> -1 | AS4: =C4-(COUNTIF(G8:AO8,"CT")) -> -1 | AT4: =10-(COUNTIF(G8:AO8,"RH")) -> 0 | AU4: =D4+AP4-AP10 -> 7.4166667
F5: Fin | G5: 0.59375 | I5: 0.59375 | L5: 0.70833333 | M5: 0.58333333 | V5: 0.70833333 | AD5: 0.75 | AL5: 0.59375 | AM5: 0.59375
E6: ='Du 24 juin au 28 juillet'!E6 -> AA | F6: début | H6: 0.5625 | O6: 0.5625 | P6: 0.5625 | S6: 0.5 | T6: 0.5 | W6: 0.54166667 | X6: 0.58333333 | Y6: 0.58333333 | AB6: 0.58333333 | AC6: 0.5625 | AE6: 0.58333333 | AF6: 0.58333333 | AI6: 0.58333333 | AJ6: 0.5625
F7: Fin | H7: 0.83333333 | O7: 0.91666667 | P7: 0.91666667 | S7: 0.91666667 | T7: 0.91666667 | W7: 0.91666667 | X7: 0.91666667 | Y7: 0.91666667 | AB7: 0.91666667 | AC7: 0.75 | AE7: 0.91666667 | AF7: 0.91666667 | AI7: 0.91666667 | AJ7: 0.91666667
J8: RH | K8: RH | Q8: RH | R8: RH | Z8: RH | AA8: RH | AG8: RH | AH8: RH | AN8: RH | AO8: RH
G9: Contre poste, congés et formation | L9: 0 | N9: Contre poste, congés et formation | S9: 0 | U9: Contre poste, congés et formation | Z9: 0 | AB9: Contre poste, congés et formation | AG9: 0 | AI9: Contre poste, congés et formation | AN9: 0 | AP9: HEURES A REALISER SUR LA PERIODE
E10: Temps de travail | G10: =G5-G4+G7-G6 -> 0.30208333 | H10: =H5-H4+H7-H6 -> 0.27083333 | I10: =I5-I4+I7-I6 -> 0.30208333 | J10: =J5-J4+J7-J6 -> 0 | K10: =K5-K4+K7-K6 -> 0 | L10: =L5-L4+L7-L6 -> 0.375 | M10: =M5-M4+M7-M6 -> 0.25 | N10: =N5-N4+N7-N6 -> 0 | ... AO10: =AO5-AO4+AO7-AO6 -> 0 | AP10: 7.2916667
G11: =G10+H10+I10+J10+K10+L10+M10+L9 -> 1.5 | N11: =N10+O10+P10+Q10+R10+S10+T10+S9 -> 1.5416667 | U11: =U10+V10+W10+X10+Y10+Z10+AA10+Z9 -> 1.4583333 | AB11: =AB10+AC10+AD10+AE10+AF10+AG10+AH10+AG9 -> 1.5625 | AI11: =AI10+AJ10+AK10+AL10+AM10+AN10+AO10+AN9 -> 1.2916667
A12: ='Du 24 juin au 28 juillet'!AQ12 -> 0 | B12: ='Du 24 juin au 28 juillet'!AR12 -> 0 | C12: ='Du 24 juin au 28 juillet'!AS12 -> 0 | D12: 0 | E12: ='Du 24 juin au 28 juillet'!E12 -> BB | F12: début | AP12: =G19+N19+U19+AB19+AI19 -> 0 | AQ12: =A12-(COUNTIF(G16:AO16,"CP")) -> 0 | AR12: =B12-(COUNTIF(G16:AO16,"CA")) -> 0 | AS12: =C12-(COUNTIF(G16:AO16,"CT")) -> 0 | AT12: =10-(COUNTIF(G16:AO16,"RH")) -> 10 | AU12: =D12+AP12-AP18 -> -7.2916667
F13: Fin
E14: ='Du 24 juin au 28 juillet'!E14 -> BB | F14: début
F15: Fin
G17: Contre poste, congés et formation | L17: 0 | N17: Contre poste, congés et formation | S17: 0 | U17: Contre poste, congés et formation | Z17: 0 | AB17: Contre poste, congés et formation | AG17: 0 | AI17: Contre poste, congés et formation | AN17: 0 | AP17: HEURES A REALISER SUR LA PERIODE
E18: Temps de travail | G18: =G13-G12+G15-G14 -> 0 | H18: =H13-H12+H15-H14 -> 0 | I18: =I13-I12+I15-I14 -> 0 | J18: =J13-J12+J15-J14 -> 0 | K18: =K13-K12+K15-K14 -> 0 | L18: =L13-L12+L15-L14 -> 0 | M18: =M13-M12+M15-M14 -> 0 | N18: =N13-N12+N15-N14 -> 0 | ... AO18: =AO13-AO12+AO15-AO14 -> 0 | AP18: 7.2916667
G19: =G18+H18+I18+J18+K18+L18+M18+L17 -> 0 | N19: =N18+O18+P18+Q18+R18+S18+T18+S17 -> 0 | U19: =U18+V18+W18+X18+Y18+Z18+AA18+Z17 -> 0 | AB19: =AB18+AC18+AD18+AE18+AF18+AG18+AH18+AG17 -> 0 | AI19: =AI18+AJ18+AK18+AL18+AM18+AN18+AO18+AN17 -> 0
A20: ='Du 24 juin au 28 juillet'!AQ20 -> 0 | B20: ='Du 24 juin au 28 juillet'!AR20 -> 0 | C20: ='Du 24 juin au 28 juillet'!AS20 -> 0 | D20: 0 | E20: ='Du 24 juin au 28 juillet'!E20 -> CC | F20: début | AP20: =G27+N27+U27+AB27+AI27 -> 0 | AQ20: =A20-(COUNTIF(G24:AO24,"CP")) -> 0 | AR20: =B20-(COUNTIF(G24:AO24,"CA")) -> 0 | AS20: =C20-(COUNTIF(G24:AO24,"CT")) -> 0 | AT20: =10-(COUNTIF(G24:AO24,"RH")) -> 10 | AU20: =D20+AP20-AP26 -> -7.2916667
F21: Fin
E22: ='Du 24 juin au 28 juillet'!E22 -> CC | F22: début
F23: Fin
G25: Contre poste, congés et formation | L25: 0 | N25: Contre poste, congés et formation | S25: 0 | U25: Contre poste, congés et formation | Z25: 0 | AB25: Contre poste, congés et formation | AG25: 0 | AI25: Contre poste, congés et formation | AN25: 0 | AP25: HEURES A REALISER SUR LA PERIODE
E26: Temps de travail | G26: =G21-G20+G23-G22 -> 0 | H26: =H21-H20+H23-H22 -> 0 | I26: =I21-I20+I23-I22 -> 0 | J26: =J21-J20+J23-J22 -> 0 | K26: =K21-K20+K23-K22 -> 0 | L26: =L21-L20+L23-L22 -> 0 | M26: =M21-M20+M23-M22 -> 0 | N26: =N21-N20+N23-N22 -> 0 | ... AO26: =AO21-AO20+AO23-AO22 -> 0 | AP26: 7.2916667
G27: =G26+H26+I26+J26+K26+L26+M26+L25 -> 0 | N27: =N26+O26+P26+Q26+R26+S26+T26+S25 -> 0 | U27: =U26+V26+W26+X26+Y26+Z26+AA26+Z25 -> 0 | AB27: =AB26+AC26+AD26+AE26+AF26+AG26+AH26+AG25 -> 0 | AI27: =AI26+AJ26+AK26+AL26+AM26+AN26+AO26+AN25 -> 0
A28: ='Du 24 juin au 28 juillet'!AQ28 -> 0 | B28: ='Du 24 juin au 28 juillet'!AR28 -> 0 | C28: ='Du 24 juin au 28 juillet'!AS28 -> 0 | D28: 0 | E28: ='Du 24 juin au 28 juillet'!E28 -> DD | F28: début | AP28: =G35+N35+U35+AB35+AI35 -> 0 | AQ28: =A28-(COUNTIF(G32:AO32,"CP")) -> 0 | AR28: =B28-(COUNTIF(G32:AO32,"CA")) -> 0 | AS28: =C28-(COUNTIF(G32:AO32,"CT")) -> 0 | AT28: =10-(COUNTIF(G32:AO32,"RH")) -> 10 | AU28: =D28+AP28-AP34 -> -7.2916667
F29: Fin
E30: ='Du 24 juin au 28 juillet'!E30 -> DD | F30: début
F31: Fin
G33: Contre poste, congés et formation | L33: 0 | N33: Contre poste, congés et formation | S33: 0 | U33: Contre poste, congés et formation | Z33: 0 | AB33: Contre poste, congés et formation | AG33: 0 | AI33: Contre poste, congés et formation | AN33: 0 | AP33: HEURES A REALISER SUR LA PERIODE
E34: Temps de travail | G34: =G29-G28+G31-G30 -> 0 | H34: =H29-H28+H31-H30 -> 0 | I34: =I29-I28+I31-I30 -> 0 | J34: =J29-J28+J31-J30 -> 0 | K34: =K29-K28+K31-K30 -> 0 | L34: =L29-L28+L31-L30 -> 0 | M34: =M29-M28+M31-M30 -> 0 | N34: =N29-N28+N31-N30 -> 0 | ... AO34: =AO29-AO28+AO31-AO30 -> 0 | AP34: 7.2916667
G35: =G34+H34+I34+J34+K34+L34+M34+L33 -> 0 | N35: =N34+O34+P34+Q34+R34+S34+T34+S33 -> 0 | U35: =U34+V34+W34+X34+Y34+Z34+AA34+Z33 -> 0 | AB35: =AB34+AC34+AD34+AE34+AF34+AG34+AH34+AG33 -> 0 | AI35: =AI34+AJ34+AK34+AL34+AM34+AN34+AO34+AN33 -> 0
A36: ='Du 24 juin au 28 juillet'!AQ36 -> 0 | B36: ='Du 24 juin au 28 juillet'!AR36 -> 0 | C36: ='Du 24 juin au 28 juillet'!AS36 -> 0 | D36: 0 | E36: ='Du 24 juin au 28 juillet'!E36 -> EE | F36: début | AP36: =G43+N43+U43+AB43+AI43 -> 0 | AQ36: =A36-(COUNTIF(G40:AO40,"CP")) -> 0 | AR36: =B36-(COUNTIF(G40:AO40,"CA")) -> 0 | AS36: =C36-(COUNTIF(G40:AO40,"CT")) -> 0 | AT36: =10-(COUNTIF(G40:AO40,"RH")) -> 10 | AU36: =D36+AP36-AP42 -> -7.2916667
F37: Fin
E38: ='Du 24 juin au 28 juillet'!E38 -> EE | F38: début
F39: Fin
G41: Contre poste, congés et formation | L41: 0 | N41: Contre poste, congés et formation | S41: 0 | U41: Contre poste, congés et formation | Z41: 0 | AB41: Contre poste, congés et formation | AG41: 0 | AI41: Contre poste, congés et formation | AN41: 0 | AP41: HEURES A REALISER SUR LA PERIODE
E42: Temps de travail | G42: =G37-G36+G39-G38 -> 0 | H42: =H37-H36+H39-H38 -> 0 | I42: =I37-I36+I39-I38 -> 0 | J42: =J37-J36+J39-J38 -> 0 | K42: =K37-K36+K39-K38 -> 0 | L42: =L37-L36+L39-L38 -> 0 | M42: =M37-M36+M39-M38 -> 0 | N42: =N37-N36+N39-N38 -> 0 | ... AO42: =AO37-AO36+AO39-AO38 -> 0 | AP42: 7.2916667
G43: =G42+H42+I42+J42+K42+L42+M42+L41 -> 0 | N43: =N42+O42+P42+Q42+R42+S42+T42+S41 -> 0 | U43: =U42+V42+W42+X42+Y42+Z42+AA42+Z41 -> 0 | AB43: =AB42+AC42+AD42+AE42+AF42+AG42+AH42+AG41 -> 0 | AI43: =AI42+AJ42+AK42+AL42+AM42+AN42+AO42+AN41 -> 0
A44: ='Du 24 juin au 28 juillet'!AQ44 -> 0 | B44: ='Du 24 juin au 28 juillet'!AR44 -> 0 | C44: ='Du 24 juin au 28 juillet'!AS44 -> 0 | D44: 0 | E44: ='Du 24 juin au 28 juillet'!E44 -> FF | F44: début | AP44: =G51+N51+U51+AB51+AI51 -> 0 | AQ44: =A44-(COUNTIF(G48:AO48,"CP")) -> 0 | AR44: =B44-(COUNTIF(G48:AO48,"CA")) -> 0 | AS44: =C44-(COUNTIF(G48:AO48,"CT")) -> 0 | AT44: =10-(COUNTIF(G48:AO48,"RH")) -> 10 | AU44: =D44+AP44-AP50 -> -7.2916667
F45: Fin
E46: ='Du 24 juin au 28 juillet'!E46 -> FF | F46: début
F47: Fin
G49: Contre poste, congés et formation | L49: 0 | N49: Contre poste, congés et formation | S49: 0 | U49: Contre poste, congés et formation | Z49: 0 | AB49: Contre poste, congés et formation | AG49: 0 | AI49: Contre poste, congés et formation | AN49: 0 | AP49: HEURES A REALISER SUR LA PERIODE
E50: Temps de travail | G50: =G45-G44+G47-G46 -> 0 | H50: =H45-H44+H47-H46 -> 0 | I50: =I45-I44+I47-I46 -> 0 | J50: =J45-J44+J47-J46 -> 0 | K50: =K45-K44+K47-K46 -> 0 | L50: =L45-L44+L47-L46 -> 0 | M50: =M45-M44+M47-M46 -> 0 | N50: =N45-N44+N47-N46 -> 0 | ... AO50: =AO45-AO44+AO47-AO46 -> 0 | AP50: 7.2916667
G51: =G50+H50+I50+J50+K50+L50+M50+L49 -> 0 | N51: =N50+O50+P50+Q50+R50+S50+T50+S49 -> 0 | U51: =U50+V50+W50+X50+Y50+Z50+AA50+Z49 -> 0 | AB51: =AB50+AC50+AD50+AE50+AF50+AG50+AH50+AG49 -> 0 | AI51: =AI50+AJ50+AK50+AL50+AM50+AN50+AO50+AN49 -> 0
A52: ='Du 24 juin au 28 juillet'!AQ52 -> 0 | B52: ='Du 24 juin au 28 juillet'!AR52 -> 0 | C52: ='Du 24 juin au 28 juillet'!AS52 -> 0 | D52: 0 | E52: ='Du 24 juin au 28 juillet'!E52 -> GG | F52: début | AP52: =G59+N59+U59+AB59+AI59 -> 0 | AQ52: =A52-(COUNTIF(G56:AO56,"CP")) -> 0 | AR52: =B52-(COUNTIF(G56:AO56,"CA")) -> 0 | AS52: =C52-(COUNTIF(G56:AO56,"CT")) -> 0 | AT52: =10-(COUNTIF(G56:AO56,"RH")) -> 10 | AU52: =D52+AP52-AP58 -> -7.2916667
F53: Fin
E54: ='Du 24 juin au 28 juillet'!E54 -> GG | F54: début
F55: Fin
G57: Contre poste, congés et formation | L57: 0 | N57: Contre poste, congés et formation | S57: 0 | U57: Contre poste, congés et formation | Z57: 0 | AB57: Contre poste, congés et formation | AG57: 0 | AI57: Contre poste, congés et formation | AN57: 0 | AP57: HEURES A REALISER SUR LA PERIODE
E58: Temps de travail | G58: =G53-G52+G55-G54 -> 0 | H58: =H53-H52+H55-H54 -> 0 | I58: =I53-I52+I55-I54 -> 0 | J58: =J53-J52+J55-J54 -> 0 | K58: =K53-K52+K55-K54 -> 0 | L58: =L53-L52+L55-L54 -> 0 | M58: =M53-M52+M55-M54 -> 0 | N58: =N53-N52+N55-N54 -> 0 | ... AO58: =AO53-AO52+AO55-AO54 -> 0 | AP58: 7.2916667
G59: =G58+H58+I58+J58+K58+L58+M58+L57 -> 0 | N59: =N58+O58+P58+Q58+R58+S58+T58+S57 -> 0 | U59: =U58+V58+W58+X58+Y58+Z58+AA58+Z57 -> 0 | AB59: =AB58+AC58+AD58+AE58+AF58+AG58+AH58+AG57 -> 0 | AI59: =AI58+AJ58+AK58+AL58+AM58+AN58+AO58+AN57 -> 0
A60: ='Du 24 juin au 28 juillet'!AQ60 -> 0 | B60: ='Du 24 juin au 28 juillet'!AR60 -> 0 | C60: ='Du 24 juin au 28 juillet'!AS60 -> 0 | D60: 0 | E60: ='Du 24 juin au 28 juillet'!E60 -> HH | F60: début | AP60: =G67+N67+U67+AB67+AI67 -> 0 | AQ60: =A60-(COUNTIF(G64:AO64,"CP")) -> 0 | AR60: =B60-(COUNTIF(G64:AO64,"CA")) -> 0 | AS60: =C60-(COUNTIF(G64:AO64,"CT")) -> 0 | AT60: =10-(COUNTIF(G64:AO64,"RH")) -> 10 | AU60: =D60+AP60-AP66 -> -7.2916667
F61: Fin
E62: ='Du 24 juin au 28 juillet'!E62 -> HH | F62: début
F63: Fin
G65: Contre poste, congés et formation | L65: 0 | N65: Contre poste, congés et formation | S65: 0 | U65: Contre poste, congés et formation | Z65: 0 | AB65: Contre poste, congés et formation | AG65: 0 | AI65: Contre poste, congés et formation | AN65: 0 | AP65: HEURES A REALISER SUR LA PERIODE
E66: Temps de travail | G66: =G61-G60+G63-G62 -> 0 | H66: =H61-H60+H63-H62 -> 0 | I66: =I61-I60+I63-I62 -> 0 | J66: =J61-J60+J63-J62 -> 0 | K66: =K61-K60+K63-K62 -> 0 | L66: =L61-L60+L63-L62 -> 0 | M66: =M61-M60+M63-M62 -> 0 | N66: =N61-N60+N63-N62 -> 0 | ... AO66: =AO61-AO60+AO63-AO62 -> 0 | AP66: 7.2916667
G67: =G66+H66+I66+J66+K66+L66+M66+L65 -> 0 | N67: =N66+O66+P66+Q66+R66+S66+T66+S65 -> 0 | U67: =U66+V66+W66+X66+Y66+Z66+AA66+Z65 -> 0 | AB67: =AB66+AC66+AD66+AE66+AF66+AG66+AH66+AG65 -> 0 | AI67: =AI66+AJ66+AK66+AL66+AM66+AN66+AO66+AN65 -> 0
A68: ='Du 24 juin au 28 juillet'!AQ68 -> 0 | B68: ='Du 24 juin au 28 juillet'!AR68 -> 0 | C68: ='Du 24 juin au 28 juillet'!AS68 -> 0 | D68: 0 | E68: ='Du 24 juin au 28 juillet'!E68 -> II | F68: début | AP68: =G75+N75+U75+AB75+AI75 -> 0 | AQ68: =A68-(COUNTIF(G72:AO72,"CP")) -> 0 | AR68: =B68-(COUNTIF(G72:AO72,"CA")) -> 0 | AS68: =C68-(COUNTIF(G72:AO72,"CT")) -> 0 | AT68: =10-(COUNTIF(G72:AO72,"RH")) -> 10 | AU68: =D68+AP68-AP74 -> -7.2916667
F69: Fin
E70: ='Du 24 juin au 28 juillet'!E70 -> II | F70: début
F71: Fin
G73: Contre poste, congés et formation | L73: 0 | N73: Contre poste, congés et formation | S73: 0 | U73: Contre poste, congés et formation | Z73: 0 | AB73: Contre poste, congés et formation | AG73: 0 | AI73: Contre poste, congés et formation | AN73: 0 | AP73: HEURES A REALISER SUR LA PERIODE
E74: Temps de travail | G74: =G69-G68+G71-G70 -> 0 | H74: =H69-H68+H71-H70 -> 0 | I74: =I69-I68+I71-I70 -> 0 | J74: =J69-J68+J71-J70 -> 0 | K74: =K69-K68+K71-K70 -> 0 | L74: =L69-L68+L71-L70 -> 0 | M74: =M69-M68+M71-M70 -> 0 | N74: =N69-N68+N71-N70 -> 0 | ... AO74: =AO69-AO68+AO71-AO70 -> 0 | AP74: 7.2916667
G75: =G74+H74+I74+J74+K74+L74+M74+L73 -> 0 | N75: =N74+O74+P74+Q74+R74+S74+T74+S73 -> 0 | U75: =U74+V74+W74+X74+Y74+Z74+AA74+Z73 -> 0 | AB75: =AB74+AC74+AD74+AE74+AF74+AG74+AH74+AG73 -> 0 | AI75: =AI74+AJ74+AK74+AL74+AM74+AN74+AO74+AN73 -> 0
A76: Planning réalisé le | H76: MAJ le | M76: Le/la chef(fe) de service éducatif | AB76: La direction | AP76: Page 1/2
G77: SERVICE OU UNITÉ | O77: =O1 -> JJ | Z77: PÉRIODE DU 5 JUIN AU 9 JUILLET 2023 | AP77: SOLDE FIN DE PÉRIODE | AV77: VALIDATION GRILLE PAR LES PROFESSIONNELS EN FIN DE CYCLE
A78: CP | B78: CA | C78: CT | D78: solde d’heure | E78: Noms des professionnels | G78: L | H78: M | I78: M | J78: J | K78: V | L78: S | M78: D | N78: L | O78: M | P78: M | Q78: J | R78: V | S78: S | T78: D | U78: L | V78: M | W78: M | X78: J | Y78: V | Z78: S | AA78: D | AB78: L | AC78: M | AD78: M | AE78: J | AF78: V | AG78: S | AH78: D | AI78: L | AJ78: M | AK78: M | AL78: J | AM78: V | AN78: S | AO78: D | AP78: Total | AQ78: CP | AR78: CA | AS78: CT | AT78: RH | AU78: solde d’heure
G79: 24 | H79: 25 | I79: 26 | J79: 27 | K79: 28 | L79: 29 | M79: 30 | N79: 1 | O79: 2 | P79: 3 | Q79: 4 | R79: 5 | S79: 6 | T79: 7 | U79: 8 | V79: 9 | W79: 10 | X79: 11 | Y79: 12 | Z79: 13 | AA79: 14 | AB79: 15 | AC79: 16 | AD79: 17 | AE79: 18 | AF79: 19 | AG79: 20 | AH79: 21 | AI79: 22 | AJ79: 23 | AK79: 24 | AL79: 25 | AM79: 26 | AN79: 27 | AO79: 28
A80: ='Du 24 juin au 28 juillet'!AQ80 -> 0 | B80: ='Du 24 juin au 28 juillet'!AR80 -> 0 | C80: ='Du 24 juin au 28 juillet'!AS80 -> 0 | D80: 0 | E80: ='Du 24 juin au 28 juillet'!E80 -> JJ | F80: début | AP80: =G87+N87+U87+AB87+AI87 -> 0 | AQ80: =A80-(COUNTIF(G84:AO84,"CP")) -> 0 | AR80: =B80-(COUNTIF(G84:AO84,"CA")) -> 0 | AS80: =C80-(COUNTIF(G84:AO84,"CT")) -> 0 | AT80: =10-(COUNTIF(G84:AO84,"RH")) -> 10 | AU80: =D80+AP80-AP86 -> -7.2916667
F81: Fin
E82: ='Du 24 juin au 28 juillet'!E82 -> JJ | F82: début
F83: Fin
G85: Contre poste, congés et formation | L85: 0 | N85: Contre poste, congés et formation | S85: 0 | U85: Contre poste, congés et formation | Z85: 0 | AB85: Contre poste, congés et formation | AG85: 0 | AI85: Contre poste, congés et formation | AN85: 0 | AP85: HEURES A REALISER SUR LA PERIODE
E86: Temps de travail | G86: =G81-G80+G83-G82 -> 0 | H86: =H81-H80+H83-H82 -> 0 | I86: =I81-I80+I83-I82 -> 0 | J86: =J81-J80+J83-J82 -> 0 | K86: =K81-K80+K83-K82 -> 0 | L86: =L81-L80+L83-L82 -> 0 | M86: =M81-M80+M83-M82 -> 0 | N86: =N81-N80+N83-N82 -> 0 | ... AO86: =AO81-AO80+AO83-AO82 -> 0 | AP86: 7.2916667
G87: =G86+H86+I86+J86+K86+L86+M86+L85 -> 0 | N87: =N86+O86+P86+Q86+R86+S86+T86+S85 -> 0 | U87: =U86+V86+W86+X86+Y86+Z86+AA86+Z85 -> 0 | AB87: =AB86+AC86+AD86+AE86+AF86+AG86+AH86+AG85 -> 0 | AI87: =AI86+AJ86+AK86+AL86+AM86+AN86+AO86+AN85 -> 0
A88: ='Du 24 juin au 28 juillet'!AQ88 -> 0 | B88: ='Du 24 juin au 28 juillet'!AR88 -> 0 | C88: ='Du 24 juin au 28 juillet'!AS88 -> 0 | D88: 0 | E88: ='Du 24 juin au 28 juillet'!E88 -> KK | F88: début | AP88: =G95+N95+U95+AB95+AI95 -> 0 | AQ88: =A88-(COUNTIF(G92:AO92,"CP")) -> 0 | AR88: =B88-(COUNTIF(G92:AO92,"CA")) -> 0 | AS88: =C88-(COUNTIF(G92:AO92,"CT")) -> 0 | AT88: =10-(COUNTIF(G92:AO92,"RH")) -> 10 | AU88: =D88+AP88-AP94 -> -7.2916667
F89: Fin
E90: ='Du 24 juin au 28 juillet'!E90 -> KK | F90: début
F91: Fin
G93: Contre poste, congés et formation | L93: 0 | N93: Contre poste, congés et formation | S93: 0 | U93: Contre poste, congés et formation | Z93: 0 | AB93: Contre poste, congés et formation | AG93: 0 | AI93: Contre poste, congés et formation | AN93: 0 | AP93: HEURES A REALISER SUR LA PERIODE
E94: Temps de travail | G94: =G89-G88+G91-G90 -> 0 | H94: =H89-H88+H91-H90 -> 0 | I94: =I89-I88+I91-I90 -> 0 | J94: =J89-J88+J91-J90 -> 0 | K94: =K89-K88+K91-K90 -> 0 | L94: =L89-L88+L91-L90 -> 0 | M94: =M89-M88+M91-M90 -> 0 | N94: =N89-N88+N91-N90 -> 0 | ... AO94: =AO89-AO88+AO91-AO90 -> 0 | AP94: 7.2916667
G95: =G94+H94+I94+J94+K94+L94+M94+L93 -> 0 | N95: =N94+O94+P94+Q94+R94+S94+T94+S93 -> 0 | U95: =U94+V94+W94+X94+Y94+Z94+AA94+Z93 -> 0 | AB95: =AB94+AC94+AD94+AE94+AF94+AG94+AH94+AG93 -> 0 | AI95: =AI94+AJ94+AK94+AL94+AM94+AN94+AO94+AN93 -> 0
A96: ='Du 24 juin au 28 juillet'!AQ96 -> 0 | B96: ='Du 24 juin au 28 juillet'!AR96 -> 0 | C96: ='Du 24 juin au 28 juillet'!AS96 -> 0 | D96: 0 | E96: ='Du 24 juin au 28 juillet'!E96 -> LL | F96: début | AP96: =G103+N103+U103+AB103+AI103 -> 0 | AQ96: =A96-(COUNTIF(G100:AO100,"CP")) -> 0 | AR96: =B96-(COUNTIF(G100:AO100,"CA")) -> 0 | AS96: =C96-(COUNTIF(G100:AO100,"CT")) -> 0 | AT96: =10-(COUNTIF(G100:AO100,"RH")) -> 10 | AU96: =D96+AP96-AP102 -> -7.2916667
F97: Fin
E98: ='Du 24 juin au 28 juillet'!E98 -> LL | F98: début
F99: Fin
G101: Contre poste, congés et formation | L101: 0 | N101: Contre poste, congés et formation | S101: 0 | U101: Contre poste, congés et formation | Z101: 0 | AB101: Contre poste, congés et formation | AG101: 0 | AI101: Contre poste, congés et formation | AN101: 0 | AP101: HEURES A REALISER SUR LA PERIODE
E102: Temps de travail | G102: =G97-G96+G99-G98 -> 0 | H102: =H97-H96+H99-H98 -> 0 | I102: =I97-I96+I99-I98 -> 0 | J102: =J97-J96+J99-J98 -> 0 | K102: =K97-K96+K99-K98 -> 0 | L102: =L97-L96+L99-L98 -> 0 | M102: =M97-M96+M99-M98 -> 0 | N102: =N97-N96+N99-N98 -> 0 | ... AO102: =AO97-AO96+AO99-AO98 -> 0 | AP102: 7.2916667
G103: =G102+H102+I102+J102+K102+L102+M102+L101 -> 0 | N103: =N102+O102+P102+Q102+R102+S102+T102+S101 -> 0 | U103: =U102+V102+W102+X102+Y102+Z102+AA102+Z101 -> 0 | AB103: =AB102+AC102+AD102+AE102+AF102+AG102+AH102+AG101 -> 0 | AI103: =AI102+AJ102+AK102+AL102+AM102+AN102+AO102+AN101 -> 0
A104: ='Du 24 juin au 28 juillet'!AQ104 -> 0 | B104: ='Du 24 juin au 28 juillet'!AR104 -> 0 | C104: ='Du 24 juin au 28 juillet'!AS104 -> 0 | D104: 0 | E104: ='Du 24 juin au 28 juillet'!E104 -> MM | F104: début | AP104: =G111+N111+U111+AB111+AI111 -> 0 | AQ104: =A104-(COUNTIF(G108:AO108,"CP")) -> 0 | AR104: =B104-(COUNTIF(G108:AO108,"CA")) -> 0 | AS104: =C104-(COUNTIF(G108:AO108,"CT")) -> 0 | AT104: =10-(COUNTIF(G108:AO108,"RH")) -> 10 | AU104: =D104+AP104-AP110 -> -7.2916667
F105: Fin
E106: ='Du 24 juin au 28 juillet'!E106 -> MM | F106: début
F107: Fin
G109: Contre poste, congés et formation | L109: 0 | N109: Contre poste, congés et formation | S109: 0 | U109: Contre poste, congés et formation | Z109: 0 | AB109: Contre poste, congés et formation | AG109: 0 | AI109: Contre poste, congés et formation | AN109: 0 | AP109: HEURES A REALISER SUR LA PERIODE
E110: Temps de travail | G110: =G105-G104+G107-G106 -> 0 | H110: =H105-H104+H107-H106 -> 0 | I110: =I105-I104+I107-I106 -> 0 | J110: =J105-J104+J107-J106 -> 0 | K110: =K105-K104+K107-K106 -> 0 | L110: =L105-L104+L107-L106 -> 0 | M110: =M105-M104+M107-M106 -> 0 | N110: =N105-N104+N107-N106 -> 0 | ... AO110: =AO105-AO104+AO107-AO106 -> 0 | AP110: 7.2916667
G111: =G110+H110+I110+J110+K110+L110+M110+L109 -> 0 | N111: =N110+O110+P110+Q110+R110+S110+T110+S109 -> 0 | U111: =U110+V110+W110+X110+Y110+Z110+AA110+Z109 -> 0 | AB111: =AB110+AC110+AD110+AE110+AF110+AG110+AH110+AG109 -> 0 | AI111: =AI110+AJ110+AK110+AL110+AM110+AN110+AO110+AN109 -> 0
A112: Planning réalisé le | F112: =F76 -> 0 | H112: MAJ le | J112: =J76 -> 0 | AB112: La direction | AP112: Page 2/2

Sheet Du 07 octob au 10 novembre
A1: FIN DE PERIODE PRECEDENTE | G1: SERVICE OU UNITÉ | O1: ='Du 24 juin au 28 juillet'!O1 -> JJ | Z1: PÉRIODE DU 07 OCTOBRE AU 10 NOVEMBRE 2024 | AP1: SOLDE FIN DE PÉRIODE | AV1: VALIDATION GRILLE PAR LES PROFESSIONNELS EN FIN DE CYCLE
A2: CP | B2: CA | C2: CT | D2: solde d’heure | E2: Noms des professionnels | G2: L | H2: M | I2: M | J2: J | K2: V | L2: S | M2: D | N2: L | O2: M | P2: M | Q2: J | R2: V | S2: S | T2: D | U2: L | V2: M | W2: M | X2: J | Y2: V | Z2: S | AA2: D | AB2: L | AC2: M | AD2: M | AE2: J | AF2: V | AG2: S | AH2: D | AI2: L | AJ2: M | AK2: M | AL2: J | AM2: V | AN2: S | AO2: D | AP2: Total | AQ2: CP | AR2: CA | AS2: CT | AT2: RH | AU2: solde d’heure
G3: 7 | H3: 8 | I3: 9 | J3: 10 | K3: 11 | L3: 12 | M3: 13 | N3: 14 | O3: 15 | P3: 16 | Q3: 17 | R3: 18 | S3: 19 | T3: 20 | U3: 21 | V3: 22 | W3: 23 | X3: 24 | Y3: 25 | Z3: 26 | AA3: 27 | AB3: 28 | AC3: 29 | AD3: 30 | AE3: 31 | AF3: 1 | AG3: 2 | AH3: 3 | AI3: 4 | AJ3: 5 | AK3: 6 | AL3: 7 | AM3: 8 | AN3: 9 | AO3: 10
A4: ='Du 24 juin au 28 juillet'!AQ4 -> -1 | B4: ='Du 24 juin au 28 juillet'!AR4 -> -1 | C4: ='Du 24 juin au 28 juillet'!AS4 -> -1 | D4: ='Du 24 juin au 28 juillet'!AP4 -> 7.3541667 | E4: ='Du 24 juin au 28 juillet'!E4 -> AA | F4: début | G4: 0.29166667 | I4: 0.29166667 | L4: 0.33333333 | M4: 0.33333333 | V4: 0.29166667 | AD4: 0.375 | AL4: 0.29166667 | AM4: 0.29166667 | AP4: =G11+N11+U11+AB11+AI11 -> 7.3541667 | AQ4: =A4-(COUNTIF(G8:AO8,"CP")) -> -1 | AR4: =B4-(COUNTIF(G8:AO8,"CA")) -> -1 | AS4: =C4-(COUNTIF(G8:AO8,"CT")) -> -1 | AT4: =10-(COUNTIF(G8:AO8,"RH")) -> 0 | AU4: =D4+AP4-AP10 -> 7.4166667
F5: Fin | G5: 0.59375 | I5: 0.59375 | L5: 0.70833333 | M5: 0.58333333 | V5: 0.70833333 | AD5: 0.75 | AL5: 0.59375 | AM5: 0.59375
E6: ='Du 24 juin au 28 juillet'!E6 -> AA | F6: début | H6: 0.5625 | O6: 0.5625 | P6: 0.5625 | S6: 0.5 | T6: 0.5 | W6: 0.54166667 | X6: 0.58333333 | Y6: 0.58333333 | AB6: 0.58333333 | AC6: 0.5625 | AE6: 0.58333333 | AF6: 0.58333333 | AI6: 0.58333333 | AJ6: 0.5625
F7: Fin | H7: 0.83333333 | O7: 0.91666667 | P7: 0.91666667 | S7: 0.91666667 | T7: 0.91666667 | W7: 0.91666667 | X7: 0.91666667 | Y7: 0.91666667 | AB7: 0.91666667 | AC7: 0.75 | AE7: 0.91666667 | AF7: 0.91666667 | AI7: 0.91666667 | AJ7: 0.91666667
J8: RH | K8: RH | Q8: RH | R8: RH | Z8: RH | AA8: RH | AG8: RH | AH8: RH | AN8: RH | AO8: RH
G9: Contre poste, congés et formation | L9: 0 | N9: Contre poste, congés et formation | S9: 0 | U9: Contre poste, congés et formation | Z9: 0 | AB9: Contre poste, congés et formation | AG9: 0 | AI9: Contre poste, congés et formation | AN9: 0 | AP9: HEURES A REALISER SUR LA PERIODE
E10: Temps de travail | G10: =G5-G4+G7-G6 -> 0.30208333 | H10: =H5-H4+H7-H6 -> 0.27083333 | I10: =I5-I4+I7-I6 -> 0.30208333 | J10: =J5-J4+J7-J6 -> 0 | K10: =K5-K4+K7-K6 -> 0 | L10: =L5-L4+L7-L6 -> 0.375 | M10: =M5-M4+M7-M6 -> 0.25 | N10: =N5-N4+N7-N6 -> 0 | ... AO10: =AO5-AO4+AO7-AO6 -> 0 | AP10: 7.2916667
G11: =G10+H10+I10+J10+K10+L10+M10+L9 -> 1.5 | N11: =N10+O10+P10+Q10+R10+S10+T10+S9 -> 1.5416667 | U11: =U10+V10+W10+X10+Y10+Z10+AA10+Z9 -> 1.4583333 | AB11: =AB10+AC10+AD10+AE10+AF10+AG10+AH10+AG9 -> 1.5625 | AI11: =AI10+AJ10+AK10+AL10+AM10+AN10+AO10+AN9 -> 1.2916667
A12: ='Du 24 juin au 28 juillet'!AQ12 -> 0 | B12: ='Du 24 juin au 28 juillet'!AR12 -> 0 | C12: ='Du 24 juin au 28 juillet'!AS12 -> 0 | D12: 0 | E12: ='Du 24 juin au 28 juillet'!E12 -> BB | F12: début | AP12: =G19+N19+U19+AB19+AI19 -> 0 | AQ12: =A12-(COUNTIF(G16:AO16,"CP")) -> 0 | AR12: =B12-(COUNTIF(G16:AO16,"CA")) -> 0 | AS12: =C12-(COUNTIF(G16:AO16,"CT")) -> 0 | AT12: =10-(COUNTIF(G16:AO16,"RH")) -> 10 | AU12: =D12+AP12-AP18 -> -7.2916667
F13: Fin
E14: ='Du 24 juin au 28 juillet'!E14 -> BB | F14: début
F15: Fin
G17: Contre poste, congés et formation | L17: 0 | N17: Contre poste, congés et formation | S17: 0 | U17: Contre poste, congés et formation | Z17: 0 | AB17: Contre poste, congés et formation | AG17: 0 | AI17: Contre poste, congés et formation | AN17: 0 | AP17: HEURES A REALISER SUR LA PERIODE
E18: Temps de travail | G18: =G13-G12+G15-G14 -> 0 | H18: =H13-H12+H15-H14 -> 0 | I18: =I13-I12+I15-I14 -> 0 | J18: =J13-J12+J15-J14 -> 0 | K18: =K13-K12+K15-K14 -> 0 | L18: =L13-L12+L15-L14 -> 0 | M18: =M13-M12+M15-M14 -> 0 | N18: =N13-N12+N15-N14 -> 0 | ... AO18: =AO13-AO12+AO15-AO14 -> 0 | AP18: 7.2916667
G19: =G18+H18+I18+J18+K18+L18+M18+L17 -> 0 | N19: =N18+O18+P18+Q18+R18+S18+T18+S17 -> 0 | U19: =U18+V18+W18+X18+Y18+Z18+AA18+Z17 -> 0 | AB19: =AB18+AC18+AD18+AE18+AF18+AG18+AH18+AG17 -> 0 | AI19: =AI18+AJ18+AK18+AL18+AM18+AN18+AO18+AN17 -> 0
A20: ='Du 24 juin au 28 juillet'!AQ20 -> 0 | B20: ='Du 24 juin au 28 juillet'!AR20 -> 0 | C20: ='Du 24 juin au 28 juillet'!AS20 -> 0 | D20: 0 | E20: ='Du 24 juin au 28 juillet'!E20 -> CC | F20: début | AP20: =G27+N27+U27+AB27+AI27 -> 0 | AQ20: =A20-(COUNTIF(G24:AO24,"CP")) -> 0 | AR20: =B20-(COUNTIF(G24:AO24,"CA")) -> 0 | AS20: =C20-(COUNTIF(G24:AO24,"CT")) -> 0 | AT20: =10-(COUNTIF(G24:AO24,"RH")) -> 10 | AU20: =D20+AP20-AP26 -> -7.2916667
F21: Fin
E22: ='Du 24 juin au 28 juillet'!E22 -> CC | F22: début
F23: Fin
G25: Contre poste, congés et formation | L25: 0 | N25: Contre poste, congés et formation | S25: 0 | U25: Contre poste, congés et formation | Z25: 0 | AB25: Contre poste, congés et formation | AG25: 0 | AI25: Contre poste, congés et formation | AN25: 0 | AP25: HEURES A REALISER SUR LA PERIODE
E26: Temps de travail | G26: =G21-G20+G23-G22 -> 0 | H26: =H21-H20+H23-H22 -> 0 | I26: =I21-I20+I23-I22 -> 0 | J26: =J21-J20+J23-J22 -> 0 | K26: =K21-K20+K23-K22 -> 0 | L26: =L21-L20+L23-L22 -> 0 | M26: =M21-M20+M23-M22 -> 0 | N26: =N21-N20+N23-N22 -> 0 | ... AO26: =AO21-AO20+AO23-AO22 -> 0 | AP26: 7.2916667
G27: =G26+H26+I26+J26+K26+L26+M26+L25 -> 0 | N27: =N26+O26+P26+Q26+R26+S26+T26+S25 -> 0 | U27: =U26+V26+W26+X26+Y26+Z26+AA26+Z25 -> 0 | AB27: =AB26+AC26+AD26+AE26+AF26+AG26+AH26+AG25 -> 0 | AI27: =AI26+AJ26+AK26+AL26+AM26+AN26+AO26+AN25 -> 0
A28: ='Du 24 juin au 28 juillet'!AQ28 -> 0 | B28: ='Du 24 juin au 28 juillet'!AR28 -> 0 | C28: ='Du 24 juin au 28 juillet'!AS28 -> 0 | D28: 0 | E28: ='Du 24 juin au 28 juillet'!E28 -> DD | F28: début | AP28: =G35+N35+U35+AB35+AI35 -> 0 | AQ28: =A28-(COUNTIF(G32:AO32,"CP")) -> 0 | AR28: =B28-(COUNTIF(G32:AO32,"CA")) -> 0 | AS28: =C28-(COUNTIF(G32:AO32,"CT")) -> 0 | AT28: =10-(COUNTIF(G32:AO32,"RH")) -> 10 | AU28: =D28+AP28-AP34 -> -7.2916667
F29: Fin
E30: ='Du 24 juin au 28 juillet'!E30 -> DD | F30: début
F31: Fin
G33: Contre poste, congés et formation | L33: 0 | N33: Contre poste, congés et formation | S33: 0 | U33: Contre poste, congés et formation | Z33: 0 | AB33: Contre poste, congés et formation | AG33: 0 | AI33: Contre poste, congés et formation | AN33: 0 | AP33: HEURES A REALISER SUR LA PERIODE
E34: Temps de travail | G34: =G29-G28+G31-G30 -> 0 | H34: =H29-H28+H31-H30 -> 0 | I34: =I29-I28+I31-I30 -> 0 | J34: =J29-J28+J31-J30 -> 0 | K34: =K29-K28+K31-K30 -> 0 | L34: =L29-L28+L31-L30 -> 0 | M34: =M29-M28+M31-M30 -> 0 | N34: =N29-N28+N31-N30 -> 0 | ... AO34: =AO29-AO28+AO31-AO30 -> 0 | AP34: 7.2916667
G35: =G34+H34+I34+J34+K34+L34+M34+L33 -> 0 | N35: =N34+O34+P34+Q34+R34+S34+T34+S33 -> 0 | U35: =U34+V34+W34+X34+Y34+Z34+AA34+Z33 -> 0 | AB35: =AB34+AC34+AD34+AE34+AF34+AG34+AH34+AG33 -> 0 | AI35: =AI34+AJ34+AK34+AL34+AM34+AN34+AO34+AN33 -> 0
A36: ='Du 24 juin au 28 juillet'!AQ36 -> 0 | B36: ='Du 24 juin au 28 juillet'!AR36 -> 0 | C36: ='Du 24 juin au 28 juillet'!AS36 -> 0 | D36: 0 | E36: ='Du 24 juin au 28 juillet'!E36 -> EE | F36: début | AP36: =G43+N43+U43+AB43+AI43 -> 0 | AQ36: =A36-(COUNTIF(G40:AO40,"CP")) -> 0 | AR36: =B36-(COUNTIF(G40:AO40,"CA")) -> 0 | AS36: =C36-(COUNTIF(G40:AO40,"CT")) -> 0 | AT36: =10-(COUNTIF(G40:AO40,"RH")) -> 10 | AU36: =D36+AP36-AP42 -> -7.2916667
F37: Fin
E38: ='Du 24 juin au 28 juillet'!E38 -> EE | F38: début
F39: Fin
G41: Contre poste, congés et formation | L41: 0 | N41: Contre poste, congés et formation | S41: 0 | U41: Contre poste, congés et formation | Z41: 0 | AB41: Contre poste, congés et formation | AG41: 0 | AI41: Contre poste, congés et formation | AN41: 0 | AP41: HEURES A REALISER SUR LA PERIODE
E42: Temps de travail | G42: =G37-G36+G39-G38 -> 0 | H42: =H37-H36+H39-H38 -> 0 | I42: =I37-I36+I39-I38 -> 0 | J42: =J37-J36+J39-J38 -> 0 | K42: =K37-K36+K39-K38 -> 0 | L42: =L37-L36+L39-L38 -> 0 | M42: =M37-M36+M39-M38 -> 0 | N42: =N37-N36+N39-N38 -> 0 | ... AO42: =AO37-AO36+AO39-AO38 -> 0 | AP42: 7.2916667
G43: =G42+H42+I42+J42+K42+L42+M42+L41 -> 0 | N43: =N42+O42+P42+Q42+R42+S42+T42+S41 -> 0 | U43: =U42+V42+W42+X42+Y42+Z42+AA42+Z41 -> 0 | AB43: =AB42+AC42+AD42+AE42+AF42+AG42+AH42+AG41 -> 0 | AI43: =AI42+AJ42+AK42+AL42+AM42+AN42+AO42+AN41 -> 0
A44: ='Du 24 juin au 28 juillet'!AQ44 -> 0 | B44: ='Du 24 juin au 28 juillet'!AR44 -> 0 | C44: ='Du 24 juin au 28 juillet'!AS44 -> 0 | D44: 0 | E44: ='Du 24 juin au 28 juillet'!E44 -> FF | F44: début | AP44: =G51+N51+U51+AB51+AI51 -> 0 | AQ44: =A44-(COUNTIF(G48:AO48,"CP")) -> 0 | AR44: =B44-(COUNTIF(G48:AO48,"CA")) -> 0 | AS44: =C44-(COUNTIF(G48:AO48,"CT")) -> 0 | AT44: =10-(COUNTIF(G48:AO48,"RH")) -> 10 | AU44: =D44+AP44-AP50 -> -7.2916667
F45: Fin
E46: ='Du 24 juin au 28 juillet'!E46 -> FF | F46: début
F47: Fin
G49: Contre poste, congés et formation | L49: 0 | N49: Contre poste, congés et formation | S49: 0 | U49: Contre poste, congés et formation | Z49: 0 | AB49: Contre poste, congés et formation | AG49: 0 | AI49: Contre poste, congés et formation | AN49: 0 | AP49: HEURES A REALISER SUR LA PERIODE
E50: Temps de travail | G50: =G45-G44+G47-G46 -> 0 | H50: =H45-H44+H47-H46 -> 0 | I50: =I45-I44+I47-I46 -> 0 | J50: =J45-J44+J47-J46 -> 0 | K50: =K45-K44+K47-K46 -> 0 | L50: =L45-L44+L47-L46 -> 0 | M50: =M45-M44+M47-M46 -> 0 | N50: =N45-N44+N47-N46 -> 0 | ... AO50: =AO45-AO44+AO47-AO46 -> 0 | AP50: 7.2916667
G51: =G50+H50+I50+J50+K50+L50+M50+L49 -> 0 | N51: =N50+O50+P50+Q50+R50+S50+T50+S49 -> 0 | U51: =U50+V50+W50+X50+Y50+Z50+AA50+Z49 -> 0 | AB51: =AB50+AC50+AD50+AE50+AF50+AG50+AH50+AG49 -> 0 | AI51: =AI50+AJ50+AK50+AL50+AM50+AN50+AO50+AN49 -> 0
A52: ='Du 24 juin au 28 juillet'!AQ52 -> 0 | B52: ='Du 24 juin au 28 juillet'!AR52 -> 0 | C52: ='Du 24 juin au 28 juillet'!AS52 -> 0 | D52: 0 | E52: ='Du 24 juin au 28 juillet'!E52 -> GG | F52: début | AP52: =G59+N59+U59+AB59+AI59 -> 0 | AQ52: =A52-(COUNTIF(G56:AO56,"CP")) -> 0 | AR52: =B52-(COUNTIF(G56:AO56,"CA")) -> 0 | AS52: =C52-(COUNTIF(G56:AO56,"CT")) -> 0 | AT52: =10-(COUNTIF(G56:AO56,"RH")) -> 10 | AU52: =D52+AP52-AP58 -> -7.2916667
F53: Fin
E54: ='Du 24 juin au 28 juillet'!E54 -> GG | F54: début
F55: Fin
G57: Contre poste, congés et formation | L57: 0 | N57: Contre poste, congés et formation | S57: 0 | U57: Contre poste, congés et formation | Z57: 0 | AB57: Contre poste, congés et formation | AG57: 0 | AI57: Contre poste, congés et formation | AN57: 0 | AP57: HEURES A REALISER SUR LA PERIODE
E58: Temps de travail | G58: =G53-G52+G55-G54 -> 0 | H58: =H53-H52+H55-H54 -> 0 | I58: =I53-I52+I55-I54 -> 0 | J58: =J53-J52+J55-J54 -> 0 | K58: =K53-K52+K55-K54 -> 0 | L58: =L53-L52+L55-L54 -> 0 | M58: =M53-M52+M55-M54 -> 0 | N58: =N53-N52+N55-N54 -> 0 | ... AO58: =AO53-AO52+AO55-AO54 -> 0 | AP58: 7.2916667
G59: =G58+H58+I58+J58+K58+L58+M58+L57 -> 0 | N59: =N58+O58+P58+Q58+R58+S58+T58+S57 -> 0 | U59: =U58+V58+W58+X58+Y58+Z58+AA58+Z57 -> 0 | AB59: =AB58+AC58+AD58+AE58+AF58+AG58+AH58+AG57 -> 0 | AI59: =AI58+AJ58+AK58+AL58+AM58+AN58+AO58+AN57 -> 0
A60: ='Du 24 juin au 28 juillet'!AQ60 -> 0 | B60: ='Du 24 juin au 28 juillet'!AR60 -> 0 | C60: ='Du 24 juin au 28 juillet'!AS60 -> 0 | D60: 0 | E60: ='Du 24 juin au 28 juillet'!E60 -> HH | F60: début | AP60: =G67+N67+U67+AB67+AI67 -> 0 | AQ60: =A60-(COUNTIF(G64:AO64,"CP")) -> 0 | AR60: =B60-(COUNTIF(G64:AO64,"CA")) -> 0 | AS60: =C60-(COUNTIF(G64:AO64,"CT")) -> 0 | AT60: =10-(COUNTIF(G64:AO64,"RH")) -> 10 | AU60: =D60+AP60-AP66 -> -7.2916667
F61: Fin
E62: ='Du 24 juin au 28 juillet'!E62 -> HH | F62: début
F63: Fin
G65: Contre poste, congés et formation | L65: 0 | N65: Contre poste, congés et formation | S65: 0 | U65: Contre poste, congés et formation | Z65: 0 | AB65: Contre poste, congés et formation | AG65: 0 | AI65: Contre poste, congés et formation | AN65: 0 | AP65: HEURES A REALISER SUR LA PERIODE
E66: Temps de travail | G66: =G61-G60+G63-G62 -> 0 | H66: =H61-H60+H63-H62 -> 0 | I66: =I61-I60+I63-I62 -> 0 | J66: =J61-J60+J63-J62 -> 0 | K66: =K61-K60+K63-K62 -> 0 | L66: =L61-L60+L63-L62 -> 0 | M66: =M61-M60+M63-M62 -> 0 | N66: =N61-N60+N63-N62 -> 0 | ... AO66: =AO61-AO60+AO63-AO62 -> 0 | AP66: 7.2916667
G67: =G66+H66+I66+J66+K66+L66+M66+L65 -> 0 | N67: =N66+O66+P66+Q66+R66+S66+T66+S65 -> 0 | U67: =U66+V66+W66+X66+Y66+Z66+AA66+Z65 -> 0 | AB67: =AB66+AC66+AD66+AE66+AF66+AG66+AH66+AG65 -> 0 | AI67: =AI66+AJ66+AK66+AL66+AM66+AN66+AO66+AN65 -> 0
A68: ='Du 24 juin au 28 juillet'!AQ68 -> 0 | B68: ='Du 24 juin au 28 juillet'!AR68 -> 0 | C68: ='Du 24 juin au 28 juillet'!AS68 -> 0 | D68: 0 | E68: ='Du 24 juin au 28 juillet'!E68 -> II | F68: début | AP68: =G75+N75+U75+AB75+AI75 -> 0 | AQ68: =A68-(COUNTIF(G72:AO72,"CP")) -> 0 | AR68: =B68-(COUNTIF(G72:AO72,"CA")) -> 0 | AS68: =C68-(COUNTIF(G72:AO72,"CT")) -> 0 | AT68: =10-(COUNTIF(G72:AO72,"RH")) -> 10 | AU68: =D68+AP68-AP74 -> -7.2916667
F69: Fin
E70: ='Du 24 juin au 28 juillet'!E70 -> II | F70: début
F71: Fin
G73: Contre poste, congés et formation | L73: 0 | N73: Contre poste, congés et formation | S73: 0 | U73: Contre poste, congés et formation | Z73: 0 | AB73: Contre poste, congés et formation | AG73: 0 | AI73: Contre poste, congés et formation | AN73: 0 | AP73: HEURES A REALISER SUR LA PERIODE
E74: Temps de travail | G74: =G69-G68+G71-G70 -> 0 | H74: =H69-H68+H71-H70 -> 0 | I74: =I69-I68+I71-I70 -> 0 | J74: =J69-J68+J71-J70 -> 0 | K74: =K69-K68+K71-K70 -> 0 | L74: =L69-L68+L71-L70 -> 0 | M74: =M69-M68+M71-M70 -> 0 | N74: =N69-N68+N71-N70 -> 0 | ... AO74: =AO69-AO68+AO71-AO70 -> 0 | AP74: 7.2916667
G75: =G74+H74+I74+J74+K74+L74+M74+L73 -> 0 | N75: =N74+O74+P74+Q74+R74+S74+T74+S73 -> 0 | U75: =U74+V74+W74+X74+Y74+Z74+AA74+Z73 -> 0 | AB75: =AB74+AC74+AD74+AE74+AF74+AG74+AH74+AG73 -> 0 | AI75: =AI74+AJ74+AK74+AL74+AM74+AN74+AO74+AN73 -> 0
A76: Planning réalisé le | H76: MAJ le | M76: Le/la chef(fe) de service éducatif | AB76: La direction | AP76: Page 1/2
G77: SERVICE OU UNITÉ | O77: =O1 -> JJ | Z77: PÉRIODE DU 5 JUIN AU 9 JUILLET 2023 | AP77: SOLDE FIN DE PÉRIODE | AV77: VALIDATION GRILLE PAR LES PROFESSIONNELS EN FIN DE CYCLE
A78: CP | B78: CA | C78: CT | D78: solde d’heure | E78: Noms des professionnels | G78: L | H78: M | I78: M | J78: J | K78: V | L78: S | M78: D | N78: L | O78: M | P78: M | Q78: J | R78: V | S78: S | T78: D | U78: L | V78: M | W78: M | X78: J | Y78: V | Z78: S | AA78: D | AB78: L | AC78: M | AD78: M | AE78: J | AF78: V | AG78: S | AH78: D | AI78: L | AJ78: M | AK78: M | AL78: J | AM78: V | AN78: S | AO78: D | AP78: Total | AQ78: CP | AR78: CA | AS78: CT | AT78: RH | AU78: solde d’heure
G79: 24 | H79: 25 | I79: 26 | J79: 27 | K79: 28 | L79: 29 | M79: 30 | N79: 1 | O79: 2 | P79: 3 | Q79: 4 | R79: 5 | S79: 6 | T79: 7 | U79: 8 | V79: 9 | W79: 10 | X79: 11 | Y79: 12 | Z79: 13 | AA79: 14 | AB79: 15 | AC79: 16 | AD79: 17 | AE79: 18 | AF79: 19 | AG79: 20 | AH79: 21 | AI79: 22 | AJ79: 23 | AK79: 24 | AL79: 25 | AM79: 26 | AN79: 27 | AO79: 28
A80: ='Du 24 juin au 28 juillet'!AQ80 -> 0 | B80: ='Du 24 juin au 28 juillet'!AR80 -> 0 | C80: ='Du 24 juin au 28 juillet'!AS80 -> 0 | D80: 0 | E80: ='Du 24 juin au 28 juillet'!E80 -> JJ | F80: début | AP80: =G87+N87+U87+AB87+AI87 -> 0 | AQ80: =A80-(COUNTIF(G84:AO84,"CP")) -> 0 | AR80: =B80-(COUNTIF(G84:AO84,"CA")) -> 0 | AS80: =C80-(COUNTIF(G84:AO84,"CT")) -> 0 | AT80: =10-(COUNTIF(G84:AO84,"RH")) -> 10 | AU80: =D80+AP80-AP86 -> -7.2916667
F81: Fin
E82: ='Du 24 juin au 28 juillet'!E82 -> JJ | F82: début
F83: Fin
G85: Contre poste, congés et formation | L85: 0 | N85: Contre poste, congés et formation | S85: 0 | U85: Contre poste, congés et formation | Z85: 0 | AB85: Contre poste, congés et formation | AG85: 0 | AI85: Contre poste, congés et formation | AN85: 0 | AP85: HEURES A REALISER SUR LA PERIODE
E86: Temps de travail | G86: =G81-G80+G83-G82 -> 0 | H86: =H81-H80+H83-H82 -> 0 | I86: =I81-I80+I83-I82 -> 0 | J86: =J81-J80+J83-J82 -> 0 | K86: =K81-K80+K83-K82 -> 0 | L86: =L81-L80+L83-L82 -> 0 | M86: =M81-M80+M83-M82 -> 0 | N86: =N81-N80+N83-N82 -> 0 | ... AO86: =AO81-AO80+AO83-AO82 -> 0 | AP86: 7.2916667
G87: =G86+H86+I86+J86+K86+L86+M86+L85 -> 0 | N87: =N86+O86+P86+Q86+R86+S86+T86+S85 -> 0 | U87: =U86+V86+W86+X86+Y86+Z86+AA86+Z85 -> 0 | AB87: =AB86+AC86+AD86+AE86+AF86+AG86+AH86+AG85 -> 0 | AI87: =AI86+AJ86+AK86+AL86+AM86+AN86+AO86+AN85 -> 0
A88: ='Du 24 juin au 28 juillet'!AQ88 -> 0 | B88: ='Du 24 juin au 28 juillet'!AR88 -> 0 | C88: ='Du 24 juin au 28 juillet'!AS88 -> 0 | D88: 0 | E88: ='Du 24 juin au 28 juillet'!E88 -> KK | F88: début | AP88: =G95+N95+U95+AB95+AI95 -> 0 | AQ88: =A88-(COUNTIF(G92:AO92,"CP")) -> 0 | AR88: =B88-(COUNTIF(G92:AO92,"CA")) -> 0 | AS88: =C88-(COUNTIF(G92:AO92,"CT")) -> 0 | AT88: =10-(COUNTIF(G92:AO92,"RH")) -> 10 | AU88: =D88+AP88-AP94 -> -7.2916667
F89: Fin
E90: ='Du 24 juin au 28 juillet'!E90 -> KK | F90: début
F91: Fin
G93: Contre poste, congés et formation | L93: 0 | N93: Contre poste, congés et formation | S93: 0 | U93: Contre poste, congés et formation | Z93: 0 | AB93: Contre poste, congés et formation | AG93: 0 | AI93: Contre poste, congés et formation | AN93: 0 | AP93: HEURES A REALISER SUR LA PERIODE
E94: Temps de travail | G94: =G89-G88+G91-G90 -> 0 | H94: =H89-H88+H91-H90 -> 0 | I94: =I89-I88+I91-I90 -> 0 | J94: =J89-J88+J91-J90 -> 0 | K94: =K89-K88+K91-K90 -> 0 | L94: =L89-L88+L91-L90 -> 0 | M94: =M89-M88+M91-M90 -> 0 | N94: =N89-N88+N91-N90 -> 0 | ... AO94: =AO89-AO88+AO91-AO90 -> 0 | AP94: 7.2916667
G95: =G94+H94+I94+J94+K94+L94+M94+L93 -> 0 | N95: =N94+O94+P94+Q94+R94+S94+T94+S93 -> 0 | U95: =U94+V94+W94+X94+Y94+Z94+AA94+Z93 -> 0 | AB95: =AB94+AC94+AD94+AE94+AF94+AG94+AH94+AG93 -> 0 | AI95: =AI94+AJ94+AK94+AL94+AM94+AN94+AO94+AN93 -> 0
A96: ='Du 24 juin au 28 juillet'!AQ96 -> 0 | B96: ='Du 24 juin au 28 juillet'!AR96 -> 0 | C96: ='Du 24 juin au 28 juillet'!AS96 -> 0 | D96: 0 | E96: ='Du 24 juin au 28 juillet'!E96 -> LL | F96: début | AP96: =G103+N103+U103+AB103+AI103 -> 0 | AQ96: =A96-(COUNTIF(G100:AO100,"CP")) -> 0 | AR96: =B96-(COUNTIF(G100:AO100,"CA")) -> 0 | AS96: =C96-(COUNTIF(G100:AO100,"CT")) -> 0 | AT96: =10-(COUNTIF(G100:AO100,"RH")) -> 10 | AU96: =D96+AP96-AP102 -> -7.2916667
F97: Fin
E98: ='Du 24 juin au 28 juillet'!E98 -> LL | F98: début
F99: Fin
G101: Contre poste, congés et formation | L101: 0 | N101: Contre poste, congés et formation | S101: 0 | U101: Contre poste, congés et formation | Z101: 0 | AB101: Contre poste, congés et formation | AG101: 0 | AI101: Contre poste, congés et formation | AN101: 0 | AP101: HEURES A REALISER SUR LA PERIODE
E102: Temps de travail | G102: =G97-G96+G99-G98 -> 0 | H102: =H97-H96+H99-H98 -> 0 | I102: =I97-I96+I99-I98 -> 0 | J102: =J97-J96+J99-J98 -> 0 | K102: =K97-K96+K99-K98 -> 0 | L102: =L97-L96+L99-L98 -> 0 | M102: =M97-M96+M99-M98 -> 0 | N102: =N97-N96+N99-N98 -> 0 | ... AO102: =AO97-AO96+AO99-AO98 -> 0 | AP102: 7.2916667
G103: =G102+H102+I102+J102+K102+L102+M102+L101 -> 0 | N103: =N102+O102+P102+Q102+R102+S102+T102+S101 -> 0 | U103: =U102+V102+W102+X102+Y102+Z102+AA102+Z101 -> 0 | AB103: =AB102+AC102+AD102+AE102+AF102+AG102+AH102+AG101 -> 0 | AI103: =AI102+AJ102+AK102+AL102+AM102+AN102+AO102+AN101 -> 0
A104: ='Du 24 juin au 28 juillet'!AQ104 -> 0 | B104: ='Du 24 juin au 28 juillet'!AR104 -> 0 | C104: ='Du 24 juin au 28 juillet'!AS104 -> 0 | D104: 0 | E104: ='Du 24 juin au 28 juillet'!E104 -> MM | F104: début | AP104: =G111+N111+U111+AB111+AI111 -> 0 | AQ104: =A104-(COUNTIF(G108:AO108,"CP")) -> 0 | AR104: =B104-(COUNTIF(G108:AO108,"CA")) -> 0 | AS104: =C104-(COUNTIF(G108:AO108,"CT")) -> 0 | AT104: =10-(COUNTIF(G108:AO108,"RH")) -> 10 | AU104: =D104+AP104-AP110 -> -7.2916667
F105: Fin
E106: ='Du 24 juin au 28 juillet'!E106 -> MM | F106: début
F107: Fin
G109: Contre poste, congés et formation | L109: 0 | N109: Contre poste, congés et formation | S109: 0 | U109: Contre poste, congés et formation | Z109: 0 | AB109: Contre poste, congés et formation | AG109: 0 | AI109: Contre poste, congés et formation | AN109: 0 | AP109: HEURES A REALISER SUR LA PERIODE
E110: Temps de travail | G110: =G105-G104+G107-G106 -> 0 | H110: =H105-H104+H107-H106 -> 0 | I110: =I105-I104+I107-I106 -> 0 | J110: =J105-J104+J107-J106 -> 0 | K110: =K105-K104+K107-K106 -> 0 | L110: =L105-L104+L107-L106 -> 0 | M110: =M105-M104+M107-M106 -> 0 | N110: =N105-N104+N107-N106 -> 0 | ... AO110: =AO105-AO104+AO107-AO106 -> 0 | AP110: 7.2916667
G111: =G110+H110+I110+J110+K110+L110+M110+L109 -> 0 | N111: =N110+O110+P110+Q110+R110+S110+T110+S109 -> 0 | U111: =U110+V110+W110+X110+Y110+Z110+AA110+Z109 -> 0 | AB111: =AB110+AC110+AD110+AE110+AF110+AG110+AH110+AG109 -> 0 | AI111: =AI110+AJ110+AK110+AL110+AM110+AN110+AO110+AN109 -> 0
A112: Planning réalisé le | F112: =F76 -> 0 | H112: MAJ le | J112: =J76 -> 0 | AB112: La direction | AP112: Page 2/2

Sheet Du 11 novembre au 15 décembre
A1: FIN DE PERIODE PRECEDENTE | G1: SERVICE OU UNITÉ | O1: ='Du 24 juin au 28 juillet'!O1 -> JJ | Z1: PÉRIODE DU 11 NOVEMBRE AU 15 DECEMBRE 2024 | AP1: SOLDE FIN DE PÉRIODE | AV1: VALIDATION GRILLE PAR LES PROFESSIONNELS EN FIN DE CYCLE
A2: CP | B2: CA | C2: CT | D2: solde d’heure | E2: Noms des professionnels | G2: L | H2: M | I2: M | J2: J | K2: V | L2: S | M2: D | N2: L | O2: M | P2: M | Q2: J | R2: V | S2: S | T2: D | U2: L | V2: M | W2: M | X2: J | Y2: V | Z2: S | AA2: D | AB2: L | AC2: M | AD2: M | AE2: J | AF2: V | AG2: S | AH2: D | AI2: L | AJ2: M | AK2: M | AL2: J | AM2: V | AN2: S | AO2: D | AP2: Total | AQ2: CP | AR2: CA | AS2: CT | AT2: RH | AU2: solde d’heure
G3: 11 | H3: 12 | I3: 13 | J3: 14 | K3: 15 | L3: 16 | M3: 17 | N3: 18 | O3: 19 | P3: 20 | Q3: 21 | R3: 22 | S3: 23 | T3: 24 | U3: 25 | V3: 26 | W3: 27 | X3: 28 | Y3: 29 | Z3: 30 | AA3: 1 | AB3: 2 | AC3: 3 | AD3: 4 | AE3: 5 | AF3: 6 | AG3: 7 | AH3: 8 | AI3: 9 | AJ3: 10 | AK3: 11 | AL3: 12 | AM3: 13 | AN3: 14 | AO3: 15
A4: ='Du 24 juin au 28 juillet'!AQ4 -> -1 | B4: ='Du 24 juin au 28 juillet'!AR4 -> -1 | C4: ='Du 24 juin au 28 juillet'!AS4 -> -1 | D4: ='Du 24 juin au 28 juillet'!AP4 -> 7.3541667 | E4: ='Du 24 juin au 28 juillet'!E4 -> AA | F4: début | G4: 0.29166667 | I4: 0.29166667 | L4: 0.33333333 | M4: 0.33333333 | V4: 0.29166667 | AD4: 0.375 | AL4: 0.29166667 | AM4: 0.29166667 | AP4: =G11+N11+U11+AB11+AI11 -> 7.3541667 | AQ4: =A4-(COUNTIF(G8:AO8,"CP")) -> -1 | AR4: =B4-(COUNTIF(G8:AO8,"CA")) -> -1 | AS4: =C4-(COUNTIF(G8:AO8,"CT")) -> -1 | AT4: =10-(COUNTIF(G8:AO8,"RH")) -> 0 | AU4: =D4+AP4-AP10 -> 7.4166667
F5: Fin | G5: 0.59375 | I5: 0.59375 | L5: 0.70833333 | M5: 0.58333333 | V5: 0.70833333 | AD5: 0.75 | AL5: 0.59375 | AM5: 0.59375
E6: ='Du 24 juin au 28 juillet'!E6 -> AA | F6: début | H6: 0.5625 | O6: 0.5625 | P6: 0.5625 | S6: 0.5 | T6: 0.5 | W6: 0.54166667 | X6: 0.58333333 | Y6: 0.58333333 | AB6: 0.58333333 | AC6: 0.5625 | AE6: 0.58333333 | AF6: 0.58333333 | AI6: 0.58333333 | AJ6: 0.5625
F7: Fin | H7: 0.83333333 | O7: 0.91666667 | P7: 0.91666667 | S7: 0.91666667 | T7: 0.91666667 | W7: 0.91666667 | X7: 0.91666667 | Y7: 0.91666667 | AB7: 0.91666667 | AC7: 0.75 | AE7: 0.91666667 | AF7: 0.91666667 | AI7: 0.91666667 | AJ7: 0.91666667
J8: RH | K8: RH | Q8: RH | R8: RH | Z8: RH | AA8: RH | AG8: RH | AH8: RH | AN8: RH | AO8: RH
G9: Contre poste, congés et formation | L9: 0 | N9: Contre poste, congés et formation | S9: 0 | U9: Contre poste, congés et formation | Z9: 0 | AB9: Contre poste, congés et formation | AG9: 0 | AI9: Contre poste, congés et formation | AN9: 0 | AP9: HEURES A REALISER SUR LA PERIODE
E10: Temps de travail | G10: =G5-G4+G7-G6 -> 0.30208333 | H10: =H5-H4+H7-H6 -> 0.27083333 | I10: =I5-I4+I7-I6 -> 0.30208333 | J10: =J5-J4+J7-J6 -> 0 | K10: =K5-K4+K7-K6 -> 0 | L10: =L5-L4+L7-L6 -> 0.375 | M10: =M5-M4+M7-M6 -> 0.25 | N10: =N5-N4+N7-N6 -> 0 | ... AO10: =AO5-AO4+AO7-AO6 -> 0 | AP10: 7.2916667
G11: =G10+H10+I10+J10+K10+L10+M10+L9 -> 1.5 | N11: =N10+O10+P10+Q10+R10+S10+T10+S9 -> 1.5416667 | U11: =U10+V10+W10+X10+Y10+Z10+AA10+Z9 -> 1.4583333 | AB11: =AB10+AC10+AD10+AE10+AF10+AG10+AH10+AG9 -> 1.5625 | AI11: =AI10+AJ10+AK10+AL10+AM10+AN10+AO10+AN9 -> 1.2916667
A12: ='Du 24 juin au 28 juillet'!AQ12 -> 0 | B12: ='Du 24 juin au 28 juillet'!AR12 -> 0 | C12: ='Du 24 juin au 28 juillet'!AS12 -> 0 | D12: 0 | E12: ='Du 24 juin au 28 juillet'!E12 -> BB | F12: début | AP12: =G19+N19+U19+AB19+AI19 -> 0 | AQ12: =A12-(COUNTIF(G16:AO16,"CP")) -> 0 | AR12: =B12-(COUNTIF(G16:AO16,"CA")) -> 0 | AS12: =C12-(COUNTIF(G16:AO16,"CT")) -> 0 | AT12: =10-(COUNTIF(G16:AO16,"RH")) -> 10 | AU12: =D12+AP12-AP18 -> -7.2916667
F13: Fin
E14: ='Du 24 juin au 28 juillet'!E14 -> BB | F14: début
F15: Fin
G17: Contre poste, congés et formation | L17: 0 | N17: Contre poste, congés et formation | S17: 0 | U17: Contre poste, congés et formation | Z17: 0 | AB17: Contre poste, congés et formation | AG17: 0 | AI17: Contre poste, congés et formation | AN17: 0 | AP17: HEURES A REALISER SUR LA PERIODE
E18: Temps de travail | G18: =G13-G12+G15-G14 -> 0 | H18: =H13-H12+H15-H14 -> 0 | I18: =I13-I12+I15-I14 -> 0 | J18: =J13-J12+J15-J14 -> 0 | K18: =K13-K12+K15-K14 -> 0 | L18: =L13-L12+L15-L14 -> 0 | M18: =M13-M12+M15-M14 -> 0 | N18: =N13-N12+N15-N14 -> 0 | ... AO18: =AO13-AO12+AO15-AO14 -> 0 | AP18: 7.2916667
G19: =G18+H18+I18+J18+K18+L18+M18+L17 -> 0 | N19: =N18+O18+P18+Q18+R18+S18+T18+S17 -> 0 | U19: =U18+V18+W18+X18+Y18+Z18+AA18+Z17 -> 0 | AB19: =AB18+AC18+AD18+AE18+AF18+AG18+AH18+AG17 -> 0 | AI19: =AI18+AJ18+AK18+AL18+AM18+AN18+AO18+AN17 -> 0
A20: ='Du 24 juin au 28 juillet'!AQ20 -> 0 | B20: ='Du 24 juin au 28 juillet'!AR20 -> 0 | C20: ='Du 24 juin au 28 juillet'!AS20 -> 0 | D20: 0 | E20: ='Du 24 juin au 28 juillet'!E20 -> CC | F20: début | AP20: =G27+N27+U27+AB27+AI27 -> 0 | AQ20: =A20-(COUNTIF(G24:AO24,"CP")) -> 0 | AR20: =B20-(COUNTIF(G24:AO24,"CA")) -> 0 | AS20: =C20-(COUNTIF(G24:AO24,"CT")) -> 0 | AT20: =10-(COUNTIF(G24:AO24,"RH")) -> 10 | AU20: =D20+AP20-AP26 -> -7.2916667
F21: Fin
E22: ='Du 24 juin au 28 juillet'!E22 -> CC | F22: début
F23: Fin
G25: Contre poste, congés et formation | L25: 0 | N25: Contre poste, congés et formation | S25: 0 | U25: Contre poste, congés et formation | Z25: 0 | AB25: Contre poste, congés et formation | AG25: 0 | AI25: Contre poste, congés et formation | AN25: 0 | AP25: HEURES A REALISER SUR LA PERIODE
E26: Temps de travail | G26: =G21-G20+G23-G22 -> 0 | H26: =H21-H20+H23-H22 -> 0 | I26: =I21-I20+I23-I22 -> 0 | J26: =J21-J20+J23-J22 -> 0 | K26: =K21-K20+K23-K22 -> 0 | L26: =L21-L20+L23-L22 -> 0 | M26: =M21-M20+M23-M22 -> 0 | N26: =N21-N20+N23-N22 -> 0 | ... AO26: =AO21-AO20+AO23-AO22 -> 0 | AP26: 7.2916667
G27: =G26+H26+I26+J26+K26+L26+M26+L25 -> 0 | N27: =N26+O26+P26+Q26+R26+S26+T26+S25 -> 0 | U27: =U26+V26+W26+X26+Y26+Z26+AA26+Z25 -> 0 | AB27: =AB26+AC26+AD26+AE26+AF26+AG26+AH26+AG25 -> 0 | AI27: =AI26+AJ26+AK26+AL26+AM26+AN26+AO26+AN25 -> 0
A28: ='Du 24 juin au 28 juillet'!AQ28 -> 0 | B28: ='Du 24 juin au 28 juillet'!AR28 -> 0 | C28: ='Du 24 juin au 28 juillet'!AS28 -> 0 | D28: 0 | E28: ='Du 24 juin au 28 juillet'!E28 -> DD | F28: début | AP28: =G35+N35+U35+AB35+AI35 -> 0 | AQ28: =A28-(COUNTIF(G32:AO32,"CP")) -> 0 | AR28: =B28-(COUNTIF(G32:AO32,"CA")) -> 0 | AS28: =C28-(COUNTIF(G32:AO32,"CT")) -> 0 | AT28: =10-(COUNTIF(G32:AO32,"RH")) -> 10 | AU28: =D28+AP28-AP34 -> -7.2916667
F29: Fin
E30: ='Du 24 juin au 28 juillet'!E30 -> DD | F30: début
F31: Fin
G33: Contre poste, congés et formation | L33: 0 | N33: Contre poste, congés et formation | S33: 0 | U33: Contre poste, congés et formation | Z33: 0 | AB33: Contre poste, congés et formation | AG33: 0 | AI33: Contre poste, congés et formation | AN33: 0 | AP33: HEURES A REALISER SUR LA PERIODE
E34: Temps de travail | G34: =G29-G28+G31-G30 -> 0 | H34: =H29-H28+H31-H30 -> 0 | I34: =I29-I28+I31-I30 -> 0 | J34: =J29-J28+J31-J30 -> 0 | K34: =K29-K28+K31-K30 -> 0 | L34: =L29-L28+L31-L30 -> 0 | M34: =M29-M28+M31-M30 -> 0 | N34: =N29-N28+N31-N30 -> 0 | ... AO34: =AO29-AO28+AO31-AO30 -> 0 | AP34: 7.2916667
G35: =G34+H34+I34+J34+K34+L34+M34+L33 -> 0 | N35: =N34+O34+P34+Q34+R34+S34+T34+S33 -> 0 | U35: =U34+V34+W34+X34+Y34+Z34+AA34+Z33 -> 0 | AB35: =AB34+AC34+AD34+AE34+AF34+AG34+AH34+AG33 -> 0 | AI35: =AI34+AJ34+AK34+AL34+AM34+AN34+AO34+AN33 -> 0
A36: ='Du 24 juin au 28 juillet'!AQ36 -> 0 | B36: ='Du 24 juin au 28 juillet'!AR36 -> 0 | C36: ='Du 24 juin au 28 juillet'!AS36 -> 0 | D36: 0 | E36: ='Du 24 juin au 28 juillet'!E36 -> EE | F36: début | AP36: =G43+N43+U43+AB43+AI43 -> 0 | AQ36: =A36-(COUNTIF(G40:AO40,"CP")) -> 0 | AR36: =B36-(COUNTIF(G40:AO40,"CA")) -> 0 | AS36: =C36-(COUNTIF(G40:AO40,"CT")) -> 0 | AT36: =10-(COUNTIF(G40:AO40,"RH")) -> 10 | AU36: =D36+AP36-AP42 -> -7.2916667
F37: Fin
E38: ='Du 24 juin au 28 juillet'!E38 -> EE | F38: début
F39: Fin
G41: Contre poste, congés et formation | L41: 0 | N41: Contre poste, congés et formation | S41: 0 | U41: Contre poste, congés et formation | Z41: 0 | AB41: Contre poste, congés et formation | AG41: 0 | AI41: Contre poste, congés et formation | AN41: 0 | AP41: HEURES A REALISER SUR LA PERIODE
E42: Temps de travail | G42: =G37-G36+G39-G38 -> 0 | H42: =H37-H36+H39-H38 -> 0 | I42: =I37-I36+I39-I38 -> 0 | J42: =J37-J36+J39-J38 -> 0 | K42: =K37-K36+K39-K38 -> 0 | L42: =L37-L36+L39-L38 -> 0 | M42: =M37-M36+M39-M38 -> 0 | N42: =N37-N36+N39-N38 -> 0 | ... AO42: =AO37-AO36+AO39-AO38 -> 0 | AP42: 7.2916667
G43: =G42+H42+I42+J42+K42+L42+M42+L41 -> 0 | N43: =N42+O42+P42+Q42+R42+S42+T42+S41 -> 0 | U43: =U42+V42+W42+X42+Y42+Z42+AA42+Z41 -> 0 | AB43: =AB42+AC42+AD42+AE42+AF42+AG42+AH42+AG41 -> 0 | AI43: =AI42+AJ42+AK42+AL42+AM42+AN42+AO42+AN41 -> 0
A44: ='Du 24 juin au 28 juillet'!AQ44 -> 0 | B44: ='Du 24 juin au 28 juillet'!AR44 -> 0 | C44: ='Du 24 juin au 28 juillet'!AS44 -> 0 | D44: 0 | E44: ='Du 24 juin au 28 juillet'!E44 -> FF | F44: début | AP44: =G51+N51+U51+AB51+AI51 -> 0 | AQ44: =A44-(COUNTIF(G48:AO48,"CP")) -> 0 | AR44: =B44-(COUNTIF(G48:AO48,"CA")) -> 0 | AS44: =C44-(COUNTIF(G48:AO48,"CT")) -> 0 | AT44: =10-(COUNTIF(G48:AO48,"RH")) -> 10 | AU44: =D44+AP44-AP50 -> -7.2916667
F45: Fin
E46: ='Du 24 juin au 28 juillet'!E46 -> FF | F46: début
F47: Fin
G49: Contre poste, congés et formation | L49: 0 | N49: Contre poste, congés et formation | S49: 0 | U49: Contre poste, congés et formation | Z49: 0 | AB49: Contre poste, congés et formation | AG49: 0 | AI49: Contre poste, congés et formation | AN49: 0 | AP49: HEURES A REALISER SUR LA PERIODE
E50: Temps de travail | G50: =G45-G44+G47-G46 -> 0 | H50: =H45-H44+H47-H46 -> 0 | I50: =I45-I44+I47-I46 -> 0 | J50: =J45-J44+J47-J46 -> 0 | K50: =K45-K44+K47-K46 -> 0 | L50: =L45-L44+L47-L46 -> 0 | M50: =M45-M44+M47-M46 -> 0 | N50: =N45-N44+N47-N46 -> 0 | ... AO50: =AO45-AO44+AO47-AO46 -> 0 | AP50: 7.2916667
G51: =G50+H50+I50+J50+K50+L50+M50+L49 -> 0 | N51: =N50+O50+P50+Q50+R50+S50+T50+S49 -> 0 | U51: =U50+V50+W50+X50+Y50+Z50+AA50+Z49 -> 0 | AB51: =AB50+AC50+AD50+AE50+AF50+AG50+AH50+AG49 -> 0 | AI51: =AI50+AJ50+AK50+AL50+AM50+AN50+AO50+AN49 -> 0
A52: ='Du 24 juin au 28 juillet'!AQ52 -> 0 | B52: ='Du 24 juin au 28 juillet'!AR52 -> 0 | C52: ='Du 24 juin au 28 juillet'!AS52 -> 0 | D52: 0 | E52: ='Du 24 juin au 28 juillet'!E52 -> GG | F52: début | AP52: =G59+N59+U59+AB59+AI59 -> 0 | AQ52: =A52-(COUNTIF(G56:AO56,"CP")) -> 0 | AR52: =B52-(COUNTIF(G56:AO56,"CA")) -> 0 | AS52: =C52-(COUNTIF(G56:AO56,"CT")) -> 0 | AT52: =10-(COUNTIF(G56:AO56,"RH")) -> 10 | AU52: =D52+AP52-AP58 -> -7.2916667
F53: Fin
E54: ='Du 24 juin au 28 juillet'!E54 -> GG | F54: début
F55: Fin
G57: Contre poste, congés et formation | L57: 0 | N57: Contre poste, congés et formation | S57: 0 | U57: Contre poste, congés et formation | Z57: 0 | AB57: Contre poste, congés et formation | AG57: 0 | AI57: Contre poste, congés et formation | AN57: 0 | AP57: HEURES A REALISER SUR LA PERIODE
E58: Temps de travail | G58: =G53-G52+G55-G54 -> 0 | H58: =H53-H52+H55-H54 -> 0 | I58: =I53-I52+I55-I54 -> 0 | J58: =J53-J52+J55-J54 -> 0 | K58: =K53-K52+K55-K54 -> 0 | L58: =L53-L52+L55-L54 -> 0 | M58: =M53-M52+M55-M54 -> 0 | N58: =N53-N52+N55-N54 -> 0 | ... AO58: =AO53-AO52+AO55-AO54 -> 0 | AP58: 7.2916667
G59: =G58+H58+I58+J58+K58+L58+M58+L57 -> 0 | N59: =N58+O58+P58+Q58+R58+S58+T58+S57 -> 0 | U59: =U58+V58+W58+X58+Y58+Z58+AA58+Z57 -> 0 | AB59: =AB58+AC58+AD58+AE58+AF58+AG58+AH58+AG57 -> 0 | AI59: =AI58+AJ58+AK58+AL58+AM58+AN58+AO58+AN57 -> 0
A60: ='Du 24 juin au 28 juillet'!AQ60 -> 0 | B60: ='Du 24 juin au 28 juillet'!AR60 -> 0 | C60: ='Du 24 juin au 28 juillet'!AS60 -> 0 | D60: 0 | E60: ='Du 24 juin au 28 juillet'!E60 -> HH | F60: début | AP60: =G67+N67+U67+AB67+AI67 -> 0 | AQ60: =A60-(COUNTIF(G64:AO64,"CP")) -> 0 | AR60: =B60-(COUNTIF(G64:AO64,"CA")) -> 0 | AS60: =C60-(COUNTIF(G64:AO64,"CT")) -> 0 | AT60: =10-(COUNTIF(G64:AO64,"RH")) -> 10 | AU60: =D60+AP60-AP66 -> -7.2916667
F61: Fin
E62: ='Du 24 juin au 28 juillet'!E62 -> HH | F62: début
F63: Fin
G65: Contre poste, congés et formation | L65: 0 | N65: Contre poste, congés et formation | S65: 0 | U65: Contre poste, congés et formation | Z65: 0 | AB65: Contre poste, congés et formation | AG65: 0 | AI65: Contre poste, congés et formation | AN65: 0 | AP65: HEURES A REALISER SUR LA PERIODE
E66: Temps de travail | G66: =G61-G60+G63-G62 -> 0 | H66: =H61-H60+H63-H62 -> 0 | I66: =I61-I60+I63-I62 -> 0 | J66: =J61-J60+J63-J62 -> 0 | K66: =K61-K60+K63-K62 -> 0 | L66: =L61-L60+L63-L62 -> 0 | M66: =M61-M60+M63-M62 -> 0 | N66: =N61-N60+N63-N62 -> 0 | ... AO66: =AO61-AO60+AO63-AO62 -> 0 | AP66: 7.2916667
G67: =G66+H66+I66+J66+K66+L66+M66+L65 -> 0 | N67: =N66+O66+P66+Q66+R66+S66+T66+S65 -> 0 | U67: =U66+V66+W66+X66+Y66+Z66+AA66+Z65 -> 0 | AB67: =AB66+AC66+AD66+AE66+AF66+AG66+AH66+AG65 -> 0 | AI67: =AI66+AJ66+AK66+AL66+AM66+AN66+AO66+AN65 -> 0
A68: ='Du 24 juin au 28 juillet'!AQ68 -> 0 | B68: ='Du 24 juin au 28 juillet'!AR68 -> 0 | C68: ='Du 24 juin au 28 juillet'!AS68 -> 0 | D68: 0 | E68: ='Du 24 juin au 28 juillet'!E68 -> II | F68: début | AP68: =G75+N75+U75+AB75+AI75 -> 0 | AQ68: =A68-(COUNTIF(G72:AO72,"CP")) -> 0 | AR68: =B68-(COUNTIF(G72:AO72,"CA")) -> 0 | AS68: =C68-(COUNTIF(G72:AO72,"CT")) -> 0 | AT68: =10-(COUNTIF(G72:AO72,"RH")) -> 10 | AU68: =D68+AP68-AP74 -> -7.2916667
F69: Fin
E70: ='Du 24 juin au 28 juillet'!E70 -> II | F70: début
F71: Fin
G73: Contre poste, congés et formation | L73: 0 | N73: Contre poste, congés et formation | S73: 0 | U73: Contre poste, congés et formation | Z73: 0 | AB73: Contre poste, congés et formation | AG73: 0 | AI73: Contre poste, congés et formation | AN73: 0 | AP73: HEURES A REALISER SUR LA PERIODE
E74: Temps de travail | G74: =G69-G68+G71-G70 -> 0 | H74: =H69-H68+H71-H70 -> 0 | I74: =I69-I68+I71-I70 -> 0 | J74: =J69-J68+J71-J70 -> 0 | K74: =K69-K68+K71-K70 -> 0 | L74: =L69-L68+L71-L70 -> 0 | M74: =M69-M68+M71-M70 -> 0 | N74: =N69-N68+N71-N70 -> 0 | ... AO74: =AO69-AO68+AO71-AO70 -> 0 | AP74: 7.2916667
G75: =G74+H74+I74+J74+K74+L74+M74+L73 -> 0 | N75: =N74+O74+P74+Q74+R74+S74+T74+S73 -> 0 | U75: =U74+V74+W74+X74+Y74+Z74+AA74+Z73 -> 0 | AB75: =AB74+AC74+AD74+AE74+AF74+AG74+AH74+AG73 -> 0 | AI75: =AI74+AJ74+AK74+AL74+AM74+AN74+AO74+AN73 -> 0
A76: Planning réalisé le | H76: MAJ le | M76: Le/la chef(fe) de service éducatif | AB76: La direction | AP76: Page 1/2
G77: SERVICE OU UNITÉ | O77: =O1 -> JJ | Z77: PÉRIODE DU 5 JUIN AU 9 JUILLET 2023 | AP77: SOLDE FIN DE PÉRIODE | AV77: VALIDATION GRILLE PAR LES PROFESSIONNELS EN FIN DE CYCLE
A78: CP | B78: CA | C78: CT | D78: solde d’heure | E78: Noms des professionnels | G78: L | H78: M | I78: M | J78: J | K78: V | L78: S | M78: D | N78: L | O78: M | P78: M | Q78: J | R78: V | S78: S | T78: D | U78: L | V78: M | W78: M | X78: J | Y78: V | Z78: S | AA78: D | AB78: L | AC78: M | AD78: M | AE78: J | AF78: V | AG78: S | AH78: D | AI78: L | AJ78: M | AK78: M | AL78: J | AM78: V | AN78: S | AO78: D | AP78: Total | AQ78: CP | AR78: CA | AS78: CT | AT78: RH | AU78: solde d’heure
G79: 24 | H79: 25 | I79: 26 | J79: 27 | K79: 28 | L79: 29 | M79: 30 | N79: 1 | O79: 2 | P79: 3 | Q79: 4 | R79: 5 | S79: 6 | T79: 7 | U79: 8 | V79: 9 | W79: 10 | X79: 11 | Y79: 12 | Z79: 13 | AA79: 14 | AB79: 15 | AC79: 16 | AD79: 17 | AE79: 18 | AF79: 19 | AG79: 20 | AH79: 21 | AI79: 22 | AJ79: 23 | AK79: 24 | AL79: 25 | AM79: 26 | AN79: 27 | AO79: 28
A80: ='Du 24 juin au 28 juillet'!AQ80 -> 0 | B80: ='Du 24 juin au 28 juillet'!AR80 -> 0 | C80: ='Du 24 juin au 28 juillet'!AS80 -> 0 | D80: 0 | E80: ='Du 24 juin au 28 juillet'!E80 -> JJ | F80: début | AP80: =G87+N87+U87+AB87+AI87 -> 0 | AQ80: =A80-(COUNTIF(G84:AO84,"CP")) -> 0 | AR80: =B80-(COUNTIF(G84:AO84,"CA")) -> 0 | AS80: =C80-(COUNTIF(G84:AO84,"CT")) -> 0 | AT80: =10-(COUNTIF(G84:AO84,"RH")) -> 10 | AU80: =D80+AP80-AP86 -> -7.2916667
F81: Fin
E82: ='Du 24 juin au 28 juillet'!E82 -> JJ | F82: début
F83: Fin
G85: Contre poste, congés et formation | L85: 0 | N85: Contre poste, congés et formation | S85: 0 | U85: Contre poste, congés et formation | Z85: 0 | AB85: Contre poste, congés et formation | AG85: 0 | AI85: Contre poste, congés et formation | AN85: 0 | AP85: HEURES A REALISER SUR LA PERIODE
E86: Temps de travail | G86: =G81-G80+G83-G82 -> 0 | H86: =H81-H80+H83-H82 -> 0 | I86: =I81-I80+I83-I82 -> 0 | J86: =J81-J80+J83-J82 -> 0 | K86: =K81-K80+K83-K82 -> 0 | L86: =L81-L80+L83-L82 -> 0 | M86: =M81-M80+M83-M82 -> 0 | N86: =N81-N80+N83-N82 -> 0 | ... AO86: =AO81-AO80+AO83-AO82 -> 0 | AP86: 7.2916667
G87: =G86+H86+I86+J86+K86+L86+M86+L85 -> 0 | N87: =N86+O86+P86+Q86+R86+S86+T86+S85 -> 0 | U87: =U86+V86+W86+X86+Y86+Z86+AA86+Z85 -> 0 | AB87: =AB86+AC86+AD86+AE86+AF86+AG86+AH86+AG85 -> 0 | AI87: =AI86+AJ86+AK86+AL86+AM86+AN86+AO86+AN85 -> 0
A88: ='Du 24 juin au 28 juillet'!AQ88 -> 0 | B88: ='Du 24 juin au 28 juillet'!AR88 -> 0 | C88: ='Du 24 juin au 28 juillet'!AS88 -> 0 | D88: 0 | E88: ='Du 24 juin au 28 juillet'!E88 -> KK | F88: début | AP88: =G95+N95+U95+AB95+AI95 -> 0 | AQ88: =A88-(COUNTIF(G92:AO92,"CP")) -> 0 | AR88: =B88-(COUNTIF(G92:AO92,"CA")) -> 0 | AS88: =C88-(COUNTIF(G92:AO92,"CT")) -> 0 | AT88: =10-(COUNTIF(G92:AO92,"RH")) -> 10 | AU88: =D88+AP88-AP94 -> -7.2916667
F89: Fin
E90: ='Du 24 juin au 28 juillet'!E90 -> KK | F90: début
F91: Fin
G93: Contre poste, congés et formation | L93: 0 | N93: Contre poste, congés et formation | S93: 0 | U93: Contre poste, congés et formation | Z93: 0 | AB93: Contre poste, congés et formation | AG93: 0 | AI93: Contre poste, congés et formation | AN93: 0 | AP93: HEURES A REALISER SUR LA PERIODE
E94: Temps de travail | G94: =G89-G88+G91-G90 -> 0 | H94: =H89-H88+H91-H90 -> 0 | I94: =I89-I88+I91-I90 -> 0 | J94: =J89-J88+J91-J90 -> 0 | K94: =K89-K88+K91-K90 -> 0 | L94: =L89-L88+L91-L90 -> 0 | M94: =M89-M88+M91-M90 -> 0 | N94: =N89-N88+N91-N90 -> 0 | ... AO94: =AO89-AO88+AO91-AO90 -> 0 | AP94: 7.2916667
G95: =G94+H94+I94+J94+K94+L94+M94+L93 -> 0 | N95: =N94+O94+P94+Q94+R94+S94+T94+S93 -> 0 | U95: =U94+V94+W94+X94+Y94+Z94+AA94+Z93 -> 0 | AB95: =AB94+AC94+AD94+AE94+AF94+AG94+AH94+AG93 -> 0 | AI95: =AI94+AJ94+AK94+AL94+AM94+AN94+AO94+AN93 -> 0
A96: ='Du 24 juin au 28 juillet'!AQ96 -> 0 | B96: ='Du 24 juin au 28 juillet'!AR96 -> 0 | C96: ='Du 24 juin au 28 juillet'!AS96 -> 0 | D96: 0 | E96: ='Du 24 juin au 28 juillet'!E96 -> LL | F96: début | AP96: =G103+N103+U103+AB103+AI103 -> 0 | AQ96: =A96-(COUNTIF(G100:AO100,"CP")) -> 0 | AR96: =B96-(COUNTIF(G100:AO100,"CA")) -> 0 | AS96: =C96-(COUNTIF(G100:AO100,"CT")) -> 0 | AT96: =10-(COUNTIF(G100:AO100,"RH")) -> 10 | AU96: =D96+AP96-AP102 -> -7.2916667
F97: Fin
E98: ='Du 24 juin au 28 juillet'!E98 -> LL | F98: début
F99: Fin
G101: Contre poste, congés et formation | L101: 0 | N101: Contre poste, congés et formation | S101: 0 | U101: Contre poste, congés et formation | Z101: 0 | AB101: Contre poste, congés et formation | AG101: 0 | AI101: Contre poste, congés et formation | AN101: 0 | AP101: HEURES A REALISER SUR LA PERIODE
E102: Temps de travail | G102: =G97-G96+G99-G98 -> 0 | H102: =H97-H96+H99-H98 -> 0 | I102: =I97-I96+I99-I98 -> 0 | J102: =J97-J96+J99-J98 -> 0 | K102: =K97-K96+K99-K98 -> 0 | L102: =L97-L96+L99-L98 -> 0 | M102: =M97-M96+M99-M98 -> 0 | N102: =N97-N96+N99-N98 -> 0 | ... AO102: =AO97-AO96+AO99-AO98 -> 0 | AP102: 7.2916667
G103: =G102+H102+I102+J102+K102+L102+M102+L101 -> 0 | N103: =N102+O102+P102+Q102+R102+S102+T102+S101 -> 0 | U103: =U102+V102+W102+X102+Y102+Z102+AA102+Z101 -> 0 | AB103: =AB102+AC102+AD102+AE102+AF102+AG102+AH102+AG101 -> 0 | AI103: =AI102+AJ102+AK102+AL102+AM102+AN102+AO102+AN101 -> 0
A104: ='Du 24 juin au 28 juillet'!AQ104 -> 0 | B104: ='Du 24 juin au 28 juillet'!AR104 -> 0 | C104: ='Du 24 juin au 28 juillet'!AS104 -> 0 | D104: 0 | E104: ='Du 24 juin au 28 juillet'!E104 -> MM | F104: début | AP104: =G111+N111+U111+AB111+AI111 -> 0 | AQ104: =A104-(COUNTIF(G108:AO108,"CP")) -> 0 | AR104: =B104-(COUNTIF(G108:AO108,"CA")) -> 0 | AS104: =C104-(COUNTIF(G108:AO108,"CT")) -> 0 | AT104: =10-(COUNTIF(G108:AO108,"RH")) -> 10 | AU104: =D104+AP104-AP110 -> -7.2916667
F105: Fin
E106: ='Du 24 juin au 28 juillet'!E106 -> MM | F106: début
F107: Fin
G109: Contre poste, congés et formation | L109: 0 | N109: Contre poste, congés et formation | S109: 0 | U109: Contre poste, congés et formation | Z109: 0 | AB109: Contre poste, congés et formation | AG109: 0 | AI109: Contre poste, congés et formation | AN109: 0 | AP109: HEURES A REALISER SUR LA PERIODE
E110: Temps de travail | G110: =G105-G104+G107-G106 -> 0 | H110: =H105-H104+H107-H106 -> 0 | I110: =I105-I104+I107-I106 -> 0 | J110: =J105-J104+J107-J106 -> 0 | K110: =K105-K104+K107-K106 -> 0 | L110: =L105-L104+L107-L106 -> 0 | M110: =M105-M104+M107-M106 -> 0 | N110: =N105-N104+N107-N106 -> 0 | ... AO110: =AO105-AO104+AO107-AO106 -> 0 | AP110: 7.2916667
G111: =G110+H110+I110+J110+K110+L110+M110+L109 -> 0 | N111: =N110+O110+P110+Q110+R110+S110+T110+S109 -> 0 | U111: =U110+V110+W110+X110+Y110+Z110+AA110+Z109 -> 0 | AB111: =AB110+AC110+AD110+AE110+AF110+AG110+AH110+AG109 -> 0 | AI111: =AI110+AJ110+AK110+AL110+AM110+AN110+AO110+AN109 -> 0
A112: Planning réalisé le | F112: =F76 -> 0 | H112: MAJ le | J112: =J76 -> 0 | AB112: La direction | AP112: Page 2/2

Sheet Du 16 décemb au 19 janvier 2025
A1: FIN DE PERIODE PRECEDENTE | G1: SERVICE OU UNITÉ | O1: ='Du 24 juin au 28 juillet'!O1 -> JJ | Z1: PÉRIODE DU 16 DECEMBRE 2024 AU 19 JANVIER 2025 | AP1: SOLDE FIN DE PÉRIODE | AV1: VALIDATION GRILLE PAR LES PROFESSIONNELS EN FIN DE CYCLE
A2: CP | B2: CA | C2: CT | D2: solde d’heure | E2: Noms des professionnels | G2: L | H2: M | I2: M | J2: J | K2: V | L2: S | M2: D | N2: L | O2: M | P2: M | Q2: J | R2: V | S2: S | T2: D | U2: L | V2: M | W2: M | X2: J | Y2: V | Z2: S | AA2: D | AB2: L | AC2: M | AD2: M | AE2: J | AF2: V | AG2: S | AH2: D | AI2: L | AJ2: M | AK2: M | AL2: J | AM2: V | AN2: S | AO2: D | AP2: Total | AQ2: CP | AR2: CA | AS2: CT | AT2: RH | AU2: solde d’heure
G3: 16 | H3: 17 | I3: 18 | J3: 19 | K3: 20 | L3: 21 | M3: 22 | N3: 23 | O3: 24 | P3: 25 | Q3: 26 | R3: 27 | S3: 28 | T3: 29 | U3: 30 | V3: 31 | W3: 1 | X3: 2 | Y3: 3 | Z3: 4 | AA3: 5 | AB3: 6 | AC3: 7 | AD3: 8 | AE3: 9 | AF3: 10 | AG3: 11 | AH3: 12 | AI3: 13 | AJ3: 14 | AK3: 15 | AL3: 16 | AM3: 17 | AN3: 18 | AO3: 19
A4: ='Du 24 juin au 28 juillet'!AQ4 -> -1 | B4: ='Du 24 juin au 28 juillet'!AR4 -> -1 | C4: ='Du 24 juin au 28 juillet'!AS4 -> -1 | D4: ='Du 24 juin au 28 juillet'!AP4 -> 7.3541667 | E4: ='Du 24 juin au 28 juillet'!E4 -> AA | F4: début | G4: 0.29166667 | I4: 0.29166667 | L4: 0.33333333 | M4: 0.33333333 | V4: 0.29166667 | AD4: 0.375 | AL4: 0.29166667 | AM4: 0.29166667 | AP4: =G11+N11+U11+AB11+AI11 -> 7.3541667 | AQ4: =A4-(COUNTIF(G8:AO8,"CP")) -> -1 | AR4: =B4-(COUNTIF(G8:AO8,"CA")) -> -1 | AS4: =C4-(COUNTIF(G8:AO8,"CT")) -> -1 | AT4: =10-(COUNTIF(G8:AO8,"RH")) -> 0 | AU4: =D4+AP4-AP10 -> 7.4166667
F5: Fin | G5: 0.59375 | I5: 0.59375 | L5: 0.70833333 | M5: 0.58333333 | V5: 0.70833333 | AD5: 0.75 | AL5: 0.59375 | AM5: 0.59375
E6: ='Du 24 juin au 28 juillet'!E6 -> AA | F6: début | H6: 0.5625 | O6: 0.5625 | P6: 0.5625 | S6: 0.5 | T6: 0.5 | W6: 0.54166667 | X6: 0.58333333 | Y6: 0.58333333 | AB6: 0.58333333 | AC6: 0.5625 | AE6: 0.58333333 | AF6: 0.58333333 | AI6: 0.58333333 | AJ6: 0.5625
F7: Fin | H7: 0.83333333 | O7: 0.91666667 | P7: 0.91666667 | S7: 0.91666667 | T7: 0.91666667 | W7: 0.91666667 | X7: 0.91666667 | Y7: 0.91666667 | AB7: 0.91666667 | AC7: 0.75 | AE7: 0.91666667 | AF7: 0.91666667 | AI7: 0.91666667 | AJ7: 0.91666667
J8: RH | K8: RH | Q8: RH | R8: RH | Z8: RH | AA8: RH | AG8: RH | AH8: RH | AN8: RH | AO8: RH
G9: Contre poste, congés et formation | L9: 0 | N9: Contre poste, congés et formation | S9: 0 | U9: Contre poste, congés et formation | Z9: 0 | AB9: Contre poste, congés et formation | AG9: 0 | AI9: Contre poste, congés et formation | AN9: 0 | AP9: HEURES A REALISER SUR LA PERIODE
E10: Temps de travail | G10: =G5-G4+G7-G6 -> 0.30208333 | H10: =H5-H4+H7-H6 -> 0.27083333 | I10: =I5-I4+I7-I6 -> 0.30208333 | J10: =J5-J4+J7-J6 -> 0 | K10: =K5-K4+K7-K6 -> 0 | L10: =L5-L4+L7-L6 -> 0.375 | M10: =M5-M4+M7-M6 -> 0.25 | N10: =N5-N4+N7-N6 -> 0 | ... AO10: =AO5-AO4+AO7-AO6 -> 0 | AP10: 7.2916667
G11: =G10+H10+I10+J10+K10+L10+M10+L9 -> 1.5 | N11: =N10+O10+P10+Q10+R10+S10+T10+S9 -> 1.5416667 | U11: =U10+V10+W10+X10+Y10+Z10+AA10+Z9 -> 1.4583333 | AB11: =AB10+AC10+AD10+AE10+AF10+AG10+AH10+AG9 -> 1.5625 | AI11: =AI10+AJ10+AK10+AL10+AM10+AN10+AO10+AN9 -> 1.2916667
A12: ='Du 24 juin au 28 juillet'!AQ12 -> 0 | B12: ='Du 24 juin au 28 juillet'!AR12 -> 0 | C12: ='Du 24 juin au 28 juillet'!AS12 -> 0 | D12: 0 | E12: ='Du 24 juin au 28 juillet'!E12 -> BB | F12: début | AP12: =G19+N19+U19+AB19+AI19 -> 0 | AQ12: =A12-(COUNTIF(G16:AO16,"CP")) -> 0 | AR12: =B12-(COUNTIF(G16:AO16,"CA")) -> 0 | AS12: =C12-(COUNTIF(G16:AO16,"CT")) -> 0 | AT12: =10-(COUNTIF(G16:AO16,"RH")) -> 10 | AU12: =D12+AP12-AP18 -> -7.2916667
F13: Fin
E14: ='Du 24 juin au 28 juillet'!E14 -> BB | F14: début
F15: Fin
G17: Contre poste, congés et formation | L17: 0 | N17: Contre poste, congés et formation | S17: 0 | U17: Contre poste, congés et formation | Z17: 0 | AB17: Contre poste, congés et formation | AG17: 0 | AI17: Contre poste, congés et formation | AN17: 0 | AP17: HEURES A REALISER SUR LA PERIODE
E18: Temps de travail | G18: =G13-G12+G15-G14 -> 0 | H18: =H13-H12+H15-H14 -> 0 | I18: =I13-I12+I15-I14 -> 0 | J18: =J13-J12+J15-J14 -> 0 | K18: =K13-K12+K15-K14 -> 0 | L18: =L13-L12+L15-L14 -> 0 | M18: =M13-M12+M15-M14 -> 0 | N18: =N13-N12+N15-N14 -> 0 | ... AO18: =AO13-AO12+AO15-AO14 -> 0 | AP18: 7.2916667
G19: =G18+H18+I18+J18+K18+L18+M18+L17 -> 0 | N19: =N18+O18+P18+Q18+R18+S18+T18+S17 -> 0 | U19: =U18+V18+W18+X18+Y18+Z18+AA18+Z17 -> 0 | AB19: =AB18+AC18+AD18+AE18+AF18+AG18+AH18+AG17 -> 0 | AI19: =AI18+AJ18+AK18+AL18+AM18+AN18+AO18+AN17 -> 0
A20: ='Du 24 juin au 28 juillet'!AQ20 -> 0 | B20: ='Du 24 juin au 28 juillet'!AR20 -> 0 | C20: ='Du 24 juin au 28 juillet'!AS20 -> 0 | D20: 0 | E20: ='Du 24 juin au 28 juillet'!E20 -> CC | F20: début | AP20: =G27+N27+U27+AB27+AI27 -> 0 | AQ20: =A20-(COUNTIF(G24:AO24,"CP")) -> 0 | AR20: =B20-(COUNTIF(G24:AO24,"CA")) -> 0 | AS20: =C20-(COUNTIF(G24:AO24,"CT")) -> 0 | AT20: =10-(COUNTIF(G24:AO24,"RH")) -> 10 | AU20: =D20+AP20-AP26 -> -7.2916667
F21: Fin
E22: ='Du 24 juin au 28 juillet'!E22 -> CC | F22: début
F23: Fin
G25: Contre poste, congés et formation | L25: 0 | N25: Contre poste, congés et formation | S25: 0 | U25: Contre poste, congés et formation | Z25: 0 | AB25: Contre poste, congés et formation | AG25: 0 | AI25: Contre poste, congés et formation | AN25: 0 | AP25: HEURES A REALISER SUR LA PERIODE
E26: Temps de travail | G26: =G21-G20+G23-G22 -> 0 | H26: =H21-H20+H23-H22 -> 0 | I26: =I21-I20+I23-I22 -> 0 | J26: =J21-J20+J23-J22 -> 0 | K26: =K21-K20+K23-K22 -> 0 | L26: =L21-L20+L23-L22 -> 0 | M26: =M21-M20+M23-M22 -> 0 | N26: =N21-N20+N23-N22 -> 0 | ... AO26: =AO21-AO20+AO23-AO22 -> 0 | AP26: 7.2916667
G27: =G26+H26+I26+J26+K26+L26+M26+L25 -> 0 | N27: =N26+O26+P26+Q26+R26+S26+T26+S25 -> 0 | U27: =U26+V26+W26+X26+Y26+Z26+AA26+Z25 -> 0 | AB27: =AB26+AC26+AD26+AE26+AF26+AG26+AH26+AG25 -> 0 | AI27: =AI26+AJ26+AK26+AL26+AM26+AN26+AO26+AN25 -> 0
A28: ='Du 24 juin au 28 juillet'!AQ28 -> 0 | B28: ='Du 24 juin au 28 juillet'!AR28 -> 0 | C28: ='Du 24 juin au 28 juillet'!AS28 -> 0 | D28: 0 | E28: ='Du 24 juin au 28 juillet'!E28 -> DD | F28: début | AP28: =G35+N35+U35+AB35+AI35 -> 0 | AQ28: =A28-(COUNTIF(G32:AO32,"CP")) -> 0 | AR28: =B28-(COUNTIF(G32:AO32,"CA")) -> 0 | AS28: =C28-(COUNTIF(G32:AO32,"CT")) -> 0 | AT28: =10-(COUNTIF(G32:AO32,"RH")) -> 10 | AU28: =D28+AP28-AP34 -> -7.2916667
F29: Fin
E30: ='Du 24 juin au 28 juillet'!E30 -> DD | F30: début
F31: Fin
G33: Contre poste, congés et formation | L33: 0 | N33: Contre poste, congés et formation | S33: 0 | U33: Contre poste, congés et formation | Z33: 0 | AB33: Contre poste, congés et formation | AG33: 0 | AI33: Contre poste, congés et formation | AN33: 0 | AP33: HEURES A REALISER SUR LA PERIODE
E34: Temps de travail | G34: =G29-G28+G31-G30 -> 0 | H34: =H29-H28+H31-H30 -> 0 | I34: =I29-I28+I31-I30 -> 0 | J34: =J29-J28+J31-J30 -> 0 | K34: =K29-K28+K31-K30 -> 0 | L34: =L29-L28+L31-L30 -> 0 | M34: =M29-M28+M31-M30 -> 0 | N34: =N29-N28+N31-N30 -> 0 | ... AO34: =AO29-AO28+AO31-AO30 -> 0 | AP34: 7.2916667
G35: =G34+H34+I34+J34+K34+L34+M34+L33 -> 0 | N35: =N34+O34+P34+Q34+R34+S34+T34+S33 -> 0 | U35: =U34+V34+W34+X34+Y34+Z34+AA34+Z33 -> 0 | AB35: =AB34+AC34+AD34+AE34+AF34+AG34+AH34+AG33 -> 0 | AI35: =AI34+AJ34+AK34+AL34+AM34+AN34+AO34+AN33 -> 0
A36: ='Du 24 juin au 28 juillet'!AQ36 -> 0 | B36: ='Du 24 juin au 28 juillet'!AR36 -> 0 | C36: ='Du 24 juin au 28 juillet'!AS36 -> 0 | D36: 0 | E36: ='Du 24 juin au 28 juillet'!E36 -> EE | F36: début | AP36: =G43+N43+U43+AB43+AI43 -> 0 | AQ36: =A36-(COUNTIF(G40:AO40,"CP")) -> 0 | AR36: =B36-(COUNTIF(G40:AO40,"CA")) -> 0 | AS36: =C36-(COUNTIF(G40:AO40,"CT")) -> 0 | AT36: =10-(COUNTIF(G40:AO40,"RH")) -> 10 | AU36: =D36+AP36-AP42 -> -7.2916667
F37: Fin
E38: ='Du 24 juin au 28 juillet'!E38 -> EE | F38: début
F39: Fin
G41: Contre poste, congés et formation | L41: 0 | N41: Contre poste, congés et formation | S41: 0 | U41: Contre poste, congés et formation | Z41: 0 | AB41: Contre poste, congés et formation | AG41: 0 | AI41: Contre poste, congés et formation | AN41: 0 | AP41: HEURES A REALISER SUR LA PERIODE
E42: Temps de travail | G42: =G37-G36+G39-G38 -> 0 | H42: =H37-H36+H39-H38 -> 0 | I42: =I37-I36+I39-I38 -> 0 | J42: =J37-J36+J39-J38 -> 0 | K42: =K37-K36+K39-K38 -> 0 | L42: =L37-L36+L39-L38 -> 0 | M42: =M37-M36+M39-M38 -> 0 | N42: =N37-N36+N39-N38 -> 0 | ... AO42: =AO37-AO36+AO39-AO38 -> 0 | AP42: 7.2916667
G43: =G42+H42+I42+J42+K42+L42+M42+L41 -> 0 | N43: =N42+O42+P42+Q42+R42+S42+T42+S41 -> 0 | U43: =U42+V42+W42+X42+Y42+Z42+AA42+Z41 -> 0 | AB43: =AB42+AC42+AD42+AE42+AF42+AG42+AH42+AG41 -> 0 | AI43: =AI42+AJ42+AK42+AL42+AM42+AN42+AO42+AN41 -> 0
A44: ='Du 24 juin au 28 juillet'!AQ44 -> 0 | B44: ='Du 24 juin au 28 juillet'!AR44 -> 0 | C44: ='Du 24 juin au 28 juillet'!AS44 -> 0 | D44: 0 | E44: ='Du 24 juin au 28 juillet'!E44 -> FF | F44: début | AP44: =G51+N51+U51+AB51+AI51 -> 0 | AQ44: =A44-(COUNTIF(G48:AO48,"CP")) -> 0 | AR44: =B44-(COUNTIF(G48:AO48,"CA")) -> 0 | AS44: =C44-(COUNTIF(G48:AO48,"CT")) -> 0 | AT44: =10-(COUNTIF(G48:AO48,"RH")) -> 10 | AU44: =D44+AP44-AP50 -> -7.2916667
F45: Fin
E46: ='Du 24 juin au 28 juillet'!E46 -> FF | F46: début
F47: Fin
G49: Contre poste, congés et formation | L49: 0 | N49: Contre poste, congés et formation | S49: 0 | U49: Contre poste, congés et formation | Z49: 0 | AB49: Contre poste, congés et formation | AG49: 0 | AI49: Contre poste, congés et formation | AN49: 0 | AP49: HEURES A REALISER SUR LA PERIODE
E50: Temps de travail | G50: =G45-G44+G47-G46 -> 0 | H50: =H45-H44+H47-H46 -> 0 | I50: =I45-I44+I47-I46 -> 0 | J50: =J45-J44+J47-J46 -> 0 | K50: =K45-K44+K47-K46 -> 0 | L50: =L45-L44+L47-L46 -> 0 | M50: =M45-M44+M47-M46 -> 0 | N50: =N45-N44+N47-N46 -> 0 | ... AO50: =AO45-AO44+AO47-AO46 -> 0 | AP50: 7.2916667
G51: =G50+H50+I50+J50+K50+L50+M50+L49 -> 0 | N51: =N50+O50+P50+Q50+R50+S50+T50+S49 -> 0 | U51: =U50+V50+W50+X50+Y50+Z50+AA50+Z49 -> 0 | AB51: =AB50+AC50+AD50+AE50+AF50+AG50+AH50+AG49 -> 0 | AI51: =AI50+AJ50+AK50+AL50+AM50+AN50+AO50+AN49 -> 0
A52: ='Du 24 juin au 28 juillet'!AQ52 -> 0 | B52: ='Du 24 juin au 28 juillet'!AR52 -> 0 | C52: ='Du 24 juin au 28 juillet'!AS52 -> 0 | D52: 0 | E52: ='Du 24 juin au 28 juillet'!E52 -> GG | F52: début | AP52: =G59+N59+U59+AB59+AI59 -> 0 | AQ52: =A52-(COUNTIF(G56:AO56,"CP")) -> 0 | AR52: =B52-(COUNTIF(G56:AO56,"CA")) -> 0 | AS52: =C52-(COUNTIF(G56:AO56,"CT")) -> 0 | AT52: =10-(COUNTIF(G56:AO56,"RH")) -> 10 | AU52: =D52+AP52-AP58 -> -7.2916667
F53: Fin
E54: ='Du 24 juin au 28 juillet'!E54 -> GG | F54: début
F55: Fin
G57: Contre poste, congés et formation | L57: 0 | N57: Contre poste, congés et formation | S57: 0 | U57: Contre poste, congés et formation | Z57: 0 | AB57: Contre poste, congés et formation | AG57: 0 | AI57: Contre poste, congés et formation | AN57: 0 | AP57: HEURES A REALISER SUR LA PERIODE
E58: Temps de travail | G58: =G53-G52+G55-G54 -> 0 | H58: =H53-H52+H55-H54 -> 0 | I58: =I53-I52+I55-I54 -> 0 | J58: =J53-J52+J55-J54 -> 0 | K58: =K53-K52+K55-K54 -> 0 | L58: =L53-L52+L55-L54 -> 0 | M58: =M53-M52+M55-M54 -> 0 | N58: =N53-N52+N55-N54 -> 0 | ... AO58: =AO53-AO52+AO55-AO54 -> 0 | AP58: 7.2916667
G59: =G58+H58+I58+J58+K58+L58+M58+L57 -> 0 | N59: =N58+O58+P58+Q58+R58+S58+T58+S57 -> 0 | U59: =U58+V58+W58+X58+Y58+Z58+AA58+Z57 -> 0 | AB59: =AB58+AC58+AD58+AE58+AF58+AG58+AH58+AG57 -> 0 | AI59: =AI58+AJ58+AK58+AL58+AM58+AN58+AO58+AN57 -> 0
A60: ='Du 24 juin au 28 juillet'!AQ60 -> 0 | B60: ='Du 24 juin au 28 juillet'!AR60 -> 0 | C60: ='Du 24 juin au 28 juillet'!AS60 -> 0 | D60: 0 | E60: ='Du 24 juin au 28 juillet'!E60 -> HH | F60: début | AP60: =G67+N67+U67+AB67+AI67 -> 0 | AQ60: =A60-(COUNTIF(G64:AO64,"CP")) -> 0 | AR60: =B60-(COUNTIF(G64:AO64,"CA")) -> 0 | AS60: =C60-(COUNTIF(G64:AO64,"CT")) -> 0 | AT60: =10-(COUNTIF(G64:AO64,"RH")) -> 10 | AU60: =D60+AP60-AP66 -> -7.2916667
F61: Fin
E62: ='Du 24 juin au 28 juillet'!E62 -> HH | F62: début
F63: Fin
G65: Contre poste, congés et formation | L65: 0 | N65: Contre poste, congés et formation | S65: 0 | U65: Contre poste, congés et formation | Z65: 0 | AB65: Contre poste, congés et formation | AG65: 0 | AI65: Contre poste, congés et formation | AN65: 0 | AP65: HEURES A REALISER SUR LA PERIODE
E66: Temps de travail | G66: =G61-G60+G63-G62 -> 0 | H66: =H61-H60+H63-H62 -> 0 | I66: =I61-I60+I63-I62 -> 0 | J66: =J61-J60+J63-J62 -> 0 | K66: =K61-K60+K63-K62 -> 0 | L66: =L61-L60+L63-L62 -> 0 | M66: =M61-M60+M63-M62 -> 0 | N66: =N61-N60+N63-N62 -> 0 | ... AO66: =AO61-AO60+AO63-AO62 -> 0 | AP66: 7.2916667
G67: =G66+H66+I66+J66+K66+L66+M66+L65 -> 0 | N67: =N66+O66+P66+Q66+R66+S66+T66+S65 -> 0 | U67: =U66+V66+W66+X66+Y66+Z66+AA66+Z65 -> 0 | AB67: =AB66+AC66+AD66+AE66+AF66+AG66+AH66+AG65 -> 0 | AI67: =AI66+AJ66+AK66+AL66+AM66+AN66+AO66+AN65 -> 0
A68: ='Du 24 juin au 28 juillet'!AQ68 -> 0 | B68: ='Du 24 juin au 28 juillet'!AR68 -> 0 | C68: ='Du 24 juin au 28 juillet'!AS68 -> 0 | D68: 0 | E68: ='Du 24 juin au 28 juillet'!E68 -> II | F68: début | AP68: =G75+N75+U75+AB75+AI75 -> 0 | AQ68: =A68-(COUNTIF(G72:AO72,"CP")) -> 0 | AR68: =B68-(COUNTIF(G72:AO72,"CA")) -> 0 | AS68: =C68-(COUNTIF(G72:AO72,"CT")) -> 0 | AT68: =10-(COUNTIF(G72:AO72,"RH")) -> 10 | AU68: =D68+AP68-AP74 -> -7.2916667
F69: Fin
E70: ='Du 24 juin au 28 juillet'!E70 -> II | F70: début
F71: Fin
G73: Contre poste, congés et formation | L73: 0 | N73: Contre poste, congés et formation | S73: 0 | U73: Contre poste, congés et formation | Z73: 0 | AB73: Contre poste, congés et formation | AG73: 0 | AI73: Contre poste, congés et formation | AN73: 0 | AP73: HEURES A REALISER SUR LA PERIODE
E74: Temps de travail | G74: =G69-G68+G71-G70 -> 0 | H74: =H69-H68+H71-H70 -> 0 | I74: =I69-I68+I71-I70 -> 0 | J74: =J69-J68+J71-J70 -> 0 | K74: =K69-K68+K71-K70 -> 0 | L74: =L69-L68+L71-L70 -> 0 | M74: =M69-M68+M71-M70 -> 0 | N74: =N69-N68+N71-N70 -> 0 | ... AO74: =AO69-AO68+AO71-AO70 -> 0 | AP74: 7.2916667
G75: =G74+H74+I74+J74+K74+L74+M74+L73 -> 0 | N75: =N74+O74+P74+Q74+R74+S74+T74+S73 -> 0 | U75: =U74+V74+W74+X74+Y74+Z74+AA74+Z73 -> 0 | AB75: =AB74+AC74+AD74+AE74+AF74+AG74+AH74+AG73 -> 0 | AI75: =AI74+AJ74+AK74+AL74+AM74+AN74+AO74+AN73 -> 0
A76: Planning réalisé le | H76: MAJ le | M76: Le/la chef(fe) de service éducatif | AB76: La direction | AP76: Page 1/2
G77: SERVICE OU UNITÉ | O77: =O1 -> JJ | Z77: PÉRIODE DU 5 JUIN AU 9 JUILLET 2023 | AP77: SOLDE FIN DE PÉRIODE | AV77: VALIDATION GRILLE PAR LES PROFESSIONNELS EN FIN DE CYCLE
A78: CP | B78: CA | C78: CT | D78: solde d’heure | E78: Noms des professionnels | G78: L | H78: M | I78: M | J78: J | K78: V | L78: S | M78: D | N78: L | O78: M | P78: M | Q78: J | R78: V | S78: S | T78: D | U78: L | V78: M | W78: M | X78: J | Y78: V | Z78: S | AA78: D | AB78: L | AC78: M | AD78: M | AE78: J | AF78: V | AG78: S | AH78: D | AI78: L | AJ78: M | AK78: M | AL78: J | AM78: V | AN78: S | AO78: D | AP78: Total | AQ78: CP | AR78: CA | AS78: CT | AT78: RH | AU78: solde d’heure
G79: 24 | H79: 25 | I79: 26 | J79: 27 | K79: 28 | L79: 29 | M79: 30 | N79: 1 | O79: 2 | P79: 3 | Q79: 4 | R79: 5 | S79: 6 | T79: 7 | U79: 8 | V79: 9 | W79: 10 | X79: 11 | Y79: 12 | Z79: 13 | AA79: 14 | AB79: 15 | AC79: 16 | AD79: 17 | AE79: 18 | AF79: 19 | AG79: 20 | AH79: 21 | AI79: 22 | AJ79: 23 | AK79: 24 | AL79: 25 | AM79: 26 | AN79: 27 | AO79: 28
A80: ='Du 24 juin au 28 juillet'!AQ80 -> 0 | B80: ='Du 24 juin au 28 juillet'!AR80 -> 0 | C80: ='Du 24 juin au 28 juillet'!AS80 -> 0 | D80: 0 | E80: ='Du 24 juin au 28 juillet'!E80 -> JJ | F80: début | AP80: =G87+N87+U87+AB87+AI87 -> 0 | AQ80: =A80-(COUNTIF(G84:AO84,"CP")) -> 0 | AR80: =B80-(COUNTIF(G84:AO84,"CA")) -> 0 | AS80: =C80-(COUNTIF(G84:AO84,"CT")) -> 0 | AT80: =10-(COUNTIF(G84:AO84,"RH")) -> 10 | AU80: =D80+AP80-AP86 -> -7.2916667
F81: Fin
E82: ='Du 24 juin au 28 juillet'!E82 -> JJ | F82: début
F83: Fin
G85: Contre poste, congés et formation | L85: 0 | N85: Contre poste, congés et formation | S85: 0 | U85: Contre poste, congés et formation | Z85: 0 | AB85: Contre poste, congés et formation | AG85: 0 | AI85: Contre poste, congés et formation | AN85: 0 | AP85: HEURES A REALISER SUR LA PERIODE
E86: Temps de travail | G86: =G81-G80+G83-G82 -> 0 | H86: =H81-H80+H83-H82 -> 0 | I86: =I81-I80+I83-I82 -> 0 | J86: =J81-J80+J83-J82 -> 0 | K86: =K81-K80+K83-K82 -> 0 | L86: =L81-L80+L83-L82 -> 0 | M86: =M81-M80+M83-M82 -> 0 | N86: =N81-N80+N83-N82 -> 0 | ... AO86: =AO81-AO80+AO83-AO82 -> 0 | AP86: 7.2916667
G87: =G86+H86+I86+J86+K86+L86+M86+L85 -> 0 | N87: =N86+O86+P86+Q86+R86+S86+T86+S85 -> 0 | U87: =U86+V86+W86+X86+Y86+Z86+AA86+Z85 -> 0 | AB87: =AB86+AC86+AD86+AE86+AF86+AG86+AH86+AG85 -> 0 | AI87: =AI86+AJ86+AK86+AL86+AM86+AN86+AO86+AN85 -> 0
A88: ='Du 24 juin au 28 juillet'!AQ88 -> 0 | B88: ='Du 24 juin au 28 juillet'!AR88 -> 0 | C88: ='Du 24 juin au 28 juillet'!AS88 -> 0 | D88: 0 | E88: ='Du 24 juin au 28 juillet'!E88 -> KK | F88: début | AP88: =G95+N95+U95+AB95+AI95 -> 0 | AQ88: =A88-(COUNTIF(G92:AO92,"CP")) -> 0 | AR88: =B88-(COUNTIF(G92:AO92,"CA")) -> 0 | AS88: =C88-(COUNTIF(G92:AO92,"CT")) -> 0 | AT88: =10-(COUNTIF(G92:AO92,"RH")) -> 10 | AU88: =D88+AP88-AP94 -> -7.2916667
F89: Fin
E90: ='Du 24 juin au 28 juillet'!E90 -> KK | F90: début
F91: Fin
G93: Contre poste, congés et formation | L93: 0 | N93: Contre poste, congés et formation | S93: 0 | U93: Contre poste, congés et formation | Z93: 0 | AB93: Contre poste, congés et formation | AG93: 0 | AI93: Contre poste, congés et formation | AN93: 0 | AP93: HEURES A REALISER SUR LA PERIODE
E94: Temps de travail | G94: =G89-G88+G91-G90 -> 0 | H94: =H89-H88+H91-H90 -> 0 | I94: =I89-I88+I91-I90 -> 0 | J94: =J89-J88+J91-J90 -> 0 | K94: =K89-K88+K91-K90 -> 0 | L94: =L89-L88+L91-L90 -> 0 | M94: =M89-M88+M91-M90 -> 0 | N94: =N89-N88+N91-N90 -> 0 | ... AO94: =AO89-AO88+AO91-AO90 -> 0 | AP94: 7.2916667
G95: =G94+H94+I94+J94+K94+L94+M94+L93 -> 0 | N95: =N94+O94+P94+Q94+R94+S94+T94+S93 -> 0 | U95: =U94+V94+W94+X94+Y94+Z94+AA94+Z93 -> 0 | AB95: =AB94+AC94+AD94+AE94+AF94+AG94+AH94+AG93 -> 0 | AI95: =AI94+AJ94+AK94+AL94+AM94+AN94+AO94+AN93 -> 0
A96: ='Du 24 juin au 28 juillet'!AQ96 -> 0 | B96: ='Du 24 juin au 28 juillet'!AR96 -> 0 | C96: ='Du 24 juin au 28 juillet'!AS96 -> 0 | D96: 0 | E96: ='Du 24 juin au 28 juillet'!E96 -> LL | F96: début | AP96: =G103+N103+U103+AB103+AI103 -> 0 | AQ96: =A96-(COUNTIF(G100:AO100,"CP")) -> 0 | AR96: =B96-(COUNTIF(G100:AO100,"CA")) -> 0 | AS96: =C96-(COUNTIF(G100:AO100,"CT")) -> 0 | AT96: =10-(COUNTIF(G100:AO100,"RH")) -> 10 | AU96: =D96+AP96-AP102 -> -7.2916667
F97: Fin
E98: ='Du 24 juin au 28 juillet'!E98 -> LL | F98: début
F99: Fin
G101: Contre poste, congés et formation | L101: 0 | N101: Contre poste, congés et formation | S101: 0 | U101: Contre poste, congés et formation | Z101: 0 | AB101: Contre poste, congés et formation | AG101: 0 | AI101: Contre poste, congés et formation | AN101: 0 | AP101: HEURES A REALISER SUR LA PERIODE
E102: Temps de travail | G102: =G97-G96+G99-G98 -> 0 | H102: =H97-H96+H99-H98 -> 0 | I102: =I97-I96+I99-I98 -> 0 | J102: =J97-J96+J99-J98 -> 0 | K102: =K97-K96+K99-K98 -> 0 | L102: =L97-L96+L99-L98 -> 0 | M102: =M97-M96+M99-M98 -> 0 | N102: =N97-N96+N99-N98 -> 0 | ... AO102: =AO97-AO96+AO99-AO98 -> 0 | AP102: 7.2916667
G103: =G102+H102+I102+J102+K102+L102+M102+L101 -> 0 | N103: =N102+O102+P102+Q102+R102+S102+T102+S101 -> 0 | U103: =U102+V102+W102+X102+Y102+Z102+AA102+Z101 -> 0 | AB103: =AB102+AC102+AD102+AE102+AF102+AG102+AH102+AG101 -> 0 | AI103: =AI102+AJ102+AK102+AL102+AM102+AN102+AO102+AN101 -> 0
A104: ='Du 24 juin au 28 juillet'!AQ104 -> 0 | B104: ='Du 24 juin au 28 juillet'!AR104 -> 0 | C104: ='Du 24 juin au 28 juillet'!AS104 -> 0 | D104: 0 | E104: ='Du 24 juin au 28 juillet'!E104 -> MM | F104: début | AP104: =G111+N111+U111+AB111+AI111 -> 0 | AQ104: =A104-(COUNTIF(G108:AO108,"CP")) -> 0 | AR104: =B104-(COUNTIF(G108:AO108,"CA")) -> 0 | AS104: =C104-(COUNTIF(G108:AO108,"CT")) -> 0 | AT104: =10-(COUNTIF(G108:AO108,"RH")) -> 10 | AU104: =D104+AP104-AP110 -> -7.2916667
F105: Fin
E106: ='Du 24 juin au 28 juillet'!E106 -> MM | F106: début
F107: Fin
G109: Contre poste, congés et formation | L109: 0 | N109: Contre poste, congés et formation | S109: 0 | U109: Contre poste, congés et formation | Z109: 0 | AB109: Contre poste, congés et formation | AG109: 0 | AI109: Contre poste, congés et formation | AN109: 0 | AP109: HEURES A REALISER SUR LA PERIODE
E110: Temps de travail | G110: =G105-G104+G107-G106 -> 0 | H110: =H105-H104+H107-H106 -> 0 | I110: =I105-I104+I107-I106 -> 0 | J110: =J105-J104+J107-J106 -> 0 | K110: =K105-K104+K107-K106 -> 0 | L110: =L105-L104+L107-L106 -> 0 | M110: =M105-M104+M107-M106 -> 0 | N110: =N105-N104+N107-N106 -> 0 | ... AO110: =AO105-AO104+AO107-AO106 -> 0 | AP110: 7.2916667
G111: =G110+H110+I110+J110+K110+L110+M110+L109 -> 0 | N111: =N110+O110+P110+Q110+R110+S110+T110+S109 -> 0 | U111: =U110+V110+W110+X110+Y110+Z110+AA110+Z109 -> 0 | AB111: =AB110+AC110+AD110+AE110+AF110+AG110+AH110+AG109 -> 0 | AI111: =AI110+AJ110+AK110+AL110+AM110+AN110+AO110+AN109 -> 0
A112: Planning réalisé le | F112: =F76 -> 0 | H112: MAJ le | J112: =J76 -> 0 | AB112: La direction | AP112: Page 2/2

Sheet Du 20 janvie au 23 févrie
A1: FIN DE PERIODE PRECEDENTE | G1: SERVICE OU UNITÉ | O1: ='Du 24 juin au 28 juillet'!O1 -> JJ | Z1: PÉRIODE DU 20 JANVIER AU 23 FEVRIER 2025 | AP1: SOLDE FIN DE PÉRIODE | AV1: VALIDATION GRILLE PAR LES PROFESSIONNELS EN FIN DE CYCLE
A2: CP | B2: CA | C2: CT | D2: solde d’heure | E2: Noms des professionnels | G2: L | H2: M | I2: M | J2: J | K2: V | L2: S | M2: D | N2: L | O2: M | P2: M | Q2: J | R2: V | S2: S | T2: D | U2: L | V2: M | W2: M | X2: J | Y2: V | Z2: S | AA2: D | AB2: L | AC2: M | AD2: M | AE2: J | AF2: V | AG2: S | AH2: D | AI2: L | AJ2: M | AK2: M | AL2: J | AM2: V | AN2: S | AO2: D | AP2: Total | AQ2: CP | AR2: CA | AS2: CT | AT2: RH | AU2: solde d’heure
G3: 20 | H3: 21 | I3: 22 | J3: 23 | K3: 24 | L3: 25 | M3: 26 | N3: 27 | O3: 28 | P3: 29 | Q3: 30 | R3: 31 | S3: 1 | T3: 2 | U3: 3 | V3: 4 | W3: 5 | X3: 6 | Y3: 7 | Z3: 8 | AA3: 9 | AB3: 10 | AC3: 11 | AD3: 12 | AE3: 13 | AF3: 14 | AG3: 15 | AH3: 16 | AI3: 17 | AJ3: 18 | AK3: 19 | AL3: 20 | AM3: 21 | AN3: 22 | AO3: 23
A4: ='Du 24 juin au 28 juillet'!AQ4 -> -1 | B4: ='Du 24 juin au 28 juillet'!AR4 -> -1 | C4: ='Du 24 juin au 28 juillet'!AS4 -> -1 | D4: ='Du 24 juin au 28 juillet'!AP4 -> 7.3541667 | E4: ='Du 24 juin au 28 juillet'!E4 -> AA | F4: début | G4: 0.29166667 | I4: 0.29166667 | L4: 0.33333333 | M4: 0.33333333 | V4: 0.29166667 | AD4: 0.375 | AL4: 0.29166667 | AM4: 0.29166667 | AP4: =G11+N11+U11+AB11+AI11 -> 7.3541667 | AQ4: =A4-(COUNTIF(G8:AO8,"CP")) -> -1 | AR4: =B4-(COUNTIF(G8:AO8,"CA")) -> -1 | AS4: =C4-(COUNTIF(G8:AO8,"CT")) -> -1 | AT4: =10-(COUNTIF(G8:AO8,"RH")) -> 0 | AU4: =D4+AP4-AP10 -> 7.4166667
F5: Fin | G5: 0.59375 | I5: 0.59375 | L5: 0.70833333 | M5: 0.58333333 | V5: 0.70833333 | AD5: 0.75 | AL5: 0.59375 | AM5: 0.59375
E6: ='Du 24 juin au 28 juillet'!E6 -> AA | F6: début | H6: 0.5625 | O6: 0.5625 | P6: 0.5625 | S6: 0.5 | T6: 0.5 | W6: 0.54166667 | X6: 0.58333333 | Y6: 0.58333333 | AB6: 0.58333333 | AC6: 0.5625 | AE6: 0.58333333 | AF6: 0.58333333 | AI6: 0.58333333 | AJ6: 0.5625
F7: Fin | H7: 0.83333333 | O7: 0.91666667 | P7: 0.91666667 | S7: 0.91666667 | T7: 0.91666667 | W7: 0.91666667 | X7: 0.91666667 | Y7: 0.91666667 | AB7: 0.91666667 | AC7: 0.75 | AE7: 0.91666667 | AF7: 0.91666667 | AI7: 0.91666667 | AJ7: 0.91666667
J8: RH | K8: RH | Q8: RH | R8: RH | Z8: RH | AA8: RH | AG8: RH | AH8: RH | AN8: RH | AO8: RH
G9: Contre poste, congés et formation | L9: 0 | N9: Contre poste, congés et formation | S9: 0 | U9: Contre poste, congés et formation | Z9: 0 | AB9: Contre poste, congés et formation | AG9: 0 | AI9: Contre poste, congés et formation | AN9: 0 | AP9: HEURES A REALISER SUR LA PERIODE
E10: Temps de travail | G10: =G5-G4+G7-G6 -> 0.30208333 | H10: =H5-H4+H7-H6 -> 0.27083333 | I10: =I5-I4+I7-I6 -> 0.30208333 | J10: =J5-J4+J7-J6 -> 0 | K10: =K5-K4+K7-K6 -> 0 | L10: =L5-L4+L7-L6 -> 0.375 | M10: =M5-M4+M7-M6 -> 0.25 | N10: =N5-N4+N7-N6 -> 0 | ... AO10: =AO5-AO4+AO7-AO6 -> 0 | AP10: 7.2916667
G11: =G10+H10+I10+J10+K10+L10+M10+L9 -> 1.5 | N11: =N10+O10+P10+Q10+R10+S10+T10+S9 -> 1.5416667 | U11: =U10+V10+W10+X10+Y10+Z10+AA10+Z9 -> 1.4583333 | AB11: =AB10+AC10+AD10+AE10+AF10+AG10+AH10+AG9 -> 1.5625 | AI11: =AI10+AJ10+AK10+AL10+AM10+AN10+AO10+AN9 -> 1.2916667
A12: ='Du 24 juin au 28 juillet'!AQ12 -> 0 | B12: ='Du 24 juin au 28 juillet'!AR12 -> 0 | C12: ='Du 24 juin au 28 juillet'!AS12 -> 0 | D12: 0 | E12: ='Du 24 juin au 28 juillet'!E12 -> BB | F12: début | AP12: =G19+N19+U19+AB19+AI19 -> 0 | AQ12: =A12-(COUNTIF(G16:AO16,"CP")) -> 0 | AR12: =B12-(COUNTIF(G16:AO16,"CA")) -> 0 | AS12: =C12-(COUNTIF(G16:AO16,"CT")) -> 0 | AT12: =10-(COUNTIF(G16:AO16,"RH")) -> 10 | AU12: =D12+AP12-AP18 -> -7.2916667
F13: Fin
E14: ='Du 24 juin au 28 juillet'!E14 -> BB | F14: début
F15: Fin
G17: Contre poste, congés et formation | L17: 0 | N17: Contre poste, congés et formation | S17: 0 | U17: Contre poste, congés et formation | Z17: 0 | AB17: Contre poste, congés et formation | AG17: 0 | AI17: Contre poste, congés et formation | AN17: 0 | AP17: HEURES A REALISER SUR LA PERIODE
E18: Temps de travail | G18: =G13-G12+G15-G14 -> 0 | H18: =H13-H12+H15-H14 -> 0 | I18: =I13-I12+I15-I14 -> 0 | J18: =J13-J12+J15-J14 -> 0 | K18: =K13-K12+K15-K14 -> 0 | L18: =L13-L12+L15-L14 -> 0 | M18: =M13-M12+M15-M14 -> 0 | N18: =N13-N12+N15-N14 -> 0 | ... AO18: =AO13-AO12+AO15-AO14 -> 0 | AP18: 7.2916667
G19: =G18+H18+I18+J18+K18+L18+M18+L17 -> 0 | N19: =N18+O18+P18+Q18+R18+S18+T18+S17 -> 0 | U19: =U18+V18+W18+X18+Y18+Z18+AA18+Z17 -> 0 | AB19: =AB18+AC18+AD18+AE18+AF18+AG18+AH18+AG17 -> 0 | AI19: =AI18+AJ18+AK18+AL18+AM18+AN18+AO18+AN17 -> 0
A20: ='Du 24 juin au 28 juillet'!AQ20 -> 0 | B20: ='Du 24 juin au 28 juillet'!AR20 -> 0 | C20: ='Du 24 juin au 28 juillet'!AS20 -> 0 | D20: 0 | E20: ='Du 24 juin au 28 juillet'!E20 -> CC | F20: début | AP20: =G27+N27+U27+AB27+AI27 -> 0 | AQ20: =A20-(COUNTIF(G24:AO24,"CP")) -> 0 | AR20: =B20-(COUNTIF(G24:AO24,"CA")) -> 0 | AS20: =C20-(COUNTIF(G24:AO24,"CT")) -> 0 | AT20: =10-(COUNTIF(G24:AO24,"RH")) -> 10 | AU20: =D20+AP20-AP26 -> -7.2916667
F21: Fin
E22: ='Du 24 juin au 28 juillet'!E22 -> CC | F22: début
F23: Fin
G25: Contre poste, congés et formation | L25: 0 | N25: Contre poste, congés et formation | S25: 0 | U25: Contre poste, congés et formation | Z25: 0 | AB25: Contre poste, congés et formation | AG25: 0 | AI25: Contre poste, congés et formation | AN25: 0 | AP25: HEURES A REALISER SUR LA PERIODE
E26: Temps de travail | G26: =G21-G20+G23-G22 -> 0 | H26: =H21-H20+H23-H22 -> 0 | I26: =I21-I20+I23-I22 -> 0 | J26: =J21-J20+J23-J22 -> 0 | K26: =K21-K20+K23-K22 -> 0 | L26: =L21-L20+L23-L22 -> 0 | M26: =M21-M20+M23-M22 -> 0 | N26: =N21-N20+N23-N22 -> 0 | ... AO26: =AO21-AO20+AO23-AO22 -> 0 | AP26: 7.2916667
G27: =G26+H26+I26+J26+K26+L26+M26+L25 -> 0 | N27: =N26+O26+P26+Q26+R26+S26+T26+S25 -> 0 | U27: =U26+V26+W26+X26+Y26+Z26+AA26+Z25 -> 0 | AB27: =AB26+AC26+AD26+AE26+AF26+AG26+AH26+AG25 -> 0 | AI27: =AI26+AJ26+AK26+AL26+AM26+AN26+AO26+AN25 -> 0
A28: ='Du 24 juin au 28 juillet'!AQ28 -> 0 | B28: ='Du 24 juin au 28 juillet'!AR28 -> 0 | C28: ='Du 24 juin au 28 juillet'!AS28 -> 0 | D28: 0 | E28: ='Du 24 juin au 28 juillet'!E28 -> DD | F28: début | AP28: =G35+N35+U35+AB35+AI35 -> 0 | AQ28: =A28-(COUNTIF(G32:AO32,"CP")) -> 0 | AR28: =B28-(COUNTIF(G32:AO32,"CA")) -> 0 | AS28: =C28-(COUNTIF(G32:AO32,"CT")) -> 0 | AT28: =10-(COUNTIF(G32:AO32,"RH")) -> 10 | AU28: =D28+AP28-AP34 -> -7.2916667
F29: Fin
E30: ='Du 24 juin au 28 juillet'!E30 -> DD | F30: début
F31: Fin
G33: Contre poste, congés et formation | L33: 0 | N33: Contre poste, congés et formation | S33: 0 | U33: Contre poste, congés et formation | Z33: 0 | AB33: Contre poste, congés et formation | AG33: 0 | AI33: Contre poste, congés et formation | AN33: 0 | AP33: HEURES A REALISER SUR LA PERIODE
E34: Temps de travail | G34: =G29-G28+G31-G30 -> 0 | H34: =H29-H28+H31-H30 -> 0 | I34: =I29-I28+I31-I30 -> 0 | J34: =J29-J28+J31-J30 -> 0 | K34: =K29-K28+K31-K30 -> 0 | L34: =L29-L28+L31-L30 -> 0 | M34: =M29-M28+M31-M30 -> 0 | N34: =N29-N28+N31-N30 -> 0 | ... AO34: =AO29-AO28+AO31-AO30 -> 0 | AP34: 7.2916667
G35: =G34+H34+I34+J34+K34+L34+M34+L33 -> 0 | N35: =N34+O34+P34+Q34+R34+S34+T34+S33 -> 0 | U35: =U34+V34+W34+X34+Y34+Z34+AA34+Z33 -> 0 | AB35: =AB34+AC34+AD34+AE34+AF34+AG34+AH34+AG33 -> 0 | AI35: =AI34+AJ34+AK34+AL34+AM34+AN34+AO34+AN33 -> 0
A36: ='Du 24 juin au 28 juillet'!AQ36 -> 0 | B36: ='Du 24 juin au 28 juillet'!AR36 -> 0 | C36: ='Du 24 juin au 28 juillet'!AS36 -> 0 | D36: 0 | E36: ='Du 24 juin au 28 juillet'!E36 -> EE | F36: début | AP36: =G43+N43+U43+AB43+AI43 -> 0 | AQ36: =A36-(COUNTIF(G40:AO40,"CP")) -> 0 | AR36: =B36-(COUNTIF(G40:AO40,"CA")) -> 0 | AS36: =C36-(COUNTIF(G40:AO40,"CT")) -> 0 | AT36: =10-(COUNTIF(G40:AO40,"RH")) -> 10 | AU36: =D36+AP36-AP42 -> -7.2916667
F37: Fin
E38: ='Du 24 juin au 28 juillet'!E38 -> EE | F38: début
F39: Fin
G41: Contre poste, congés et formation | L41: 0 | N41: Contre poste, congés et formation | S41: 0 | U41: Contre poste, congés et formation | Z41: 0 | AB41: Contre poste, congés et formation | AG41: 0 | AI41: Contre poste, congés et formation | AN41: 0 | AP41: HEURES A REALISER SUR LA PERIODE
E42: Temps de travail | G42: =G37-G36+G39-G38 -> 0 | H42: =H37-H36+H39-H38 -> 0 | I42: =I37-I36+I39-I38 -> 0 | J42: =J37-J36+J39-J38 -> 0 | K42: =K37-K36+K39-K38 -> 0 | L42: =L37-L36+L39-L38 -> 0 | M42: =M37-M36+M39-M38 -> 0 | N42: =N37-N36+N39-N38 -> 0 | ... AO42: =AO37-AO36+AO39-AO38 -> 0 | AP42: 7.2916667
G43: =G42+H42+I42+J42+K42+L42+M42+L41 -> 0 | N43: =N42+O42+P42+Q42+R42+S42+T42+S41 -> 0 | U43: =U42+V42+W42+X42+Y42+Z42+AA42+Z41 -> 0 | AB43: =AB42+AC42+AD42+AE42+AF42+AG42+AH42+AG41 -> 0 | AI43: =AI42+AJ42+AK42+AL42+AM42+AN42+AO42+AN41 -> 0
A44: ='Du 24 juin au 28 juillet'!AQ44 -> 0 | B44: ='Du 24 juin au 28 juillet'!AR44 -> 0 | C44: ='Du 24 juin au 28 juillet'!AS44 -> 0 | D44: 0 | E44: ='Du 24 juin au 28 juillet'!E44 -> FF | F44: début | AP44: =G51+N51+U51+AB51+AI51 -> 0 | AQ44: =A44-(COUNTIF(G48:AO48,"CP")) -> 0 | AR44: =B44-(COUNTIF(G48:AO48,"CA")) -> 0 | AS44: =C44-(COUNTIF(G48:AO48,"CT")) -> 0 | AT44: =10-(COUNTIF(G48:AO48,"RH")) -> 10 | AU44: =D44+AP44-AP50 -> -7.2916667
F45: Fin
E46: ='Du 24 juin au 28 juillet'!E46 -> FF | F46: début
F47: Fin
G49: Contre poste, congés et formation | L49: 0 | N49: Contre poste, congés et formation | S49: 0 | U49: Contre poste, congés et formation | Z49: 0 | AB49: Contre poste, congés et formation | AG49: 0 | AI49: Contre poste, congés et formation | AN49: 0 | AP49: HEURES A REALISER SUR LA PERIODE
E50: Temps de travail | G50: =G45-G44+G47-G46 -> 0 | H50: =H45-H44+H47-H46 -> 0 | I50: =I45-I44+I47-I46 -> 0 | J50: =J45-J44+J47-J46 -> 0 | K50: =K45-K44+K47-K46 -> 0 | L50: =L45-L44+L47-L46 -> 0 | M50: =M45-M44+M47-M46 -> 0 | N50: =N45-N44+N47-N46 -> 0 | ... AO50: =AO45-AO44+AO47-AO46 -> 0 | AP50: 7.2916667
G51: =G50+H50+I50+J50+K50+L50+M50+L49 -> 0 | N51: =N50+O50+P50+Q50+R50+S50+T50+S49 -> 0 | U51: =U50+V50+W50+X50+Y50+Z50+AA50+Z49 -> 0 | AB51: =AB50+AC50+AD50+AE50+AF50+AG50+AH50+AG49 -> 0 | AI51: =AI50+AJ50+AK50+AL50+AM50+AN50+AO50+AN49 -> 0
A52: ='Du 24 juin au 28 juillet'!AQ52 -> 0 | B52: ='Du 24 juin au 28 juillet'!AR52 -> 0 | C52: ='Du 24 juin au 28 juillet'!AS52 -> 0 | D52: 0 | E52: ='Du 24 juin au 28 juillet'!E52 -> GG | F52: début | AP52: =G59+N59+U59+AB59+AI59 -> 0 | AQ52: =A52-(COUNTIF(G56:AO56,"CP")) -> 0 | AR52: =B52-(COUNTIF(G56:AO56,"CA")) -> 0 | AS52: =C52-(COUNTIF(G56:AO56,"CT")) -> 0 | AT52: =10-(COUNTIF(G56:AO56,"RH")) -> 10 | AU52: =D52+AP52-AP58 -> -7.2916667
F53: Fin
E54: ='Du 24 juin au 28 juillet'!E54 -> GG | F54: début
F55: Fin
G57: Contre poste, congés et formation | L57: 0 | N57: Contre poste, congés et formation | S57: 0 | U57: Contre poste, congés et formation | Z57: 0 | AB57: Contre poste, congés et formation | AG57: 0 | AI57: Contre poste, congés et formation | AN57: 0 | AP57: HEURES A REALISER SUR LA PERIODE
E58: Temps de travail | G58: =G53-G52+G55-G54 -> 0 | H58: =H53-H52+H55-H54 -> 0 | I58: =I53-I52+I55-I54 -> 0 | J58: =J53-J52+J55-J54 -> 0 | K58: =K53-K52+K55-K54 -> 0 | L58: =L53-L52+L55-L54 -> 0 | M58: =M53-M52+M55-M54 -> 0 | N58: =N53-N52+N55-N54 -> 0 | ... AO58: =AO53-AO52+AO55-AO54 -> 0 | AP58: 7.2916667
G59: =G58+H58+I58+J58+K58+L58+M58+L57 -> 0 | N59: =N58+O58+P58+Q58+R58+S58+T58+S57 -> 0 | U59: =U58+V58+W58+X58+Y58+Z58+AA58+Z57 -> 0 | AB59: =AB58+AC58+AD58+AE58+AF58+AG58+AH58+AG57 -> 0 | AI59: =AI58+AJ58+AK58+AL58+AM58+AN58+AO58+AN57 -> 0
A60: ='Du 24 juin au 28 juillet'!AQ60 -> 0 | B60: ='Du 24 juin au 28 juillet'!AR60 -> 0 | C60: ='Du 24 juin au 28 juillet'!AS60 -> 0 | D60: 0 | E60: ='Du 24 juin au 28 juillet'!E60 -> HH | F60: début | AP60: =G67+N67+U67+AB67+AI67 -> 0 | AQ60: =A60-(COUNTIF(G64:AO64,"CP")) -> 0 | AR60: =B60-(COUNTIF(G64:AO64,"CA")) -> 0 | AS60: =C60-(COUNTIF(G64:AO64,"CT")) -> 0 | AT60: =10-(COUNTIF(G64:AO64,"RH")) -> 10 | AU60: =D60+AP60-AP66 -> -7.2916667
F61: Fin
E62: ='Du 24 juin au 28 juillet'!E62 -> HH | F62: début
F63: Fin
G65: Contre poste, congés et formation | L65: 0 | N65: Contre poste, congés et formation | S65: 0 | U65: Contre poste, congés et formation | Z65: 0 | AB65: Contre poste, congés et formation | AG65: 0 | AI65: Contre poste, congés et formation | AN65: 0 | AP65: HEURES A REALISER SUR LA PERIODE
E66: Temps de travail | G66: =G61-G60+G63-G62 -> 0 | H66: =H61-H60+H63-H62 -> 0 | I66: =I61-I60+I63-I62 -> 0 | J66: =J61-J60+J63-J62 -> 0 | K66: =K61-K60+K63-K62 -> 0 | L66: =L61-L60+L63-L62 -> 0 | M66: =M61-M60+M63-M62 -> 0 | N66: =N61-N60+N63-N62 -> 0 | ... AO66: =AO61-AO60+AO63-AO62 -> 0 | AP66: 7.2916667
G67: =G66+H66+I66+J66+K66+L66+M66+L65 -> 0 | N67: =N66+O66+P66+Q66+R66+S66+T66+S65 -> 0 | U67: =U66+V66+W66+X66+Y66+Z66+AA66+Z65 -> 0 | AB67: =AB66+AC66+AD66+AE66+AF66+AG66+AH66+AG65 -> 0 | AI67: =AI66+AJ66+AK66+AL66+AM66+AN66+AO66+AN65 -> 0
A68: ='Du 24 juin au 28 juillet'!AQ68 -> 0 | B68: ='Du 24 juin au 28 juillet'!AR68 -> 0 | C68: ='Du 24 juin au 28 juillet'!AS68 -> 0 | D68: 0 | E68: ='Du 24 juin au 28 juillet'!E68 -> II | F68: début | AP68: =G75+N75+U75+AB75+AI75 -> 0 | AQ68: =A68-(COUNTIF(G72:AO72,"CP")) -> 0 | AR68: =B68-(COUNTIF(G72:AO72,"CA")) -> 0 | AS68: =C68-(COUNTIF(G72:AO72,"CT")) -> 0 | AT68: =10-(COUNTIF(G72:AO72,"RH")) -> 10 | AU68: =D68+AP68-AP74 -> -7.2916667
F69: Fin
E70: ='Du 24 juin au 28 juillet'!E70 -> II | F70: début
F71: Fin
G73: Contre poste, congés et formation | L73: 0 | N73: Contre poste, congés et formation | S73: 0 | U73: Contre poste, congés et formation | Z73: 0 | AB73: Contre poste, congés et formation | AG73: 0 | AI73: Contre poste, congés et formation | AN73: 0 | AP73: HEURES A REALISER SUR LA PERIODE
E74: Temps de travail | G74: =G69-G68+G71-G70 -> 0 | H74: =H69-H68+H71-H70 -> 0 | I74: =I69-I68+I71-I70 -> 0 | J74: =J69-J68+J71-J70 -> 0 | K74: =K69-K68+K71-K70 -> 0 | L74: =L69-L68+L71-L70 -> 0 | M74: =M69-M68+M71-M70 -> 0 | N74: =N69-N68+N71-N70 -> 0 | ... AO74: =AO69-AO68+AO71-AO70 -> 0 | AP74: 7.2916667
G75: =G74+H74+I74+J74+K74+L74+M74+L73 -> 0 | N75: =N74+O74+P74+Q74+R74+S74+T74+S73 -> 0 | U75: =U74+V74+W74+X74+Y74+Z74+AA74+Z73 -> 0 | AB75: =AB74+AC74+AD74+AE74+AF74+AG74+AH74+AG73 -> 0 | AI75: =AI74+AJ74+AK74+AL74+AM74+AN74+AO74+AN73 -> 0
A76: Planning réalisé le | H76: MAJ le | M76: Le/la chef(fe) de service éducatif | AB76: La direction | AP76: Page 1/2
G77: SERVICE OU UNITÉ | O77: =O1 -> JJ | Z77: PÉRIODE DU 5 JUIN AU 9 JUILLET 2023 | AP77: SOLDE FIN DE PÉRIODE | AV77: VALIDATION GRILLE PAR LES PROFESSIONNELS EN FIN DE CYCLE
A78: CP | B78: CA | C78: CT | D78: solde d’heure | E78: Noms des professionnels | G78: L | H78: M | I78: M | J78: J | K78: V | L78: S | M78: D | N78: L | O78: M | P78: M | Q78: J | R78: V | S78: S | T78: D | U78: L | V78: M | W78: M | X78: J | Y78: V | Z78: S | AA78: D | AB78: L | AC78: M | AD78: M | AE78: J | AF78: V | AG78: S | AH78: D | AI78: L | AJ78: M | AK78: M | AL78: J | AM78: V | AN78: S | AO78: D | AP78: Total | AQ78: CP | AR78: CA | AS78: CT | AT78: RH | AU78: solde d’heure
G79: 24 | H79: 25 | I79: 26 | J79: 27 | K79: 28 | L79: 29 | M79: 30 | N79: 1 | O79: 2 | P79: 3 | Q79: 4 | R79: 5 | S79: 6 | T79: 7 | U79: 8 | V79: 9 | W79: 10 | X79: 11 | Y79: 12 | Z79: 13 | AA79: 14 | AB79: 15 | AC79: 16 | AD79: 17 | AE79: 18 | AF79: 19 | AG79: 20 | AH79: 21 | AI79: 22 | AJ79: 23 | AK79: 24 | AL79: 25 | AM79: 26 | AN79: 27 | AO79: 28
A80: ='Du 24 juin au 28 juillet'!AQ80 -> 0 | B80: ='Du 24 juin au 28 juillet'!AR80 -> 0 | C80: ='Du 24 juin au 28 juillet'!AS80 -> 0 | D80: 0 | E80: ='Du 24 juin au 28 juillet'!E80 -> JJ | F80: début | AP80: =G87+N87+U87+AB87+AI87 -> 0 | AQ80: =A80-(COUNTIF(G84:AO84,"CP")) -> 0 | AR80: =B80-(COUNTIF(G84:AO84,"CA")) -> 0 | AS80: =C80-(COUNTIF(G84:AO84,"CT")) -> 0 | AT80: =10-(COUNTIF(G84:AO84,"RH")) -> 10 | AU80: =D80+AP80-AP86 -> -7.2916667
F81: Fin
E82: ='Du 24 juin au 28 juillet'!E82 -> JJ | F82: début
F83: Fin
G85: Contre poste, congés et formation | L85: 0 | N85: Contre poste, congés et formation | S85: 0 | U85: Contre poste, congés et formation | Z85: 0 | AB85: Contre poste, congés et formation | AG85: 0 | AI85: Contre poste, congés et formation | AN85: 0 | AP85: HEURES A REALISER SUR LA PERIODE
E86: Temps de travail | G86: =G81-G80+G83-G82 -> 0 | H86: =H81-H80+H83-H82 -> 0 | I86: =I81-I80+I83-I82 -> 0 | J86: =J81-J80+J83-J82 -> 0 | K86: =K81-K80+K83-K82 -> 0 | L86: =L81-L80+L83-L82 -> 0 | M86: =M81-M80+M83-M82 -> 0 | N86: =N81-N80+N83-N82 -> 0 | ... AO86: =AO81-AO80+AO83-AO82 -> 0 | AP86: 7.2916667
G87: =G86+H86+I86+J86+K86+L86+M86+L85 -> 0 | N87: =N86+O86+P86+Q86+R86+S86+T86+S85 -> 0 | U87: =U86+V86+W86+X86+Y86+Z86+AA86+Z85 -> 0 | AB87: =AB86+AC86+AD86+AE86+AF86+AG86+AH86+AG85 -> 0 | AI87: =AI86+AJ86+AK86+AL86+AM86+AN86+AO86+AN85 -> 0
A88: ='Du 24 juin au 28 juillet'!AQ88 -> 0 | B88: ='Du 24 juin au 28 juillet'!AR88 -> 0 | C88: ='Du 24 juin au 28 juillet'!AS88 -> 0 | D88: 0 | E88: ='Du 24 juin au 28 juillet'!E88 -> KK | F88: début | AP88: =G95+N95+U95+AB95+AI95 -> 0 | AQ88: =A88-(COUNTIF(G92:AO92,"CP")) -> 0 | AR88: =B88-(COUNTIF(G92:AO92,"CA")) -> 0 | AS88: =C88-(COUNTIF(G92:AO92,"CT")) -> 0 | AT88: =10-(COUNTIF(G92:AO92,"RH")) -> 10 | AU88: =D88+AP88-AP94 -> -7.2916667
F89: Fin
E90: ='Du 24 juin au 28 juillet'!E90 -> KK | F90: début
F91: Fin
G93: Contre poste, congés et formation | L93: 0 | N93: Contre poste, congés et formation | S93: 0 | U93: Contre poste, congés et formation | Z93: 0 | AB93: Contre poste, congés et formation | AG93: 0 | AI93: Contre poste, congés et formation | AN93: 0 | AP93: HEURES A REALISER SUR LA PERIODE
E94: Temps de travail | G94: =G89-G88+G91-G90 -> 0 | H94: =H89-H88+H91-H90 -> 0 | I94: =I89-I88+I91-I90 -> 0 | J94: =J89-J88+J91-J90 -> 0 | K94: =K89-K88+K91-K90 -> 0 | L94: =L89-L88+L91-L90 -> 0 | M94: =M89-M88+M91-M90 -> 0 | N94: =N89-N88+N91-N90 -> 0 | ... AO94: =AO89-AO88+AO91-AO90 -> 0 | AP94: 7.2916667
G95: =G94+H94+I94+J94+K94+L94+M94+L93 -> 0 | N95: =N94+O94+P94+Q94+R94+S94+T94+S93 -> 0 | U95: =U94+V94+W94+X94+Y94+Z94+AA94+Z93 -> 0 | AB95: =AB94+AC94+AD94+AE94+AF94+AG94+AH94+AG93 -> 0 | AI95: =AI94+AJ94+AK94+AL94+AM94+AN94+AO94+AN93 -> 0
A96: ='Du 24 juin au 28 juillet'!AQ96 -> 0 | B96: ='Du 24 juin au 28 juillet'!AR96 -> 0 | C96: ='Du 24 juin au 28 juillet'!AS96 -> 0 | D96: 0 | E96: ='Du 24 juin au 28 juillet'!E96 -> LL | F96: début | AP96: =G103+N103+U103+AB103+AI103 -> 0 | AQ96: =A96-(COUNTIF(G100:AO100,"CP")) -> 0 | AR96: =B96-(COUNTIF(G100:AO100,"CA")) -> 0 | AS96: =C96-(COUNTIF(G100:AO100,"CT")) -> 0 | AT96: =10-(COUNTIF(G100:AO100,"RH")) -> 10 | AU96: =D96+AP96-AP102 -> -7.2916667
F97: Fin
E98: ='Du 24 juin au 28 juillet'!E98 -> LL | F98: début
F99: Fin
G101: Contre poste, congés et formation | L101: 0 | N101: Contre poste, congés et formation | S101: 0 | U101: Contre poste, congés et formation | Z101: 0 | AB101: Contre poste, congés et formation | AG101: 0 | AI101: Contre poste, congés et formation | AN101: 0 | AP101: HEURES A REALISER SUR LA PERIODE
E102: Temps de travail | G102: =G97-G96+G99-G98 -> 0 | H102: =H97-H96+H99-H98 -> 0 | I102: =I97-I96+I99-I98 -> 0 | J102: =J97-J96+J99-J98 -> 0 | K102: =K97-K96+K99-K98 -> 0 | L102: =L97-L96+L99-L98 -> 0 | M102: =M97-M96+M99-M98 -> 0 | N102: =N97-N96+N99-N98 -> 0 | ... AO102: =AO97-AO96+AO99-AO98 -> 0 | AP102: 7.2916667
G103: =G102+H102+I102+J102+K102+L102+M102+L101 -> 0 | N103: =N102+O102+P102+Q102+R102+S102+T102+S101 -> 0 | U103: =U102+V102+W102+X102+Y102+Z102+AA102+Z101 -> 0 | AB103: =AB102+AC102+AD102+AE102+AF102+AG102+AH102+AG101 -> 0 | AI103: =AI102+AJ102+AK102+AL102+AM102+AN102+AO102+AN101 -> 0
A104: ='Du 24 juin au 28 juillet'!AQ104 -> 0 | B104: ='Du 24 juin au 28 juillet'!AR104 -> 0 | C104: ='Du 24 juin au 28 juillet'!AS104 -> 0 | D104: 0 | E104: ='Du 24 juin au 28 juillet'!E104 -> MM | F104: début | AP104: =G111+N111+U111+AB111+AI111 -> 0 | AQ104: =A104-(COUNTIF(G108:AO108,"CP")) -> 0 | AR104: =B104-(COUNTIF(G108:AO108,"CA")) -> 0 | AS104: =C104-(COUNTIF(G108:AO108,"CT")) -> 0 | AT104: =10-(COUNTIF(G108:AO108,"RH")) -> 10 | AU104: =D104+AP104-AP110 -> -7.2916667
F105: Fin
E106: ='Du 24 juin au 28 juillet'!E106 -> MM | F106: début
F107: Fin
G109: Contre poste, congés et formation | L109: 0 | N109: Contre poste, congés et formation | S109: 0 | U109: Contre poste, congés et formation | Z109: 0 | AB109: Contre poste, congés et formation | AG109: 0 | AI109: Contre poste, congés et formation | AN109: 0 | AP109: HEURES A REALISER SUR LA PERIODE
E110: Temps de travail | G110: =G105-G104+G107-G106 -> 0 | H110: =H105-H104+H107-H106 -> 0 | I110: =I105-I104+I107-I106 -> 0 | J110: =J105-J104+J107-J106 -> 0 | K110: =K105-K104+K107-K106 -> 0 | L110: =L105-L104+L107-L106 -> 0 | M110: =M105-M104+M107-M106 -> 0 | N110: =N105-N104+N107-N106 -> 0 | ... AO110: =AO105-AO104+AO107-AO106 -> 0 | AP110: 7.2916667
G111: =G110+H110+I110+J110+K110+L110+M110+L109 -> 0 | N111: =N110+O110+P110+Q110+R110+S110+T110+S109 -> 0 | U111: =U110+V110+W110+X110+Y110+Z110+AA110+Z109 -> 0 | AB111: =AB110+AC110+AD110+AE110+AF110+AG110+AH110+AG109 -> 0 | AI111: =AI110+AJ110+AK110+AL110+AM110+AN110+AO110+AN109 -> 0
A112: Planning réalisé le | F112: =F76 -> 0 | H112: MAJ le | J112: =J76 -> 0 | AB112: La direction | AP112: Page 2/2

Sheet Du 24 février au 30 mars
A1: FIN DE PERIODE PRECEDENTE | G1: SERVICE OU UNITÉ | O1: ='Du 24 juin au 28 juillet'!O1 -> JJ | Z1: PÉRIODE DU 24 FEVRIER AU 30 MARS 2025 | AP1: SOLDE FIN DE PÉRIODE | AV1: VALIDATION GRILLE PAR LES PROFESSIONNELS EN FIN DE CYCLE
A2: CP | B2: CA | C2: CT | D2: solde d’heure | E2: Noms des professionnels | G2: L | H2: M | I2: M | J2: J | K2: V | L2: S | M2: D | N2: L | O2: M | P2: M | Q2: J | R2: V | S2: S | T2: D | U2: L | V2: M | W2: M | X2: J | Y2: V | Z2: S | AA2: D | AB2: L | AC2: M | AD2: M | AE2: J | AF2: V | AG2: S | AH2: D | AI2: L | AJ2: M | AK2: M | AL2: J | AM2: V | AN2: S | AO2: D | AP2: Total | AQ2: CP | AR2: CA | AS2: CT | AT2: RH | AU2: solde d’heure
G3: 24 | H3: 25 | I3: 26 | J3: 27 | K3: 28 | L3: 1 | M3: 2 | N3: 3 | O3: 4 | P3: 5 | Q3: 6 | R3: 7 | S3: 8 | T3: 9 | U3: 10 | V3: 11 | W3: 12 | X3: 13 | Y3: 14 | Z3: 15 | AA3: 16 | AB3: 17 | AC3: 18 | AD3: 19 | AE3: 20 | AF3: 21 | AG3: 22 | AH3: 23 | AI3: 24 | AJ3: 25 | AK3: 26 | AL3: 27 | AM3: 28 | AN3: 29 | AO3: 30
A4: ='Du 24 juin au 28 juillet'!AQ4 -> -1 | B4: ='Du 24 juin au 28 juillet'!AR4 -> -1 | C4: ='Du 24 juin au 28 juillet'!AS4 -> -1 | D4: ='Du 24 juin au 28 juillet'!AP4 -> 7.3541667 | E4: ='Du 24 juin au 28 juillet'!E4 -> AA | F4: début | G4: 0.29166667 | I4: 0.29166667 | L4: 0.33333333 | M4: 0.33333333 | V4: 0.29166667 | AD4: 0.375 | AL4: 0.29166667 | AM4: 0.29166667 | AP4: =G11+N11+U11+AB11+AI11 -> 7.3541667 | AQ4: =A4-(COUNTIF(G8:AO8,"CP")) -> -1 | AR4: =B4-(COUNTIF(G8:AO8,"CA")) -> -1 | AS4: =C4-(COUNTIF(G8:AO8,"CT")) -> -1 | AT4: =10-(COUNTIF(G8:AO8,"RH")) -> 0 | AU4: =D4+AP4-AP10 -> 7.4166667
F5: Fin | G5: 0.59375 | I5: 0.59375 | L5: 0.70833333 | M5: 0.58333333 | V5: 0.70833333 | AD5: 0.75 | AL5: 0.59375 | AM5: 0.59375
E6: ='Du 24 juin au 28 juillet'!E6 -> AA | F6: début | H6: 0.5625 | O6: 0.5625 | P6: 0.5625 | S6: 0.5 | T6: 0.5 | W6: 0.54166667 | X6: 0.58333333 | Y6: 0.58333333 | AB6: 0.58333333 | AC6: 0.5625 | AE6: 0.58333333 | AF6: 0.58333333 | AI6: 0.58333333 | AJ6: 0.5625
F7: Fin | H7: 0.83333333 | O7: 0.91666667 | P7: 0.91666667 | S7: 0.91666667 | T7: 0.91666667 | W7: 0.91666667 | X7: 0.91666667 | Y7: 0.91666667 | AB7: 0.91666667 | AC7: 0.75 | AE7: 0.91666667 | AF7: 0.91666667 | AI7: 0.91666667 | AJ7: 0.91666667
J8: RH | K8: RH | Q8: RH | R8: RH | Z8: RH | AA8: RH | AG8: RH | AH8: RH | AN8: RH | AO8: RH
G9: Contre poste, congés et formation | L9: 0 | N9: Contre poste, congés et formation | S9: 0 | U9: Contre poste, congés et formation | Z9: 0 | AB9: Contre poste, congés et formation | AG9: 0 | AI9: Contre poste, congés et formation | AN9: 0 | AP9: HEURES A REALISER SUR LA PERIODE
E10: Temps de travail | G10: =G5-G4+G7-G6 -> 0.30208333 | H10: =H5-H4+H7-H6 -> 0.27083333 | I10: =I5-I4+I7-I6 -> 0.30208333 | J10: =J5-J4+J7-J6 -> 0 | K10: =K5-K4+K7-K6 -> 0 | L10: =L5-L4+L7-L6 -> 0.375 | M10: =M5-M4+M7-M6 -> 0.25 | N10: =N5-N4+N7-N6 -> 0 | ... AO10: =AO5-AO4+AO7-AO6 -> 0 | AP10: 7.2916667
G11: =G10+H10+I10+J10+K10+L10+M10+L9 -> 1.5 | N11: =N10+O10+P10+Q10+R10+S10+T10+S9 -> 1.5416667 | U11: =U10+V10+W10+X10+Y10+Z10+AA10+Z9 -> 1.4583333 | AB11: =AB10+AC10+AD10+AE10+AF10+AG10+AH10+AG9 -> 1.5625 | AI11: =AI10+AJ10+AK10+AL10+AM10+AN10+AO10+AN9 -> 1.2916667
A12: ='Du 24 juin au 28 juillet'!AQ12 -> 0 | B12: ='Du 24 juin au 28 juillet'!AR12 -> 0 | C12: ='Du 24 juin au 28 juillet'!AS12 -> 0 | D12: 0 | E12: ='Du 24 juin au 28 juillet'!E12 -> BB | F12: début | AP12: =G19+N19+U19+AB19+AI19 -> 0 | AQ12: =A12-(COUNTIF(G16:AO16,"CP")) -> 0 | AR12: =B12-(COUNTIF(G16:AO16,"CA")) -> 0 | AS12: =C12-(COUNTIF(G16:AO16,"CT")) -> 0 | AT12: =10-(COUNTIF(G16:AO16,"RH")) -> 10 | AU12: =D12+AP12-AP18 -> -7.2916667
F13: Fin
E14: ='Du 24 juin au 28 juillet'!E14 -> BB | F14: début
F15: Fin
G17: Contre poste, congés et formation | L17: 0 | N17: Contre poste, congés et formation | S17: 0 | U17: Contre poste, congés et formation | Z17: 0 | AB17: Contre poste, congés et formation | AG17: 0 | AI17: Contre poste, congés et formation | AN17: 0 | AP17: HEURES A REALISER SUR LA PERIODE
E18: Temps de travail | G18: =G13-G12+G15-G14 -> 0 | H18: =H13-H12+H15-H14 -> 0 | I18: =I13-I12+I15-I14 -> 0 | J18: =J13-J12+J15-J14 -> 0 | K18: =K13-K12+K15-K14 -> 0 | L18: =L13-L12+L15-L14 -> 0 | M18: =M13-M12+M15-M14 -> 0 | N18: =N13-N12+N15-N14 -> 0 | ... AO18: =AO13-AO12+AO15-AO14 -> 0 | AP18: 7.2916667
G19: =G18+H18+I18+J18+K18+L18+M18+L17 -> 0 | N19: =N18+O18+P18+Q18+R18+S18+T18+S17 -> 0 | U19: =U18+V18+W18+X18+Y18+Z18+AA18+Z17 -> 0 | AB19: =AB18+AC18+AD18+AE18+AF18+AG18+AH18+AG17 -> 0 | AI19: =AI18+AJ18+AK18+AL18+AM18+AN18+AO18+AN17 -> 0
A20: ='Du 24 juin au 28 juillet'!AQ20 -> 0 | B20: ='Du 24 juin au 28 juillet'!AR20 -> 0 | C20: ='Du 24 juin au 28 juillet'!AS20 -> 0 | D20: 0 | E20: ='Du 24 juin au 28 juillet'!E20 -> CC | F20: début | AP20: =G27+N27+U27+AB27+AI27 -> 0 | AQ20: =A20-(COUNTIF(G24:AO24,"CP")) -> 0 | AR20: =B20-(COUNTIF(G24:AO24,"CA")) -> 0 | AS20: =C20-(COUNTIF(G24:AO24,"CT")) -> 0 | AT20: =10-(COUNTIF(G24:AO24,"RH")) -> 10 | AU20: =D20+AP20-AP26 -> -7.2916667
F21: Fin
E22: ='Du 24 juin au 28 juillet'!E22 -> CC | F22: début
F23: Fin
G25: Contre poste, congés et formation | L25: 0 | N25: Contre poste, congés et formation | S25: 0 | U25: Contre poste, congés et formation | Z25: 0 | AB25: Contre poste, congés et formation | AG25: 0 | AI25: Contre poste, congés et formation | AN25: 0 | AP25: HEURES A REALISER SUR LA PERIODE
E26: Temps de travail | G26: =G21-G20+G23-G22 -> 0 | H26: =H21-H20+H23-H22 -> 0 | I26: =I21-I20+I23-I22 -> 0 | J26: =J21-J20+J23-J22 -> 0 | K26: =K21-K20+K23-K22 -> 0 | L26: =L21-L20+L23-L22 -> 0 | M26: =M21-M20+M23-M22 -> 0 | N26: =N21-N20+N23-N22 -> 0 | ... AO26: =AO21-AO20+AO23-AO22 -> 0 | AP26: 7.2916667
G27: =G26+H26+I26+J26+K26+L26+M26+L25 -> 0 | N27: =N26+O26+P26+Q26+R26+S26+T26+S25 -> 0 | U27: =U26+V26+W26+X26+Y26+Z26+AA26+Z25 -> 0 | AB27: =AB26+AC26+AD26+AE26+AF26+AG26+AH26+AG25 -> 0 | AI27: =AI26+AJ26+AK26+AL26+AM26+AN26+AO26+AN25 -> 0
A28: ='Du 24 juin au 28 juillet'!AQ28 -> 0 | B28: ='Du 24 juin au 28 juillet'!AR28 -> 0 | C28: ='Du 24 juin au 28 juillet'!AS28 -> 0 | D28: 0 | E28: ='Du 24 juin au 28 juillet'!E28 -> DD | F28: début | AP28: =G35+N35+U35+AB35+AI35 -> 0 | AQ28: =A28-(COUNTIF(G32:AO32,"CP")) -> 0 | AR28: =B28-(COUNTIF(G32:AO32,"CA")) -> 0 | AS28: =C28-(COUNTIF(G32:AO32,"CT")) -> 0 | AT28: =10-(COUNTIF(G32:AO32,"RH")) -> 10 | AU28: =D28+AP28-AP34 -> -7.2916667
F29: Fin
E30: ='Du 24 juin au 28 juillet'!E30 -> DD | F30: début
F31: Fin
G33: Contre poste, congés et formation | L33: 0 | N33: Contre poste, congés et formation | S33: 0 | U33: Contre poste, congés et formation | Z33: 0 | AB33: Contre poste, congés et formation | AG33: 0 | AI33: Contre poste, congés et formation | AN33: 0 | AP33: HEURES A REALISER SUR LA PERIODE
E34: Temps de travail | G34: =G29-G28+G31-G30 -> 0 | H34: =H29-H28+H31-H30 -> 0 | I34: =I29-I28+I31-I30 -> 0 | J34: =J29-J28+J31-J30 -> 0 | K34: =K29-K28+K31-K30 -> 0 | L34: =L29-L28+L31-L30 -> 0 | M34: =M29-M28+M31-M30 -> 0 | N34: =N29-N28+N31-N30 -> 0 | ... AO34: =AO29-AO28+AO31-AO30 -> 0 | AP34: 7.2916667
G35: =G34+H34+I34+J34+K34+L34+M34+L33 -> 0 | N35: =N34+O34+P34+Q34+R34+S34+T34+S33 -> 0 | U35: =U34+V34+W34+X34+Y34+Z34+AA34+Z33 -> 0 | AB35: =AB34+AC34+AD34+AE34+AF34+AG34+AH34+AG33 -> 0 | AI35: =AI34+AJ34+AK34+AL34+AM34+AN34+AO34+AN33 -> 0
A36: ='Du 24 juin au 28 juillet'!AQ36 -> 0 | B36: ='Du 24 juin au 28 juillet'!AR36 -> 0 | C36: ='Du 24 juin au 28 juillet'!AS36 -> 0 | D36: 0 | E36: ='Du 24 juin au 28 juillet'!E36 -> EE | F36: début | AP36: =G43+N43+U43+AB43+AI43 -> 0 | AQ36: =A36-(COUNTIF(G40:AO40,"CP")) -> 0 | AR36: =B36-(COUNTIF(G40:AO40,"CA")) -> 0 | AS36: =C36-(COUNTIF(G40:AO40,"CT")) -> 0 | AT36: =10-(COUNTIF(G40:AO40,"RH")) -> 10 | AU36: =D36+AP36-AP42 -> -7.2916667
F37: Fin
E38: ='Du 24 juin au 28 juillet'!E38 -> EE | F38: début
F39: Fin
G41: Contre poste, congés et formation | L41: 0 | N41: Contre poste, congés et formation | S41: 0 | U41: Contre poste, congés et formation | Z41: 0 | AB41: Contre poste, congés et formation | AG41: 0 | AI41: Contre poste, congés et formation | AN41: 0 | AP41: HEURES A REALISER SUR LA PERIODE
E42: Temps de travail | G42: =G37-G36+G39-G38 -> 0 | H42: =H37-H36+H39-H38 -> 0 | I42: =I37-I36+I39-I38 -> 0 | J42: =J37-J36+J39-J38 -> 0 | K42: =K37-K36+K39-K38 -> 0 | L42: =L37-L36+L39-L38 -> 0 | M42: =M37-M36+M39-M38 -> 0 | N42: =N37-N36+N39-N38 -> 0 | ... AO42: =AO37-AO36+AO39-AO38 -> 0 | AP42: 7.2916667
G43: =G42+H42+I42+J42+K42+L42+M42+L41 -> 0 | N43: =N42+O42+P42+Q42+R42+S42+T42+S41 -> 0 | U43: =U42+V42+W42+X42+Y42+Z42+AA42+Z41 -> 0 | AB43: =AB42+AC42+AD42+AE42+AF42+AG42+AH42+AG41 -> 0 | AI43: =AI42+AJ42+AK42+AL42+AM42+AN42+AO42+AN41 -> 0
A44: ='Du 24 juin au 28 juillet'!AQ44 -> 0 | B44: ='Du 24 juin au 28 juillet'!AR44 -> 0 | C44: ='Du 24 juin au 28 juillet'!AS44 -> 0 | D44: 0 | E44: ='Du 24 juin au 28 juillet'!E44 -> FF | F44: début | AP44: =G51+N51+U51+AB51+AI51 -> 0 | AQ44: =A44-(COUNTIF(G48:AO48,"CP")) -> 0 | AR44: =B44-(COUNTIF(G48:AO48,"CA")) -> 0 | AS44: =C44-(COUNTIF(G48:AO48,"CT")) -> 0 | AT44: =10-(COUNTIF(G48:AO48,"RH")) -> 10 | AU44: =D44+AP44-AP50 -> -7.2916667
F45: Fin
E46: ='Du 24 juin au 28 juillet'!E46 -> FF | F46: début
F47: Fin
G49: Contre poste, congés et formation | L49: 0 | N49: Contre poste, congés et formation | S49: 0 | U49: Contre poste, congés et formation | Z49: 0 | AB49: Contre poste, congés et formation | AG49: 0 | AI49: Contre poste, congés et formation | AN49: 0 | AP49: HEURES A REALISER SUR LA PERIODE
E50: Temps de travail | G50: =G45-G44+G47-G46 -> 0 | H50: =H45-H44+H47-H46 -> 0 | I50: =I45-I44+I47-I46 -> 0 | J50: =J45-J44+J47-J46 -> 0 | K50: =K45-K44+K47-K46 -> 0 | L50: =L45-L44+L47-L46 -> 0 | M50: =M45-M44+M47-M46 -> 0 | N50: =N45-N44+N47-N46 -> 0 | ... AO50: =AO45-AO44+AO47-AO46 -> 0 | AP50: 7.2916667
G51: =G50+H50+I50+J50+K50+L50+M50+L49 -> 0 | N51: =N50+O50+P50+Q50+R50+S50+T50+S49 -> 0 | U51: =U50+V50+W50+X50+Y50+Z50+AA50+Z49 -> 0 | AB51: =AB50+AC50+AD50+AE50+AF50+AG50+AH50+AG49 -> 0 | AI51: =AI50+AJ50+AK50+AL50+AM50+AN50+AO50+AN49 -> 0
A52: ='Du 24 juin au 28 juillet'!AQ52 -> 0 | B52: ='Du 24 juin au 28 juillet'!AR52 -> 0 | C52: ='Du 24 juin au 28 juillet'!AS52 -> 0 | D52: 0 | E52: ='Du 24 juin au 28 juillet'!E52 -> GG | F52: début | AP52: =G59+N59+U59+AB59+AI59 -> 0 | AQ52: =A52-(COUNTIF(G56:AO56,"CP")) -> 0 | AR52: =B52-(COUNTIF(G56:AO56,"CA")) -> 0 | AS52: =C52-(COUNTIF(G56:AO56,"CT")) -> 0 | AT52: =10-(COUNTIF(G56:AO56,"RH")) -> 10 | AU52: =D52+AP52-AP58 -> -7.2916667
F53: Fin
E54: ='Du 24 juin au 28 juillet'!E54 -> GG | F54: début
F55: Fin
G57: Contre poste, congés et formation | L57: 0 | N57: Contre poste, congés et formation | S57: 0 | U57: Contre poste, congés et formation | Z57: 0 | AB57: Contre poste, congés et formation | AG57: 0 | AI57: Contre poste, congés et formation | AN57: 0 | AP57: HEURES A REALISER SUR LA PERIODE
E58: Temps de travail | G58: =G53-G52+G55-G54 -> 0 | H58: =H53-H52+H55-H54 -> 0 | I58: =I53-I52+I55-I54 -> 0 | J58: =J53-J52+J55-J54 -> 0 | K58: =K53-K52+K55-K54 -> 0 | L58: =L53-L52+L55-L54 -> 0 | M58: =M53-M52+M55-M54 -> 0 | N58: =N53-N52+N55-N54 -> 0 | ... AO58: =AO53-AO52+AO55-AO54 -> 0 | AP58: 7.2916667
G59: =G58+H58+I58+J58+K58+L58+M58+L57 -> 0 | N59: =N58+O58+P58+Q58+R58+S58+T58+S57 -> 0 | U59: =U58+V58+W58+X58+Y58+Z58+AA58+Z57 -> 0 | AB59: =AB58+AC58+AD58+AE58+AF58+AG58+AH58+AG57 -> 0 | AI59: =AI58+AJ58+AK58+AL58+AM58+AN58+AO58+AN57 -> 0
A60: ='Du 24 juin au 28 juillet'!AQ60 -> 0 | B60: ='Du 24 juin au 28 juillet'!AR60 -> 0 | C60: ='Du 24 juin au 28 juillet'!AS60 -> 0 | D60: 0 | E60: ='Du 24 juin au 28 juillet'!E60 -> HH | F60: début | AP60: =G67+N67+U67+AB67+AI67 -> 0 | AQ60: =A60-(COUNTIF(G64:AO64,"CP")) -> 0 | AR60: =B60-(COUNTIF(G64:AO64,"CA")) -> 0 | AS60: =C60-(COUNTIF(G64:AO64,"CT")) -> 0 | AT60: =10-(COUNTIF(G64:AO64,"RH")) -> 10 | AU60: =D60+AP60-AP66 -> -7.2916667
F61: Fin
E62: ='Du 24 juin au 28 juillet'!E62 -> HH | F62: début
F63: Fin
G65: Contre poste, congés et formation | L65: 0 | N65: Contre poste, congés et formation | S65: 0 | U65: Contre poste, congés et formation | Z65: 0 | AB65: Contre poste, congés et formation | AG65: 0 | AI65: Contre poste, congés et formation | AN65: 0 | AP65: HEURES A REALISER SUR LA PERIODE
E66: Temps de travail | G66: =G61-G60+G63-G62 -> 0 | H66: =H61-H60+H63-H62 -> 0 | I66: =I61-I60+I63-I62 -> 0 | J66: =J61-J60+J63-J62 -> 0 | K66: =K61-K60+K63-K62 -> 0 | L66: =L61-L60+L63-L62 -> 0 | M66: =M61-M60+M63-M62 -> 0 | N66: =N61-N60+N63-N62 -> 0 | ... AO66: =AO61-AO60+AO63-AO62 -> 0 | AP66: 7.2916667
G67: =G66+H66+I66+J66+K66+L66+M66+L65 -> 0 | N67: =N66+O66+P66+Q66+R66+S66+T66+S65 -> 0 | U67: =U66+V66+W66+X66+Y66+Z66+AA66+Z65 -> 0 | AB67: =AB66+AC66+AD66+AE66+AF66+AG66+AH66+AG65 -> 0 | AI67: =AI66+AJ66+AK66+AL66+AM66+AN66+AO66+AN65 -> 0
A68: ='Du 24 juin au 28 juillet'!AQ68 -> 0 | B68: ='Du 24 juin au 28 juillet'!AR68 -> 0 | C68: ='Du 24 juin au 28 juillet'!AS68 -> 0 | D68: 0 | E68: ='Du 24 juin au 28 juillet'!E68 -> II | F68: début | AP68: =G75+N75+U75+AB75+AI75 -> 0 | AQ68: =A68-(COUNTIF(G72:AO72,"CP")) -> 0 | AR68: =B68-(COUNTIF(G72:AO72,"CA")) -> 0 | AS68: =C68-(COUNTIF(G72:AO72,"CT")) -> 0 | AT68: =10-(COUNTIF(G72:AO72,"RH")) -> 10 | AU68: =D68+AP68-AP74 -> -7.2916667
F69: Fin
E70: ='Du 24 juin au 28 juillet'!E70 -> II | F70: début
F71: Fin
G73: Contre poste, congés et formation | L73: 0 | N73: Contre poste, congés et formation | S73: 0 | U73: Contre poste, congés et formation | Z73: 0 | AB73: Contre poste, congés et formation | AG73: 0 | AI73: Contre poste, congés et formation | AN73: 0 | AP73: HEURES A REALISER SUR LA PERIODE
E74: Temps de travail | G74: =G69-G68+G71-G70 -> 0 | H74: =H69-H68+H71-H70 -> 0 | I74: =I69-I68+I71-I70 -> 0 | J74: =J69-J68+J71-J70 -> 0 | K74: =K69-K68+K71-K70 -> 0 | L74: =L69-L68+L71-L70 -> 0 | M74: =M69-M68+M71-M70 -> 0 | N74: =N69-N68+N71-N70 -> 0 | ... AO74: =AO69-AO68+AO71-AO70 -> 0 | AP74: 7.2916667
G75: =G74+H74+I74+J74+K74+L74+M74+L73 -> 0 | N75: =N74+O74+P74+Q74+R74+S74+T74+S73 -> 0 | U75: =U74+V74+W74+X74+Y74+Z74+AA74+Z73 -> 0 | AB75: =AB74+AC74+AD74+AE74+AF74+AG74+AH74+AG73 -> 0 | AI75: =AI74+AJ74+AK74+AL74+AM74+AN74+AO74+AN73 -> 0
A76: Planning réalisé le | H76: MAJ le | M76: Le/la chef(fe) de service éducatif | AB76: La direction | AP76: Page 1/2
G77: SERVICE OU UNITÉ | O77: =O1 -> JJ | Z77: PÉRIODE DU 5 JUIN AU 9 JUILLET 2023 | AP77: SOLDE FIN DE PÉRIODE | AV77: VALIDATION GRILLE PAR LES PROFESSIONNELS EN FIN DE CYCLE
A78: CP | B78: CA | C78: CT | D78: solde d’heure | E78: Noms des professionnels | G78: L | H78: M | I78: M | J78: J | K78: V | L78: S | M78: D | N78: L | O78: M | P78: M | Q78: J | R78: V | S78: S | T78: D | U78: L | V78: M | W78: M | X78: J | Y78: V | Z78: S | AA78: D | AB78: L | AC78: M | AD78: M | AE78: J | AF78: V | AG78: S | AH78: D | AI78: L | AJ78: M | AK78: M | AL78: J | AM78: V | AN78: S | AO78: D | AP78: Total | AQ78: CP | AR78: CA | AS78: CT | AT78: RH | AU78: solde d’heure
G79: 24 | H79: 25 | I79: 26 | J79: 27 | K79: 28 | L79: 29 | M79: 30 | N79: 1 | O79: 2 | P79: 3 | Q79: 4 | R79: 5 | S79: 6 | T79: 7 | U79: 8 | V79: 9 | W79: 10 | X79: 11 | Y79: 12 | Z79: 13 | AA79: 14 | AB79: 15 | AC79: 16 | AD79: 17 | AE79: 18 | AF79: 19 | AG79: 20 | AH79: 21 | AI79: 22 | AJ79: 23 | AK79: 24 | AL79: 25 | AM79: 26 | AN79: 27 | AO79: 28
A80: ='Du 24 juin au 28 juillet'!AQ80 -> 0 | B80: ='Du 24 juin au 28 juillet'!AR80 -> 0 | C80: ='Du 24 juin au 28 juillet'!AS80 -> 0 | D80: 0 | E80: ='Du 24 juin au 28 juillet'!E80 -> JJ | F80: début | AP80: =G87+N87+U87+AB87+AI87 -> 0 | AQ80: =A80-(COUNTIF(G84:AO84,"CP")) -> 0 | AR80: =B80-(COUNTIF(G84:AO84,"CA")) -> 0 | AS80: =C80-(COUNTIF(G84:AO84,"CT")) -> 0 | AT80: =10-(COUNTIF(G84:AO84,"RH")) -> 10 | AU80: =D80+AP80-AP86 -> -7.2916667
F81: Fin
E82: ='Du 24 juin au 28 juillet'!E82 -> JJ | F82: début
F83: Fin
G85: Contre poste, congés et formation | L85: 0 | N85: Contre poste, congés et formation | S85: 0 | U85: Contre poste, congés et formation | Z85: 0 | AB85: Contre poste, congés et formation | AG85: 0 | AI85: Contre poste, congés et formation | AN85: 0 | AP85: HEURES A REALISER SUR LA PERIODE
E86: Temps de travail | G86: =G81-G80+G83-G82 -> 0 | H86: =H81-H80+H83-H82 -> 0 | I86: =I81-I80+I83-I82 -> 0 | J86: =J81-J80+J83-J82 -> 0 | K86: =K81-K80+K83-K82 -> 0 | L86: =L81-L80+L83-L82 -> 0 | M86: =M81-M80+M83-M82 -> 0 | N86: =N81-N80+N83-N82 -> 0 | ... AO86: =AO81-AO80+AO83-AO82 -> 0 | AP86: 7.2916667
G87: =G86+H86+I86+J86+K86+L86+M86+L85 -> 0 | N87: =N86+O86+P86+Q86+R86+S86+T86+S85 -> 0 | U87: =U86+V86+W86+X86+Y86+Z86+AA86+Z85 -> 0 | AB87: =AB86+AC86+AD86+AE86+AF86+AG86+AH86+AG85 -> 0 | AI87: =AI86+AJ86+AK86+AL86+AM86+AN86+AO86+AN85 -> 0
A88: ='Du 24 juin au 28 juillet'!AQ88 -> 0 | B88: ='Du 24 juin au 28 juillet'!AR88 -> 0 | C88: ='Du 24 juin au 28 juillet'!AS88 -> 0 | D88: 0 | E88: ='Du 24 juin au 28 juillet'!E88 -> KK | F88: début | AP88: =G95+N95+U95+AB95+AI95 -> 0 | AQ88: =A88-(COUNTIF(G92:AO92,"CP")) -> 0 | AR88: =B88-(COUNTIF(G92:AO92,"CA")) -> 0 | AS88: =C88-(COUNTIF(G92:AO92,"CT")) -> 0 | AT88: =10-(COUNTIF(G92:AO92,"RH")) -> 10 | AU88: =D88+AP88-AP94 -> -7.2916667
F89: Fin
E90: ='Du 24 juin au 28 juillet'!E90 -> KK | F90: début
F91: Fin
G93: Contre poste, congés et formation | L93: 0 | N93: Contre poste, congés et formation | S93: 0 | U93: Contre poste, congés et formation | Z93: 0 | AB93: Contre poste, congés et formation | AG93: 0 | AI93: Contre poste, congés et formation | AN93: 0 | AP93: HEURES A REALISER SUR LA PERIODE
E94: Temps de travail | G94: =G89-G88+G91-G90 -> 0 | H94: =H89-H88+H91-H90 -> 0 | I94: =I89-I88+I91-I90 -> 0 | J94: =J89-J88+J91-J90 -> 0 | K94: =K89-K88+K91-K90 -> 0 | L94: =L89-L88+L91-L90 -> 0 | M94: =M89-M88+M91-M90 -> 0 | N94: =N89-N88+N91-N90 -> 0 | ... AO94: =AO89-AO88+AO91-AO90 -> 0 | AP94: 7.2916667
G95: =G94+H94+I94+J94+K94+L94+M94+L93 -> 0 | N95: =N94+O94+P94+Q94+R94+S94+T94+S93 -> 0 | U95: =U94+V94+W94+X94+Y94+Z94+AA94+Z93 -> 0 | AB95: =AB94+AC94+AD94+AE94+AF94+AG94+AH94+AG93 -> 0 | AI95: =AI94+AJ94+AK94+AL94+AM94+AN94+AO94+AN93 -> 0
A96: ='Du 24 juin au 28 juillet'!AQ96 -> 0 | B96: ='Du 24 juin au 28 juillet'!AR96 -> 0 | C96: ='Du 24 juin au 28 juillet'!AS96 -> 0 | D96: 0 | E96: ='Du 24 juin au 28 juillet'!E96 -> LL | F96: début | AP96: =G103+N103+U103+AB103+AI103 -> 0 | AQ96: =A96-(COUNTIF(G100:AO100,"CP")) -> 0 | AR96: =B96-(COUNTIF(G100:AO100,"CA")) -> 0 | AS96: =C96-(COUNTIF(G100:AO100,"CT")) -> 0 | AT96: =10-(COUNTIF(G100:AO100,"RH")) -> 10 | AU96: =D96+AP96-AP102 -> -7.2916667
F97: Fin
E98: ='Du 24 juin au 28 juillet'!E98 -> LL | F98: début
F99: Fin
G101: Contre poste, congés et formation | L101: 0 | N101: Contre poste, congés et formation | S101: 0 | U101: Contre poste, congés et formation | Z101: 0 | AB101: Contre poste, congés et formation | AG101: 0 | AI101: Contre poste, congés et formation | AN101: 0 | AP101: HEURES A REALISER SUR LA PERIODE
E102: Temps de travail | G102: =G97-G96+G99-G98 -> 0 | H102: =H97-H96+H99-H98 -> 0 | I102: =I97-I96+I99-I98 -> 0 | J102: =J97-J96+J99-J98 -> 0 | K102: =K97-K96+K99-K98 -> 0 | L102: =L97-L96+L99-L98 -> 0 | M102: =M97-M96+M99-M98 -> 0 | N102: =N97-N96+N99-N98 -> 0 | ... AO102: =AO97-AO96+AO99-AO98 -> 0 | AP102: 7.2916667
G103: =G102+H102+I102+J102+K102+L102+M102+L101 -> 0 | N103: =N102+O102+P102+Q102+R102+S102+T102+S101 -> 0 | U103: =U102+V102+W102+X102+Y102+Z102+AA102+Z101 -> 0 | AB103: =AB102+AC102+AD102+AE102+AF102+AG102+AH102+AG101 -> 0 | AI103: =AI102+AJ102+AK102+AL102+AM102+AN102+AO102+AN101 -> 0
A104: ='Du 24 juin au 28 juillet'!AQ104 -> 0 | B104: ='Du 24 juin au 28 juillet'!AR104 -> 0 | C104: ='Du 24 juin au 28 juillet'!AS104 -> 0 | D104: 0 | E104: ='Du 24 juin au 28 juillet'!E104 -> MM | F104: début | AP104: =G111+N111+U111+AB111+AI111 -> 0 | AQ104: =A104-(COUNTIF(G108:AO108,"CP")) -> 0 | AR104: =B104-(COUNTIF(G108:AO108,"CA")) -> 0 | AS104: =C104-(COUNTIF(G108:AO108,"CT")) -> 0 | AT104: =10-(COUNTIF(G108:AO108,"RH")) -> 10 | AU104: =D104+AP104-AP110 -> -7.2916667
F105: Fin
E106: ='Du 24 juin au 28 juillet'!E106 -> MM | F106: début
F107: Fin
G109: Contre poste, congés et formation | L109: 0 | N109: Contre poste, congés et formation | S109: 0 | U109: Contre poste, congés et formation | Z109: 0 | AB109: Contre poste, congés et formation | AG109: 0 | AI109: Contre poste, congés et formation | AN109: 0 | AP109: HEURES A REALISER SUR LA PERIODE
E110: Temps de travail | G110: =G105-G104+G107-G106 -> 0 | H110: =H105-H104+H107-H106 -> 0 | I110: =I105-I104+I107-I106 -> 0 | J110: =J105-J104+J107-J106 -> 0 | K110: =K105-K104+K107-K106 -> 0 | L110: =L105-L104+L107-L106 -> 0 | M110: =M105-M104+M107-M106 -> 0 | N110: =N105-N104+N107-N106 -> 0 | ... AO110: =AO105-AO104+AO107-AO106 -> 0 | AP110: 7.2916667
G111: =G110+H110+I110+J110+K110+L110+M110+L109 -> 0 | N111: =N110+O110+P110+Q110+R110+S110+T110+S109 -> 0 | U111: =U110+V110+W110+X110+Y110+Z110+AA110+Z109 -> 0 | AB111: =AB110+AC110+AD110+AE110+AF110+AG110+AH110+AG109 -> 0 | AI111: =AI110+AJ110+AK110+AL110+AM110+AN110+AO110+AN109 -> 0
A112: Planning réalisé le | F112: =F76 -> 0 | H112: MAJ le | J112: =J76 -> 0 | AB112: La direction | AP112: Page 2/2

Sheet Du 31 mars au 04 mai
A1: FIN DE PERIODE PRECEDENTE | G1: SERVICE OU UNITÉ | O1: ='Du 24 juin au 28 juillet'!O1 -> JJ | Z1: PÉRIODE DU 31 MARS AU 04 MAI 2025 | AP1: SOLDE FIN DE PÉRIODE | AV1: VALIDATION GRILLE PAR LES PROFESSIONNELS EN FIN DE CYCLE
A2: CP | B2: CA | C2: CT | D2: solde d’heure | E2: Noms des professionnels | G2: L | H2: M | I2: M | J2: J | K2: V | L2: S | M2: D | N2: L | O2: M | P2: M | Q2: J | R2: V | S2: S | T2: D | U2: L | V2: M | W2: M | X2: J | Y2: V | Z2: S | AA2: D | AB2: L | AC2: M | AD2: M | AE2: J | AF2: V | AG2: S | AH2: D | AI2: L | AJ2: M | AK2: M | AL2: J | AM2: V | AN2: S | AO2: D | AP2: Total | AQ2: CP | AR2: CA | AS2: CT | AT2: RH | AU2: solde d’heure
G3: 31 | H3: 1 | I3: 2 | J3: 3 | K3: 4 | L3: 5 | M3: 6 | N3: 7 | O3: 8 | P3: 9 | Q3: 10 | R3: 11 | S3: 12 | T3: 13 | U3: 14 | V3: 15 | W3: 16 | X3: 17 | Y3: 18 | Z3: 19 | AA3: 20 | AB3: 21 | AC3: 22 | AD3: 23 | AE3: 24 | AF3: 25 | AG3: 26 | AH3: 27 | AI3: 28 | AJ3: 29 | AK3: 30 | AL3: 1 | AM3: 2 | AN3: 3 | AO3: 4
A4: ='Du 24 juin au 28 juillet'!AQ4 -> -1 | B4: ='Du 24 juin au 28 juillet'!AR4 -> -1 | C4: ='Du 24 juin au 28 juillet'!AS4 -> -1 | D4: ='Du 24 juin au 28 juillet'!AP4 -> 7.3541667 | E4: ='Du 24 juin au 28 juillet'!E4 -> AA | F4: début | G4: 0.29166667 | I4: 0.29166667 | L4: 0.33333333 | M4: 0.33333333 | V4: 0.29166667 | AD4: 0.375 | AL4: 0.29166667 | AM4: 0.29166667 | AP4: =G11+N11+U11+AB11+AI11 -> 7.3541667 | AQ4: =A4-(COUNTIF(G8:AO8,"CP")) -> -1 | AR4: =B4-(COUNTIF(G8:AO8,"CA")) -> -1 | AS4: =C4-(COUNTIF(G8:AO8,"CT")) -> -1 | AT4: =10-(COUNTIF(G8:AO8,"RH")) -> 0 | AU4: =D4+AP4-AP10 -> 7.4166667
F5: Fin | G5: 0.59375 | I5: 0.59375 | L5: 0.70833333 | M5: 0.58333333 | V5: 0.70833333 | AD5: 0.75 | AL5: 0.59375 | AM5: 0.59375
E6: ='Du 24 juin au 28 juillet'!E6 -> AA | F6: début | H6: 0.5625 | O6: 0.5625 | P6: 0.5625 | S6: 0.5 | T6: 0.5 | W6: 0.54166667 | X6: 0.58333333 | Y6: 0.58333333 | AB6: 0.58333333 | AC6: 0.5625 | AE6: 0.58333333 | AF6: 0.58333333 | AI6: 0.58333333 | AJ6: 0.5625
F7: Fin | H7: 0.83333333 | O7: 0.91666667 | P7: 0.91666667 | S7: 0.91666667 | T7: 0.91666667 | W7: 0.91666667 | X7: 0.91666667 | Y7: 0.91666667 | AB7: 0.91666667 | AC7: 0.75 | AE7: 0.91666667 | AF7: 0.91666667 | AI7: 0.91666667 | AJ7: 0.91666667
J8: RH | K8: RH | Q8: RH | R8: RH | Z8: RH | AA8: RH | AG8: RH | AH8: RH | AN8: RH | AO8: RH
G9: Contre poste, congés et formation | L9: 0 | N9: Contre poste, congés et formation | S9: 0 | U9: Contre poste, congés et formation | Z9: 0 | AB9: Contre poste, congés et formation | AG9: 0 | AI9: Contre poste, congés et formation | AN9: 0 | AP9: HEURES A REALISER SUR LA PERIODE
E10: Temps de travail | G10: =G5-G4+G7-G6 -> 0.30208333 | H10: =H5-H4+H7-H6 -> 0.27083333 | I10: =I5-I4+I7-I6 -> 0.30208333 | J10: =J5-J4+J7-J6 -> 0 | K10: =K5-K4+K7-K6 -> 0 | L10: =L5-L4+L7-L6 -> 0.375 | M10: =M5-M4+M7-M6 -> 0.25 | N10: =N5-N4+N7-N6 -> 0 | ... AO10: =AO5-AO4+AO7-AO6 -> 0 | AP10: 7.2916667
G11: =G10+H10+I10+J10+K10+L10+M10+L9 -> 1.5 | N11: =N10+O10+P10+Q10+R10+S10+T10+S9 -> 1.5416667 | U11: =U10+V10+W10+X10+Y10+Z10+AA10+Z9 -> 1.4583333 | AB11: =AB10+AC10+AD10+AE10+AF10+AG10+AH10+AG9 -> 1.5625 | AI11: =AI10+AJ10+AK10+AL10+AM10+AN10+AO10+AN9 -> 1.2916667
A12: ='Du 24 juin au 28 juillet'!AQ12 -> 0 | B12: ='Du 24 juin au 28 juillet'!AR12 -> 0 | C12: ='Du 24 juin au 28 juillet'!AS12 -> 0 | D12: 0 | E12: ='Du 24 juin au 28 juillet'!E12 -> BB | F12: début | AP12: =G19+N19+U19+AB19+AI19 -> 0 | AQ12: =A12-(COUNTIF(G16:AO16,"CP")) -> 0 | AR12: =B12-(COUNTIF(G16:AO16,"CA")) -> 0 | AS12: =C12-(COUNTIF(G16:AO16,"CT")) -> 0 | AT12: =10-(COUNTIF(G16:AO16,"RH")) -> 10 | AU12: =D12+AP12-AP18 -> -7.2916667
F13: Fin
E14: ='Du 24 juin au 28 juillet'!E14 -> BB | F14: début
F15: Fin
G17: Contre poste, congés et formation | L17: 0 | N17: Contre poste, congés et formation | S17: 0 | U17: Contre poste, congés et formation | Z17: 0 | AB17: Contre poste, congés et formation | AG17: 0 | AI17: Contre poste, congés et formation | AN17: 0 | AP17: HEURES A REALISER SUR LA PERIODE
E18: Temps de travail | G18: =G13-G12+G15-G14 -> 0 | H18: =H13-H12+H15-H14 -> 0 | I18: =I13-I12+I15-I14 -> 0 | J18: =J13-J12+J15-J14 -> 0 | K18: =K13-K12+K15-K14 -> 0 | L18: =L13-L12+L15-L14 -> 0 | M18: =M13-M12+M15-M14 -> 0 | N18: =N13-N12+N15-N14 -> 0 | ... AO18: =AO13-AO12+AO15-AO14 -> 0 | AP18: 7.2916667
G19: =G18+H18+I18+J18+K18+L18+M18+L17 -> 0 | N19: =N18+O18+P18+Q18+R18+S18+T18+S17 -> 0 | U19: =U18+V18+W18+X18+Y18+Z18+AA18+Z17 -> 0 | AB19: =AB18+AC18+AD18+AE18+AF18+AG18+AH18+AG17 -> 0 | AI19: =AI18+AJ18+AK18+AL18+AM18+AN18+AO18+AN17 -> 0
A20: ='Du 24 juin au 28 juillet'!AQ20 -> 0 | B20: ='Du 24 juin au 28 juillet'!AR20 -> 0 | C20: ='Du 24 juin au 28 juillet'!AS20 -> 0 | D20: 0 | E20: ='Du 24 juin au 28 juillet'!E20 -> CC | F20: début | AP20: =G27+N27+U27+AB27+AI27 -> 0 | AQ20: =A20-(COUNTIF(G24:AO24,"CP")) -> 0 | AR20: =B20-(COUNTIF(G24:AO24,"CA")) -> 0 | AS20: =C20-(COUNTIF(G24:AO24,"CT")) -> 0 | AT20: =10-(COUNTIF(G24:AO24,"RH")) -> 10 | AU20: =D20+AP20-AP26 -> -7.2916667
F21: Fin
E22: ='Du 24 juin au 28 juillet'!E22 -> CC | F22: début
F23: Fin
G25: Contre poste, congés et formation | L25: 0 | N25: Contre poste, congés et formation | S25: 0 | U25: Contre poste, congés et formation | Z25: 0 | AB25: Contre poste, congés et formation | AG25: 0 | AI25: Contre poste, congés et formation | AN25: 0 | AP25: HEURES A REALISER SUR LA PERIODE
E26: Temps de travail | G26: =G21-G20+G23-G22 -> 0 | H26: =H21-H20+H23-H22 -> 0 | I26: =I21-I20+I23-I22 -> 0 | J26: =J21-J20+J23-J22 -> 0 | K26: =K21-K20+K23-K22 -> 0 | L26: =L21-L20+L23-L22 -> 0 | M26: =M21-M20+M23-M22 -> 0 | N26: =N21-N20+N23-N22 -> 0 | ... AO26: =AO21-AO20+AO23-AO22 -> 0 | AP26: 7.2916667
G27: =G26+H26+I26+J26+K26+L26+M26+L25 -> 0 | N27: =N26+O26+P26+Q26+R26+S26+T26+S25 -> 0 | U27: =U26+V26+W26+X26+Y26+Z26+AA26+Z25 -> 0 | AB27: =AB26+AC26+AD26+AE26+AF26+AG26+AH26+AG25 -> 0 | AI27: =AI26+AJ26+AK26+AL26+AM26+AN26+AO26+AN25 -> 0
A28: ='Du 24 juin au 28 juillet'!AQ28 -> 0 | B28: ='Du 24 juin au 28 juillet'!AR28 -> 0 | C28: ='Du 24 juin au 28 juillet'!AS28 -> 0 | D28: 0 | E28: ='Du 24 juin au 28 juillet'!E28 -> DD | F28: début | AP28: =G35+N35+U35+AB35+AI35 -> 0 | AQ28: =A28-(COUNTIF(G32:AO32,"CP")) -> 0 | AR28: =B28-(COUNTIF(G32:AO32,"CA")) -> 0 | AS28: =C28-(COUNTIF(G32:AO32,"CT")) -> 0 | AT28: =10-(COUNTIF(G32:AO32,"RH")) -> 10 | AU28: =D28+AP28-AP34 -> -7.2916667
F29: Fin
E30: ='Du 24 juin au 28 juillet'!E30 -> DD | F30: début
F31: Fin
G33: Contre poste, congés et formation | L33: 0 | N33: Contre poste, congés et formation | S33: 0 | U33: Contre poste, congés et formation | Z33: 0 | AB33: Contre poste, congés et formation | AG33: 0 | AI33: Contre poste, congés et formation | AN33: 0 | AP33: HEURES A REALISER SUR LA PERIODE
E34: Temps de travail | G34: =G29-G28+G31-G30 -> 0 | H34: =H29-H28+H31-H30 -> 0 | I34: =I29-I28+I31-I30 -> 0 | J34: =J29-J28+J31-J30 -> 0 | K34: =K29-K28+K31-K30 -> 0 | L34: =L29-L28+L31-L30 -> 0 | M34: =M29-M28+M31-M30 -> 0 | N34: =N29-N28+N31-N30 -> 0 | ... AO34: =AO29-AO28+AO31-AO30 -> 0 | AP34: 7.2916667
G35: =G34+H34+I34+J34+K34+L34+M34+L33 -> 0 | N35: =N34+O34+P34+Q34+R34+S34+T34+S33 -> 0 | U35: =U34+V34+W34+X34+Y34+Z34+AA34+Z33 -> 0 | AB35: =AB34+AC34+AD34+AE34+AF34+AG34+AH34+AG33 -> 0 | AI35: =AI34+AJ34+AK34+AL34+AM34+AN34+AO34+AN33 -> 0
A36: ='Du 24 juin au 28 juillet'!AQ36 -> 0 | B36: ='Du 24 juin au 28 juillet'!AR36 -> 0 | C36: ='Du 24 juin au 28 juillet'!AS36 -> 0 | D36: 0 | E36: ='Du 24 juin au 28 juillet'!E36 -> EE | F36: début | AP36: =G43+N43+U43+AB43+AI43 -> 0 | AQ36: =A36-(COUNTIF(G40:AO40,"CP")) -> 0 | AR36: =B36-(COUNTIF(G40:AO40,"CA")) -> 0 | AS36: =C36-(COUNTIF(G40:AO40,"CT")) -> 0 | AT36: =10-(COUNTIF(G40:AO40,"RH")) -> 10 | AU36: =D36+AP36-AP42 -> -7.2916667
F37: Fin
E38: ='Du 24 juin au 28 juillet'!E38 -> EE | F38: début
F39: Fin
G41: Contre poste, congés et formation | L41: 0 | N41: Contre poste, congés et formation | S41: 0 | U41: Contre poste, congés et formation | Z41: 0 | AB41: Contre poste, congés et formation | AG41: 0 | AI41: Contre poste, congés et formation | AN41: 0 | AP41: HEURES A REALISER SUR LA PERIODE
E42: Temps de travail | G42: =G37-G36+G39-G38 -> 0 | H42: =H37-H36+H39-H38 -> 0 | I42: =I37-I36+I39-I38 -> 0 | J42: =J37-J36+J39-J38 -> 0 | K42: =K37-K36+K39-K38 -> 0 | L42: =L37-L36+L39-L38 -> 0 | M42: =M37-M36+M39-M38 -> 0 | N42: =N37-N36+N39-N38 -> 0 | ... AO42: =AO37-AO36+AO39-AO38 -> 0 | AP42: 7.2916667
G43: =G42+H42+I42+J42+K42+L42+M42+L41 -> 0 | N43: =N42+O42+P42+Q42+R42+S42+T42+S41 -> 0 | U43: =U42+V42+W42+X42+Y42+Z42+AA42+Z41 -> 0 | AB43: =AB42+AC42+AD42+AE42+AF42+AG42+AH42+AG41 -> 0 | AI43: =AI42+AJ42+AK42+AL42+AM42+AN42+AO42+AN41 -> 0
A44: ='Du 24 juin au 28 juillet'!AQ44 -> 0 | B44: ='Du 24 juin au 28 juillet'!AR44 -> 0 | C44: ='Du 24 juin au 28 juillet'!AS44 -> 0 | D44: 0 | E44: ='Du 24 juin au 28 juillet'!E44 -> FF | F44: début | AP44: =G51+N51+U51+AB51+AI51 -> 0 | AQ44: =A44-(COUNTIF(G48:AO48,"CP")) -> 0 | AR44: =B44-(COUNTIF(G48:AO48,"CA")) -> 0 | AS44: =C44-(COUNTIF(G48:AO48,"CT")) -> 0 | AT44: =10-(COUNTIF(G48:AO48,"RH")) -> 10 | AU44: =D44+AP44-AP50 -> -7.2916667
F45: Fin
E46: ='Du 24 juin au 28 juillet'!E46 -> FF | F46: début
F47: Fin
G49: Contre poste, congés et formation | L49: 0 | N49: Contre poste, congés et formation | S49: 0 | U49: Contre poste, congés et formation | Z49: 0 | AB49: Contre poste, congés et formation | AG49: 0 | AI49: Contre poste, congés et formation | AN49: 0 | AP49: HEURES A REALISER SUR LA PERIODE
E50: Temps de travail | G50: =G45-G44+G47-G46 -> 0 | H50: =H45-H44+H47-H46 -> 0 | I50: =I45-I44+I47-I46 -> 0 | J50: =J45-J44+J47-J46 -> 0 | K50: =K45-K44+K47-K46 -> 0 | L50: =L45-L44+L47-L46 -> 0 | M50: =M45-M44+M47-M46 -> 0 | N50: =N45-N44+N47-N46 -> 0 | ... AO50: =AO45-AO44+AO47-AO46 -> 0 | AP50: 7.2916667
G51: =G50+H50+I50+J50+K50+L50+M50+L49 -> 0 | N51: =N50+O50+P50+Q50+R50+S50+T50+S49 -> 0 | U51: =U50+V50+W50+X50+Y50+Z50+AA50+Z49 -> 0 | AB51: =AB50+AC50+AD50+AE50+AF50+AG50+AH50+AG49 -> 0 | AI51: =AI50+AJ50+AK50+AL50+AM50+AN50+AO50+AN49 -> 0
A52: ='Du 24 juin au 28 juillet'!AQ52 -> 0 | B52: ='Du 24 juin au 28 juillet'!AR52 -> 0 | C52: ='Du 24 juin au 28 juillet'!AS52 -> 0 | D52: 0 | E52: ='Du 24 juin au 28 juillet'!E52 -> GG | F52: début | AP52: =G59+N59+U59+AB59+AI59 -> 0 | AQ52: =A52-(COUNTIF(G56:AO56,"CP")) -> 0 | AR52: =B52-(COUNTIF(G56:AO56,"CA")) -> 0 | AS52: =C52-(COUNTIF(G56:AO56,"CT")) -> 0 | AT52: =10-(COUNTIF(G56:AO56,"RH")) -> 10 | AU52: =D52+AP52-AP58 -> -7.2916667
F53: Fin
E54: ='Du 24 juin au 28 juillet'!E54 -> GG | F54: début
F55: Fin
G57: Contre poste, congés et formation | L57: 0 | N57: Contre poste, congés et formation | S57: 0 | U57: Contre poste, congés et formation | Z57: 0 | AB57: Contre poste, congés et formation | AG57: 0 | AI57: Contre poste, congés et formation | AN57: 0 | AP57: HEURES A REALISER SUR LA PERIODE
E58: Temps de travail | G58: =G53-G52+G55-G54 -> 0 | H58: =H53-H52+H55-H54 -> 0 | I58: =I53-I52+I55-I54 -> 0 | J58: =J53-J52+J55-J54 -> 0 | K58: =K53-K52+K55-K54 -> 0 | L58: =L53-L52+L55-L54 -> 0 | M58: =M53-M52+M55-M54 -> 0 | N58: =N53-N52+N55-N54 -> 0 | ... AO58: =AO53-AO52+AO55-AO54 -> 0 | AP58: 7.2916667
G59: =G58+H58+I58+J58+K58+L58+M58+L57 -> 0 | N59: =N58+O58+P58+Q58+R58+S58+T58+S57 -> 0 | U59: =U58+V58+W58+X58+Y58+Z58+AA58+Z57 -> 0 | AB59: =AB58+AC58+AD58+AE58+AF58+AG58+AH58+AG57 -> 0 | AI59: =AI58+AJ58+AK58+AL58+AM58+AN58+AO58+AN57 -> 0
A60: ='Du 24 juin au 28 juillet'!AQ60 -> 0 | B60: ='Du 24 juin au 28 juillet'!AR60 -> 0 | C60: ='Du 24 juin au 28 juillet'!AS60 -> 0 | D60: 0 | E60: ='Du 24 juin au 28 juillet'!E60 -> HH | F60: début | AP60: =G67+N67+U67+AB67+AI67 -> 0 | AQ60: =A60-(COUNTIF(G64:AO64,"CP")) -> 0 | AR60: =B60-(COUNTIF(G64:AO64,"CA")) -> 0 | AS60: =C60-(COUNTIF(G64:AO64,"CT")) -> 0 | AT60: =10-(COUNTIF(G64:AO64,"RH")) -> 10 | AU60: =D60+AP60-AP66 -> -7.2916667
F61: Fin
E62: ='Du 24 juin au 28 juillet'!E62 -> HH | F62: début
F63: Fin
G65: Contre poste, congés et formation | L65: 0 | N65: Contre poste, congés et formation | S65: 0 | U65: Contre poste, congés et formation | Z65: 0 | AB65: Contre poste, congés et formation | AG65: 0 | AI65: Contre poste, congés et formation | AN65: 0 | AP65: HEURES A REALISER SUR LA PERIODE
E66: Temps de travail | G66: =G61-G60+G63-G62 -> 0 | H66: =H61-H60+H63-H62 -> 0 | I66: =I61-I60+I63-I62 -> 0 | J66: =J61-J60+J63-J62 -> 0 | K66: =K61-K60+K63-K62 -> 0 | L66: =L61-L60+L63-L62 -> 0 | M66: =M61-M60+M63-M62 -> 0 | N66: =N61-N60+N63-N62 -> 0 | ... AO66: =AO61-AO60+AO63-AO62 -> 0 | AP66: 7.2916667
G67: =G66+H66+I66+J66+K66+L66+M66+L65 -> 0 | N67: =N66+O66+P66+Q66+R66+S66+T66+S65 -> 0 | U67: =U66+V66+W66+X66+Y66+Z66+AA66+Z65 -> 0 | AB67: =AB66+AC66+AD66+AE66+AF66+AG66+AH66+AG65 -> 0 | AI67: =AI66+AJ66+AK66+AL66+AM66+AN66+AO66+AN65 -> 0
A68: ='Du 24 juin au 28 juillet'!AQ68 -> 0 | B68: ='Du 24 juin au 28 juillet'!AR68 -> 0 | C68: ='Du 24 juin au 28 juillet'!AS68 -> 0 | D68: 0 | E68: ='Du 24 juin au 28 juillet'!E68 -> II | F68: début | AP68: =G75+N75+U75+AB75+AI75 -> 0 | AQ68: =A68-(COUNTIF(G72:AO72,"CP")) -> 0 | AR68: =B68-(COUNTIF(G72:AO72,"CA")) -> 0 | AS68: =C68-(COUNTIF(G72:AO72,"CT")) -> 0 | AT68: =10-(COUNTIF(G72:AO72,"RH")) -> 10 | AU68: =D68+AP68-AP74 -> -7.2916667
F69: Fin
E70: ='Du 24 juin au 28 juillet'!E70 -> II | F70: début
F71: Fin
G73: Contre poste, congés et formation | L73: 0 | N73: Contre poste, congés et formation | S73: 0 | U73: Contre poste, congés et formation | Z73: 0 | AB73: Contre poste, congés et formation | AG73: 0 | AI73: Contre poste, congés et formation | AN73: 0 | AP73: HEURES A REALISER SUR LA PERIODE
E74: Temps de travail | G74: =G69-G68+G71-G70 -> 0 | H74: =H69-H68+H71-H70 -> 0 | I74: =I69-I68+I71-I70 -> 0 | J74: =J69-J68+J71-J70 -> 0 | K74: =K69-K68+K71-K70 -> 0 | L74: =L69-L68+L71-L70 -> 0 | M74: =M69-M68+M71-M70 -> 0 | N74: =N69-N68+N71-N70 -> 0 | ... AO74: =AO69-AO68+AO71-AO70 -> 0 | AP74: 7.2916667
G75: =G74+H74+I74+J74+K74+L74+M74+L73 -> 0 | N75: =N74+O74+P74+Q74+R74+S74+T74+S73 -> 0 | U75: =U74+V74+W74+X74+Y74+Z74+AA74+Z73 -> 0 | AB75: =AB74+AC74+AD74+AE74+AF74+AG74+AH74+AG73 -> 0 | AI75: =AI74+AJ74+AK74+AL74+AM74+AN74+AO74+AN73 -> 0
A76: Planning réalisé le | H76: MAJ le | M76: Le/la chef(fe) de service éducatif | AB76: La direction | AP76: Page 1/2
G77: SERVICE OU UNITÉ | O77: =O1 -> JJ | Z77: PÉRIODE DU 5 JUIN AU 9 JUILLET 2023 | AP77: SOLDE FIN DE PÉRIODE | AV77: VALIDATION GRILLE PAR LES PROFESSIONNELS EN FIN DE CYCLE
A78: CP | B78: CA | C78: CT | D78: solde d’heure | E78: Noms des professionnels | G78: L | H78: M | I78: M | J78: J | K78: V | L78: S | M78: D | N78: L | O78: M | P78: M | Q78: J | R78: V | S78: S | T78: D | U78: L | V78: M | W78: M | X78: J | Y78: V | Z78: S | AA78: D | AB78: L | AC78: M | AD78: M | AE78: J | AF78: V | AG78: S | AH78: D | AI78: L | AJ78: M | AK78: M | AL78: J | AM78: V | AN78: S | AO78: D | AP78: Total | AQ78: CP | AR78: CA | AS78: CT | AT78: RH | AU78: solde d’heure
G79: 24 | H79: 25 | I79: 26 | J79: 27 | K79: 28 | L79: 29 | M79: 30 | N79: 1 | O79: 2 | P79: 3 | Q79: 4 | R79: 5 | S79: 6 | T79: 7 | U79: 8 | V79: 9 | W79: 10 | X79: 11 | Y79: 12 | Z79: 13 | AA79: 14 | AB79: 15 | AC79: 16 | AD79: 17 | AE79: 18 | AF79: 19 | AG79: 20 | AH79: 21 | AI79: 22 | AJ79: 23 | AK79: 24 | AL79: 25 | AM79: 26 | AN79: 27 | AO79: 28
A80: ='Du 24 juin au 28 juillet'!AQ80 -> 0 | B80: ='Du 24 juin au 28 juillet'!AR80 -> 0 | C80: ='Du 24 juin au 28 juillet'!AS80 -> 0 | D80: 0 | E80: ='Du 24 juin au 28 juillet'!E80 -> JJ | F80: début | AP80: =G87+N87+U87+AB87+AI87 -> 0 | AQ80: =A80-(COUNTIF(G84:AO84,"CP")) -> 0 | AR80: =B80-(COUNTIF(G84:AO84,"CA")) -> 0 | AS80: =C80-(COUNTIF(G84:AO84,"CT")) -> 0 | AT80: =10-(COUNTIF(G84:AO84,"RH")) -> 10 | AU80: =D80+AP80-AP86 -> -7.2916667
F81: Fin
E82: ='Du 24 juin au 28 juillet'!E82 -> JJ | F82: début
F83: Fin
G85: Contre poste, congés et formation | L85: 0 | N85: Contre poste, congés et formation | S85: 0 | U85: Contre poste, congés et formation | Z85: 0 | AB85: Contre poste, congés et formation | AG85: 0 | AI85: Contre poste, congés et formation | AN85: 0 | AP85: HEURES A REALISER SUR LA PERIODE
E86: Temps de travail | G86: =G81-G80+G83-G82 -> 0 | H86: =H81-H80+H83-H82 -> 0 | I86: =I81-I80+I83-I82 -> 0 | J86: =J81-J80+J83-J82 -> 0 | K86: =K81-K80+K83-K82 -> 0 | L86: =L81-L80+L83-L82 -> 0 | M86: =M81-M80+M83-M82 -> 0 | N86: =N81-N80+N83-N82 -> 0 | ... AO86: =AO81-AO80+AO83-AO82 -> 0 | AP86: 7.2916667
G87: =G86+H86+I86+J86+K86+L86+M86+L85 -> 0 | N87: =N86+O86+P86+Q86+R86+S86+T86+S85 -> 0 | U87: =U86+V86+W86+X86+Y86+Z86+AA86+Z85 -> 0 | AB87: =AB86+AC86+AD86+AE86+AF86+AG86+AH86+AG85 -> 0 | AI87: =AI86+AJ86+AK86+AL86+AM86+AN86+AO86+AN85 -> 0
A88: ='Du 24 juin au 28 juillet'!AQ88 -> 0 | B88: ='Du 24 juin au 28 juillet'!AR88 -> 0 | C88: ='Du 24 juin au 28 juillet'!AS88 -> 0 | D88: 0 | E88: ='Du 24 juin au 28 juillet'!E88 -> KK | F88: début | AP88: =G95+N95+U95+AB95+AI95 -> 0 | AQ88: =A88-(COUNTIF(G92:AO92,"CP")) -> 0 | AR88: =B88-(COUNTIF(G92:AO92,"CA")) -> 0 | AS88: =C88-(COUNTIF(G92:AO92,"CT")) -> 0 | AT88: =10-(COUNTIF(G92:AO92,"RH")) -> 10 | AU88: =D88+AP88-AP94 -> -7.2916667
F89: Fin
E90: ='Du 24 juin au 28 juillet'!E90 -> KK | F90: début
F91: Fin
G93: Contre poste, congés et formation | L93: 0 | N93: Contre poste, congés et formation | S93: 0 | U93: Contre poste, congés et formation | Z93: 0 | AB93: Contre poste, congés et formation | AG93: 0 | AI93: Contre poste, congés et formation | AN93: 0 | AP93: HEURES A REALISER SUR LA PERIODE
E94: Temps de travail | G94: =G89-G88+G91-G90 -> 0 | H94: =H89-H88+H91-H90 -> 0 | I94: =I89-I88+I91-I90 -> 0 | J94: =J89-J88+J91-J90 -> 0 | K94: =K89-K88+K91-K90 -> 0 | L94: =L89-L88+L91-L90 -> 0 | M94: =M89-M88+M91-M90 -> 0 | N94: =N89-N88+N91-N90 -> 0 | ... AO94: =AO89-AO88+AO91-AO90 -> 0 | AP94: 7.2916667
G95: =G94+H94+I94+J94+K94+L94+M94+L93 -> 0 | N95: =N94+O94+P94+Q94+R94+S94+T94+S93 -> 0 | U95: =U94+V94+W94+X94+Y94+Z94+AA94+Z93 -> 0 | AB95: =AB94+AC94+AD94+AE94+AF94+AG94+AH94+AG93 -> 0 | AI95: =AI94+AJ94+AK94+AL94+AM94+AN94+AO94+AN93 -> 0
A96: ='Du 24 juin au 28 juillet'!AQ96 -> 0 | B96: ='Du 24 juin au 28 juillet'!AR96 -> 0 | C96: ='Du 24 juin au 28 juillet'!AS96 -> 0 | D96: 0 | E96: ='Du 24 juin au 28 juillet'!E96 -> LL | F96: début | AP96: =G103+N103+U103+AB103+AI103 -> 0 | AQ96: =A96-(COUNTIF(G100:AO100,"CP")) -> 0 | AR96: =B96-(COUNTIF(G100:AO100,"CA")) -> 0 | AS96: =C96-(COUNTIF(G100:AO100,"CT")) -> 0 | AT96: =10-(COUNTIF(G100:AO100,"RH")) -> 10 | AU96: =D96+AP96-AP102 -> -7.2916667
F97: Fin
E98: ='Du 24 juin au 28 juillet'!E98 -> LL | F98: début
F99: Fin
G101: Contre poste, congés et formation | L101: 0 | N101: Contre poste, congés et formation | S101: 0 | U101: Contre poste, congés et formation | Z101: 0 | AB101: Contre poste, congés et formation | AG101: 0 | AI101: Contre poste, congés et formation | AN101: 0 | AP101: HEURES A REALISER SUR LA PERIODE
E102: Temps de travail | G102: =G97-G96+G99-G98 -> 0 | H102: =H97-H96+H99-H98 -> 0 | I102: =I97-I96+I99-I98 -> 0 | J102: =J97-J96+J99-J98 -> 0 | K102: =K97-K96+K99-K98 -> 0 | L102: =L97-L96+L99-L98 -> 0 | M102: =M97-M96+M99-M98 -> 0 | N102: =N97-N96+N99-N98 -> 0 | ... AO102: =AO97-AO96+AO99-AO98 -> 0 | AP102: 7.2916667
G103: =G102+H102+I102+J102+K102+L102+M102+L101 -> 0 | N103: =N102+O102+P102+Q102+R102+S102+T102+S101 -> 0 | U103: =U102+V102+W102+X102+Y102+Z102+AA102+Z101 -> 0 | AB103: =AB102+AC102+AD102+AE102+AF102+AG102+AH102+AG101 -> 0 | AI103: =AI102+AJ102+AK102+AL102+AM102+AN102+AO102+AN101 -> 0
A104: ='Du 24 juin au 28 juillet'!AQ104 -> 0 | B104: ='Du 24 juin au 28 juillet'!AR104 -> 0 | C104: ='Du 24 juin au 28 juillet'!AS104 -> 0 | D104: 0 | E104: ='Du 24 juin au 28 juillet'!E104 -> MM | F104: début | AP104: =G111+N111+U111+AB111+AI111 -> 0 | AQ104: =A104-(COUNTIF(G108:AO108,"CP")) -> 0 | AR104: =B104-(COUNTIF(G108:AO108,"CA")) -> 0 | AS104: =C104-(COUNTIF(G108:AO108,"CT")) -> 0 | AT104: =10-(COUNTIF(G108:AO108,"RH")) -> 10 | AU104: =D104+AP104-AP110 -> -7.2916667
F105: Fin
E106: ='Du 24 juin au 28 juillet'!E106 -> MM | F106: début
F107: Fin
G109: Contre poste, congés et formation | L109: 0 | N109: Contre poste, congés et formation | S109: 0 | U109: Contre poste, congés et formation | Z109: 0 | AB109: Contre poste, congés et formation | AG109: 0 | AI109: Contre poste, congés et formation | AN109: 0 | AP109: HEURES A REALISER SUR LA PERIODE
E110: Temps de travail | G110: =G105-G104+G107-G106 -> 0 | H110: =H105-H104+H107-H106 -> 0 | I110: =I105-I104+I107-I106 -> 0 | J110: =J105-J104+J107-J106 -> 0 | K110: =K105-K104+K107-K106 -> 0 | L110: =L105-L104+L107-L106 -> 0 | M110: =M105-M104+M107-M106 -> 0 | N110: =N105-N104+N107-N106 -> 0 | ... AO110: =AO105-AO104+AO107-AO106 -> 0 | AP110: 7.2916667
G111: =G110+H110+I110+J110+K110+L110+M110+L109 -> 0 | N111: =N110+O110+P110+Q110+R110+S110+T110+S109 -> 0 | U111: =U110+V110+W110+X110+Y110+Z110+AA110+Z109 -> 0 | AB111: =AB110+AC110+AD110+AE110+AF110+AG110+AH110+AG109 -> 0 | AI111: =AI110+AJ110+AK110+AL110+AM110+AN110+AO110+AN109 -> 0
A112: Planning réalisé le | F112: =F76 -> 0 | H112: MAJ le | J112: =J76 -> 0 | AB112: La direction | AP112: Page 2/2

Sheet Du 05 mai au 08 juin
A1: FIN DE PERIODE PRECEDENTE | G1: SERVICE OU UNITÉ | O1: ='Du 24 juin au 28 juillet'!O1 -> JJ | Z1: PÉRIODE DU 05 MAI AU 08 JUIN 2025 | AP1: SOLDE FIN DE PÉRIODE | AV1: VALIDATION GRILLE PAR LES PROFESSIONNELS EN FIN DE CYCLE
A2: CP | B2: CA | C2: CT | D2: solde d’heure | E2: Noms des professionnels | G2: L | H2: M | I2: M | J2: J | K2: V | L2: S | M2: D | N2: L | O2: M | P2: M | Q2: J | R2: V | S2: S | T2: D | U2: L | V2: M | W2: M | X2: J | Y2: V | Z2: S | AA2: D | AB2: L | AC2: M | AD2: M | AE2: J | AF2: V | AG2: S | AH2: D | AI2: L | AJ2: M | AK2: M | AL2: J | AM2: V | AN2: S | AO2: D | AP2: Total | AQ2: CP | AR2: CA | AS2: CT | AT2: RH | AU2: solde d’heure
G3: 5 | H3: 6 | I3: 7 | J3: 8 | K3: 9 | L3: 10 | M3: 11 | N3: 12 | O3: 13 | P3: 14 | Q3: 15 | R3: 16 | S3: 17 | T3: 18 | U3: 19 | V3: 20 | W3: 21 | X3: 22 | Y3: 23 | Z3: 24 | AA3: 25 | AB3: 26 | AC3: 27 | AD3: 28 | AE3: 29 | AF3: 30 | AG3: 31 | AH3: 1 | AI3: 2 | AJ3: 3 | AK3: 4 | AL3: 5 | AM3: 6 | AN3: 7 | AO3: 8
A4: ='Du 24 juin au 28 juillet'!AQ4 -> -1 | B4: ='Du 24 juin au 28 juillet'!AR4 -> -1 | C4: ='Du 24 juin au 28 juillet'!AS4 -> -1 | D4: ='Du 24 juin au 28 juillet'!AP4 -> 7.3541667 | E4: ='Du 24 juin au 28 juillet'!E4 -> AA | F4: début | G4: 0.29166667 | I4: 0.29166667 | L4: 0.33333333 | M4: 0.33333333 | V4: 0.29166667 | AD4: 0.375 | AL4: 0.29166667 | AM4: 0.29166667 | AP4: =G11+N11+U11+AB11+AI11 -> 7.3541667 | AQ4: =A4-(COUNTIF(G8:AO8,"CP")) -> -1 | AR4: =B4-(COUNTIF(G8:AO8,"CA")) -> -1 | AS4: =C4-(COUNTIF(G8:AO8,"CT")) -> -1 | AT4: =10-(COUNTIF(G8:AO8,"RH")) -> 0 | AU4: =D4+AP4-AP10 -> 7.4166667
F5: Fin | G5: 0.59375 | I5: 0.59375 | L5: 0.70833333 | M5: 0.58333333 | V5: 0.70833333 | AD5: 0.75 | AL5: 0.59375 | AM5: 0.59375
E6: ='Du 24 juin au 28 juillet'!E6 -> AA | F6: début | H6: 0.5625 | O6: 0.5625 | P6: 0.5625 | S6: 0.5 | T6: 0.5 | W6: 0.54166667 | X6: 0.58333333 | Y6: 0.58333333 | AB6: 0.58333333 | AC6: 0.5625 | AE6: 0.58333333 | AF6: 0.58333333 | AI6: 0.58333333 | AJ6: 0.5625
F7: Fin | H7: 0.83333333 | O7: 0.91666667 | P7: 0.91666667 | S7: 0.91666667 | T7: 0.91666667 | W7: 0.91666667 | X7: 0.91666667 | Y7: 0.91666667 | AB7: 0.91666667 | AC7: 0.75 | AE7: 0.91666667 | AF7: 0.91666667 | AI7: 0.91666667 | AJ7: 0.91666667
J8: RH | K8: RH | Q8: RH | R8: RH | Z8: RH | AA8: RH | AG8: RH | AH8: RH | AN8: RH | AO8: RH
G9: Contre poste, congés et formation | L9: 0 | N9: Contre poste, congés et formation | S9: 0 | U9: Contre poste, congés et formation | Z9: 0 | AB9: Contre poste, congés et formation | AG9: 0 | AI9: Contre poste, congés et formation | AN9: 0 | AP9: HEURES A REALISER SUR LA PERIODE
E10: Temps de travail | G10: =G5-G4+G7-G6 -> 0.30208333 | H10: =H5-H4+H7-H6 -> 0.27083333 | I10: =I5-I4+I7-I6 -> 0.30208333 | J10: =J5-J4+J7-J6 -> 0 | K10: =K5-K4+K7-K6 -> 0 | L10: =L5-L4+L7-L6 -> 0.375 | M10: =M5-M4+M7-M6 -> 0.25 | N10: =N5-N4+N7-N6 -> 0 | ... AO10: =AO5-AO4+AO7-AO6 -> 0 | AP10: 7.2916667
G11: =G10+H10+I10+J10+K10+L10+M10+L9 -> 1.5 | N11: =N10+O10+P10+Q10+R10+S10+T10+S9 -> 1.5416667 | U11: =U10+V10+W10+X10+Y10+Z10+AA10+Z9 -> 1.4583333 | AB11: =AB10+AC10+AD10+AE10+AF10+AG10+AH10+AG9 -> 1.5625 | AI11: =AI10+AJ10+AK10+AL10+AM10+AN10+AO10+AN9 -> 1.2916667
A12: ='Du 24 juin au 28 juillet'!AQ12 -> 0 | B12: ='Du 24 juin au 28 juillet'!AR12 -> 0 | C12: ='Du 24 juin au 28 juillet'!AS12 -> 0 | D12: 0 | E12: ='Du 24 juin au 28 juillet'!E12 -> BB | F12: début | AP12: =G19+N19+U19+AB19+AI19 -> 0 | AQ12: =A12-(COUNTIF(G16:AO16,"CP")) -> 0 | AR12: =B12-(COUNTIF(G16:AO16,"CA")) -> 0 | AS12: =C12-(COUNTIF(G16:AO16,"CT")) -> 0 | AT12: =10-(COUNTIF(G16:AO16,"RH")) -> 10 | AU12: =D12+AP12-AP18 -> -7.2916667
F13: Fin
E14: ='Du 24 juin au 28 juillet'!E14 -> BB | F14: début
F15: Fin
G17: Contre poste, congés et formation | L17: 0 | N17: Contre poste, congés et formation | S17: 0 | U17: Contre poste, congés et formation | Z17: 0 | AB17: Contre poste, congés et formation | AG17: 0 | AI17: Contre poste, congés et formation | AN17: 0 | AP17: HEURES A REALISER SUR LA PERIODE
E18: Temps de travail | G18: =G13-G12+G15-G14 -> 0 | H18: =H13-H12+H15-H14 -> 0 | I18: =I13-I12+I15-I14 -> 0 | J18: =J13-J12+J15-J14 -> 0 | K18: =K13-K12+K15-K14 -> 0 | L18: =L13-L12+L15-L14 -> 0 | M18: =M13-M12+M15-M14 -> 0 | N18: =N13-N12+N15-N14 -> 0 | ... AO18: =AO13-AO12+AO15-AO14 -> 0 | AP18: 7.2916667
G19: =G18+H18+I18+J18+K18+L18+M18+L17 -> 0 | N19: =N18+O18+P18+Q18+R18+S18+T18+S17 -> 0 | U19: =U18+V18+W18+X18+Y18+Z18+AA18+Z17 -> 0 | AB19: =AB18+AC18+AD18+AE18+AF18+AG18+AH18+AG17 -> 0 | AI19: =AI18+AJ18+AK18+AL18+AM18+AN18+AO18+AN17 -> 0
A20: ='Du 24 juin au 28 juillet'!AQ20 -> 0 | B20: ='Du 24 juin au 28 juillet'!AR20 -> 0 | C20: ='Du 24 juin au 28 juillet'!AS20 -> 0 | D20: 0 | E20: ='Du 24 juin au 28 juillet'!E20 -> CC | F20: début | AP20: =G27+N27+U27+AB27+AI27 -> 0 | AQ20: =A20-(COUNTIF(G24:AO24,"CP")) -> 0 | AR20: =B20-(COUNTIF(G24:AO24,"CA")) -> 0 | AS20: =C20-(COUNTIF(G24:AO24,"CT")) -> 0 | AT20: =10-(COUNTIF(G24:AO24,"RH")) -> 10 | AU20: =D20+AP20-AP26 -> -7.2916667
F21: Fin
E22: ='Du 24 juin au 28 juillet'!E22 -> CC | F22: début
F23: Fin
G25: Contre poste, congés et formation | L25: 0 | N25: Contre poste, congés et formation | S25: 0 | U25: Contre poste, congés et formation | Z25: 0 | AB25: Contre poste, congés et formation | AG25: 0 | AI25: Contre poste, congés et formation | AN25: 0 | AP25: HEURES A REALISER SUR LA PERIODE
E26: Temps de travail | G26: =G21-G20+G23-G22 -> 0 | H26: =H21-H20+H23-H22 -> 0 | I26: =I21-I20+I23-I22 -> 0 | J26: =J21-J20+J23-J22 -> 0 | K26: =K21-K20+K23-K22 -> 0 | L26: =L21-L20+L23-L22 -> 0 | M26: =M21-M20+M23-M22 -> 0 | N26: =N21-N20+N23-N22 -> 0 | ... AO26: =AO21-AO20+AO23-AO22 -> 0 | AP26: 7.2916667
G27: =G26+H26+I26+J26+K26+L26+M26+L25 -> 0 | N27: =N26+O26+P26+Q26+R26+S26+T26+S25 -> 0 | U27: =U26+V26+W26+X26+Y26+Z26+AA26+Z25 -> 0 | AB27: =AB26+AC26+AD26+AE26+AF26+AG26+AH26+AG25 -> 0 | AI27: =AI26+AJ26+AK26+AL26+AM26+AN26+AO26+AN25 -> 0
A28: ='Du 24 juin au 28 juillet'!AQ28 -> 0 | B28: ='Du 24 juin au 28 juillet'!AR28 -> 0 | C28: ='Du 24 juin au 28 juillet'!AS28 -> 0 | D28: 0 | E28: ='Du 24 juin au 28 juillet'!E28 -> DD | F28: début | AP28: =G35+N35+U35+AB35+AI35 -> 0 | AQ28: =A28-(COUNTIF(G32:AO32,"CP")) -> 0 | AR28: =B28-(COUNTIF(G32:AO32,"CA")) -> 0 | AS28: =C28-(COUNTIF(G32:AO32,"CT")) -> 0 | AT28: =10-(COUNTIF(G32:AO32,"RH")) -> 10 | AU28: =D28+AP28-AP34 -> -7.2916667
F29: Fin
E30: ='Du 24 juin au 28 juillet'!E30 -> DD | F30: début
F31: Fin
G33: Contre poste, congés et formation | L33: 0 | N33: Contre poste, congés et formation | S33: 0 | U33: Contre poste, congés et formation | Z33: 0 | AB33: Contre poste, congés et formation | AG33: 0 | AI33: Contre poste, congés et formation | AN33: 0 | AP33: HEURES A REALISER SUR LA PERIODE
E34: Temps de travail | G34: =G29-G28+G31-G30 -> 0 | H34: =H29-H28+H31-H30 -> 0 | I34: =I29-I28+I31-I30 -> 0 | J34: =J29-J28+J31-J30 -> 0 | K34: =K29-K28+K31-K30 -> 0 | L34: =L29-L28+L31-L30 -> 0 | M34: =M29-M28+M31-M30 -> 0 | N34: =N29-N28+N31-N30 -> 0 | ... AO34: =AO29-AO28+AO31-AO30 -> 0 | AP34: 7.2916667
G35: =G34+H34+I34+J34+K34+L34+M34+L33 -> 0 | N35: =N34+O34+P34+Q34+R34+S34+T34+S33 -> 0 | U35: =U34+V34+W34+X34+Y34+Z34+AA34+Z33 -> 0 | AB35: =AB34+AC34+AD34+AE34+AF34+AG34+AH34+AG33 -> 0 | AI35: =AI34+AJ34+AK34+AL34+AM34+AN34+AO34+AN33 -> 0
A36: ='Du 24 juin au 28 juillet'!AQ36 -> 0 | B36: ='Du 24 juin au 28 juillet'!AR36 -> 0 | C36: ='Du 24 juin au 28 juillet'!AS36 -> 0 | D36: 0 | E36: ='Du 24 juin au 28 juillet'!E36 -> EE | F36: début | AP36: =G43+N43+U43+AB43+AI43 -> 0 | AQ36: =A36-(COUNTIF(G40:AO40,"CP")) -> 0 | AR36: =B36-(COUNTIF(G40:AO40,"CA")) -> 0 | AS36: =C36-(COUNTIF(G40:AO40,"CT")) -> 0 | AT36: =10-(COUNTIF(G40:AO40,"RH")) -> 10 | AU36: =D36+AP36-AP42 -> -7.2916667
F37: Fin
E38: ='Du 24 juin au 28 juillet'!E38 -> EE | F38: début
F39: Fin
G41: Contre poste, congés et formation | L41: 0 | N41: Contre poste, congés et formation | S41: 0 | U41: Contre poste, congés et formation | Z41: 0 | AB41: Contre poste, congés et formation | AG41: 0 | AI41: Contre poste, congés et formation | AN41: 0 | AP41: HEURES A REALISER SUR LA PERIODE
E42: Temps de travail | G42: =G37-G36+G39-G38 -> 0 | H42: =H37-H36+H39-H38 -> 0 | I42: =I37-I36+I39-I38 -> 0 | J42: =J37-J36+J39-J38 -> 0 | K42: =K37-K36+K39-K38 -> 0 | L42: =L37-L36+L39-L38 -> 0 | M42: =M37-M36+M39-M38 -> 0 | N42: =N37-N36+N39-N38 -> 0 | ... AO42: =AO37-AO36+AO39-AO38 -> 0 | AP42: 7.2916667
G43: =G42+H42+I42+J42+K42+L42+M42+L41 -> 0 | N43: =N42+O42+P42+Q42+R42+S42+T42+S41 -> 0 | U43: =U42+V42+W42+X42+Y42+Z42+AA42+Z41 -> 0 | AB43: =AB42+AC42+AD42+AE42+AF42+AG42+AH42+AG41 -> 0 | AI43: =AI42+AJ42+AK42+AL42+AM42+AN42+AO42+AN41 -> 0
A44: ='Du 24 juin au 28 juillet'!AQ44 -> 0 | B44: ='Du 24 juin au 28 juillet'!AR44 -> 0 | C44: ='Du 24 juin au 28 juillet'!AS44 -> 0 | D44: 0 | E44: ='Du 24 juin au 28 juillet'!E44 -> FF | F44: début | AP44: =G51+N51+U51+AB51+AI51 -> 0 | AQ44: =A44-(COUNTIF(G48:AO48,"CP")) -> 0 | AR44: =B44-(COUNTIF(G48:AO48,"CA")) -> 0 | AS44: =C44-(COUNTIF(G48:AO48,"CT")) -> 0 | AT44: =10-(COUNTIF(G48:AO48,"RH")) -> 10 | AU44: =D44+AP44-AP50 -> -7.2916667
F45: Fin
E46: ='Du 24 juin au 28 juillet'!E46 -> FF | F46: début
F47: Fin
G49: Contre poste, congés et formation | L49: 0 | N49: Contre poste, congés et formation | S49: 0 | U49: Contre poste, congés et formation | Z49: 0 | AB49: Contre poste, congés et formation | AG49: 0 | AI49: Contre poste, congés et formation | AN49: 0 | AP49: HEURES A REALISER SUR LA PERIODE
