Workbook

Sheet Extraction
A1: Matricule | B1: Concat ID Type de mobilité | C1: N° de souhait par type par collaborateur | D1: Référentiel de mobilité
A2: 100 | B2: =_xlfn.CONCAT(A2,D2) -> 100Mobilité géographique | C2: =B2&COUNTIF($B$2:$B2,B2) -> 100Mobilité géographique1 | D2: Mobilité géographique
A3: 200 | B3: =_xlfn.CONCAT(A3,D3) -> 200Mobilité géographique | C3: =B3&COUNTIF($B$2:$B3,B3) -> 200Mobilité géographique1 | D3: Mobilité géographique
A4: 300 | B4: =_xlfn.CONCAT(A4,D4) -> 300Mobilité géographique | C4: =B4&COUNTIF($B$2:$B4,B4) -> 300Mobilité géographique1 | D4: Mobilité géographique
A5: 300 | B5: =_xlfn.CONCAT(A5,D5) -> 300Mobilité géographique | C5: =B5&COUNTIF($B$2:$B5,B5) -> 300Mobilité géographique2 | D5: Mobilité géographique
A6: 400 | B6: =_xlfn.CONCAT(A6,D6) -> 400Mobilité géographique | C6: =B6&COUNTIF($B$2:$B6,B6) -> 400Mobilité géographique1 | D6: Mobilité géographique
A7: 400 | B7: =_xlfn.CONCAT(A7,D7) -> 400Mobilité géographique | C7: =B7&COUNTIF($B$2:$B7,B7) -> 400Mobilité géographique2 | D7: Mobilité géographique
A8: 500 | B8: =_xlfn.CONCAT(A8,D8) -> 500Mobilité géographique | C8: =B8&COUNTIF($B$2:$B8,B8) -> 500Mobilité géographique1 | D8: Mobilité géographique
A9: 500 | B9: =_xlfn.CONCAT(A9,D9) -> 500Mobilité géographique | C9: =B9&COUNTIF($B$2:$B9,B9) -> 500Mobilité géographique2 | D9: Mobilité géographique
A10: 500 | B10: =_xlfn.CONCAT(A10,D10) -> 500Mobilité fonctionnelle | C10: =B10&COUNTIF($B$2:$B10,B10) -> 500Mobilité fonctionnelle1 | D10: Mobilité fonctionnelle
A11: 600 | B11: =_xlfn.CONCAT(A11,D11) -> 600Mobilité fonctionnelle | C11: =B11&COUNTIF($B$2:$B11,B11) -> 600Mobilité fonctionnelle1 | D11: Mobilité fonctionnelle
A12: 600 | B12: =_xlfn.CONCAT(A12,D12) -> 600Mobilité fonctionnelle | C12: =B12&COUNTIF($B$2:$B12,B12) -> 600Mobilité fonctionnelle2 | D12: Mobilité fonctionnelle
A13: 600 | B13: =_xlfn.CONCAT(A13,D13) -> 600Mobilité géographique | C13: =B13&COUNTIF($B$2:$B13,B13) -> 600Mobilité géographique1 | D13: Mobilité géographique

Sheet Mobilités fonctionnelles
A1: Matricule
A2: =IF(Extraction!$D2="Mobilité fonctionnelle",Extraction!A2,"")
A3: =IF(Extraction!$D3="Mobilité fonctionnelle",Extraction!A3,"")
A4: =IF(Extraction!$D4="Mobilité fonctionnelle",Extraction!A4,"")
A5: =IF(Extraction!$D5="Mobilité fonctionnelle",Extraction!A5,"")
A6: =IF(Extraction!$D6="Mobilité fonctionnelle",Extraction!A6,"")
A7: =IF(Extraction!$D7="Mobilité fonctionnelle",Extraction!A7,"")
A8: =IF(Extraction!$D8="Mobilité fonctionnelle",Extraction!A8,"")
A9: =IF(Extraction!$D9="Mobilité fonctionnelle",Extraction!A9,"")
A10: =IF(Extraction!$D10="Mobilité fonctionnelle",Extraction!A10,"") -> 500
A11: =IF(Extraction!$D11="Mobilité fonctionnelle",Extraction!A11,"") -> 600
A12: =IF(Extraction!$D12="Mobilité fonctionnelle",Extraction!A12,"") -> 600
A13: =IF(Extraction!$D13="Mobilité fonctionnelle",Extraction!A13,"")
... A20: =IF(Extraction!$D20="Mobilité fonctionnelle",Extraction!A20,"")

Sheet Mobilités géographiques
A1: Matricule
A2: =IF(Extraction!$D2="Mobilité géographique",Extraction!A2,"") -> 100
A3: =IF(Extraction!$D3="Mobilité géographique",Extraction!A3,"") -> 200
A4: =IF(Extraction!$D4="Mobilité géographique",Extraction!A4,"") -> 300
A5: =IF(Extraction!$D5="Mobilité géographique",Extraction!A5,"") -> 300
A6: =IF(Extraction!$D6="Mobilité géographique",Extraction!A6,"") -> 400
A7: =IF(Extraction!$D7="Mobilité géographique",Extraction!A7,"") -> 400
A8: =IF(Extraction!$D8="Mobilité géographique",Extraction!A8,"") -> 500
A9: =IF(Extraction!$D9="Mobilité géographique",Extraction!A9,"") -> 500
A10: =IF(Extraction!$D10="Mobilité géographique",Extraction!A10,"")
A11: =IF(Extraction!$D11="Mobilité géographique",Extraction!A11,"")
A12: =IF(Extraction!$D12="Mobilité géographique",Extraction!A12,"")
A13: =IF(Extraction!$D13="Mobilité géographique",Extraction!A13,"") -> 600
... A30: =IF(Extraction!$D30="Mobilité géographique",Extraction!A30,"")
