Workbook
Name articles: OFFSET('JANVIER VENTES'!$B$2,,,COUNTIF('JANVIER VENTES'!$B:$B,"><")-1)
Name pvttc: OFFSET(articles,,3,)
Name quté: OFFSET(articles,,1,)

Sheet JANVIER VENTES
A1: jour | B1: articles | C1: Qté | D1: PV U | E1: PV TTC | F1: PV HT
A2: 1 | B2: xxxx | C2: 3 | D2: 10 | E2: =D2*C2 -> 30 | F2: =E2/1.2 -> 25
A3: 2 | B3: xxxx | C3: 4 | D3: 10 | E3: =D3*C3 -> 40 | F3: =E3/1.2 -> 33.333333
A4: 2 | B4: yyyy | C4: 1 | D4: 12 | E4: =D4*C4 -> 12 | F4: =E4/1.2 -> 10
A5: 3 | B5: zzzz | C5: 1 | D5: 13 | E5: =D5*C5 -> 13 | F5: =E5/1.2 -> 10.833333
A6: 4 | B6: aaaa | C6: 1 | D6: 15 | E6: =D6*C6 -> 15 | F6: =E6/1.2 -> 12.5
A7: 5 | B7: xxxx | C7: 2 | D7: 10 | E7: =D7*C7 -> 20 | F7: =E7/1.2 -> 16.666667
A8: 6 | B8: aaaa | C8: 3 | D8: 15 | E8: =D8*C8 -> 45 | F8: =E8/1.2 -> 37.5
A9: 7 | B9: bbbb | C9: 1 | D9: 8 | E9: =D9*C9 -> 8 | F9: =E9/1.2 -> 6.6666667
A10: 7 | B10: cccc | C10: 1 | D10: 7 | E10: =D10*C10 -> 7 | F10: =E10/1.2 -> 5.8333333
A11: 8 | B11: yyyy | C11: 2 | D11: 12 | E11: =D11*C11 -> 24 | F11: =E11/1.2 -> 20
A12: 8 | B12: aaaa | C12: 1 | D12: 15 | E12: =D12*C12 -> 15 | F12: =E12/1.2 -> 12.5
A13: 9 | B13: xxxx | C13: 1 | D13: 10 | E13: =D13*C13 -> 10 | F13: =E13/1.2 -> 8.3333333
... A15: 9 | B15: dddd | C15: 1 | D15: 10 | E15: =D15*C15 -> 10 | F15: =E15/1.2 -> 8.3333333
A16: 9 | E16: =D16*C16 -> 0 | F16: =E16/1.2 -> 0
A17: 10 | E17: =D17*C17 -> 0 | F17: =E17/1.2 -> 0
A18: 10 | E18: =D18*C18 -> 0 | F18: =E18/1.2 -> 0
A19: 11 | E19: =D19*C19 -> 0 | F19: =E19/1.2 -> 0
A20: 11 | E20: =D20*C20 -> 0 | F20: =E20/1.2 -> 0
A21: 11 | E21: =D21*C21 -> 0 | F21: =E21/1.2 -> 0
A22: 11 | E22: =D22*C22 -> 0 | F22: =E22/1.2 -> 0
A23: 12 | E23: =D23*C23 -> 0 | F23: =E23/1.2 -> 0

Sheet JANVIER RECAP
B3: ARTICLES | C3: QTE | D3: MONTANT TTC | E3: %
B4: {=IFERROR(OFFSET('JANVIER VENTES'!B$1,MATCH(0,COUNTIF(B$3:B3,articles),0),),"")} -> xxxx | C4: =IF($B4="","",SUMPRODUCT((articles=B4)*(quté))) -> 10 | D4: =IF($B4="","",SUMPRODUCT((articles=$B4)*(pvttc))) -> 100 | E4: =IF(B4="","",D4/D$23) -> 0.3968254 | G4: les plages nessecaires au calculs sont nommées en dynamique >>>pas de soucis de rajout
B5: {=IFERROR(OFFSET('JANVIER VENTES'!B$1,MATCH(0,COUNTIF(B$3:B4,articles),0),),"")} -> yyyy | C5: =IF($B5="","",SUMPRODUCT((articles=B5)*(quté))) -> 3 | D5: =IF($B5="","",SUMPRODUCT((articles=$B5)*(pvttc))) -> 36 | E5: =IF(B5="","",D5/D$23) -> 0.14285714
B6: {=IFERROR(OFFSET('JANVIER VENTES'!B$1,MATCH(0,COUNTIF(B$3:B5,articles),0),),"")} -> zzzz | C6: =IF($B6="","",SUMPRODUCT((articles=B6)*(quté))) -> 1 | D6: =IF($B6="","",SUMPRODUCT((articles=$B6)*(pvttc))) -> 13 | E6: =IF(B6="","",D6/D$23) -> 0.051587302
B7: {=IFERROR(OFFSET('JANVIER VENTES'!B$1,MATCH(0,COUNTIF(B$3:B6,articles),0),),"")} -> aaaa | C7: =IF($B7="","",SUMPRODUCT((articles=B7)*(quté))) -> 5 | D7: =IF($B7="","",SUMPRODUCT((articles=$B7)*(pvttc))) -> 75 | E7: =IF(B7="","",D7/D$23) -> 0.29761905
B8: {=IFERROR(OFFSET('JANVIER VENTES'!B$1,MATCH(0,COUNTIF(B$3:B7,articles),0),),"")} -> bbbb | C8: =IF($B8="","",SUMPRODUCT((articles=B8)*(quté))) -> 2 | D8: =IF($B8="","",SUMPRODUCT((articles=$B8)*(pvttc))) -> 11 | E8: =IF(B8="","",D8/D$23) -> 0.043650794
B9: {=IFERROR(OFFSET('JANVIER VENTES'!B$1,MATCH(0,COUNTIF(B$3:B8,articles),0),),"")} -> cccc | C9: =IF($B9="","",SUMPRODUCT((articles=B9)*(quté))) -> 1 | D9: =IF($B9="","",SUMPRODUCT((articles=$B9)*(pvttc))) -> 7 | E9: =IF(B9="","",D9/D$23) -> 0.027777778
B10: {=IFERROR(OFFSET('JANVIER VENTES'!B$1,MATCH(0,COUNTIF(B$3:B9,articles),0),),"")} -> dddd | C10: =IF($B10="","",SUMPRODUCT((articles=B10)*(quté))) -> 1 | D10: =IF($B10="","",SUMPRODUCT((articles=$B10)*(pvttc))) -> 10 | E10: =IF(B10="","",D10/D$23) -> 0.03968254
B11: {=IFERROR(OFFSET('JANVIER VENTES'!B$1,MATCH(0,COUNTIF(B$3:B10,articles),0),),"")} | C11: =IF($B11="","",SUMPRODUCT((articles=B11)*(quté))) | D11: =IF($B11="","",SUMPRODUCT((articles=$B11)*(pvttc))) | E11: =IF(B11="","",D11/D$23)
B12: {=IFERROR(OFFSET('JANVIER VENTES'!B$1,MATCH(0,COUNTIF(B$3:B11,articles),0),),"")} | C12: =IF($B12="","",SUMPRODUCT((articles=B12)*(quté))) | D12: =IF($B12="","",SUMPRODUCT((articles=$B12)*(pvttc))) | E12: =IF(B12="","",D12/D$23)
B13: {=IFERROR(OFFSET('JANVIER VENTES'!B$1,MATCH(0,COUNTIF(B$3:B12,articles),0),),"")} | C13: =IF($B13="","",SUMPRODUCT((articles=B13)*(quté))) | D13: =IF($B13="","",SUMPRODUCT((articles=$B13)*(pvttc))) | E13: =IF(B13="","",D13/D$23)
B14: {=IFERROR(OFFSET('JANVIER VENTES'!B$1,MATCH(0,COUNTIF(B$3:B13,articles),0),),"")} | C14: =IF($B14="","",SUMPRODUCT((articles=B14)*(quté))) | D14: =IF($B14="","",SUMPRODUCT((articles=$B14)*(pvttc))) | E14: =IF(B14="","",D14/D$23)
B15: {=IFERROR(OFFSET('JANVIER VENTES'!B$1,MATCH(0,COUNTIF(B$3:B14,articles),0),),"")} | C15: =IF($B15="","",SUMPRODUCT((articles=B15)*(quté))) | D15: =IF($B15="","",SUMPRODUCT((articles=$B15)*(pvttc))) | E15: =IF(B15="","",D15/D$23)
B16: {=IFERROR(OFFSET('JANVIER VENTES'!B$1,MATCH(0,COUNTIF(B$3:B15,articles),0),),"")} | C16: =IF($B16="","",SUMPRODUCT((articles=B16)*(quté))) | D16: =IF($B16="","",SUMPRODUCT((articles=$B16)*(pvttc))) | E16: =IF(B16="","",D16/D$23)
... B22: {=IFERROR(OFFSET('JANVIER VENTES'!B$1,MATCH(0,COUNTIF(B$3:B21,articles),0),),"")} | C22: =IF($B22="","",SUMPRODUCT((articles=B22)*(quté))) | D22: =IF($B22="","",SUMPRODUCT((articles=$B22)*(pvttc))) | E22: =IF(B22="","",D22/D$23)
B23: TOTAL | D23: =SUM(D4:D22) -> 252 | E23: =SUM(E4:E22) -> 1

Sheet Feuil3
