Workbook

Sheet Relevé H par Semaine
B1: Lundi 30/11/15 | D1: Mardi 1/12/15 | F1: Mercredi 2/12/15 | H1: Jeudi 3/12/15 | J1: Vendredi 4/12/15 | L1: Samedi 5/12/15 | M1: Dimanche 6/12/15
A2: Compagnon 1 | B2: Chantier 1 | C2: Chantier 1 | D2: Chantier 3 | E2: Chantier 3 | F2: Chantier 3 | G2: Chantier 3 | H2: Chantier 3 | I2: Chantier 3 | J2: Chantier 3 | K2: Chantier 3 | L2: Week end | M2: Week end
A3: Compagnon 2 | B3: Chantier 1 | C3: Chantier 1 | D3: Chantier 3 | E3: Chantier 3 | F3: Chantier 3 | G3: Chantier 3 | H3: Chantier 3 | I3: Chantier 3 | J3: Chantier 3 | K3: Chantier 3 | L3: Week end | M3: Week end
A4: Compagnon 3 | B4: Chantier 1 | C4: Chantier 1 | D4: Chantier 1 | E4: Chantier 1 | F4: Chantier 1 | G4: Chantier 1 | H4: Chantier 1 | I4: Chantier 1 | J4: Chantier 1 | K4: Chantier 1 | L4: Week end | M4: Week end
A5: Compagnon 4 | B5: Chantier 2 | C5: Chantier 2 | D5: Chantier 1 | E5: Chantier 1 | F5: Chantier 1 | G5: Chantier 1 | H5: Chantier 1 | I5: Chantier 1 | J5: Chantier 1 | K5: Chantier 1 | L5: Week end | M5: Week end
A6: Compagnon 5 | B6: Chantier 2 | C6: Chantier 2 | D6: Chantier 1 | E6: Chantier 1 | F6: Chantier 1 | G6: Chantier 1 | H6: Chantier 1 | I6: Chantier 1 | J6: Chantier 1 | K6: Chantier 1 | L6: Week end | M6: Week end
A7: Compagnon 6 | B7: Chantier 2 | C7: Chantier 2 | D7: Chantier 1 | E7: Chantier 1 | F7: Chantier 1 | G7: Chantier 1 | H7: Chantier 1 | I7: Chantier 1 | J7: Chantier 1 | K7: Chantier 1 | L7: Week end | M7: Week end
A8: Compagnon 7 | B8: Chantier 2 | C8: Chantier 2 | D8: Chantier 2 | E8: Chantier 2 | F8: Chantier 2 | G8: Chantier 2 | H8: Chantier 2 | I8: Chantier 2 | J8: Chantier 2 | K8: Chantier 2 | L8: Week end | M8: Week end
A9: Compagnon 8 | B9: Chantier 2 | C9: Chantier 2 | D9: Chantier 2 | E9: Chantier 2 | F9: Chantier 2 | G9: Chantier 2 | H9: Chantier 2 | I9: Chantier 2 | J9: Chantier 2 | K9: Chantier 2 | L9: Week end | M9: Week end
A10: Compagnon 9 | B10: Chantier 3 | C10: Chantier 3 | D10: Chantier 2 | E10: Chantier 2 | F10: Chantier 2 | G10: Chantier 2 | H10: Chantier 2 | I10: Chantier 2 | J10: Chantier 2 | K10: Chantier 2 | L10: Week end | M10: Week end
A11: Compagnon 10 | B11: Chantier 3 | C11: Chantier 3 | D11: Chantier 2 | E11: Chantier 2 | F11: Chantier 2 | G11: Chantier 2 | H11: Chantier 2 | I11: Chantier 2 | J11: Chantier 2 | K11: Chantier 2 | L11: Week end | M11: Week end
B13: Lundi 7/11/15 | D13: Mardi 8/12/15 | F13: Mercredi 9/12/15 | H13: Jeudi 10/12/15 | J13: Vendredi 11/12/15 | L13: Samedi 12/12/15 | M13: Dimanche 13/12/15
A14: Compagnon 1 | B14: Chantier 3 | C14: Chantier 3 | D14: Chantier 3 | E14: Chantier 3 | F14: Chantier 3 | G14: Chantier 3 | H14: Chantier 1 | I14: Chantier 1 | J14: Chantier 1 | K14: Chantier 1 | L14: Week end | M14: Week end
A15: Compagnon 2 | B15: Chantier 3 | C15: Chantier 3 | D15: Chantier 3 | E15: Chantier 3 | F15: Chantier 3 | G15: Chantier 3 | H15: Chantier 1 | I15: Chantier 1 | J15: Chantier 1 | K15: Chantier 1 | L15: Week end | M15: Week end
A16: Compagnon 3 | B16: Chantier 3 | C16: Chantier 3 | D16: Chantier 3 | E16: Chantier 3 | F16: Chantier 3 | G16: Chantier 3 | H16: Chantier 1 | I16: Chantier 1 | J16: Chantier 1 | K16: Chantier 1 | L16: Week end | M16: Week end
A17: Compagnon 4 | B17: Chantier 3 | C17: Chantier 3 | D17: Chantier 3 | E17: Chantier 3 | F17: Chantier 3 | G17: Chantier 3 | H17: Chantier 1 | I17: Chantier 1 | J17: Chantier 1 | K17: Chantier 1 | L17: Week end | M17: Week end
A18: Compagnon 5 | B18: Chantier 3 | C18: Chantier 3 | D18: Chantier 3 | E18: Chantier 3 | F18: Chantier 3 | G18: Chantier 3 | H18: Chantier 1 | I18: Chantier 1 | J18: Chantier 1 | K18: Chantier 1 | L18: Week end | M18: Week end
A19: Compagnon 6 | B19: Chantier 2 | C19: Chantier 2 | D19: Chantier 2 | E19: Chantier 2 | F19: Chantier 2 | G19: Chantier 2 | H19: Chantier 2 | I19: Chantier 1 | J19: Chantier 1 | K19: Chantier 1 | L19: Week end | M19: Week end
A20: Compagnon 7 | B20: Chantier 2 | C20: Chantier 2 | D20: Chantier 2 | E20: Chantier 2 | F20: Chantier 2 | G20: Chantier 2 | H20: Chantier 2 | I20: Chantier 1 | J20: Chantier 1 | K20: Chantier 1 | L20: Week end | M20: Week end
A21: Compagnon 8 | B21: Chantier 2 | C21: Chantier 2 | D21: Chantier 2 | E21: Chantier 2 | F21: Chantier 2 | G21: Chantier 2 | H21: Chantier 2 | I21: Chantier 1 | J21: Chantier 1 | K21: Chantier 1 | L21: Week end | M21: Week end
A22: Compagnon 9 | B22: Chantier 2 | C22: Chantier 2 | D22: Chantier 2 | E22: Chantier 2 | F22: Chantier 2 | G22: Chantier 2 | H22: Chantier 2 | I22: Chantier 1 | J22: Chantier 1 | K22: Chantier 1 | L22: Week end | M22: Week end
A23: Compagnon 10 | B23: Chantier 2 | C23: Chantier 2 | D23: Chantier 2 | E23: Chantier 2 | F23: Chantier 2 | G23: Chantier 2 | H23: Chantier 2 | I23: Chantier 1 | J23: Chantier 1 | K23: Chantier 1 | L23: Week end | M23: Week end

Sheet Récapitulatif Chantier
B2: Chantier 1 | C2: Chantier 2 | D2: Chantier 3
A3: Compagnon 1 | B3: =SUMPRODUCT(--('Relevé H par Semaine'!$B$2:$M$23=B$2)*('Relevé H par Semaine'!$A$2:$A$23=$A3)) -> 6 | C3: =SUMPRODUCT(--('Relevé H par Semaine'!$B$2:$M$23=C$2)*('Relevé H par Semaine'!$A$2:$A$23=$A3)) -> 0 | D3: =SUMPRODUCT(--('Relevé H par Semaine'!$B$2:$M$23=D$2)*('Relevé H par Semaine'!$A$2:$A$23=$A3)) -> 14
A4: Compagnon 2 | B4: =SUMPRODUCT(--('Relevé H par Semaine'!$B$2:$M$23=B$2)*('Relevé H par Semaine'!$A$2:$A$23=$A4)) -> 6 | C4: =SUMPRODUCT(--('Relevé H par Semaine'!$B$2:$M$23=C$2)*('Relevé H par Semaine'!$A$2:$A$23=$A4)) -> 0 | D4: =SUMPRODUCT(--('Relevé H par Semaine'!$B$2:$M$23=D$2)*('Relevé H par Semaine'!$A$2:$A$23=$A4)) -> 14
A5: Compagnon 3 | B5: =SUMPRODUCT(--('Relevé H par Semaine'!$B$2:$M$23=B$2)*('Relevé H par Semaine'!$A$2:$A$23=$A5)) -> 14 | C5: =SUMPRODUCT(--('Relevé H par Semaine'!$B$2:$M$23=C$2)*('Relevé H par Semaine'!$A$2:$A$23=$A5)) -> 0 | D5: =SUMPRODUCT(--('Relevé H par Semaine'!$B$2:$M$23=D$2)*('Relevé H par Semaine'!$A$2:$A$23=$A5)) -> 6
A6: Compagnon 4 | B6: =SUMPRODUCT(--('Relevé H par Semaine'!$B$2:$M$23=B$2)*('Relevé H par Semaine'!$A$2:$A$23=$A6)) -> 12 | C6: =SUMPRODUCT(--('Relevé H par Semaine'!$B$2:$M$23=C$2)*('Relevé H par Semaine'!$A$2:$A$23=$A6)) -> 2 | D6: =SUMPRODUCT(--('Relevé H par Semaine'!$B$2:$M$23=D$2)*('Relevé H par Semaine'!$A$2:$A$23=$A6)) -> 6
A7: Compagnon 5 | B7: =SUMPRODUCT(--('Relevé H par Semaine'!$B$2:$M$23=B$2)*('Relevé H par Semaine'!$A$2:$A$23=$A7)) -> 12 | C7: =SUMPRODUCT(--('Relevé H par Semaine'!$B$2:$M$23=C$2)*('Relevé H par Semaine'!$A$2:$A$23=$A7)) -> 2 | D7: =SUMPRODUCT(--('Relevé H par Semaine'!$B$2:$M$23=D$2)*('Relevé H par Semaine'!$A$2:$A$23=$A7)) -> 6
A8: Compagnon 6 | B8: =SUMPRODUCT(--('Relevé H par Semaine'!$B$2:$M$23=B$2)*('Relevé H par Semaine'!$A$2:$A$23=$A8)) -> 11 | C8: =SUMPRODUCT(--('Relevé H par Semaine'!$B$2:$M$23=C$2)*('Relevé H par Semaine'!$A$2:$A$23=$A8)) -> 9 | D8: =SUMPRODUCT(--('Relevé H par Semaine'!$B$2:$M$23=D$2)*('Relevé H par Semaine'!$A$2:$A$23=$A8)) -> 0
A9: Compagnon 7 | B9: =SUMPRODUCT(--('Relevé H par Semaine'!$B$2:$M$23=B$2)*('Relevé H par Semaine'!$A$2:$A$23=$A9)) -> 3 | C9: =SUMPRODUCT(--('Relevé H par Semaine'!$B$2:$M$23=C$2)*('Relevé H par Semaine'!$A$2:$A$23=$A9)) -> 17 | D9: =SUMPRODUCT(--('Relevé H par Semaine'!$B$2:$M$23=D$2)*('Relevé H par Semaine'!$A$2:$A$23=$A9)) -> 0
A10: Compagnon 8 | B10: =SUMPRODUCT(--('Relevé H par Semaine'!$B$2:$M$23=B$2)*('Relevé H par Semaine'!$A$2:$A$23=$A10)) -> 3 | C10: =SUMPRODUCT(--('Relevé H par Semaine'!$B$2:$M$23=C$2)*('Relevé H par Semaine'!$A$2:$A$23=$A10)) -> 17 | D10: =SUMPRODUCT(--('Relevé H par Semaine'!$B$2:$M$23=D$2)*('Relevé H par Semaine'!$A$2:$A$23=$A10)) -> 0
A11: Compagnon 9 | B11: =SUMPRODUCT(--('Relevé H par Semaine'!$B$2:$M$23=B$2)*('Relevé H par Semaine'!$A$2:$A$23=$A11)) -> 3 | C11: =SUMPRODUCT(--('Relevé H par Semaine'!$B$2:$M$23=C$2)*('Relevé H par Semaine'!$A$2:$A$23=$A11)) -> 15 | D11: =SUMPRODUCT(--('Relevé H par Semaine'!$B$2:$M$23=D$2)*('Relevé H par Semaine'!$A$2:$A$23=$A11)) -> 2
A12: Compagnon 10 | B12: =SUMPRODUCT(--('Relevé H par Semaine'!$B$2:$M$23=B$2)*('Relevé H par Semaine'!$A$2:$A$23=$A12)) -> 3 | C12: =SUMPRODUCT(--('Relevé H par Semaine'!$B$2:$M$23=C$2)*('Relevé H par Semaine'!$A$2:$A$23=$A12)) -> 15 | D12: =SUMPRODUCT(--('Relevé H par Semaine'!$B$2:$M$23=D$2)*('Relevé H par Semaine'!$A$2:$A$23=$A12)) -> 2
