Workbook
Name mois: effectif!$L:$L

Sheet effectif
A1: CRPP | L1: janvier
C2: JOUR | H2: février | L2: février | O2: pour faire une liste de mois
C3: IDE | E3: AS | L3: mars | O3: 1)on inscrit janvier
A4: UG | B4: SENART | C4: Requis | D4: Réel | E4: Requis | F4: Réel | L4: avril | O4: 2) on duplique avec la croix
L5: mai
A6: 1610 | B6: 1er étage NORD | C6: 4.5 | D6: =SUMPRODUCT((Feuil1!$D$6:$O$6=$H$2)*(Feuil1!$B$7:$B$18=A6)*(Feuil1!$A$7:$A$18=C$3)*(Feuil1!$D$7:$O$18)) -> 3 | E6: 11 | F6: =SUMPRODUCT((Feuil1!$D$6:$O$6=$H$2)*(Feuil1!$B$7:$B$18=A6)*(Feuil1!$A$7:$A$18=E$3)*(Feuil1!$D$7:$O$18)) -> 3 | L6: juin | O6: ce qui evite les fautes : é pour fevrier…….
A7: MG | L7: juillet
L8: août
A9: 1510 | B9: 1er étage SUD | C9: 12.05 | D9: =SUMPRODUCT((Feuil1!$D$6:$O$6=$H$2)*(Feuil1!$B$7:$B$18=A9)*(Feuil1!$A$7:$A$18=C$3)*(Feuil1!$D$7:$O$18)) -> 2 | E9: 21 | F9: =SUMPRODUCT((Feuil1!$D$6:$O$6=$H$2)*(Feuil1!$B$7:$B$18=A9)*(Feuil1!$A$7:$A$18=E$3)*(Feuil1!$D$7:$O$18)) -> 2 | L9: septembre
A10: SSR | B10: 2ème étage | L10: octobre
L11: novembre
A12: Total A1 | C12: =SUM(C5:C11) -> 16.55 | D12: =SUM(D6:D11) -> 5 | E12: =SUM(E5:E11) -> 32 | F12: =SUM(F6:F11) -> 5 | L12: décembre
A13: Ecart A1 | C13: =D12-C12 -> -11.55 | E13: =F12-E12 -> -27
A15: 1250 | B15: 4ème étage NORD | C15: 5.5 | D15: =SUMPRODUCT((Feuil1!$D$6:$O$6=$H$2)*(Feuil1!$B$7:$B$18=$A15)*(Feuil1!$A$7:$A$18=C$3)*(Feuil1!$D$7:$O$18)) -> 0 | E15: 7 | F15: =SUMPRODUCT((Feuil1!$D$6:$O$6=$H$2)*(Feuil1!$B$7:$B$18=$A15)*(Feuil1!$A$7:$A$18=E$3)*(Feuil1!$D$7:$O$18)) -> 0
A16: SP
A18: 1100 | B18: 4ème étage SUD | C18: 16.5 | D18: =SUMPRODUCT((Feuil1!$D$6:$O$6=$H$2)*(Feuil1!$B$7:$B$18=$A18)*(Feuil1!$A$7:$A$18=C$3)*(Feuil1!$D$7:$O$18)) -> 0 | E18: 39 | F18: =SUMPRODUCT((Feuil1!$D$6:$O$6=$H$2)*(Feuil1!$B$7:$B$18=$A18)*(Feuil1!$A$7:$A$18=E$3)*(Feuil1!$D$7:$O$18)) -> 0
A19: SSR | B19: 5ème étage
B20: 6ème étage
A22: Total A2 | C22: =SUM(C14:C21) -> 22 | D22: =D15+D18 -> 0 | E22: =SUM(E14:E21) -> 46 | F22: =F15+F18 -> 0
A23: Ecart A2 | C23: =D22-C22 -> -22 | E23: =F22-E22 -> -46
A25: TOTAL SENART | C25: =C12+C22 -> 38.55 | D25: =D12+D22 -> 5 | E25: =E12+E22 -> 78 | F25: =F12+F22 -> 5
A26: Ecart SENART | C26: =D25-C25 -> -33.55 | E26: =F25-E25 -> -73
C27: IDE | E27: AS
A28: CDD A1
A29: Ecart A1 | C29: =C13+C28 -> -16.55 | E29: =E13+E28 -> -32
A31: CDD A2
A32: Ecart A2 | C32: =C23+C31 -> -22 | E32: =E23+E31 -> -46
C36: TOTAL jour* | E36: TOTAL nuit
A37: IDE | C37: =D12+D22+#REF!+#REF! -> #REF! | E37: =#REF!+#REF!+#REF!+#REF! -> #REF!
A39: AS | C39: =F12+F22+#REF!+#REF! -> #REF! | E39: =#REF!+#REF!+#REF!+#REF! -> #REF!
C41: * avec SUPERSAC
A44: CRPAB
C45: IDE | E45: AS
A46: UG | B46: SLD SENART | C46: Requis | D46: Réel | E46: Requis | F46: Réel
A48: 1300 | B48: 3ème étage | C48: 4 | E48: 15
A49: SLD
A50: TOTAL SLD SENART | C50: =C48 -> 4 | D50: =D48 -> 0 | E50: =E48 -> 15 | F50: =F48 -> 0
A51: Ecart SLD SENART | C51: =D50-C50 -> -4 | E51: =F50-E50 -> -15
A55: BILAN GENERAL
C57: TOTAL jour* | E57: TOTAL nuit
A58: IDE | C58: =D48+#REF! -> #REF! | E58: =#REF!+#REF! -> #REF!
A60: AS | C60: =F48+#REF! -> #REF! | E60: =#REF!+#REF! -> #REF!

Sheet Feuil1
D6: Janvier | E6: Février | F6: Mars | G6: Avril | H6: Mai | I6: Juin | J6: Juillet | K6: Août | L6: Septembre | M6: Octobre | N6: Novembre | O6: Décembre
A7: IDE
A8: IDE | B8: 1610 | D8: 2 | E8: 3 | F8: 4 | G8: 2 | H8: 6 | I8: 5 | J8: 4 | K8: 5 | L8: 6 | M8: 4 | N8: 5 | O8: 5
A9: IDE
A10: IDE
A11: IDE | B11: 1510 | D11: 54 | E11: 2 | F11: 1 | G11: 2 | H11: 2 | I11: 1 | J11: 2 | K11: 1 | L11: 1 | M11: 1 | N11: 2 | O11: 2
A14: AS
A15: AS | B15: 1610 | D15: 2 | E15: 3 | F15: 4 | G15: 2 | H15: 6 | I15: 5 | J15: 4 | K15: 5 | L15: 6 | M15: 4 | N15: 5 | O15: 5
A16: AS
A17: AS
A18: AS | B18: 1510 | D18: 22 | E18: 2 | F18: 1 | G18: 2 | H18: 2 | I18: 1 | J18: 2 | K18: 1 | L18: 1 | M18: 1 | N18: 2 | O18: 2

Sheet Feuil2
D6: Janvier | E6: Février | F6: Mars | G6: Avril | H6: Mai | I6: Juin | J6: Juillet | K6: Août | L6: Septembre | M6: Octobre | N6: Novembre | O6: Décembre
A7: IDE
C8: 1250 | D8: 2 | E8: 3 | F8: 4 | G8: 2 | H8: 6 | I8: 5 | J8: 4 | K8: 5 | L8: 6 | M8: 4 | N8: 5 | O8: 5
C10: 1100 | D10: 1 | E10: 1 | F10: 1 | G10: 2 | H10: 3 | I10: 1 | J10: 1 | K10: 1 | L10: 1 | M10: 2 | N10: 1 | O10: 1
A14: AS
C15: 1250 | D15: 2 | E15: 3 | F15: 4 | G15: 2 | H15: 6 | I15: 5 | J15: 4 | K15: 5 | L15: 6 | M15: 4 | N15: 5 | O15: 5
C17: 1100 | D17: 2 | E17: 2 | F17: 2 | G17: 1 | H17: 2 | I17: 2 | J17: 2 | K17: 2 | L17: 1 | M17: 2 | N17: 3 | O17: 4
