Workbook

Sheet Prix
A1: Prix
A2: Zone | D2: 1 | E2: 2 | F2: 3 | G2: 4 | H2: 5 | I2: 6 | J2: 7 | K2: 8 | L2: 9 | M2: 10 | N2: 11 | O2: 12 | P2: 13 | Q2: 14
A3: Lane
A4: Cntr | B4: X | C4: Kg
A5: A | B5: Cnt | D5: 9 | E5: 8.9 | F5: 5.655 | G5: 8.1705 | H5: 7.4685 | I5: 13.416 | J5: 13.54275 | K5: 9.85725 | L5: 14.10825 | M5: 9.09675 | N5: 10.842 | O5: 13.65 | P5: 14.57625 | Q5: 15.054
A6: A | B6: Cnt | C6: 0.5 | D6: 10 | E6: 56 | F6: 5.84025 | G6: 8.35575 | H6: 7.65375 | I6: 13.60125 | J6: 13.728 | K6: 9.97425 | L6: 14.26425 | M6: 9.56475 | N6: 11.94375 | O6: 13.79625 | P6: 14.742 | Q6: 15.21
A7: A | B7: Cnt | C7: 1 | D7: 11 | E7: 9 | F7: 7.2735 | G7: 9.44775 | H7: 9.11625 | I7: 16.614 | J7: 16.76025 | K7: 11.80725 | L7: 18.18375 | M7: 11.7585 | N7: 13.99125 | O7: 18.20325 | P7: 19.4415 | Q7: 19.9095
A8: A | B8: Cnt | C8: 1.5 | D8: 12 | E8: 9.21 | F8: 9.54525 | G8: 10.53 | H8: 9.945 | I8: 18.3885 | J8: 18.55425 | K8: 12.91875 | L8: 21.801 | M8: 13.01625 | N8: 16.01925 | O8: 20.85525 | P8: 22.72725 | Q8: 23.52675
A9: A | B9: Cnt | C9: 2 | D9: 13 | E9: 9.4 | F9: 10.9785 | G9: 11.61225 | H9: 10.7835 | I9: 20.17275 | J9: 20.358 | K9: 14.001 | L9: 25.41825 | M9: 14.274 | N9: 17.589 | O9: 23.50725 | P9: 26.02275 | Q9: 27.15375
A10: A | B10: Cnt | C10: 2.5 | D10: 14 | E10: 9.59 | F10: 11.72925 | G10: 12.70425 | H10: 11.2125 | I10: 21.957 | J10: 22.152 | K10: 16.38 | L10: 28.08 | M10: 15.5415 | N10: 18.78825 | O10: 26.169 | P10: 29.29875 | Q10: 30.771
A11: A | B11: Cnt | C11: 0.5 | D11: 15 | E11: 8.9 | F11: 5.84025 | G11: 8.35575 | H11: 7.65375 | I11: 13.60125 | J11: 13.728 | K11: 11.544 | L11: 18.174 | M11: 12.9675 | N11: 13.40625 | O11: 17.277 | P11: 18.02775 | Q11: 18.61275
A12: A | B12: Cnt | C12: 1 | D12: 16 | E12: 9 | F12: 7.2735 | G12: 4 | H12: 9.11625 | I12: 16.614 | J12: 16.76025 | K12: 13.806 | L12: 22.191 | M12: 14.4495 | N12: 15.1905 | O12: 20.709 | P12: 22.347 | Q12: 22.932
A13: A | B13: Cnt | C13: 1.5 | D13: 17 | E13: 9.21 | F13: 9.54525 | G13: 10.53 | H13: 9.945 | I13: 18.3885 | J13: 18.55425 | K13: 15.72675 | L13: 24.57975 | M13: 15.9315 | N13: 16.38975 | O13: 23.23425 | P13: 25.1745 | Q13: 26.0715
A14: A | B14: Cnt | C14: 2 | D14: 18 | E14: 9.4 | F14: 10.9785 | G14: 11.61225 | H14: 10.7835 | I14: 20.17275 | J14: 20.358 | K14: 16.77975 | L14: 26.95875 | M14: 16.5165 | N14: 17.589 | O14: 25.7595 | P14: 27.99225 | Q14: 29.22075
A15: a | B15: Cnt | C15: 2.5 | D15: 19 | E15: 9.59 | F15: 11.72925 | G15: 12.70425 | H15: 11.2125 | I15: 21.957 | J15: 22.152 | K15: 17.16975 | L15: 29.33775 | M15: 17.1015 | N15: 19.149 | O15: 27.69975 | P15: 30.81975 | Q15: 32.3505
A16: A | B16: Cnt | C16: 3 | D16: 20 | E16: 10.21 | F16: 12.11925 | G16: 13.26 | H16: 11.6415 | I16: 23.87775 | J16: 24.8625 | K16: 17.55975 | L16: 31.434 | M16: 17.67675 | N16: 19.52925 | O16: 29.64 | P16: 33.04275 | Q16: 34.89525
A17: A | B17: Cnt | C17: 3.5 | D17: 21 | E17: 10.9 | F17: 12.50925 | G17: 15.6585 | H17: 14.86875 | I17: 25.7985 | J17: 26.6175 | K17: 20.07525 | L17: 37.05975 | M17: 20.1825 | N17: 22.4055 | O17: 34.905 | P17: 38.9805 | Q17: 41.36925
... A54: A | B54: Cnt | C54: 9999 | D54: 6 | E54: 5 | F54: 4 | G54: 5 | H54: 3 | I54: 2 | J54: 1 | K54: 5 | L54: 7 | M54: 8 | N54: 4 | O54: 2 | P54: 6 | Q54: 8

Sheet Prix par rapport aux zones
F5: Kg | G5: 0 | H5: 0.5 | I5: 1 | J5: 1.5 | K5: 2 | L5: 2.5 | M5: 0.5 | N5: 1 | O5: 1.5 | P5: 2 | Q5: 2.5 | R5: 3 | S5: 3.5 | T5: 4 | U5: 4.5 | V5: 5 | W5: 5.5 | X5: 6 | Y5: 6.5 | Z5: 7 | AA5: 7.5 | AB5: 8 | AC5: 8.5 | AD5: 9 | AE5: 9.5 | AF5: 10 | AG5: 11 | AH5: 12 | AI5: 13 | AJ5: 14 | AK5: 15 | AL5: 16 | AM5: 17 | AN5: 18 | AO5: 19 | AP5: 20 | AQ5: 22 | AR5: 24 | AS5: 26 | AT5: 28 | AU5: 30 | AV5: 35 | AW5: 40 | AX5: 45 | AY5: 50 | AZ5: 55 | BA5: 60 | BB5: 65 | BC5: 70 | BD5: Per kg >70
D6: Pays | E6: ZONE | F6: SERVICE
D7: A | E7: 3 | F7: 1 | G7: =SUMPRODUCT(MAX((Prix!$A$5:$A$54=$D7)*(Prix!$C$5:$C$54<=G$5)*(Prix!$D$2:$Q$2=$E7)*(Prix!$D$5:$Q$54))) -> 5.655 | H7: =SUMPRODUCT(MAX((Prix!$A$5:$A$54=$D7)*(Prix!$C$5:$C$54<=H$5)*(Prix!$D$2:$Q$2=$E7)*(Prix!$D$5:$Q$54))) -> 5.84025 | I7: =SUMPRODUCT(MAX((Prix!$A$5:$A$54=$D7)*(Prix!$C$5:$C$54<=I$5)*(Prix!$D$2:$Q$2=$E7)*(Prix!$D$5:$Q$54))) -> 7.2735 | J7: =SUMPRODUCT(MAX((Prix!$A$5:$A$54=$D7)*(Prix!$C$5:$C$54<=J$5)*(Prix!$D$2:$Q$2=$E7)*(Prix!$D$5:$Q$54))) -> 9.54525 | K7: =SUMPRODUCT(MAX((Prix!$A$5:$A$54=$D7)*(Prix!$C$5:$C$54<=K$5)*(Prix!$D$2:$Q$2=$E7)*(Prix!$D$5:$Q$54))) -> 10.9785 | L7: =SUMPRODUCT(MAX((Prix!$A$5:$A$54=$D7)*(Prix!$C$5:$C$54<=L$5)*(Prix!$D$2:$Q$2=$E7)*(Prix!$D$5:$Q$54))) -> 11.72925 | M7: =SUMPRODUCT(MAX((Prix!$A$5:$A$54=$D7)*(Prix!$C$5:$C$54<=M$5)*(Prix!$D$2:$Q$2=$E7)*(Prix!$D$5:$Q$54))) -> 5.84025 | N7: =SUMPRODUCT(MAX((Prix!$A$5:$A$54=$D7)*(Prix!$C$5:$C$54<=N$5)*(Prix!$D$2:$Q$2=$E7)*(Prix!$D$5:$Q$54))) -> 7.2735 | ... BC7: =SUMPRODUCT(MAX((Prix!$A$5:$A$54=$D7)*(Prix!$C$5:$C$54<=BC$5)*(Prix!$D$2:$Q$2=$E7)*(Prix!$D$5:$Q$54))) -> 144.07575 | BD7: =SUMPRODUCT(MAX((Prix!$A$5:$A$54=$D7)*(Prix!$C$5:$C$54>BC$5)*(Prix!$D$2:$Q$2=$E7)*(Prix!$D$5:$Q$54))) -> 4
D8: B | E8: 3 | F8: 1 | G8: =SUMPRODUCT(MAX((Prix!$A$5:$A$54=$D8)*(Prix!$C$5:$C$54<=G$5)*(Prix!$D$2:$Q$2=$E8)*(Prix!$D$5:$Q$54))) -> 0 | H8: =SUMPRODUCT(MAX((Prix!$A$5:$A$54=$D8)*(Prix!$C$5:$C$54<=H$5)*(Prix!$D$2:$Q$2=$E8)*(Prix!$D$5:$Q$54))) -> 0 | I8: =SUMPRODUCT(MAX((Prix!$A$5:$A$54=$D8)*(Prix!$C$5:$C$54<=I$5)*(Prix!$D$2:$Q$2=$E8)*(Prix!$D$5:$Q$54))) -> 0 | J8: =SUMPRODUCT(MAX((Prix!$A$5:$A$54=$D8)*(Prix!$C$5:$C$54<=J$5)*(Prix!$D$2:$Q$2=$E8)*(Prix!$D$5:$Q$54))) -> 0 | K8: =SUMPRODUCT(MAX((Prix!$A$5:$A$54=$D8)*(Prix!$C$5:$C$54<=K$5)*(Prix!$D$2:$Q$2=$E8)*(Prix!$D$5:$Q$54))) -> 0 | L8: =SUMPRODUCT(MAX((Prix!$A$5:$A$54=$D8)*(Prix!$C$5:$C$54<=L$5)*(Prix!$D$2:$Q$2=$E8)*(Prix!$D$5:$Q$54))) -> 0 | M8: =SUMPRODUCT(MAX((Prix!$A$5:$A$54=$D8)*(Prix!$C$5:$C$54<=M$5)*(Prix!$D$2:$Q$2=$E8)*(Prix!$D$5:$Q$54))) -> 0 | N8: =SUMPRODUCT(MAX((Prix!$A$5:$A$54=$D8)*(Prix!$C$5:$C$54<=N$5)*(Prix!$D$2:$Q$2=$E8)*(Prix!$D$5:$Q$54))) -> 0 | ... BC8: =SUMPRODUCT(MAX((Prix!$A$5:$A$54=$D8)*(Prix!$C$5:$C$54<=BC$5)*(Prix!$D$2:$Q$2=$E8)*(Prix!$D$5:$Q$54))) -> 0 | BD8: =SUMPRODUCT(MAX((Prix!$A$5:$A$54=$D8)*(Prix!$C$5:$C$54>BC$5)*(Prix!$D$2:$Q$2=$E8)*(Prix!$D$5:$Q$54))) -> 0
D9: C | E9: 6 | F9: 1 | G9: =SUMPRODUCT(MAX((Prix!$A$5:$A$54=$D9)*(Prix!$C$5:$C$54<=G$5)*(Prix!$D$2:$Q$2=$E9)*(Prix!$D$5:$Q$54))) -> 0 | H9: =SUMPRODUCT(MAX((Prix!$A$5:$A$54=$D9)*(Prix!$C$5:$C$54<=H$5)*(Prix!$D$2:$Q$2=$E9)*(Prix!$D$5:$Q$54))) -> 0 | I9: =SUMPRODUCT(MAX((Prix!$A$5:$A$54=$D9)*(Prix!$C$5:$C$54<=I$5)*(Prix!$D$2:$Q$2=$E9)*(Prix!$D$5:$Q$54))) -> 0 | J9: =SUMPRODUCT(MAX((Prix!$A$5:$A$54=$D9)*(Prix!$C$5:$C$54<=J$5)*(Prix!$D$2:$Q$2=$E9)*(Prix!$D$5:$Q$54))) -> 0 | K9: =SUMPRODUCT(MAX((Prix!$A$5:$A$54=$D9)*(Prix!$C$5:$C$54<=K$5)*(Prix!$D$2:$Q$2=$E9)*(Prix!$D$5:$Q$54))) -> 0 | L9: =SUMPRODUCT(MAX((Prix!$A$5:$A$54=$D9)*(Prix!$C$5:$C$54<=L$5)*(Prix!$D$2:$Q$2=$E9)*(Prix!$D$5:$Q$54))) -> 0 | M9: =SUMPRODUCT(MAX((Prix!$A$5:$A$54=$D9)*(Prix!$C$5:$C$54<=M$5)*(Prix!$D$2:$Q$2=$E9)*(Prix!$D$5:$Q$54))) -> 0 | N9: =SUMPRODUCT(MAX((Prix!$A$5:$A$54=$D9)*(Prix!$C$5:$C$54<=N$5)*(Prix!$D$2:$Q$2=$E9)*(Prix!$D$5:$Q$54))) -> 0 | ... BC9: =SUMPRODUCT(MAX((Prix!$A$5:$A$54=$D9)*(Prix!$C$5:$C$54<=BC$5)*(Prix!$D$2:$Q$2=$E9)*(Prix!$D$5:$Q$54))) -> 0 | BD9: =SUMPRODUCT(MAX((Prix!$A$5:$A$54=$D9)*(Prix!$C$5:$C$54>BC$5)*(Prix!$D$2:$Q$2=$E9)*(Prix!$D$5:$Q$54))) -> 0
D10: D | E10: 7 | F10: 1 | G10: =SUMPRODUCT(MAX((Prix!$A$5:$A$54=$D10)*(Prix!$C$5:$C$54<=G$5)*(Prix!$D$2:$Q$2=$E10)*(Prix!$D$5:$Q$54))) -> 0 | H10: =SUMPRODUCT(MAX((Prix!$A$5:$A$54=$D10)*(Prix!$C$5:$C$54<=H$5)*(Prix!$D$2:$Q$2=$E10)*(Prix!$D$5:$Q$54))) -> 0 | I10: =SUMPRODUCT(MAX((Prix!$A$5:$A$54=$D10)*(Prix!$C$5:$C$54<=I$5)*(Prix!$D$2:$Q$2=$E10)*(Prix!$D$5:$Q$54))) -> 0 | J10: =SUMPRODUCT(MAX((Prix!$A$5:$A$54=$D10)*(Prix!$C$5:$C$54<=J$5)*(Prix!$D$2:$Q$2=$E10)*(Prix!$D$5:$Q$54))) -> 0 | K10: =SUMPRODUCT(MAX((Prix!$A$5:$A$54=$D10)*(Prix!$C$5:$C$54<=K$5)*(Prix!$D$2:$Q$2=$E10)*(Prix!$D$5:$Q$54))) -> 0 | L10: =SUMPRODUCT(MAX((Prix!$A$5:$A$54=$D10)*(Prix!$C$5:$C$54<=L$5)*(Prix!$D$2:$Q$2=$E10)*(Prix!$D$5:$Q$54))) -> 0 | M10: =SUMPRODUCT(MAX((Prix!$A$5:$A$54=$D10)*(Prix!$C$5:$C$54<=M$5)*(Prix!$D$2:$Q$2=$E10)*(Prix!$D$5:$Q$54))) -> 0 | N10: =SUMPRODUCT(MAX((Prix!$A$5:$A$54=$D10)*(Prix!$C$5:$C$54<=N$5)*(Prix!$D$2:$Q$2=$E10)*(Prix!$D$5:$Q$54))) -> 0 | ... BC10: =SUMPRODUCT(MAX((Prix!$A$5:$A$54=$D10)*(Prix!$C$5:$C$54<=BC$5)*(Prix!$D$2:$Q$2=$E10)*(Prix!$D$5:$Q$54))) -> 0 | BD10: =SUMPRODUCT(MAX((Prix!$A$5:$A$54=$D10)*(Prix!$C$5:$C$54>BC$5)*(Prix!$D$2:$Q$2=$E10)*(Prix!$D$5:$Q$54))) -> 0
D11: E | E11: 3 | F11: 1 | G11: =SUMPRODUCT(MAX((Prix!$A$5:$A$54=$D11)*(Prix!$C$5:$C$54<=G$5)*(Prix!$D$2:$Q$2=$E11)*(Prix!$D$5:$Q$54))) -> 0 | H11: =SUMPRODUCT(MAX((Prix!$A$5:$A$54=$D11)*(Prix!$C$5:$C$54<=H$5)*(Prix!$D$2:$Q$2=$E11)*(Prix!$D$5:$Q$54))) -> 0 | I11: =SUMPRODUCT(MAX((Prix!$A$5:$A$54=$D11)*(Prix!$C$5:$C$54<=I$5)*(Prix!$D$2:$Q$2=$E11)*(Prix!$D$5:$Q$54))) -> 0 | J11: =SUMPRODUCT(MAX((Prix!$A$5:$A$54=$D11)*(Prix!$C$5:$C$54<=J$5)*(Prix!$D$2:$Q$2=$E11)*(Prix!$D$5:$Q$54))) -> 0 | K11: =SUMPRODUCT(MAX((Prix!$A$5:$A$54=$D11)*(Prix!$C$5:$C$54<=K$5)*(Prix!$D$2:$Q$2=$E11)*(Prix!$D$5:$Q$54))) -> 0 | L11: =SUMPRODUCT(MAX((Prix!$A$5:$A$54=$D11)*(Prix!$C$5:$C$54<=L$5)*(Prix!$D$2:$Q$2=$E11)*(Prix!$D$5:$Q$54))) -> 0 | M11: =SUMPRODUCT(MAX((Prix!$A$5:$A$54=$D11)*(Prix!$C$5:$C$54<=M$5)*(Prix!$D$2:$Q$2=$E11)*(Prix!$D$5:$Q$54))) -> 0 | N11: =SUMPRODUCT(MAX((Prix!$A$5:$A$54=$D11)*(Prix!$C$5:$C$54<=N$5)*(Prix!$D$2:$Q$2=$E11)*(Prix!$D$5:$Q$54))) -> 0 | ... BC11: =SUMPRODUCT(MAX((Prix!$A$5:$A$54=$D11)*(Prix!$C$5:$C$54<=BC$5)*(Prix!$D$2:$Q$2=$E11)*(Prix!$D$5:$Q$54))) -> 0 | BD11: =SUMPRODUCT(MAX((Prix!$A$5:$A$54=$D11)*(Prix!$C$5:$C$54>BC$5)*(Prix!$D$2:$Q$2=$E11)*(Prix!$D$5:$Q$54))) -> 0
D12: F | E12: 8 | F12: 1 | G12: =SUMPRODUCT(MAX((Prix!$A$5:$A$54=$D12)*(Prix!$C$5:$C$54<=G$5)*(Prix!$D$2:$Q$2=$E12)*(Prix!$D$5:$Q$54))) -> 0 | H12: =SUMPRODUCT(MAX((Prix!$A$5:$A$54=$D12)*(Prix!$C$5:$C$54<=H$5)*(Prix!$D$2:$Q$2=$E12)*(Prix!$D$5:$Q$54))) -> 0 | I12: =SUMPRODUCT(MAX((Prix!$A$5:$A$54=$D12)*(Prix!$C$5:$C$54<=I$5)*(Prix!$D$2:$Q$2=$E12)*(Prix!$D$5:$Q$54))) -> 0 | J12: =SUMPRODUCT(MAX((Prix!$A$5:$A$54=$D12)*(Prix!$C$5:$C$54<=J$5)*(Prix!$D$2:$Q$2=$E12)*(Prix!$D$5:$Q$54))) -> 0 | K12: =SUMPRODUCT(MAX((Prix!$A$5:$A$54=$D12)*(Prix!$C$5:$C$54<=K$5)*(Prix!$D$2:$Q$2=$E12)*(Prix!$D$5:$Q$54))) -> 0 | L12: =SUMPRODUCT(MAX((Prix!$A$5:$A$54=$D12)*(Prix!$C$5:$C$54<=L$5)*(Prix!$D$2:$Q$2=$E12)*(Prix!$D$5:$Q$54))) -> 0 | M12: =SUMPRODUCT(MAX((Prix!$A$5:$A$54=$D12)*(Prix!$C$5:$C$54<=M$5)*(Prix!$D$2:$Q$2=$E12)*(Prix!$D$5:$Q$54))) -> 0 | N12: =SUMPRODUCT(MAX((Prix!$A$5:$A$54=$D12)*(Prix!$C$5:$C$54<=N$5)*(Prix!$D$2:$Q$2=$E12)*(Prix!$D$5:$Q$54))) -> 0 | ... BC12: =SUMPRODUCT(MAX((Prix!$A$5:$A$54=$D12)*(Prix!$C$5:$C$54<=BC$5)*(Prix!$D$2:$Q$2=$E12)*(Prix!$D$5:$Q$54))) -> 0 | BD12: =SUMPRODUCT(MAX((Prix!$A$5:$A$54=$D12)*(Prix!$C$5:$C$54>BC$5)*(Prix!$D$2:$Q$2=$E12)*(Prix!$D$5:$Q$54))) -> 0
D13: G | E13: 3 | F13: 1 | G13: =SUMPRODUCT(MAX((Prix!$A$5:$A$54=$D13)*(Prix!$C$5:$C$54<=G$5)*(Prix!$D$2:$Q$2=$E13)*(Prix!$D$5:$Q$54))) -> 0 | H13: =SUMPRODUCT(MAX((Prix!$A$5:$A$54=$D13)*(Prix!$C$5:$C$54<=H$5)*(Prix!$D$2:$Q$2=$E13)*(Prix!$D$5:$Q$54))) -> 0 | I13: =SUMPRODUCT(MAX((Prix!$A$5:$A$54=$D13)*(Prix!$C$5:$C$54<=I$5)*(Prix!$D$2:$Q$2=$E13)*(Prix!$D$5:$Q$54))) -> 0 | J13: =SUMPRODUCT(MAX((Prix!$A$5:$A$54=$D13)*(Prix!$C$5:$C$54<=J$5)*(Prix!$D$2:$Q$2=$E13)*(Prix!$D$5:$Q$54))) -> 0 | K13: =SUMPRODUCT(MAX((Prix!$A$5:$A$54=$D13)*(Prix!$C$5:$C$54<=K$5)*(Prix!$D$2:$Q$2=$E13)*(Prix!$D$5:$Q$54))) -> 0 | L13: =SUMPRODUCT(MAX((Prix!$A$5:$A$54=$D13)*(Prix!$C$5:$C$54<=L$5)*(Prix!$D$2:$Q$2=$E13)*(Prix!$D$5:$Q$54))) -> 0 | M13: =SUMPRODUCT(MAX((Prix!$A$5:$A$54=$D13)*(Prix!$C$5:$C$54<=M$5)*(Prix!$D$2:$Q$2=$E13)*(Prix!$D$5:$Q$54))) -> 0 | N13: =SUMPRODUCT(MAX((Prix!$A$5:$A$54=$D13)*(Prix!$C$5:$C$54<=N$5)*(Prix!$D$2:$Q$2=$E13)*(Prix!$D$5:$Q$54))) -> 0 | ... BC13: =SUMPRODUCT(MAX((Prix!$A$5:$A$54=$D13)*(Prix!$C$5:$C$54<=BC$5)*(Prix!$D$2:$Q$2=$E13)*(Prix!$D$5:$Q$54))) -> 0 | BD13: =SUMPRODUCT(MAX((Prix!$A$5:$A$54=$D13)*(Prix!$C$5:$C$54>BC$5)*(Prix!$D$2:$Q$2=$E13)*(Prix!$D$5:$Q$54))) -> 0
D14: H | E14: 3 | F14: 1 | G14: =SUMPRODUCT(MAX((Prix!$A$5:$A$54=$D14)*(Prix!$C$5:$C$54<=G$5)*(Prix!$D$2:$Q$2=$E14)*(Prix!$D$5:$Q$54))) -> 0 | H14: =SUMPRODUCT(MAX((Prix!$A$5:$A$54=$D14)*(Prix!$C$5:$C$54<=H$5)*(Prix!$D$2:$Q$2=$E14)*(Prix!$D$5:$Q$54))) -> 0 | I14: =SUMPRODUCT(MAX((Prix!$A$5:$A$54=$D14)*(Prix!$C$5:$C$54<=I$5)*(Prix!$D$2:$Q$2=$E14)*(Prix!$D$5:$Q$54))) -> 0 | J14: =SUMPRODUCT(MAX((Prix!$A$5:$A$54=$D14)*(Prix!$C$5:$C$54<=J$5)*(Prix!$D$2:$Q$2=$E14)*(Prix!$D$5:$Q$54))) -> 0 | K14: =SUMPRODUCT(MAX((Prix!$A$5:$A$54=$D14)*(Prix!$C$5:$C$54<=K$5)*(Prix!$D$2:$Q$2=$E14)*(Prix!$D$5:$Q$54))) -> 0 | L14: =SUMPRODUCT(MAX((Prix!$A$5:$A$54=$D14)*(Prix!$C$5:$C$54<=L$5)*(Prix!$D$2:$Q$2=$E14)*(Prix!$D$5:$Q$54))) -> 0 | M14: =SUMPRODUCT(MAX((Prix!$A$5:$A$54=$D14)*(Prix!$C$5:$C$54<=M$5)*(Prix!$D$2:$Q$2=$E14)*(Prix!$D$5:$Q$54))) -> 0 | N14: =SUMPRODUCT(MAX((Prix!$A$5:$A$54=$D14)*(Prix!$C$5:$C$54<=N$5)*(Prix!$D$2:$Q$2=$E14)*(Prix!$D$5:$Q$54))) -> 0 | ... BC14: =SUMPRODUCT(MAX((Prix!$A$5:$A$54=$D14)*(Prix!$C$5:$C$54<=BC$5)*(Prix!$D$2:$Q$2=$E14)*(Prix!$D$5:$Q$54))) -> 0 | BD14: =SUMPRODUCT(MAX((Prix!$A$5:$A$54=$D14)*(Prix!$C$5:$C$54>BC$5)*(Prix!$D$2:$Q$2=$E14)*(Prix!$D$5:$Q$54))) -> 0
D15: I | E15: 3 | F15: 1 | G15: =SUMPRODUCT(MAX((Prix!$A$5:$A$54=$D15)*(Prix!$C$5:$C$54<=G$5)*(Prix!$D$2:$Q$2=$E15)*(Prix!$D$5:$Q$54))) -> 0 | H15: =SUMPRODUCT(MAX((Prix!$A$5:$A$54=$D15)*(Prix!$C$5:$C$54<=H$5)*(Prix!$D$2:$Q$2=$E15)*(Prix!$D$5:$Q$54))) -> 0 | I15: =SUMPRODUCT(MAX((Prix!$A$5:$A$54=$D15)*(Prix!$C$5:$C$54<=I$5)*(Prix!$D$2:$Q$2=$E15)*(Prix!$D$5:$Q$54))) -> 0 | J15: =SUMPRODUCT(MAX((Prix!$A$5:$A$54=$D15)*(Prix!$C$5:$C$54<=J$5)*(Prix!$D$2:$Q$2=$E15)*(Prix!$D$5:$Q$54))) -> 0 | K15: =SUMPRODUCT(MAX((Prix!$A$5:$A$54=$D15)*(Prix!$C$5:$C$54<=K$5)*(Prix!$D$2:$Q$2=$E15)*(Prix!$D$5:$Q$54))) -> 0 | L15: =SUMPRODUCT(MAX((Prix!$A$5:$A$54=$D15)*(Prix!$C$5:$C$54<=L$5)*(Prix!$D$2:$Q$2=$E15)*(Prix!$D$5:$Q$54))) -> 0 | M15: =SUMPRODUCT(MAX((Prix!$A$5:$A$54=$D15)*(Prix!$C$5:$C$54<=M$5)*(Prix!$D$2:$Q$2=$E15)*(Prix!$D$5:$Q$54))) -> 0 | N15: =SUMPRODUCT(MAX((Prix!$A$5:$A$54=$D15)*(Prix!$C$5:$C$54<=N$5)*(Prix!$D$2:$Q$2=$E15)*(Prix!$D$5:$Q$54))) -> 0 | ... BC15: =SUMPRODUCT(MAX((Prix!$A$5:$A$54=$D15)*(Prix!$C$5:$C$54<=BC$5)*(Prix!$D$2:$Q$2=$E15)*(Prix!$D$5:$Q$54))) -> 0 | BD15: =SUMPRODUCT(MAX((Prix!$A$5:$A$54=$D15)*(Prix!$C$5:$C$54>BC$5)*(Prix!$D$2:$Q$2=$E15)*(Prix!$D$5:$Q$54))) -> 0
D16: G | E16: 4 | F16: 1 | G16: =SUMPRODUCT(MAX((Prix!$A$5:$A$54=$D16)*(Prix!$C$5:$C$54<=G$5)*(Prix!$D$2:$Q$2=$E16)*(Prix!$D$5:$Q$54))) -> 0 | H16: =SUMPRODUCT(MAX((Prix!$A$5:$A$54=$D16)*(Prix!$C$5:$C$54<=H$5)*(Prix!$D$2:$Q$2=$E16)*(Prix!$D$5:$Q$54))) -> 0 | I16: =SUMPRODUCT(MAX((Prix!$A$5:$A$54=$D16)*(Prix!$C$5:$C$54<=I$5)*(Prix!$D$2:$Q$2=$E16)*(Prix!$D$5:$Q$54))) -> 0 | J16: =SUMPRODUCT(MAX((Prix!$A$5:$A$54=$D16)*(Prix!$C$5:$C$54<=J$5)*(Prix!$D$2:$Q$2=$E16)*(Prix!$D$5:$Q$54))) -> 0 | K16: =SUMPRODUCT(MAX((Prix!$A$5:$A$54=$D16)*(Prix!$C$5:$C$54<=K$5)*(Prix!$D$2:$Q$2=$E16)*(Prix!$D$5:$Q$54))) -> 0 | L16: =SUMPRODUCT(MAX((Prix!$A$5:$A$54=$D16)*(Prix!$C$5:$C$54<=L$5)*(Prix!$D$2:$Q$2=$E16)*(Prix!$D$5:$Q$54))) -> 0 | M16: =SUMPRODUCT(MAX((Prix!$A$5:$A$54=$D16)*(Prix!$C$5:$C$54<=M$5)*(Prix!$D$2:$Q$2=$E16)*(Prix!$D$5:$Q$54))) -> 0 | N16: =SUMPRODUCT(MAX((Prix!$A$5:$A$54=$D16)*(Prix!$C$5:$C$54<=N$5)*(Prix!$D$2:$Q$2=$E16)*(Prix!$D$5:$Q$54))) -> 0 | ... BC16: =SUMPRODUCT(MAX((Prix!$A$5:$A$54=$D16)*(Prix!$C$5:$C$54<=BC$5)*(Prix!$D$2:$Q$2=$E16)*(Prix!$D$5:$Q$54))) -> 0 | BD16: =SUMPRODUCT(MAX((Prix!$A$5:$A$54=$D16)*(Prix!$C$5:$C$54>BC$5)*(Prix!$D$2:$Q$2=$E16)*(Prix!$D$5:$Q$54))) -> 0
D17: K | E17: 3 | F17: 1 | G17: =SUMPRODUCT(MAX((Prix!$A$5:$A$54=$D17)*(Prix!$C$5:$C$54<=G$5)*(Prix!$D$2:$Q$2=$E17)*(Prix!$D$5:$Q$54))) -> 0 | H17: =SUMPRODUCT(MAX((Prix!$A$5:$A$54=$D17)*(Prix!$C$5:$C$54<=H$5)*(Prix!$D$2:$Q$2=$E17)*(Prix!$D$5:$Q$54))) -> 0 | I17: =SUMPRODUCT(MAX((Prix!$A$5:$A$54=$D17)*(Prix!$C$5:$C$54<=I$5)*(Prix!$D$2:$Q$2=$E17)*(Prix!$D$5:$Q$54))) -> 0 | J17: =SUMPRODUCT(MAX((Prix!$A$5:$A$54=$D17)*(Prix!$C$5:$C$54<=J$5)*(Prix!$D$2:$Q$2=$E17)*(Prix!$D$5:$Q$54))) -> 0 | K17: =SUMPRODUCT(MAX((Prix!$A$5:$A$54=$D17)*(Prix!$C$5:$C$54<=K$5)*(Prix!$D$2:$Q$2=$E17)*(Prix!$D$5:$Q$54))) -> 0 | L17: =SUMPRODUCT(MAX((Prix!$A$5:$A$54=$D17)*(Prix!$C$5:$C$54<=L$5)*(Prix!$D$2:$Q$2=$E17)*(Prix!$D$5:$Q$54))) -> 0 | M17: =SUMPRODUCT(MAX((Prix!$A$5:$A$54=$D17)*(Prix!$C$5:$C$54<=M$5)*(Prix!$D$2:$Q$2=$E17)*(Prix!$D$5:$Q$54))) -> 0 | N17: =SUMPRODUCT(MAX((Prix!$A$5:$A$54=$D17)*(Prix!$C$5:$C$54<=N$5)*(Prix!$D$2:$Q$2=$E17)*(Prix!$D$5:$Q$54))) -> 0 | ... BC17: =SUMPRODUCT(MAX((Prix!$A$5:$A$54=$D17)*(Prix!$C$5:$C$54<=BC$5)*(Prix!$D$2:$Q$2=$E17)*(Prix!$D$5:$Q$54))) -> 0 | BD17: =SUMPRODUCT(MAX((Prix!$A$5:$A$54=$D17)*(Prix!$C$5:$C$54>BC$5)*(Prix!$D$2:$Q$2=$E17)*(Prix!$D$5:$Q$54))) -> 0
D18: L | E18: 4 | F18: 1 | G18: =SUMPRODUCT(MAX((Prix!$A$5:$A$54=$D18)*(Prix!$C$5:$C$54<=G$5)*(Prix!$D$2:$Q$2=$E18)*(Prix!$D$5:$Q$54))) -> 0 | H18: =SUMPRODUCT(MAX((Prix!$A$5:$A$54=$D18)*(Prix!$C$5:$C$54<=H$5)*(Prix!$D$2:$Q$2=$E18)*(Prix!$D$5:$Q$54))) -> 0 | I18: =SUMPRODUCT(MAX((Prix!$A$5:$A$54=$D18)*(Prix!$C$5:$C$54<=I$5)*(Prix!$D$2:$Q$2=$E18)*(Prix!$D$5:$Q$54))) -> 0 | J18: =SUMPRODUCT(MAX((Prix!$A$5:$A$54=$D18)*(Prix!$C$5:$C$54<=J$5)*(Prix!$D$2:$Q$2=$E18)*(Prix!$D$5:$Q$54))) -> 0 | K18: =SUMPRODUCT(MAX((Prix!$A$5:$A$54=$D18)*(Prix!$C$5:$C$54<=K$5)*(Prix!$D$2:$Q$2=$E18)*(Prix!$D$5:$Q$54))) -> 0 | L18: =SUMPRODUCT(MAX((Prix!$A$5:$A$54=$D18)*(Prix!$C$5:$C$54<=L$5)*(Prix!$D$2:$Q$2=$E18)*(Prix!$D$5:$Q$54))) -> 0 | M18: =SUMPRODUCT(MAX((Prix!$A$5:$A$54=$D18)*(Prix!$C$5:$C$54<=M$5)*(Prix!$D$2:$Q$2=$E18)*(Prix!$D$5:$Q$54))) -> 0 | N18: =SUMPRODUCT(MAX((Prix!$A$5:$A$54=$D18)*(Prix!$C$5:$C$54<=N$5)*(Prix!$D$2:$Q$2=$E18)*(Prix!$D$5:$Q$54))) -> 0 | ... BC18: =SUMPRODUCT(MAX((Prix!$A$5:$A$54=$D18)*(Prix!$C$5:$C$54<=BC$5)*(Prix!$D$2:$Q$2=$E18)*(Prix!$D$5:$Q$54))) -> 0 | BD18: =SUMPRODUCT(MAX((Prix!$A$5:$A$54=$D18)*(Prix!$C$5:$C$54>BC$5)*(Prix!$D$2:$Q$2=$E18)*(Prix!$D$5:$Q$54))) -> 0
... D22: P | E22: 2 | F22: 1 | G22: =SUMPRODUCT(MAX((Prix!$A$5:$A$54=$D22)*(Prix!$C$5:$C$54<=G$5)*(Prix!$D$2:$Q$2=$E22)*(Prix!$D$5:$Q$54))) -> 0 | H22: =SUMPRODUCT(MAX((Prix!$A$5:$A$54=$D22)*(Prix!$C$5:$C$54<=H$5)*(Prix!$D$2:$Q$2=$E22)*(Prix!$D$5:$Q$54))) -> 0 | I22: =SUMPRODUCT(MAX((Prix!$A$5:$A$54=$D22)*(Prix!$C$5:$C$54<=I$5)*(Prix!$D$2:$Q$2=$E22)*(Prix!$D$5:$Q$54))) -> 0 | J22: =SUMPRODUCT(MAX((Prix!$A$5:$A$54=$D22)*(Prix!$C$5:$C$54<=J$5)*(Prix!$D$2:$Q$2=$E22)*(Prix!$D$5:$Q$54))) -> 0 | K22: =SUMPRODUCT(MAX((Prix!$A$5:$A$54=$D22)*(Prix!$C$5:$C$54<=K$5)*(Prix!$D$2:$Q$2=$E22)*(Prix!$D$5:$Q$54))) -> 0 | L22: =SUMPRODUCT(MAX((Prix!$A$5:$A$54=$D22)*(Prix!$C$5:$C$54<=L$5)*(Prix!$D$2:$Q$2=$E22)*(Prix!$D$5:$Q$54))) -> 0 | M22: =SUMPRODUCT(MAX((Prix!$A$5:$A$54=$D22)*(Prix!$C$5:$C$54<=M$5)*(Prix!$D$2:$Q$2=$E22)*(Prix!$D$5:$Q$54))) -> 0 | N22: =SUMPRODUCT(MAX((Prix!$A$5:$A$54=$D22)*(Prix!$C$5:$C$54<=N$5)*(Prix!$D$2:$Q$2=$E22)*(Prix!$D$5:$Q$54))) -> 0 | ... BC22: =SUMPRODUCT(MAX((Prix!$A$5:$A$54=$D22)*(Prix!$C$5:$C$54<=BC$5)*(Prix!$D$2:$Q$2=$E22)*(Prix!$D$5:$Q$54))) -> 0 | BD22: =SUMPRODUCT(MAX((Prix!$A$5:$A$54=$D22)*(Prix!$C$5:$C$54>BC$5)*(Prix!$D$2:$Q$2=$E22)*(Prix!$D$5:$Q$54))) -> 0

Sheet Feuil3
