Workbook
Name Année_Calendaire: [1]Janvier!$K$2
Name Déc_Dim1: DATE(Année_Calendaire,12,1)-WEEKDAY(DATE(Année_Calendaire,12,1))+1
Name Jours_affectation: [1]Décembre!#REF!

Sheet RDV
A2: DECEMBRE 2015
C6: Contact | D6: Specialty | E6: Date indexée
C7: annie France | D7: gp | E7: 42339
C8: jules cesar | D8: gp | E8: 42339
C9: marie anne | D9: gp | E9: 42340
C10: fançois dupond | D10: gyn | E10: 42341
C11: jacques servier | D11: gyn | E11: 42339
C12: bruno mars | D12: gp | E12: 42341
C13: sara clort | D13: endo | E13: 42712
C14: tulipe | D14: xl | E14: 42345
C15: tulipe | D15: abc1 | E15: 42360
C16: tulipe | D16: abc2 | E16: 42368
C17: tulipe | D17: abc3 | E17: 42369
C18: tulipe | D18: abc4 | E18: 42366
... C21: tulipe | D21: loto2 | E21: 42352

Sheet AGENDA
A2: DECEMBRE 2015
D5: 42339 | E5: 42340 | F5: 42341 | G5: 42342 | H5: 42343 | I5: 42344
D6: {=IFERROR(INDEX(RDV!$C$7:$C$300& " "&RDV!$D$7:$D$300,SMALL(IF(RDV!$E$7:$E$300=D$5,ROW($7:$300)-6),ROW($A1))),"")} -> annie France gp | E6: {=IFERROR(INDEX(RDV!$C$7:$C$300& " "&RDV!$D$7:$D$300,SMALL(IF(RDV!$E$7:$E$300=E$5,ROW($7:$300)-6),ROW($A1))),"")} -> marie anne gp | F6: {=IFERROR(INDEX(RDV!$C$7:$C$300& " "&RDV!$D$7:$D$300,SMALL(IF(RDV!$E$7:$E$300=F$5,ROW($7:$300)-6),ROW($A1))),"")} -> fançois dupond gyn | G6: {=IFERROR(INDEX(RDV!$C$7:$C$300& " "&RDV!$D$7:$D$300,SMALL(IF(RDV!$E$7:$E$300=G$5,ROW($7:$300)-6),ROW($A1))),"")} | H6: {=IFERROR(INDEX(RDV!$C$7:$C$300& " "&RDV!$D$7:$D$300,SMALL(IF(RDV!$E$7:$E$300=H$5,ROW($7:$300)-6),ROW($A1))),"")} | I6: {=IFERROR(INDEX(RDV!$C$7:$C$300& " "&RDV!$D$7:$D$300,SMALL(IF(RDV!$E$7:$E$300=I$5,ROW($7:$300)-6),ROW($A1))),"")}
D7: {=IFERROR(INDEX(RDV!$C$7:$C$300& " "&RDV!$D$7:$D$300,SMALL(IF(RDV!$E$7:$E$300=D$5,ROW($7:$300)-6),ROW($A2))),"")} -> jules cesar gp | E7: {=IFERROR(INDEX(RDV!$C$7:$C$300& " "&RDV!$D$7:$D$300,SMALL(IF(RDV!$E$7:$E$300=E$5,ROW($7:$300)-6),ROW($A2))),"")} | F7: {=IFERROR(INDEX(RDV!$C$7:$C$300& " "&RDV!$D$7:$D$300,SMALL(IF(RDV!$E$7:$E$300=F$5,ROW($7:$300)-6),ROW($A2))),"")} -> bruno mars gp | G7: {=IFERROR(INDEX(RDV!$C$7:$C$300& " "&RDV!$D$7:$D$300,SMALL(IF(RDV!$E$7:$E$300=G$5,ROW($7:$300)-6),ROW($A2))),"")} | H7: {=IFERROR(INDEX(RDV!$C$7:$C$300& " "&RDV!$D$7:$D$300,SMALL(IF(RDV!$E$7:$E$300=H$5,ROW($7:$300)-6),ROW($A2))),"")} | I7: {=IFERROR(INDEX(RDV!$C$7:$C$300& " "&RDV!$D$7:$D$300,SMALL(IF(RDV!$E$7:$E$300=I$5,ROW($7:$300)-6),ROW($A2))),"")}
D8: {=IFERROR(INDEX(RDV!$C$7:$C$300& " "&RDV!$D$7:$D$300,SMALL(IF(RDV!$E$7:$E$300=D$5,ROW($7:$300)-6),ROW($A3))),"")} -> jacques servier gyn | E8: {=IFERROR(INDEX(RDV!$C$7:$C$300& " "&RDV!$D$7:$D$300,SMALL(IF(RDV!$E$7:$E$300=E$5,ROW($7:$300)-6),ROW($A3))),"")} | F8: {=IFERROR(INDEX(RDV!$C$7:$C$300& " "&RDV!$D$7:$D$300,SMALL(IF(RDV!$E$7:$E$300=F$5,ROW($7:$300)-6),ROW($A3))),"")} | G8: {=IFERROR(INDEX(RDV!$C$7:$C$300& " "&RDV!$D$7:$D$300,SMALL(IF(RDV!$E$7:$E$300=G$5,ROW($7:$300)-6),ROW($A3))),"")} | H8: {=IFERROR(INDEX(RDV!$C$7:$C$300& " "&RDV!$D$7:$D$300,SMALL(IF(RDV!$E$7:$E$300=H$5,ROW($7:$300)-6),ROW($A3))),"")} | I8: {=IFERROR(INDEX(RDV!$C$7:$C$300& " "&RDV!$D$7:$D$300,SMALL(IF(RDV!$E$7:$E$300=I$5,ROW($7:$300)-6),ROW($A3))),"")}
D9: {=IFERROR(INDEX(RDV!$C$7:$C$300& " "&RDV!$D$7:$D$300,SMALL(IF(RDV!$E$7:$E$300=D$5,ROW($7:$300)-6),ROW($A4))),"")} | E9: {=IFERROR(INDEX(RDV!$C$7:$C$300& " "&RDV!$D$7:$D$300,SMALL(IF(RDV!$E$7:$E$300=E$5,ROW($7:$300)-6),ROW($A4))),"")} | F9: {=IFERROR(INDEX(RDV!$C$7:$C$300& " "&RDV!$D$7:$D$300,SMALL(IF(RDV!$E$7:$E$300=F$5,ROW($7:$300)-6),ROW($A4))),"")} | G9: {=IFERROR(INDEX(RDV!$C$7:$C$300& " "&RDV!$D$7:$D$300,SMALL(IF(RDV!$E$7:$E$300=G$5,ROW($7:$300)-6),ROW($A4))),"")} | H9: {=IFERROR(INDEX(RDV!$C$7:$C$300& " "&RDV!$D$7:$D$300,SMALL(IF(RDV!$E$7:$E$300=H$5,ROW($7:$300)-6),ROW($A4))),"")} | I9: {=IFERROR(INDEX(RDV!$C$7:$C$300& " "&RDV!$D$7:$D$300,SMALL(IF(RDV!$E$7:$E$300=I$5,ROW($7:$300)-6),ROW($A4))),"")}
D10: {=IFERROR(INDEX(RDV!$C$7:$C$300& " "&RDV!$D$7:$D$300,SMALL(IF(RDV!$E$7:$E$300=D$5,ROW($7:$300)-6),ROW($A5))),"")} | E10: {=IFERROR(INDEX(RDV!$C$7:$C$300& " "&RDV!$D$7:$D$300,SMALL(IF(RDV!$E$7:$E$300=E$5,ROW($7:$300)-6),ROW($A5))),"")} | F10: {=IFERROR(INDEX(RDV!$C$7:$C$300& " "&RDV!$D$7:$D$300,SMALL(IF(RDV!$E$7:$E$300=F$5,ROW($7:$300)-6),ROW($A5))),"")} | G10: {=IFERROR(INDEX(RDV!$C$7:$C$300& " "&RDV!$D$7:$D$300,SMALL(IF(RDV!$E$7:$E$300=G$5,ROW($7:$300)-6),ROW($A5))),"")} | H10: {=IFERROR(INDEX(RDV!$C$7:$C$300& " "&RDV!$D$7:$D$300,SMALL(IF(RDV!$E$7:$E$300=H$5,ROW($7:$300)-6),ROW($A5))),"")} | I10: {=IFERROR(INDEX(RDV!$C$7:$C$300& " "&RDV!$D$7:$D$300,SMALL(IF(RDV!$E$7:$E$300=I$5,ROW($7:$300)-6),ROW($A5))),"")}
D11: {=IFERROR(INDEX(RDV!$C$7:$C$300& " "&RDV!$D$7:$D$300,SMALL(IF(RDV!$E$7:$E$300=D$5,ROW($7:$300)-6),ROW($A6))),"")} | E11: {=IFERROR(INDEX(RDV!$C$7:$C$300& " "&RDV!$D$7:$D$300,SMALL(IF(RDV!$E$7:$E$300=E$5,ROW($7:$300)-6),ROW($A6))),"")} | F11: {=IFERROR(INDEX(RDV!$C$7:$C$300& " "&RDV!$D$7:$D$300,SMALL(IF(RDV!$E$7:$E$300=F$5,ROW($7:$300)-6),ROW($A6))),"")} | G11: {=IFERROR(INDEX(RDV!$C$7:$C$300& " "&RDV!$D$7:$D$300,SMALL(IF(RDV!$E$7:$E$300=G$5,ROW($7:$300)-6),ROW($A6))),"")} | H11: {=IFERROR(INDEX(RDV!$C$7:$C$300& " "&RDV!$D$7:$D$300,SMALL(IF(RDV!$E$7:$E$300=H$5,ROW($7:$300)-6),ROW($A6))),"")} | I11: {=IFERROR(INDEX(RDV!$C$7:$C$300& " "&RDV!$D$7:$D$300,SMALL(IF(RDV!$E$7:$E$300=I$5,ROW($7:$300)-6),ROW($A6))),"")}
D12: {=IFERROR(INDEX(RDV!$C$7:$C$300& " "&RDV!$D$7:$D$300,SMALL(IF(RDV!$E$7:$E$300=D$5,ROW($7:$300)-6),ROW($A7))),"")} | E12: {=IFERROR(INDEX(RDV!$C$7:$C$300& " "&RDV!$D$7:$D$300,SMALL(IF(RDV!$E$7:$E$300=E$5,ROW($7:$300)-6),ROW($A7))),"")} | F12: {=IFERROR(INDEX(RDV!$C$7:$C$300& " "&RDV!$D$7:$D$300,SMALL(IF(RDV!$E$7:$E$300=F$5,ROW($7:$300)-6),ROW($A7))),"")} | G12: {=IFERROR(INDEX(RDV!$C$7:$C$300& " "&RDV!$D$7:$D$300,SMALL(IF(RDV!$E$7:$E$300=G$5,ROW($7:$300)-6),ROW($A7))),"")} | H12: {=IFERROR(INDEX(RDV!$C$7:$C$300& " "&RDV!$D$7:$D$300,SMALL(IF(RDV!$E$7:$E$300=H$5,ROW($7:$300)-6),ROW($A7))),"")} | I12: {=IFERROR(INDEX(RDV!$C$7:$C$300& " "&RDV!$D$7:$D$300,SMALL(IF(RDV!$E$7:$E$300=I$5,ROW($7:$300)-6),ROW($A7))),"")}
D13: {=IFERROR(INDEX(RDV!$C$7:$C$300& " "&RDV!$D$7:$D$300,SMALL(IF(RDV!$E$7:$E$300=D$5,ROW($7:$300)-6),ROW($A8))),"")} | E13: {=IFERROR(INDEX(RDV!$C$7:$C$300& " "&RDV!$D$7:$D$300,SMALL(IF(RDV!$E$7:$E$300=E$5,ROW($7:$300)-6),ROW($A8))),"")} | F13: {=IFERROR(INDEX(RDV!$C$7:$C$300& " "&RDV!$D$7:$D$300,SMALL(IF(RDV!$E$7:$E$300=F$5,ROW($7:$300)-6),ROW($A8))),"")} | G13: {=IFERROR(INDEX(RDV!$C$7:$C$300& " "&RDV!$D$7:$D$300,SMALL(IF(RDV!$E$7:$E$300=G$5,ROW($7:$300)-6),ROW($A8))),"")} | H13: {=IFERROR(INDEX(RDV!$C$7:$C$300& " "&RDV!$D$7:$D$300,SMALL(IF(RDV!$E$7:$E$300=H$5,ROW($7:$300)-6),ROW($A8))),"")} | I13: {=IFERROR(INDEX(RDV!$C$7:$C$300& " "&RDV!$D$7:$D$300,SMALL(IF(RDV!$E$7:$E$300=I$5,ROW($7:$300)-6),ROW($A8))),"")}
D14: {=IFERROR(INDEX(RDV!$C$7:$C$300& " "&RDV!$D$7:$D$300,SMALL(IF(RDV!$E$7:$E$300=D$5,ROW($7:$300)-6),ROW($A9))),"")} | E14: {=IFERROR(INDEX(RDV!$C$7:$C$300& " "&RDV!$D$7:$D$300,SMALL(IF(RDV!$E$7:$E$300=E$5,ROW($7:$300)-6),ROW($A9))),"")} | F14: {=IFERROR(INDEX(RDV!$C$7:$C$300& " "&RDV!$D$7:$D$300,SMALL(IF(RDV!$E$7:$E$300=F$5,ROW($7:$300)-6),ROW($A9))),"")} | G14: {=IFERROR(INDEX(RDV!$C$7:$C$300& " "&RDV!$D$7:$D$300,SMALL(IF(RDV!$E$7:$E$300=G$5,ROW($7:$300)-6),ROW($A9))),"")} | H14: {=IFERROR(INDEX(RDV!$C$7:$C$300& " "&RDV!$D$7:$D$300,SMALL(IF(RDV!$E$7:$E$300=H$5,ROW($7:$300)-6),ROW($A9))),"")} | I14: {=IFERROR(INDEX(RDV!$C$7:$C$300& " "&RDV!$D$7:$D$300,SMALL(IF(RDV!$E$7:$E$300=I$5,ROW($7:$300)-6),ROW($A9))),"")}
D15: {=IFERROR(INDEX(RDV!$C$7:$C$300& " "&RDV!$D$7:$D$300,SMALL(IF(RDV!$E$7:$E$300=D$5,ROW($7:$300)-6),ROW($A10))),"")} | E15: {=IFERROR(INDEX(RDV!$C$7:$C$300& " "&RDV!$D$7:$D$300,SMALL(IF(RDV!$E$7:$E$300=E$5,ROW($7:$300)-6),ROW($A10))),"")} | F15: {=IFERROR(INDEX(RDV!$C$7:$C$300& " "&RDV!$D$7:$D$300,SMALL(IF(RDV!$E$7:$E$300=F$5,ROW($7:$300)-6),ROW($A10))),"")} | G15: {=IFERROR(INDEX(RDV!$C$7:$C$300& " "&RDV!$D$7:$D$300,SMALL(IF(RDV!$E$7:$E$300=G$5,ROW($7:$300)-6),ROW($A10))),"")} | H15: {=IFERROR(INDEX(RDV!$C$7:$C$300& " "&RDV!$D$7:$D$300,SMALL(IF(RDV!$E$7:$E$300=H$5,ROW($7:$300)-6),ROW($A10))),"")} | I15: {=IFERROR(INDEX(RDV!$C$7:$C$300& " "&RDV!$D$7:$D$300,SMALL(IF(RDV!$E$7:$E$300=I$5,ROW($7:$300)-6),ROW($A10))),"")}
D16: {=IFERROR(INDEX(RDV!$C$7:$C$300& " "&RDV!$D$7:$D$300,SMALL(IF(RDV!$E$7:$E$300=D$5,ROW($7:$300)-6),ROW($A11))),"")} | E16: {=IFERROR(INDEX(RDV!$C$7:$C$300& " "&RDV!$D$7:$D$300,SMALL(IF(RDV!$E$7:$E$300=E$5,ROW($7:$300)-6),ROW($A11))),"")} | F16: {=IFERROR(INDEX(RDV!$C$7:$C$300& " "&RDV!$D$7:$D$300,SMALL(IF(RDV!$E$7:$E$300=F$5,ROW($7:$300)-6),ROW($A11))),"")} | G16: {=IFERROR(INDEX(RDV!$C$7:$C$300& " "&RDV!$D$7:$D$300,SMALL(IF(RDV!$E$7:$E$300=G$5,ROW($7:$300)-6),ROW($A11))),"")} | H16: {=IFERROR(INDEX(RDV!$C$7:$C$300& " "&RDV!$D$7:$D$300,SMALL(IF(RDV!$E$7:$E$300=H$5,ROW($7:$300)-6),ROW($A11))),"")} | I16: {=IFERROR(INDEX(RDV!$C$7:$C$300& " "&RDV!$D$7:$D$300,SMALL(IF(RDV!$E$7:$E$300=I$5,ROW($7:$300)-6),ROW($A11))),"")}
D17: {=IFERROR(INDEX(RDV!$C$7:$C$300& " "&RDV!$D$7:$D$300,SMALL(IF(RDV!$E$7:$E$300=D$5,ROW($7:$300)-6),ROW($A12))),"")} | E17: {=IFERROR(INDEX(RDV!$C$7:$C$300& " "&RDV!$D$7:$D$300,SMALL(IF(RDV!$E$7:$E$300=E$5,ROW($7:$300)-6),ROW($A12))),"")} | F17: {=IFERROR(INDEX(RDV!$C$7:$C$300& " "&RDV!$D$7:$D$300,SMALL(IF(RDV!$E$7:$E$300=F$5,ROW($7:$300)-6),ROW($A12))),"")} | G17: {=IFERROR(INDEX(RDV!$C$7:$C$300& " "&RDV!$D$7:$D$300,SMALL(IF(RDV!$E$7:$E$300=G$5,ROW($7:$300)-6),ROW($A12))),"")} | H17: {=IFERROR(INDEX(RDV!$C$7:$C$300& " "&RDV!$D$7:$D$300,SMALL(IF(RDV!$E$7:$E$300=H$5,ROW($7:$300)-6),ROW($A12))),"")} | I17: {=IFERROR(INDEX(RDV!$C$7:$C$300& " "&RDV!$D$7:$D$300,SMALL(IF(RDV!$E$7:$E$300=I$5,ROW($7:$300)-6),ROW($A12))),"")}
... D29: {=IFERROR(INDEX(RDV!$C$7:$C$300& " "&RDV!$D$7:$D$300,SMALL(IF(RDV!$E$7:$E$300=D$5,ROW($7:$300)-6),ROW($A24))),"")} | E29: {=IFERROR(INDEX(RDV!$C$7:$C$300& " "&RDV!$D$7:$D$300,SMALL(IF(RDV!$E$7:$E$300=E$5,ROW($7:$300)-6),ROW($A24))),"")} | F29: {=IFERROR(INDEX(RDV!$C$7:$C$300& " "&RDV!$D$7:$D$300,SMALL(IF(RDV!$E$7:$E$300=F$5,ROW($7:$300)-6),ROW($A24))),"")} | G29: {=IFERROR(INDEX(RDV!$C$7:$C$300& " "&RDV!$D$7:$D$300,SMALL(IF(RDV!$E$7:$E$300=G$5,ROW($7:$300)-6),ROW($A24))),"")} | H29: {=IFERROR(INDEX(RDV!$C$7:$C$300& " "&RDV!$D$7:$D$300,SMALL(IF(RDV!$E$7:$E$300=H$5,ROW($7:$300)-6),ROW($A24))),"")} | I29: {=IFERROR(INDEX(RDV!$C$7:$C$300& " "&RDV!$D$7:$D$300,SMALL(IF(RDV!$E$7:$E$300=I$5,ROW($7:$300)-6),ROW($A24))),"")}
C30: 42345 | D30: 42346 | E30: 42347 | F30: 42348 | G30: 42349 | H30: 42350 | I30: 42351
C31: {=IFERROR(INDEX(RDV!$C$7:$C$300& " "&RDV!$D$7:$D$300,SMALL(IF(RDV!$E$7:$E$300=C$30,ROW($7:$300)-6),ROW($A1))),"")} -> tulipe xl | D31: {=IFERROR(INDEX(RDV!$C$7:$C$300& " "&RDV!$D$7:$D$300,SMALL(IF(RDV!$E$7:$E$300=D$30,ROW($7:$300)-6),ROW($A1))),"")} | E31: {=IFERROR(INDEX(RDV!$C$7:$C$300& " "&RDV!$D$7:$D$300,SMALL(IF(RDV!$E$7:$E$300=E$30,ROW($7:$300)-6),ROW($A1))),"")} | F31: {=IFERROR(INDEX(RDV!$C$7:$C$300& " "&RDV!$D$7:$D$300,SMALL(IF(RDV!$E$7:$E$300=F$30,ROW($7:$300)-6),ROW($A1))),"")} | G31: {=IFERROR(INDEX(RDV!$C$7:$C$300& " "&RDV!$D$7:$D$300,SMALL(IF(RDV!$E$7:$E$300=G$30,ROW($7:$300)-6),ROW($A1))),"")} | H31: {=IFERROR(INDEX(RDV!$C$7:$C$300& " "&RDV!$D$7:$D$300,SMALL(IF(RDV!$E$7:$E$300=H$30,ROW($7:$300)-6),ROW($A1))),"")} | I31: {=IFERROR(INDEX(RDV!$C$7:$C$300& " "&RDV!$D$7:$D$300,SMALL(IF(RDV!$E$7:$E$300=I$30,ROW($7:$300)-6),ROW($A1))),"")} -> tulipe loto1
C32: {=IFERROR(INDEX(RDV!$C$7:$C$300& " "&RDV!$D$7:$D$300,SMALL(IF(RDV!$E$7:$E$300=C$30,ROW($7:$300)-6),ROW($A2))),"")} | D32: {=IFERROR(INDEX(RDV!$C$7:$C$300& " "&RDV!$D$7:$D$300,SMALL(IF(RDV!$E$7:$E$300=D$30,ROW($7:$300)-6),ROW($A2))),"")} | E32: {=IFERROR(INDEX(RDV!$C$7:$C$300& " "&RDV!$D$7:$D$300,SMALL(IF(RDV!$E$7:$E$300=E$30,ROW($7:$300)-6),ROW($A2))),"")} | F32: {=IFERROR(INDEX(RDV!$C$7:$C$300& " "&RDV!$D$7:$D$300,SMALL(IF(RDV!$E$7:$E$300=F$30,ROW($7:$300)-6),ROW($A2))),"")} | G32: {=IFERROR(INDEX(RDV!$C$7:$C$300& " "&RDV!$D$7:$D$300,SMALL(IF(RDV!$E$7:$E$300=G$30,ROW($7:$300)-6),ROW($A2))),"")} | H32: {=IFERROR(INDEX(RDV!$C$7:$C$300& " "&RDV!$D$7:$D$300,SMALL(IF(RDV!$E$7:$E$300=H$30,ROW($7:$300)-6),ROW($A2))),"")} | I32: {=IFERROR(INDEX(RDV!$C$7:$C$300& " "&RDV!$D$7:$D$300,SMALL(IF(RDV!$E$7:$E$300=I$30,ROW($7:$300)-6),ROW($A2))),"")}
C33: {=IFERROR(INDEX(RDV!$C$7:$C$300& " "&RDV!$D$7:$D$300,SMALL(IF(RDV!$E$7:$E$300=C$30,ROW($7:$300)-6),ROW($A3))),"")} | D33: {=IFERROR(INDEX(RDV!$C$7:$C$300& " "&RDV!$D$7:$D$300,SMALL(IF(RDV!$E$7:$E$300=D$30,ROW($7:$300)-6),ROW($A3))),"")} | E33: {=IFERROR(INDEX(RDV!$C$7:$C$300& " "&RDV!$D$7:$D$300,SMALL(IF(RDV!$E$7:$E$300=E$30,ROW($7:$300)-6),ROW($A3))),"")} | F33: {=IFERROR(INDEX(RDV!$C$7:$C$300& " "&RDV!$D$7:$D$300,SMALL(IF(RDV!$E$7:$E$300=F$30,ROW($7:$300)-6),ROW($A3))),"")} | G33: {=IFERROR(INDEX(RDV!$C$7:$C$300& " "&RDV!$D$7:$D$300,SMALL(IF(RDV!$E$7:$E$300=G$30,ROW($7:$300)-6),ROW($A3))),"")} | H33: {=IFERROR(INDEX(RDV!$C$7:$C$300& " "&RDV!$D$7:$D$300,SMALL(IF(RDV!$E$7:$E$300=H$30,ROW($7:$300)-6),ROW($A3))),"")} | I33: {=IFERROR(INDEX(RDV!$C$7:$C$300& " "&RDV!$D$7:$D$300,SMALL(IF(RDV!$E$7:$E$300=I$30,ROW($7:$300)-6),ROW($A3))),"")}
C34: {=IFERROR(INDEX(RDV!$C$7:$C$300& " "&RDV!$D$7:$D$300,SMALL(IF(RDV!$E$7:$E$300=C$30,ROW($7:$300)-6),ROW($A4))),"")} | D34: {=IFERROR(INDEX(RDV!$C$7:$C$300& " "&RDV!$D$7:$D$300,SMALL(IF(RDV!$E$7:$E$300=D$30,ROW($7:$300)-6),ROW($A4))),"")} | E34: {=IFERROR(INDEX(RDV!$C$7:$C$300& " "&RDV!$D$7:$D$300,SMALL(IF(RDV!$E$7:$E$300=E$30,ROW($7:$300)-6),ROW($A4))),"")} | F34: {=IFERROR(INDEX(RDV!$C$7:$C$300& " "&RDV!$D$7:$D$300,SMALL(IF(RDV!$E$7:$E$300=F$30,ROW($7:$300)-6),ROW($A4))),"")} | G34: {=IFERROR(INDEX(RDV!$C$7:$C$300& " "&RDV!$D$7:$D$300,SMALL(IF(RDV!$E$7:$E$300=G$30,ROW($7:$300)-6),ROW($A4))),"")} | H34: {=IFERROR(INDEX(RDV!$C$7:$C$300& " "&RDV!$D$7:$D$300,SMALL(IF(RDV!$E$7:$E$300=H$30,ROW($7:$300)-6),ROW($A4))),"")} | I34: {=IFERROR(INDEX(RDV!$C$7:$C$300& " "&RDV!$D$7:$D$300,SMALL(IF(RDV!$E$7:$E$300=I$30,ROW($7:$300)-6),ROW($A4))),"")}
C35: {=IFERROR(INDEX(RDV!$C$7:$C$300& " "&RDV!$D$7:$D$300,SMALL(IF(RDV!$E$7:$E$300=C$30,ROW($7:$300)-6),ROW($A5))),"")} | D35: {=IFERROR(INDEX(RDV!$C$7:$C$300& " "&RDV!$D$7:$D$300,SMALL(IF(RDV!$E$7:$E$300=D$30,ROW($7:$300)-6),ROW($A5))),"")} | E35: {=IFERROR(INDEX(RDV!$C$7:$C$300& " "&RDV!$D$7:$D$300,SMALL(IF(RDV!$E$7:$E$300=E$30,ROW($7:$300)-6),ROW($A5))),"")} | F35: {=IFERROR(INDEX(RDV!$C$7:$C$300& " "&RDV!$D$7:$D$300,SMALL(IF(RDV!$E$7:$E$300=F$30,ROW($7:$300)-6),ROW($A5))),"")} | G35: {=IFERROR(INDEX(RDV!$C$7:$C$300& " "&RDV!$D$7:$D$300,SMALL(IF(RDV!$E$7:$E$300=G$30,ROW($7:$300)-6),ROW($A5))),"")} | H35: {=IFERROR(INDEX(RDV!$C$7:$C$300& " "&RDV!$D$7:$D$300,SMALL(IF(RDV!$E$7:$E$300=H$30,ROW($7:$300)-6),ROW($A5))),"")} | I35: {=IFERROR(INDEX(RDV!$C$7:$C$300& " "&RDV!$D$7:$D$300,SMALL(IF(RDV!$E$7:$E$300=I$30,ROW($7:$300)-6),ROW($A5))),"")}
C36: {=IFERROR(INDEX(RDV!$C$7:$C$300& " "&RDV!$D$7:$D$300,SMALL(IF(RDV!$E$7:$E$300=C$30,ROW($7:$300)-6),ROW($A6))),"")} | D36: {=IFERROR(INDEX(RDV!$C$7:$C$300& " "&RDV!$D$7:$D$300,SMALL(IF(RDV!$E$7:$E$300=D$30,ROW($7:$300)-6),ROW($A6))),"")} | E36: {=IFERROR(INDEX(RDV!$C$7:$C$300& " "&RDV!$D$7:$D$300,SMALL(IF(RDV!$E$7:$E$300=E$30,ROW($7:$300)-6),ROW($A6))),"")} | F36: {=IFERROR(INDEX(RDV!$C$7:$C$300& " "&RDV!$D$7:$D$300,SMALL(IF(RDV!$E$7:$E$300=F$30,ROW($7:$300)-6),ROW($A6))),"")} | G36: {=IFERROR(INDEX(RDV!$C$7:$C$300& " "&RDV!$D$7:$D$300,SMALL(IF(RDV!$E$7:$E$300=G$30,ROW($7:$300)-6),ROW($A6))),"")} | H36: {=IFERROR(INDEX(RDV!$C$7:$C$300& " "&RDV!$D$7:$D$300,SMALL(IF(RDV!$E$7:$E$300=H$30,ROW($7:$300)-6),ROW($A6))),"")} | I36: {=IFERROR(INDEX(RDV!$C$7:$C$300& " "&RDV!$D$7:$D$300,SMALL(IF(RDV!$E$7:$E$300=I$30,ROW($7:$300)-6),ROW($A6))),"")}
C37: {=IFERROR(INDEX(RDV!$C$7:$C$300& " "&RDV!$D$7:$D$300,SMALL(IF(RDV!$E$7:$E$300=C$30,ROW($7:$300)-6),ROW($A7))),"")} | D37: {=IFERROR(INDEX(RDV!$C$7:$C$300& " "&RDV!$D$7:$D$300,SMALL(IF(RDV!$E$7:$E$300=D$30,ROW($7:$300)-6),ROW($A7))),"")} | E37: {=IFERROR(INDEX(RDV!$C$7:$C$300& " "&RDV!$D$7:$D$300,SMALL(IF(RDV!$E$7:$E$300=E$30,ROW($7:$300)-6),ROW($A7))),"")} | F37: {=IFERROR(INDEX(RDV!$C$7:$C$300& " "&RDV!$D$7:$D$300,SMALL(IF(RDV!$E$7:$E$300=F$30,ROW($7:$300)-6),ROW($A7))),"")} | G37: {=IFERROR(INDEX(RDV!$C$7:$C$300& " "&RDV!$D$7:$D$300,SMALL(IF(RDV!$E$7:$E$300=G$30,ROW($7:$300)-6),ROW($A7))),"")} | H37: {=IFERROR(INDEX(RDV!$C$7:$C$300& " "&RDV!$D$7:$D$300,SMALL(IF(RDV!$E$7:$E$300=H$30,ROW($7:$300)-6),ROW($A7))),"")} | I37: {=IFERROR(INDEX(RDV!$C$7:$C$300& " "&RDV!$D$7:$D$300,SMALL(IF(RDV!$E$7:$E$300=I$30,ROW($7:$300)-6),ROW($A7))),"")}
C38: {=IFERROR(INDEX(RDV!$C$7:$C$300& " "&RDV!$D$7:$D$300,SMALL(IF(RDV!$E$7:$E$300=C$30,ROW($7:$300)-6),ROW($A8))),"")} | D38: {=IFERROR(INDEX(RDV!$C$7:$C$300& " "&RDV!$D$7:$D$300,SMALL(IF(RDV!$E$7:$E$300=D$30,ROW($7:$300)-6),ROW($A8))),"")} | E38: {=IFERROR(INDEX(RDV!$C$7:$C$300& " "&RDV!$D$7:$D$300,SMALL(IF(RDV!$E$7:$E$300=E$30,ROW($7:$300)-6),ROW($A8))),"")} | F38: {=IFERROR(INDEX(RDV!$C$7:$C$300& " "&RDV!$D$7:$D$300,SMALL(IF(RDV!$E$7:$E$300=F$30,ROW($7:$300)-6),ROW($A8))),"")} | G38: {=IFERROR(INDEX(RDV!$C$7:$C$300& " "&RDV!$D$7:$D$300,SMALL(IF(RDV!$E$7:$E$300=G$30,ROW($7:$300)-6),ROW($A8))),"")} | H38: {=IFERROR(INDEX(RDV!$C$7:$C$300& " "&RDV!$D$7:$D$300,SMALL(IF(RDV!$E$7:$E$300=H$30,ROW($7:$300)-6),ROW($A8))),"")} | I38: {=IFERROR(INDEX(RDV!$C$7:$C$300& " "&RDV!$D$7:$D$300,SMALL(IF(RDV!$E$7:$E$300=I$30,ROW($7:$300)-6),ROW($A8))),"")}
C39: {=IFERROR(INDEX(RDV!$C$7:$C$300& " "&RDV!$D$7:$D$300,SMALL(IF(RDV!$E$7:$E$300=C$30,ROW($7:$300)-6),ROW($A9))),"")} | D39: {=IFERROR(INDEX(RDV!$C$7:$C$300& " "&RDV!$D$7:$D$300,SMALL(IF(RDV!$E$7:$E$300=D$30,ROW($7:$300)-6),ROW($A9))),"")} | E39: {=IFERROR(INDEX(RDV!$C$7:$C$300& " "&RDV!$D$7:$D$300,SMALL(IF(RDV!$E$7:$E$300=E$30,ROW($7:$300)-6),ROW($A9))),"")} | F39: {=IFERROR(INDEX(RDV!$C$7:$C$300& " "&RDV!$D$7:$D$300,SMALL(IF(RDV!$E$7:$E$300=F$30,ROW($7:$300)-6),ROW($A9))),"")} | G39: {=IFERROR(INDEX(RDV!$C$7:$C$300& " "&RDV!$D$7:$D$300,SMALL(IF(RDV!$E$7:$E$300=G$30,ROW($7:$300)-6),ROW($A9))),"")} | H39: {=IFERROR(INDEX(RDV!$C$7:$C$300& " "&RDV!$D$7:$D$300,SMALL(IF(RDV!$E$7:$E$300=H$30,ROW($7:$300)-6),ROW($A9))),"")} | I39: {=IFERROR(INDEX(RDV!$C$7:$C$300& " "&RDV!$D$7:$D$300,SMALL(IF(RDV!$E$7:$E$300=I$30,ROW($7:$300)-6),ROW($A9))),"")}
C40: {=IFERROR(INDEX(RDV!$C$7:$C$300& " "&RDV!$D$7:$D$300,SMALL(IF(RDV!$E$7:$E$300=C$30,ROW($7:$300)-6),ROW($A10))),"")} | D40: {=IFERROR(INDEX(RDV!$C$7:$C$300& " "&RDV!$D$7:$D$300,SMALL(IF(RDV!$E$7:$E$300=D$30,ROW($7:$300)-6),ROW($A10))),"")} | E40: {=IFERROR(INDEX(RDV!$C$7:$C$300& " "&RDV!$D$7:$D$300,SMALL(IF(RDV!$E$7:$E$300=E$30,ROW($7:$300)-6),ROW($A10))),"")} | F40: {=IFERROR(INDEX(RDV!$C$7:$C$300& " "&RDV!$D$7:$D$300,SMALL(IF(RDV!$E$7:$E$300=F$30,ROW($7:$300)-6),ROW($A10))),"")} | G40: {=IFERROR(INDEX(RDV!$C$7:$C$300& " "&RDV!$D$7:$D$300,SMALL(IF(RDV!$E$7:$E$300=G$30,ROW($7:$300)-6),ROW($A10))),"")} | H40: {=IFERROR(INDEX(RDV!$C$7:$C$300& " "&RDV!$D$7:$D$300,SMALL(IF(RDV!$E$7:$E$300=H$30,ROW($7:$300)-6),ROW($A10))),"")} | I40: {=IFERROR(INDEX(RDV!$C$7:$C$300& " "&RDV!$D$7:$D$300,SMALL(IF(RDV!$E$7:$E$300=I$30,ROW($7:$300)-6),ROW($A10))),"")}
C41: {=IFERROR(INDEX(RDV!$C$7:$C$300& " "&RDV!$D$7:$D$300,SMALL(IF(RDV!$E$7:$E$300=C$30,ROW($7:$300)-6),ROW($A11))),"")} | D41: {=IFERROR(INDEX(RDV!$C$7:$C$300& " "&RDV!$D$7:$D$300,SMALL(IF(RDV!$E$7:$E$300=D$30,ROW($7:$300)-6),ROW($A11))),"")} | E41: {=IFERROR(INDEX(RDV!$C$7:$C$300& " "&RDV!$D$7:$D$300,SMALL(IF(RDV!$E$7:$E$300=E$30,ROW($7:$300)-6),ROW($A11))),"")} | F41: {=IFERROR(INDEX(RDV!$C$7:$C$300& " "&RDV!$D$7:$D$300,SMALL(IF(RDV!$E$7:$E$300=F$30,ROW($7:$300)-6),ROW($A11))),"")} | G41: {=IFERROR(INDEX(RDV!$C$7:$C$300& " "&RDV!$D$7:$D$300,SMALL(IF(RDV!$E$7:$E$300=G$30,ROW($7:$300)-6),ROW($A11))),"")} | H41: {=IFERROR(INDEX(RDV!$C$7:$C$300& " "&RDV!$D$7:$D$300,SMALL(IF(RDV!$E$7:$E$300=H$30,ROW($7:$300)-6),ROW($A11))),"")} | I41: {=IFERROR(INDEX(RDV!$C$7:$C$300& " "&RDV!$D$7:$D$300,SMALL(IF(RDV!$E$7:$E$300=I$30,ROW($7:$300)-6),ROW($A11))),"")}
C42: {=IFERROR(INDEX(RDV!$C$7:$C$300& " "&RDV!$D$7:$D$300,SMALL(IF(RDV!$E$7:$E$300=C$30,ROW($7:$300)-6),ROW($A12))),"")} | D42: {=IFERROR(INDEX(RDV!$C$7:$C$300& " "&RDV!$D$7:$D$300,SMALL(IF(RDV!$E$7:$E$300=D$30,ROW($7:$300)-6),ROW($A12))),"")} | E42: {=IFERROR(INDEX(RDV!$C$7:$C$300& " "&RDV!$D$7:$D$300,SMALL(IF(RDV!$E$7:$E$300=E$30,ROW($7:$300)-6),ROW($A12))),"")} | F42: {=IFERROR(INDEX(RDV!$C$7:$C$300& " "&RDV!$D$7:$D$300,SMALL(IF(RDV!$E$7:$E$300=F$30,ROW($7:$300)-6),ROW($A12))),"")} | G42: {=IFERROR(INDEX(RDV!$C$7:$C$300& " "&RDV!$D$7:$D$300,SMALL(IF(RDV!$E$7:$E$300=G$30,ROW($7:$300)-6),ROW($A12))),"")} | H42: {=IFERROR(INDEX(RDV!$C$7:$C$300& " "&RDV!$D$7:$D$300,SMALL(IF(RDV!$E$7:$E$300=H$30,ROW($7:$300)-6),ROW($A12))),"")} | I42: {=IFERROR(INDEX(RDV!$C$7:$C$300& " "&RDV!$D$7:$D$300,SMALL(IF(RDV!$E$7:$E$300=I$30,ROW($7:$300)-6),ROW($A12))),"")}
... C55: {=IFERROR(INDEX(RDV!$C$7:$C$300& " "&RDV!$D$7:$D$300,SMALL(IF(RDV!$E$7:$E$300=C$30,ROW($7:$300)-6),ROW($A25))),"")} | D55: {=IFERROR(INDEX(RDV!$C$7:$C$300& " "&RDV!$D$7:$D$300,SMALL(IF(RDV!$E$7:$E$300=D$30,ROW($7:$300)-6),ROW($A25))),"")} | E55: {=IFERROR(INDEX(RDV!$C$7:$C$300& " "&RDV!$D$7:$D$300,SMALL(IF(RDV!$E$7:$E$300=E$30,ROW($7:$300)-6),ROW($A25))),"")} | F55: {=IFERROR(INDEX(RDV!$C$7:$C$300& " "&RDV!$D$7:$D$300,SMALL(IF(RDV!$E$7:$E$300=F$30,ROW($7:$300)-6),ROW($A25))),"")} | G55: {=IFERROR(INDEX(RDV!$C$7:$C$300& " "&RDV!$D$7:$D$300,SMALL(IF(RDV!$E$7:$E$300=G$30,ROW($7:$300)-6),ROW($A25))),"")} | H55: {=IFERROR(INDEX(RDV!$C$7:$C$300& " "&RDV!$D$7:$D$300,SMALL(IF(RDV!$E$7:$E$300=H$30,ROW($7:$300)-6),ROW($A25))),"")} | I55: {=IFERROR(INDEX(RDV!$C$7:$C$300& " "&RDV!$D$7:$D$300,SMALL(IF(RDV!$E$7:$E$300=I$30,ROW($7:$300)-6),ROW($A25))),"")}
C56: 42352 | D56: 42353 | E56: 42354 | F56: 42355 | G56: 42356 | H56: 42357 | I56: 42358
C57: {=IFERROR(INDEX(RDV!$C$7:$C$300& " "&RDV!$D$7:$D$300,SMALL(IF(RDV!$E$7:$E$300=C$56,ROW($7:$300)-6),ROW($A1))),"")} -> tulipe xxl | D57: {=IFERROR(INDEX(RDV!$C$7:$C$300& " "&RDV!$D$7:$D$300,SMALL(IF(RDV!$E$7:$E$300=D$56,ROW($7:$300)-6),ROW($A1))),"")} | E57: {=IFERROR(INDEX(RDV!$C$7:$C$300& " "&RDV!$D$7:$D$300,SMALL(IF(RDV!$E$7:$E$300=E$56,ROW($7:$300)-6),ROW($A1))),"")} | F57: {=IFERROR(INDEX(RDV!$C$7:$C$300& " "&RDV!$D$7:$D$300,SMALL(IF(RDV!$E$7:$E$300=F$56,ROW($7:$300)-6),ROW($A1))),"")} | G57: {=IFERROR(INDEX(RDV!$C$7:$C$300& " "&RDV!$D$7:$D$300,SMALL(IF(RDV!$E$7:$E$300=G$56,ROW($7:$300)-6),ROW($A1))),"")} | H57: {=IFERROR(INDEX(RDV!$C$7:$C$300& " "&RDV!$D$7:$D$300,SMALL(IF(RDV!$E$7:$E$300=H$56,ROW($7:$300)-6),ROW($A1))),"")} | I57: {=IFERROR(INDEX(RDV!$C$7:$C$300& " "&RDV!$D$7:$D$300,SMALL(IF(RDV!$E$7:$E$300=I$56,ROW($7:$300)-6),ROW($A1))),"")}
C58: {=IFERROR(INDEX(RDV!$C$7:$C$300& " "&RDV!$D$7:$D$300,SMALL(IF(RDV!$E$7:$E$300=C$56,ROW($7:$300)-6),ROW($A2))),"")} -> tulipe loto2 | D58: {=IFERROR(INDEX(RDV!$C$7:$C$300& " "&RDV!$D$7:$D$300,SMALL(IF(RDV!$E$7:$E$300=D$56,ROW($7:$300)-6),ROW($A2))),"")} | E58: {=IFERROR(INDEX(RDV!$C$7:$C$300& " "&RDV!$D$7:$D$300,SMALL(IF(RDV!$E$7:$E$300=E$56,ROW($7:$300)-6),ROW($A2))),"")} | F58: {=IFERROR(INDEX(RDV!$C$7:$C$300& " "&RDV!$D$7:$D$300,SMALL(IF(RDV!$E$7:$E$300=F$56,ROW($7:$300)-6),ROW($A2))),"")} | G58: {=IFERROR(INDEX(RDV!$C$7:$C$300& " "&RDV!$D$7:$D$300,SMALL(IF(RDV!$E$7:$E$300=G$56,ROW($7:$300)-6),ROW($A2))),"")} | H58: {=IFERROR(INDEX(RDV!$C$7:$C$300& " "&RDV!$D$7:$D$300,SMALL(IF(RDV!$E$7:$E$300=H$56,ROW($7:$300)-6),ROW($A2))),"")} | I58: {=IFERROR(INDEX(RDV!$C$7:$C$300& " "&RDV!$D$7:$D$300,SMALL(IF(RDV!$E$7:$E$300=I$56,ROW($7:$300)-6),ROW($A2))),"")}
C59: {=IFERROR(INDEX(RDV!$C$7:$C$300& " "&RDV!$D$7:$D$300,SMALL(IF(RDV!$E$7:$E$300=C$56,ROW($7:$300)-6),ROW($A3))),"")} | D59: {=IFERROR(INDEX(RDV!$C$7:$C$300& " "&RDV!$D$7:$D$300,SMALL(IF(RDV!$E$7:$E$300=D$56,ROW($7:$300)-6),ROW($A3))),"")} | E59: {=IFERROR(INDEX(RDV!$C$7:$C$300& " "&RDV!$D$7:$D$300,SMALL(IF(RDV!$E$7:$E$300=E$56,ROW($7:$300)-6),ROW($A3))),"")} | F59: {=IFERROR(INDEX(RDV!$C$7:$C$300& " "&RDV!$D$7:$D$300,SMALL(IF(RDV!$E$7:$E$300=F$56,ROW($7:$300)-6),ROW($A3))),"")} | G59: {=IFERROR(INDEX(RDV!$C$7:$C$300& " "&RDV!$D$7:$D$300,SMALL(IF(RDV!$E$7:$E$300=G$56,ROW($7:$300)-6),ROW($A3))),"")} | H59: {=IFERROR(INDEX(RDV!$C$7:$C$300& " "&RDV!$D$7:$D$300,SMALL(IF(RDV!$E$7:$E$300=H$56,ROW($7:$300)-6),ROW($A3))),"")} | I59: {=IFERROR(INDEX(RDV!$C$7:$C$300& " "&RDV!$D$7:$D$300,SMALL(IF(RDV!$E$7:$E$300=I$56,ROW($7:$300)-6),ROW($A3))),"")}
C60: {=IFERROR(INDEX(RDV!$C$7:$C$300& " "&RDV!$D$7:$D$300,SMALL(IF(RDV!$E$7:$E$300=C$56,ROW($7:$300)-6),ROW($A4))),"")} | D60: {=IFERROR(INDEX(RDV!$C$7:$C$300& " "&RDV!$D$7:$D$300,SMALL(IF(RDV!$E$7:$E$300=D$56,ROW($7:$300)-6),ROW($A4))),"")} | E60: {=IFERROR(INDEX(RDV!$C$7:$C$300& " "&RDV!$D$7:$D$300,SMALL(IF(RDV!$E$7:$E$300=E$56,ROW($7:$300)-6),ROW($A4))),"")} | F60: {=IFERROR(INDEX(RDV!$C$7:$C$300& " "&RDV!$D$7:$D$300,SMALL(IF(RDV!$E$7:$E$300=F$56,ROW($7:$300)-6),ROW($A4))),"")} | G60: {=IFERROR(INDEX(RDV!$C$7:$C$300& " "&RDV!$D$7:$D$300,SMALL(IF(RDV!$E$7:$E$300=G$56,ROW($7:$300)-6),ROW($A4))),"")} | H60: {=IFERROR(INDEX(RDV!$C$7:$C$300& " "&RDV!$D$7:$D$300,SMALL(IF(RDV!$E$7:$E$300=H$56,ROW($7:$300)-6),ROW($A4))),"")} | I60: {=IFERROR(INDEX(RDV!$C$7:$C$300& " "&RDV!$D$7:$D$300,SMALL(IF(RDV!$E$7:$E$300=I$56,ROW($7:$300)-6),ROW($A4))),"")}
C61: {=IFERROR(INDEX(RDV!$C$7:$C$300& " "&RDV!$D$7:$D$300,SMALL(IF(RDV!$E$7:$E$300=C$56,ROW($7:$300)-6),ROW($A5))),"")} | D61: {=IFERROR(INDEX(RDV!$C$7:$C$300& " "&RDV!$D$7:$D$300,SMALL(IF(RDV!$E$7:$E$300=D$56,ROW($7:$300)-6),ROW($A5))),"")} | E61: {=IFERROR(INDEX(RDV!$C$7:$C$300& " "&RDV!$D$7:$D$300,SMALL(IF(RDV!$E$7:$E$300=E$56,ROW($7:$300)-6),ROW($A5))),"")} | F61: {=IFERROR(INDEX(RDV!$C$7:$C$300& " "&RDV!$D$7:$D$300,SMALL(IF(RDV!$E$7:$E$300=F$56,ROW($7:$300)-6),ROW($A5))),"")} | G61: {=IFERROR(INDEX(RDV!$C$7:$C$300& " "&RDV!$D$7:$D$300,SMALL(IF(RDV!$E$7:$E$300=G$56,ROW($7:$300)-6),ROW($A5))),"")} | H61: {=IFERROR(INDEX(RDV!$C$7:$C$300& " "&RDV!$D$7:$D$300,SMALL(IF(RDV!$E$7:$E$300=H$56,ROW($7:$300)-6),ROW($A5))),"")} | I61: {=IFERROR(INDEX(RDV!$C$7:$C$300& " "&RDV!$D$7:$D$300,SMALL(IF(RDV!$E$7:$E$300=I$56,ROW($7:$300)-6),ROW($A5))),"")}
C62: {=IFERROR(INDEX(RDV!$C$7:$C$300& " "&RDV!$D$7:$D$300,SMALL(IF(RDV!$E$7:$E$300=C$56,ROW($7:$300)-6),ROW($A6))),"")} | D62: {=IFERROR(INDEX(RDV!$C$7:$C$300& " "&RDV!$D$7:$D$300,SMALL(IF(RDV!$E$7:$E$300=D$56,ROW($7:$300)-6),ROW($A6))),"")} | E62: {=IFERROR(INDEX(RDV!$C$7:$C$300& " "&RDV!$D$7:$D$300,SMALL(IF(RDV!$E$7:$E$300=E$56,ROW($7:$300)-6),ROW($A6))),"")} | F62: {=IFERROR(INDEX(RDV!$C$7:$C$300& " "&RDV!$D$7:$D$300,SMALL(IF(RDV!$E$7:$E$300=F$56,ROW($7:$300)-6),ROW($A6))),"")} | G62: {=IFERROR(INDEX(RDV!$C$7:$C$300& " "&RDV!$D$7:$D$300,SMALL(IF(RDV!$E$7:$E$300=G$56,ROW($7:$300)-6),ROW($A6))),"")} | H62: {=IFERROR(INDEX(RDV!$C$7:$C$300& " "&RDV!$D$7:$D$300,SMALL(IF(RDV!$E$7:$E$300=H$56,ROW($7:$300)-6),ROW($A6))),"")} | I62: {=IFERROR(INDEX(RDV!$C$7:$C$300& " "&RDV!$D$7:$D$300,SMALL(IF(RDV!$E$7:$E$300=I$56,ROW($7:$300)-6),ROW($A6))),"")}
C63: {=IFERROR(INDEX(RDV!$C$7:$C$300& " "&RDV!$D$7:$D$300,SMALL(IF(RDV!$E$7:$E$300=C$56,ROW($7:$300)-6),ROW($A7))),"")} | D63: {=IFERROR(INDEX(RDV!$C$7:$C$300& " "&RDV!$D$7:$D$300,SMALL(IF(RDV!$E$7:$E$300=D$56,ROW($7:$300)-6),ROW($A7))),"")} | E63: {=IFERROR(INDEX(RDV!$C$7:$C$300& " "&RDV!$D$7:$D$300,SMALL(IF(RDV!$E$7:$E$300=E$56,ROW($7:$300)-6),ROW($A7))),"")} | F63: {=IFERROR(INDEX(RDV!$C$7:$C$300& " "&RDV!$D$7:$D$300,SMALL(IF(RDV!$E$7:$E$300=F$56,ROW($7:$300)-6),ROW($A7))),"")} | G63: {=IFERROR(INDEX(RDV!$C$7:$C$300& " "&RDV!$D$7:$D$300,SMALL(IF(RDV!$E$7:$E$300=G$56,ROW($7:$300)-6),ROW($A7))),"")} | H63: {=IFERROR(INDEX(RDV!$C$7:$C$300& " "&RDV!$D$7:$D$300,SMALL(IF(RDV!$E$7:$E$300=H$56,ROW($7:$300)-6),ROW($A7))),"")} | I63: {=IFERROR(INDEX(RDV!$C$7:$C$300& " "&RDV!$D$7:$D$300,SMALL(IF(RDV!$E$7:$E$300=I$56,ROW($7:$300)-6),ROW($A7))),"")}
C64: {=IFERROR(INDEX(RDV!$C$7:$C$300& " "&RDV!$D$7:$D$300,SMALL(IF(RDV!$E$7:$E$300=C$56,ROW($7:$300)-6),ROW($A8))),"")} | D64: {=IFERROR(INDEX(RDV!$C$7:$C$300& " "&RDV!$D$7:$D$300,SMALL(IF(RDV!$E$7:$E$300=D$56,ROW($7:$300)-6),ROW($A8))),"")} | E64: {=IFERROR(INDEX(RDV!$C$7:$C$300& " "&RDV!$D$7:$D$300,SMALL(IF(RDV!$E$7:$E$300=E$56,ROW($7:$300)-6),ROW($A8))),"")} | F64: {=IFERROR(INDEX(RDV!$C$7:$C$300& " "&RDV!$D$7:$D$300,SMALL(IF(RDV!$E$7:$E$300=F$56,ROW($7:$300)-6),ROW($A8))),"")} | G64: {=IFERROR(INDEX(RDV!$C$7:$C$300& " "&RDV!$D$7:$D$300,SMALL(IF(RDV!$E$7:$E$300=G$56,ROW($7:$300)-6),ROW($A8))),"")} | H64: {=IFERROR(INDEX(RDV!$C$7:$C$300& " "&RDV!$D$7:$D$300,SMALL(IF(RDV!$E$7:$E$300=H$56,ROW($7:$300)-6),ROW($A8))),"")} | I64: {=IFERROR(INDEX(RDV!$C$7:$C$300& " "&RDV!$D$7:$D$300,SMALL(IF(RDV!$E$7:$E$300=I$56,ROW($7:$300)-6),ROW($A8))),"")}
C65: {=IFERROR(INDEX(RDV!$C$7:$C$300& " "&RDV!$D$7:$D$300,SMALL(IF(RDV!$E$7:$E$300=C$56,ROW($7:$300)-6),ROW($A9))),"")} | D65: {=IFERROR(INDEX(RDV!$C$7:$C$300& " "&RDV!$D$7:$D$300,SMALL(IF(RDV!$E$7:$E$300=D$56,ROW($7:$300)-6),ROW($A9))),"")} | E65: {=IFERROR(INDEX(RDV!$C$7:$C$300& " "&RDV!$D$7:$D$300,SMALL(IF(RDV!$E$7:$E$300=E$56,ROW($7:$300)-6),ROW($A9))),"")} | F65: {=IFERROR(INDEX(RDV!$C$7:$C$300& " "&RDV!$D$7:$D$300,SMALL(IF(RDV!$E$7:$E$300=F$56,ROW($7:$300)-6),ROW($A9))),"")} | G65: {=IFERROR(INDEX(RDV!$C$7:$C$300& " "&RDV!$D$7:$D$300,SMALL(IF(RDV!$E$7:$E$300=G$56,ROW($7:$300)-6),ROW($A9))),"")} | H65: {=IFERROR(INDEX(RDV!$C$7:$C$300& " "&RDV!$D$7:$D$300,SMALL(IF(RDV!$E$7:$E$300=H$56,ROW($7:$300)-6),ROW($A9))),"")} | I65: {=IFERROR(INDEX(RDV!$C$7:$C$300& " "&RDV!$D$7:$D$300,SMALL(IF(RDV!$E$7:$E$300=I$56,ROW($7:$300)-6),ROW($A9))),"")}
C66: {=IFERROR(INDEX(RDV!$C$7:$C$300& " "&RDV!$D$7:$D$300,SMALL(IF(RDV!$E$7:$E$300=C$56,ROW($7:$300)-6),ROW($A10))),"")} | D66: {=IFERROR(INDEX(RDV!$C$7:$C$300& " "&RDV!$D$7:$D$300,SMALL(IF(RDV!$E$7:$E$300=D$56,ROW($7:$300)-6),ROW($A10))),"")} | E66: {=IFERROR(INDEX(RDV!$C$7:$C$300& " "&RDV!$D$7:$D$300,SMALL(IF(RDV!$E$7:$E$300=E$56,ROW($7:$300)-6),ROW($A10))),"")} | F66: {=IFERROR(INDEX(RDV!$C$7:$C$300& " "&RDV!$D$7:$D$300,SMALL(IF(RDV!$E$7:$E$300=F$56,ROW($7:$300)-6),ROW($A10))),"")} | G66: {=IFERROR(INDEX(RDV!$C$7:$C$300& " "&RDV!$D$7:$D$300,SMALL(IF(RDV!$E$7:$E$300=G$56,ROW($7:$300)-6),ROW($A10))),"")} | H66: {=IFERROR(INDEX(RDV!$C$7:$C$300& " "&RDV!$D$7:$D$300,SMALL(IF(RDV!$E$7:$E$300=H$56,ROW($7:$300)-6),ROW($A10))),"")} | I66: {=IFERROR(INDEX(RDV!$C$7:$C$300& " "&RDV!$D$7:$D$300,SMALL(IF(RDV!$E$7:$E$300=I$56,ROW($7:$300)-6),ROW($A10))),"")}
...
