Workbook
Name cola: OFFSET(voiture_1!$A$2,,,COUNTIF(voiture_1!$A:$A,"><")-1)
Name cold: OFFSET(voiture_1!$D$2,,,ROWS(cola))
Name dept: voiture_1!$F$2
Name qui: OFFSET(dept,,,,COUNTIF(voiture_1!$F$2:$AH$2,"><"))

Sheet peugeot
G1: choix dans liste
A2: CIVILITE | B2: NOM | D2: VOITURE | G2: IMMATRICULATION | H2: colonne d'alerte | J2: OBSERVATION rappel combien de vh dans la marque
A3: =IF(ISNA(VLOOKUP(B3,voiture_1!A:B,FALSE)),"",VLOOKUP(B3,voiture_1!A:B,2,FALSE)) -> MR | B3: aaaaa | D3: =IF(ISNA(VLOOKUP(B3,voiture_1!A:B,FALSE)),"",VLOOKUP(B3,voiture_1!A:C,3,FALSE)) -> peugeot | G3: 482 KG 362 | H3: =IF(AND(G3<>"",COUNTIF(G$3:G3,G3)>1),"déjà utilisé","") | J3: =IF(COUNTIF(B$3:B3,B3)=1,COUNTIF(voiture_1!A$2:A$15,B3),"") -> 2
A4: =IF(ISNA(VLOOKUP(B4,voiture_1!A:B,FALSE)),"",VLOOKUP(B4,voiture_1!A:B,2,FALSE)) | D4: =IF(ISNA(VLOOKUP(B4,voiture_1!A:B,FALSE)),"",VLOOKUP(B4,voiture_1!A:C,3,FALSE)) | H4: =IF(AND(G4<>"",COUNTIF(G$3:G4,G4)>1),"déjà utilisé","") | J4: =IF(COUNTIF(B$3:B4,B4)=1,COUNTIF(voiture_1!A$2:A$15,B4),"")
A5: =IF(ISNA(VLOOKUP(B5,voiture_1!A:B,FALSE)),"",VLOOKUP(B5,voiture_1!A:B,2,FALSE)) -> MR | B5: fffff | D5: =IF(ISNA(VLOOKUP(B5,voiture_1!A:B,FALSE)),"",VLOOKUP(B5,voiture_1!A:C,3,FALSE)) -> peugeot | G5: 555 CE 548 | H5: =IF(AND(G5<>"",COUNTIF(G$3:G5,G5)>1),"déjà utilisé","") | J5: =IF(COUNTIF(B$3:B5,B5)=1,COUNTIF(voiture_1!A$2:A$15,B5),"") -> 2
A6: =IF(ISNA(VLOOKUP(B6,voiture_1!A:B,FALSE)),"",VLOOKUP(B6,voiture_1!A:B,2,FALSE)) | D6: =IF(ISNA(VLOOKUP(B6,voiture_1!A:B,FALSE)),"",VLOOKUP(B6,voiture_1!A:C,3,FALSE)) | H6: =IF(AND(G6<>"",COUNTIF(G$3:G6,G6)>1),"déjà utilisé","") | J6: =IF(COUNTIF(B$3:B6,B6)=1,COUNTIF(voiture_1!A$2:A$15,B6),"")
A7: =IF(ISNA(VLOOKUP(B7,voiture_1!A:B,FALSE)),"",VLOOKUP(B7,voiture_1!A:B,2,FALSE)) | D7: =IF(ISNA(VLOOKUP(B7,voiture_1!A:B,FALSE)),"",VLOOKUP(B7,voiture_1!A:C,3,FALSE)) | H7: =IF(AND(G7<>"",COUNTIF(G$3:G7,G7)>1),"déjà utilisé","") | J7: =IF(COUNTIF(B$3:B7,B7)=1,COUNTIF(voiture_1!A$2:A$15,B7),"")
A8: =IF(ISNA(VLOOKUP(B8,voiture_1!A:B,FALSE)),"",VLOOKUP(B8,voiture_1!A:B,2,FALSE)) -> MR | B8: aaaaa | D8: =IF(ISNA(VLOOKUP(B8,voiture_1!A:B,FALSE)),"",VLOOKUP(B8,voiture_1!A:C,3,FALSE)) -> peugeot | G8: 482 KG 362 | H8: =IF(AND(G8<>"",COUNTIF(G$3:G8,G8)>1),"déjà utilisé","") -> déjà utilisé | J8: =IF(COUNTIF(B$3:B8,B8)=1,COUNTIF(voiture_1!A$2:A$15,B8),"")
A9: =IF(ISNA(VLOOKUP(B9,voiture_1!A:B,FALSE)),"",VLOOKUP(B9,voiture_1!A:B,2,FALSE)) | D9: =IF(ISNA(VLOOKUP(B9,voiture_1!A:B,FALSE)),"",VLOOKUP(B9,voiture_1!A:C,3,FALSE)) | H9: =IF(AND(G9<>"",COUNTIF(G$3:G9,G9)>1),"déjà utilisé","") | J9: =IF(COUNTIF(B$3:B9,B9)=1,COUNTIF(voiture_1!A$2:A$15,B9),"")
A10: =IF(ISNA(VLOOKUP(B10,voiture_1!A:B,FALSE)),"",VLOOKUP(B10,voiture_1!A:B,2,FALSE)) -> MME | B10: ggggg | D10: =IF(ISNA(VLOOKUP(B10,voiture_1!A:B,FALSE)),"",VLOOKUP(B10,voiture_1!A:C,3,FALSE)) -> peugeot | H10: =IF(AND(G10<>"",COUNTIF(G$3:G10,G10)>1),"déjà utilisé","") | J10: =IF(COUNTIF(B$3:B10,B10)=1,COUNTIF(voiture_1!A$2:A$15,B10),"") -> 1
A11: =IF(ISNA(VLOOKUP(B11,voiture_1!A:B,FALSE)),"",VLOOKUP(B11,voiture_1!A:B,2,FALSE)) | D11: =IF(ISNA(VLOOKUP(B11,voiture_1!A:B,FALSE)),"",VLOOKUP(B11,voiture_1!A:C,3,FALSE)) | H11: =IF(AND(G11<>"",COUNTIF(G$3:G11,G11)>1),"déjà utilisé","") | J11: =IF(COUNTIF(B$3:B11,B11)=1,COUNTIF(voiture_1!A$2:A$15,B11),"") | O11: =IF(ISNA(VLOOKUP(C3,voiture_1!A:B,FALSE)),"",VLOOKUP(C3,voiture_1!A:F,11,FALSE))
A12: =IF(ISNA(VLOOKUP(B12,voiture_1!A:B,FALSE)),"",VLOOKUP(B12,voiture_1!A:B,2,FALSE)) | D12: =IF(ISNA(VLOOKUP(B12,voiture_1!A:B,FALSE)),"",VLOOKUP(B12,voiture_1!A:C,3,FALSE)) | H12: =IF(AND(G12<>"",COUNTIF(G$3:G12,G12)>1),"déjà utilisé","") | J12: =IF(COUNTIF(B$3:B12,B12)=1,COUNTIF(voiture_1!A$2:A$15,B12),"")
A13: =IF(ISNA(VLOOKUP(B13,voiture_1!A:B,FALSE)),"",VLOOKUP(B13,voiture_1!A:B,2,FALSE)) | D13: =IF(ISNA(VLOOKUP(B13,voiture_1!A:B,FALSE)),"",VLOOKUP(B13,voiture_1!A:C,3,FALSE)) | H13: =IF(AND(G13<>"",COUNTIF(G$3:G13,G13)>1),"déjà utilisé","") | J13: =IF(COUNTIF(B$3:B13,B13)=1,COUNTIF(voiture_1!A$2:A$15,B13),"")
A14: =IF(ISNA(VLOOKUP(B14,voiture_1!A:B,FALSE)),"",VLOOKUP(B14,voiture_1!A:B,2,FALSE)) | D14: =IF(ISNA(VLOOKUP(B14,voiture_1!A:B,FALSE)),"",VLOOKUP(B14,voiture_1!A:C,3,FALSE)) | H14: =IF(AND(G14<>"",COUNTIF(G$3:G14,G14)>1),"déjà utilisé","") | J14: =IF(COUNTIF(B$3:B14,B14)=1,COUNTIF(voiture_1!A$2:A$15,B14),"")
A15: =IF(ISNA(VLOOKUP(B15,voiture_1!A:B,FALSE)),"",VLOOKUP(B15,voiture_1!A:B,2,FALSE)) | D15: =IF(ISNA(VLOOKUP(B15,voiture_1!A:B,FALSE)),"",VLOOKUP(B15,voiture_1!A:C,3,FALSE)) | H15: =IF(AND(G15<>"",COUNTIF(G$3:G15,G15)>1),"déjà utilisé","") | J15: =IF(COUNTIF(B$3:B15,B15)=1,COUNTIF(voiture_1!A$2:A$15,B15),"")
A16: =IF(ISNA(VLOOKUP(B16,voiture_1!A:B,FALSE)),"",VLOOKUP(B16,voiture_1!A:B,2,FALSE)) | D16: =IF(ISNA(VLOOKUP(B16,voiture_1!A:B,FALSE)),"",VLOOKUP(B16,voiture_1!A:C,3,FALSE)) | H16: =IF(AND(G16<>"",COUNTIF(G$3:G16,G16)>1),"déjà utilisé","") | J16: =IF(COUNTIF(B$3:B16,B16)=1,COUNTIF(voiture_1!A$2:A$15,B16),"")
A17: =IF(ISNA(VLOOKUP(B17,voiture_1!A:B,FALSE)),"",VLOOKUP(B17,voiture_1!A:B,2,FALSE)) | D17: =IF(ISNA(VLOOKUP(B17,voiture_1!A:B,FALSE)),"",VLOOKUP(B17,voiture_1!A:C,3,FALSE)) | H17: =IF(AND(G17<>"",COUNTIF(G$3:G17,G17)>1),"déjà utilisé","") | J17: =IF(COUNTIF(B$3:B17,B17)=1,COUNTIF(voiture_1!A$2:A$15,B17),"")
A18: =IF(ISNA(VLOOKUP(B18,voiture_1!A:B,FALSE)),"",VLOOKUP(B18,voiture_1!A:B,2,FALSE)) | D18: =IF(ISNA(VLOOKUP(B18,voiture_1!A:B,FALSE)),"",VLOOKUP(B18,voiture_1!A:C,3,FALSE)) | H18: =IF(AND(G18<>"",COUNTIF(G$3:G18,G18)>1),"déjà utilisé","") | J18: =IF(COUNTIF(B$3:B18,B18)=1,COUNTIF(voiture_1!A$2:A$15,B18),"")
A19: =IF(ISNA(VLOOKUP(B19,voiture_1!A:B,FALSE)),"",VLOOKUP(B19,voiture_1!A:B,2,FALSE)) | D19: =IF(ISNA(VLOOKUP(B19,voiture_1!A:B,FALSE)),"",VLOOKUP(B19,voiture_1!A:C,3,FALSE)) | H19: =IF(AND(G19<>"",COUNTIF(G$3:G19,G19)>1),"déjà utilisé","") | J19: =IF(COUNTIF(B$3:B19,B19)=1,COUNTIF(voiture_1!A$2:A$15,B19),"")
A20: =IF(ISNA(VLOOKUP(B20,voiture_1!A:B,FALSE)),"",VLOOKUP(B20,voiture_1!A:B,2,FALSE)) | D20: =IF(ISNA(VLOOKUP(B20,voiture_1!A:B,FALSE)),"",VLOOKUP(B20,voiture_1!A:C,3,FALSE)) | H20: =IF(AND(G20<>"",COUNTIF(G$3:G20,G20)>1),"déjà utilisé","") | J20: =IF(COUNTIF(B$3:B20,B20)=1,COUNTIF(voiture_1!A$2:A$15,B20),"")
A21: =IF(ISNA(VLOOKUP(B21,voiture_1!A:B,FALSE)),"",VLOOKUP(B21,voiture_1!A:B,2,FALSE)) | D21: =IF(ISNA(VLOOKUP(B21,voiture_1!A:B,FALSE)),"",VLOOKUP(B21,voiture_1!A:C,3,FALSE)) | H21: =IF(AND(G21<>"",COUNTIF(G$3:G21,G21)>1),"déjà utilisé","") | J21: =IF(COUNTIF(B$3:B21,B21)=1,COUNTIF(voiture_1!A$2:A$15,B21),"")
A22: =IF(ISNA(VLOOKUP(B22,voiture_1!A:B,FALSE)),"",VLOOKUP(B22,voiture_1!A:B,2,FALSE)) | D22: =IF(ISNA(VLOOKUP(B22,voiture_1!A:B,FALSE)),"",VLOOKUP(B22,voiture_1!A:C,3,FALSE)) | H22: =IF(AND(G22<>"",COUNTIF(G$3:G22,G22)>1),"déjà utilisé","") | J22: =IF(COUNTIF(B$3:B22,B22)=1,COUNTIF(voiture_1!A$2:A$15,B22),"")
A23: =IF(ISNA(VLOOKUP(B23,voiture_1!A:B,FALSE)),"",VLOOKUP(B23,voiture_1!A:B,2,FALSE)) | D23: =IF(ISNA(VLOOKUP(B23,voiture_1!A:B,FALSE)),"",VLOOKUP(B23,voiture_1!A:C,3,FALSE)) | H23: =IF(AND(G23<>"",COUNTIF(G$3:G23,G23)>1),"déjà utilisé","") | J23: =IF(COUNTIF(B$3:B23,B23)=1,COUNTIF(voiture_1!A$2:A$15,B23),"")
... A29: =IF(ISNA(VLOOKUP(B29,voiture_1!A:B,FALSE)),"",VLOOKUP(B29,voiture_1!A:B,2,FALSE)) | D29: =IF(ISNA(VLOOKUP(B29,voiture_1!A:B,FALSE)),"",VLOOKUP(B29,voiture_1!A:C,3,FALSE)) | H29: =IF(AND(G29<>"",COUNTIF(G$3:G29,G29)>1),"déjà utilisé","") | J29: =IF(COUNTIF(B$3:B29,B29)=1,COUNTIF(voiture_1!A$2:A$15,B29),"")
A30: =IF(ISNA(VLOOKUP(B30,voiture_1!A:B,FALSE)),"",VLOOKUP(B30,voiture_1!A:B,2,FALSE)) | D30: =IF(ISNA(VLOOKUP(B30,voiture_1!A:B,FALSE)),"",VLOOKUP(B30,voiture_1!A:C,3,FALSE)) | H30: =IF(AND(G30<>"",COUNTIF(G$3:G30,G30)>1),"déjà utilisé","") | J30: =IF(COUNTIF(B$2:B29,B30)=1,COUNTIF(voiture_1!A$2:A$15,B30),"")
A31: DIVERS:

Sheet renault
A2: civilité | B2: NOM | D2: voiture | G2: immatriculation | J2: OBSERVATION
A3: =IF(ISNA(VLOOKUP(B3,voiture_2!A:B,FALSE)),"",VLOOKUP(B3,voiture_2!A:B,2,FALSE)) -> MR | B3: aaaaa | D3: =IF(ISNA(VLOOKUP(B3,voiture_2!A:B,FALSE)),"",VLOOKUP(B3,voiture_2!A:C,3,FALSE)) -> RENAULT | G3: =IF(ISNA(VLOOKUP(B3,voiture_2!A:B,FALSE)),"",VLOOKUP(B3,voiture_2!A:D,4,FALSE)) -> 482 KG 362
A4: =IF(ISNA(VLOOKUP(B4,voiture_2!A:B,FALSE)),"",VLOOKUP(B4,voiture_2!A:B,2,FALSE)) | D4: =IF(ISNA(VLOOKUP(B4,voiture_2!A:B,FALSE)),"",VLOOKUP(B4,voiture_2!A:C,3,FALSE)) | G4: =IF(ISNA(VLOOKUP(B4,voiture_2!A:B,FALSE)),"",VLOOKUP(B4,voiture_2!A:D,4,FALSE))
A5: =IF(ISNA(VLOOKUP(B5,voiture_2!A:B,FALSE)),"",VLOOKUP(B5,voiture_2!A:B,2,FALSE)) | D5: =IF(ISNA(VLOOKUP(B5,voiture_2!A:B,FALSE)),"",VLOOKUP(B5,voiture_2!A:C,3,FALSE)) | G5: =IF(ISNA(VLOOKUP(B5,voiture_2!A:B,FALSE)),"",VLOOKUP(B5,voiture_2!A:D,4,FALSE))
A6: =IF(ISNA(VLOOKUP(B6,voiture_2!A:B,FALSE)),"",VLOOKUP(B6,voiture_2!A:B,2,FALSE)) | D6: =IF(ISNA(VLOOKUP(B6,voiture_2!A:B,FALSE)),"",VLOOKUP(B6,voiture_2!A:C,3,FALSE)) | G6: =IF(ISNA(VLOOKUP(B6,voiture_2!A:B,FALSE)),"",VLOOKUP(B6,voiture_2!A:D,4,FALSE))
A7: =IF(ISNA(VLOOKUP(B7,voiture_2!A:B,FALSE)),"",VLOOKUP(B7,voiture_2!A:B,2,FALSE)) | D7: =IF(ISNA(VLOOKUP(B7,voiture_2!A:B,FALSE)),"",VLOOKUP(B7,voiture_2!A:C,3,FALSE)) | G7: =IF(ISNA(VLOOKUP(B7,voiture_2!A:B,FALSE)),"",VLOOKUP(B7,voiture_2!A:D,4,FALSE))
A8: =IF(ISNA(VLOOKUP(B8,voiture_2!A:B,FALSE)),"",VLOOKUP(B8,voiture_2!A:B,2,FALSE)) | D8: =IF(ISNA(VLOOKUP(B8,voiture_2!A:B,FALSE)),"",VLOOKUP(B8,voiture_2!A:C,3,FALSE)) | G8: =IF(ISNA(VLOOKUP(B8,voiture_2!A:B,FALSE)),"",VLOOKUP(B8,voiture_2!A:D,4,FALSE))
A9: =IF(ISNA(VLOOKUP(B9,voiture_2!A:B,FALSE)),"",VLOOKUP(B9,voiture_2!A:B,2,FALSE)) | D9: =IF(ISNA(VLOOKUP(B9,voiture_2!A:B,FALSE)),"",VLOOKUP(B9,voiture_2!A:C,3,FALSE)) | G9: =IF(ISNA(VLOOKUP(B9,voiture_2!A:B,FALSE)),"",VLOOKUP(B9,voiture_2!A:D,4,FALSE))
A10: =IF(ISNA(VLOOKUP(B10,voiture_2!A:B,FALSE)),"",VLOOKUP(B10,voiture_2!A:B,2,FALSE)) | D10: =IF(ISNA(VLOOKUP(B10,voiture_2!A:B,FALSE)),"",VLOOKUP(B10,voiture_2!A:C,3,FALSE)) | G10: =IF(ISNA(VLOOKUP(B10,voiture_2!A:B,FALSE)),"",VLOOKUP(B10,voiture_2!A:D,4,FALSE))
A11: =IF(ISNA(VLOOKUP(B11,voiture_2!A:B,FALSE)),"",VLOOKUP(B11,voiture_2!A:B,2,FALSE)) | D11: =IF(ISNA(VLOOKUP(B11,voiture_2!A:B,FALSE)),"",VLOOKUP(B11,voiture_2!A:C,3,FALSE)) | G11: =IF(ISNA(VLOOKUP(B11,voiture_2!A:B,FALSE)),"",VLOOKUP(B11,voiture_2!A:D,4,FALSE)) | O11: =IF(ISNA(VLOOKUP(C3,voiture_1!A:B,FALSE)),"",VLOOKUP(C3,voiture_1!A:F,11,FALSE))
A12: =IF(ISNA(VLOOKUP(B12,voiture_2!A:B,FALSE)),"",VLOOKUP(B12,voiture_2!A:B,2,FALSE)) | D12: =IF(ISNA(VLOOKUP(B12,voiture_2!A:B,FALSE)),"",VLOOKUP(B12,voiture_2!A:C,3,FALSE)) | G12: =IF(ISNA(VLOOKUP(B12,voiture_2!A:B,FALSE)),"",VLOOKUP(B12,voiture_2!A:D,4,FALSE))
A13: =IF(ISNA(VLOOKUP(B13,voiture_2!A:B,FALSE)),"",VLOOKUP(B13,voiture_2!A:B,2,FALSE)) | D13: =IF(ISNA(VLOOKUP(B13,voiture_2!A:B,FALSE)),"",VLOOKUP(B13,voiture_2!A:C,3,FALSE)) | G13: =IF(ISNA(VLOOKUP(B13,voiture_2!A:B,FALSE)),"",VLOOKUP(B13,voiture_2!A:D,4,FALSE))
A14: =IF(ISNA(VLOOKUP(B14,voiture_2!A:B,FALSE)),"",VLOOKUP(B14,voiture_2!A:B,2,FALSE)) | D14: =IF(ISNA(VLOOKUP(B14,voiture_2!A:B,FALSE)),"",VLOOKUP(B14,voiture_2!A:C,3,FALSE)) | G14: =IF(ISNA(VLOOKUP(B14,voiture_2!A:B,FALSE)),"",VLOOKUP(B14,voiture_2!A:D,4,FALSE))
A15: =IF(ISNA(VLOOKUP(B15,voiture_2!A:B,FALSE)),"",VLOOKUP(B15,voiture_2!A:B,2,FALSE)) | D15: =IF(ISNA(VLOOKUP(B15,voiture_2!A:B,FALSE)),"",VLOOKUP(B15,voiture_2!A:C,3,FALSE)) | G15: =IF(ISNA(VLOOKUP(B15,voiture_2!A:B,FALSE)),"",VLOOKUP(B15,voiture_2!A:D,4,FALSE))
A16: =IF(ISNA(VLOOKUP(B16,voiture_2!A:B,FALSE)),"",VLOOKUP(B16,voiture_2!A:B,2,FALSE)) | D16: =IF(ISNA(VLOOKUP(B16,voiture_2!A:B,FALSE)),"",VLOOKUP(B16,voiture_2!A:C,3,FALSE)) | G16: =IF(ISNA(VLOOKUP(B16,voiture_2!A:B,FALSE)),"",VLOOKUP(B16,voiture_2!A:D,4,FALSE))
A17: =IF(ISNA(VLOOKUP(B17,voiture_2!A:B,FALSE)),"",VLOOKUP(B17,voiture_2!A:B,2,FALSE)) | D17: =IF(ISNA(VLOOKUP(B17,voiture_2!A:B,FALSE)),"",VLOOKUP(B17,voiture_2!A:C,3,FALSE)) | G17: =IF(ISNA(VLOOKUP(B17,voiture_2!A:B,FALSE)),"",VLOOKUP(B17,voiture_2!A:D,4,FALSE))
A18: =IF(ISNA(VLOOKUP(B18,voiture_2!A:B,FALSE)),"",VLOOKUP(B18,voiture_2!A:B,2,FALSE)) | D18: =IF(ISNA(VLOOKUP(B18,voiture_2!A:B,FALSE)),"",VLOOKUP(B18,voiture_2!A:C,3,FALSE)) | G18: =IF(ISNA(VLOOKUP(B18,voiture_2!A:B,FALSE)),"",VLOOKUP(B18,voiture_2!A:D,4,FALSE))
A19: =IF(ISNA(VLOOKUP(B19,voiture_2!A:B,FALSE)),"",VLOOKUP(B19,voiture_2!A:B,2,FALSE)) | D19: =IF(ISNA(VLOOKUP(B19,voiture_2!A:B,FALSE)),"",VLOOKUP(B19,voiture_2!A:C,3,FALSE)) | G19: =IF(ISNA(VLOOKUP(B19,voiture_2!A:B,FALSE)),"",VLOOKUP(B19,voiture_2!A:D,4,FALSE))
A20: =IF(ISNA(VLOOKUP(B20,voiture_2!A:B,FALSE)),"",VLOOKUP(B20,voiture_2!A:B,2,FALSE)) | D20: =IF(ISNA(VLOOKUP(B20,voiture_2!A:B,FALSE)),"",VLOOKUP(B20,voiture_2!A:C,3,FALSE)) | G20: =IF(ISNA(VLOOKUP(B20,voiture_2!A:B,FALSE)),"",VLOOKUP(B20,voiture_2!A:D,4,FALSE))
A21: =IF(ISNA(VLOOKUP(B21,voiture_2!A:B,FALSE)),"",VLOOKUP(B21,voiture_2!A:B,2,FALSE)) | D21: =IF(ISNA(VLOOKUP(B21,voiture_2!A:B,FALSE)),"",VLOOKUP(B21,voiture_2!A:C,3,FALSE)) | G21: =IF(ISNA(VLOOKUP(B21,voiture_2!A:B,FALSE)),"",VLOOKUP(B21,voiture_2!A:D,4,FALSE))
A22: =IF(ISNA(VLOOKUP(B22,voiture_2!A:B,FALSE)),"",VLOOKUP(B22,voiture_2!A:B,2,FALSE)) | D22: =IF(ISNA(VLOOKUP(B22,voiture_2!A:B,FALSE)),"",VLOOKUP(B22,voiture_2!A:C,3,FALSE)) | G22: =IF(ISNA(VLOOKUP(B22,voiture_2!A:B,FALSE)),"",VLOOKUP(B22,voiture_2!A:D,4,FALSE))
A23: =IF(ISNA(VLOOKUP(B23,voiture_2!A:B,FALSE)),"",VLOOKUP(B23,voiture_2!A:B,2,FALSE)) | D23: =IF(ISNA(VLOOKUP(B23,voiture_2!A:B,FALSE)),"",VLOOKUP(B23,voiture_2!A:C,3,FALSE)) | G23: =IF(ISNA(VLOOKUP(B23,voiture_2!A:B,FALSE)),"",VLOOKUP(B23,voiture_2!A:D,4,FALSE))
... A30: =IF(ISNA(VLOOKUP(B30,voiture_2!A:B,FALSE)),"",VLOOKUP(B30,voiture_2!A:B,2,FALSE)) | D30: =IF(ISNA(VLOOKUP(B30,voiture_2!A:B,FALSE)),"",VLOOKUP(B30,voiture_2!A:C,3,FALSE)) | G30: =IF(ISNA(VLOOKUP(B30,voiture_2!A:B,FALSE)),"",VLOOKUP(B30,voiture_2!A:D,4,FALSE))
A31: DIVERS:

Sheet citroen
A2: civilité | B2: NOM | D2: voiture | G2: immatriculation | J2: OBSERVATION
A3: =IF(ISNA(VLOOKUP(B3,voiture_3!A:B,FALSE)),"",VLOOKUP(B3,voiture_3!A:B,2,FALSE)) | D3: =IF(ISNA(VLOOKUP(B3,voiture_3!A:B,FALSE)),"",VLOOKUP(B3,voiture_3!A:C,3,FALSE)) | G3: =IF(ISNA(VLOOKUP(B3,voiture_3!A:B,FALSE)),"",VLOOKUP(B3,voiture_3!A:D,4,FALSE))
A4: =IF(ISNA(VLOOKUP(B4,voiture_3!A:B,FALSE)),"",VLOOKUP(B4,voiture_3!A:B,2,FALSE)) | D4: =IF(ISNA(VLOOKUP(B4,voiture_3!A:B,FALSE)),"",VLOOKUP(B4,voiture_3!A:C,3,FALSE)) | G4: =IF(ISNA(VLOOKUP(B4,voiture_3!A:B,FALSE)),"",VLOOKUP(B4,voiture_3!A:D,4,FALSE))
A5: =IF(ISNA(VLOOKUP(B5,voiture_3!A:B,FALSE)),"",VLOOKUP(B5,voiture_3!A:B,2,FALSE)) | D5: =IF(ISNA(VLOOKUP(B5,voiture_3!A:B,FALSE)),"",VLOOKUP(B5,voiture_3!A:C,3,FALSE)) | G5: =IF(ISNA(VLOOKUP(B5,voiture_3!A:B,FALSE)),"",VLOOKUP(B5,voiture_3!A:D,4,FALSE))
A6: =IF(ISNA(VLOOKUP(B6,voiture_3!A:B,FALSE)),"",VLOOKUP(B6,voiture_3!A:B,2,FALSE)) | D6: =IF(ISNA(VLOOKUP(B6,voiture_3!A:B,FALSE)),"",VLOOKUP(B6,voiture_3!A:C,3,FALSE)) | G6: =IF(ISNA(VLOOKUP(B6,voiture_3!A:B,FALSE)),"",VLOOKUP(B6,voiture_3!A:D,4,FALSE))
A7: =IF(ISNA(VLOOKUP(B7,voiture_3!A:B,FALSE)),"",VLOOKUP(B7,voiture_3!A:B,2,FALSE)) | D7: =IF(ISNA(VLOOKUP(B7,voiture_3!A:B,FALSE)),"",VLOOKUP(B7,voiture_3!A:C,3,FALSE)) | G7: =IF(ISNA(VLOOKUP(B7,voiture_3!A:B,FALSE)),"",VLOOKUP(B7,voiture_3!A:D,4,FALSE))
A8: =IF(ISNA(VLOOKUP(B8,voiture_3!A:B,FALSE)),"",VLOOKUP(B8,voiture_3!A:B,2,FALSE)) | D8: =IF(ISNA(VLOOKUP(B8,voiture_3!A:B,FALSE)),"",VLOOKUP(B8,voiture_3!A:C,3,FALSE)) | G8: =IF(ISNA(VLOOKUP(B8,voiture_3!A:B,FALSE)),"",VLOOKUP(B8,voiture_3!A:D,4,FALSE))
A9: =IF(ISNA(VLOOKUP(B9,voiture_3!A:B,FALSE)),"",VLOOKUP(B9,voiture_3!A:B,2,FALSE)) | D9: =IF(ISNA(VLOOKUP(B9,voiture_3!A:B,FALSE)),"",VLOOKUP(B9,voiture_3!A:C,3,FALSE)) | G9: =IF(ISNA(VLOOKUP(B9,voiture_3!A:B,FALSE)),"",VLOOKUP(B9,voiture_3!A:D,4,FALSE))
A10: =IF(ISNA(VLOOKUP(B10,voiture_3!A:B,FALSE)),"",VLOOKUP(B10,voiture_3!A:B,2,FALSE)) | D10: =IF(ISNA(VLOOKUP(B10,voiture_3!A:B,FALSE)),"",VLOOKUP(B10,voiture_3!A:C,3,FALSE)) | G10: =IF(ISNA(VLOOKUP(B10,voiture_3!A:B,FALSE)),"",VLOOKUP(B10,voiture_3!A:D,4,FALSE))
A11: =IF(ISNA(VLOOKUP(B11,voiture_3!A:B,FALSE)),"",VLOOKUP(B11,voiture_3!A:B,2,FALSE)) | D11: =IF(ISNA(VLOOKUP(B11,voiture_3!A:B,FALSE)),"",VLOOKUP(B11,voiture_3!A:C,3,FALSE)) | G11: =IF(ISNA(VLOOKUP(B11,voiture_3!A:B,FALSE)),"",VLOOKUP(B11,voiture_3!A:D,4,FALSE)) | O11: =IF(ISNA(VLOOKUP(C3,voiture_1!A:B,FALSE)),"",VLOOKUP(C3,voiture_1!A:F,11,FALSE))
A12: =IF(ISNA(VLOOKUP(B12,voiture_3!A:B,FALSE)),"",VLOOKUP(B12,voiture_3!A:B,2,FALSE)) | D12: =IF(ISNA(VLOOKUP(B12,voiture_3!A:B,FALSE)),"",VLOOKUP(B12,voiture_3!A:C,3,FALSE)) | G12: =IF(ISNA(VLOOKUP(B12,voiture_3!A:B,FALSE)),"",VLOOKUP(B12,voiture_3!A:D,4,FALSE))
A13: =IF(ISNA(VLOOKUP(B13,voiture_3!A:B,FALSE)),"",VLOOKUP(B13,voiture_3!A:B,2,FALSE)) | D13: =IF(ISNA(VLOOKUP(B13,voiture_3!A:B,FALSE)),"",VLOOKUP(B13,voiture_3!A:C,3,FALSE)) | G13: =IF(ISNA(VLOOKUP(B13,voiture_3!A:B,FALSE)),"",VLOOKUP(B13,voiture_3!A:D,4,FALSE))
A14: =IF(ISNA(VLOOKUP(B14,voiture_3!A:B,FALSE)),"",VLOOKUP(B14,voiture_3!A:B,2,FALSE)) | D14: =IF(ISNA(VLOOKUP(B14,voiture_3!A:B,FALSE)),"",VLOOKUP(B14,voiture_3!A:C,3,FALSE)) | G14: =IF(ISNA(VLOOKUP(B14,voiture_3!A:B,FALSE)),"",VLOOKUP(B14,voiture_3!A:D,4,FALSE))
A15: =IF(ISNA(VLOOKUP(B15,voiture_3!A:B,FALSE)),"",VLOOKUP(B15,voiture_3!A:B,2,FALSE)) | D15: =IF(ISNA(VLOOKUP(B15,voiture_3!A:B,FALSE)),"",VLOOKUP(B15,voiture_3!A:C,3,FALSE)) | G15: =IF(ISNA(VLOOKUP(B15,voiture_3!A:B,FALSE)),"",VLOOKUP(B15,voiture_3!A:D,4,FALSE))
A16: =IF(ISNA(VLOOKUP(B16,voiture_3!A:B,FALSE)),"",VLOOKUP(B16,voiture_3!A:B,2,FALSE)) | D16: =IF(ISNA(VLOOKUP(B16,voiture_3!A:B,FALSE)),"",VLOOKUP(B16,voiture_3!A:C,3,FALSE)) | G16: =IF(ISNA(VLOOKUP(B16,voiture_3!A:B,FALSE)),"",VLOOKUP(B16,voiture_3!A:D,4,FALSE))
A17: =IF(ISNA(VLOOKUP(B17,voiture_3!A:B,FALSE)),"",VLOOKUP(B17,voiture_3!A:B,2,FALSE)) | D17: =IF(ISNA(VLOOKUP(B17,voiture_3!A:B,FALSE)),"",VLOOKUP(B17,voiture_3!A:C,3,FALSE)) | G17: =IF(ISNA(VLOOKUP(B17,voiture_3!A:B,FALSE)),"",VLOOKUP(B17,voiture_3!A:D,4,FALSE))
A18: =IF(ISNA(VLOOKUP(B18,voiture_3!A:B,FALSE)),"",VLOOKUP(B18,voiture_3!A:B,2,FALSE)) | D18: =IF(ISNA(VLOOKUP(B18,voiture_3!A:B,FALSE)),"",VLOOKUP(B18,voiture_3!A:C,3,FALSE)) | G18: =IF(ISNA(VLOOKUP(B18,voiture_3!A:B,FALSE)),"",VLOOKUP(B18,voiture_3!A:D,4,FALSE))
A19: =IF(ISNA(VLOOKUP(B19,voiture_3!A:B,FALSE)),"",VLOOKUP(B19,voiture_3!A:B,2,FALSE)) | D19: =IF(ISNA(VLOOKUP(B19,voiture_3!A:B,FALSE)),"",VLOOKUP(B19,voiture_3!A:C,3,FALSE)) | G19: =IF(ISNA(VLOOKUP(B19,voiture_3!A:B,FALSE)),"",VLOOKUP(B19,voiture_3!A:D,4,FALSE))
A20: =IF(ISNA(VLOOKUP(B20,voiture_3!A:B,FALSE)),"",VLOOKUP(B20,voiture_3!A:B,2,FALSE)) | D20: =IF(ISNA(VLOOKUP(B20,voiture_3!A:B,FALSE)),"",VLOOKUP(B20,voiture_3!A:C,3,FALSE)) | G20: =IF(ISNA(VLOOKUP(B20,voiture_3!A:B,FALSE)),"",VLOOKUP(B20,voiture_3!A:D,4,FALSE))
A21: =IF(ISNA(VLOOKUP(B21,voiture_3!A:B,FALSE)),"",VLOOKUP(B21,voiture_3!A:B,2,FALSE)) | D21: =IF(ISNA(VLOOKUP(B21,voiture_3!A:B,FALSE)),"",VLOOKUP(B21,voiture_3!A:C,3,FALSE)) | G21: =IF(ISNA(VLOOKUP(B21,voiture_3!A:B,FALSE)),"",VLOOKUP(B21,voiture_3!A:D,4,FALSE))
A22: =IF(ISNA(VLOOKUP(B22,voiture_3!A:B,FALSE)),"",VLOOKUP(B22,voiture_3!A:B,2,FALSE)) | D22: =IF(ISNA(VLOOKUP(B22,voiture_3!A:B,FALSE)),"",VLOOKUP(B22,voiture_3!A:C,3,FALSE)) | G22: =IF(ISNA(VLOOKUP(B22,voiture_3!A:B,FALSE)),"",VLOOKUP(B22,voiture_3!A:D,4,FALSE))
A23: =IF(ISNA(VLOOKUP(B23,voiture_3!A:B,FALSE)),"",VLOOKUP(B23,voiture_3!A:B,2,FALSE)) | D23: =IF(ISNA(VLOOKUP(B23,voiture_3!A:B,FALSE)),"",VLOOKUP(B23,voiture_3!A:C,3,FALSE)) | G23: =IF(ISNA(VLOOKUP(B23,voiture_3!A:B,FALSE)),"",VLOOKUP(B23,voiture_3!A:D,4,FALSE))
... A30: =IF(ISNA(VLOOKUP(B30,voiture_3!A:B,FALSE)),"",VLOOKUP(B30,voiture_3!A:B,2,FALSE)) | D30: =IF(ISNA(VLOOKUP(B30,voiture_3!A:B,FALSE)),"",VLOOKUP(B30,voiture_3!A:C,3,FALSE)) | G30: =IF(ISNA(VLOOKUP(B30,voiture_3!A:B,FALSE)),"",VLOOKUP(B30,voiture_3!A:D,4,FALSE))
A31: DIVERS:

Sheet voiture_1
A1: NOMS | B1: civilité | C1: voiture | D1: immatriculation
A2: AAAAA | B2: MR | C2: peugeot | D2: 482 KG 362 | F2: {=IF(COLUMN(A1)>SUMPRODUCT(1/COUNTIF($A$2:$A$15,$A$2:$A$15)),"",INDEX($A$2:$A$15,MIN(IF(COUNTIF($E2:E$2,$A$2:$A$15)=0,ROW($A$2:$A$15)-1))))} -> AAAAA | G2: {=IF(COLUMN(B1)>SUMPRODUCT(1/COUNTIF($A$2:$A$15,$A$2:$A$15)),"",INDEX($A$2:$A$15,MIN(IF(COUNTIF($E2:F$2,$A$2:$A$15)=0,ROW($A$2:$A$15)-1))))} -> BBBBB | H2: {=IF(COLUMN(C1)>SUMPRODUCT(1/COUNTIF($A$2:$A$15,$A$2:$A$15)),"",INDEX($A$2:$A$15,MIN(IF(COUNTIF($E2:G$2,$A$2:$A$15)=0,ROW($A$2:$A$15)-1))))} -> CCCCC | I2: {=IF(COLUMN(D1)>SUMPRODUCT(1/COUNTIF($A$2:$A$15,$A$2:$A$15)),"",INDEX($A$2:$A$15,MIN(IF(COUNTIF($E2:H$2,$A$2:$A$15)=0,ROW($A$2:$A$15)-1))))} -> EEEEE | J2: {=IF(COLUMN(E1)>SUMPRODUCT(1/COUNTIF($A$2:$A$15,$A$2:$A$15)),"",INDEX($A$2:$A$15,MIN(IF(COUNTIF($E2:I$2,$A$2:$A$15)=0,ROW($A$2:$A$15)-1))))} -> FFFFF | K2: {=IF(COLUMN(F1)>SUMPRODUCT(1/COUNTIF($A$2:$A$15,$A$2:$A$15)),"",INDEX($A$2:$A$15,MIN(IF(COUNTIF($E2:J$2,$A$2:$A$15)=0,ROW($A$2:$A$15)-1))))} -> GGGGG | L2: {=IF(COLUMN(G1)>SUMPRODUCT(1/COUNTIF($A$2:$A$15,$A$2:$A$15)),"",INDEX($A$2:$A$15,MIN(IF(COUNTIF($E2:K$2,$A$2:$A$15)=0,ROW($A$2:$A$15)-1))))} -> HHHHHH | M2: {=IF(COLUMN(H1)>SUMPRODUCT(1/COUNTIF($A$2:$A$15,$A$2:$A$15)),"",INDEX($A$2:$A$15,MIN(IF(COUNTIF($E2:L$2,$A$2:$A$15)=0,ROW($A$2:$A$15)-1))))} -> IIIII | ... T2: {=IF(COLUMN(O1)>SUMPRODUCT(1/COUNTIF($A$2:$A$15,$A$2:$A$15)),"",INDEX($A$2:$A$15,MIN(IF(COUNTIF($E2:S$2,$A$2:$A$15)=0,ROW($A$2:$A$15)-1))))} | U2: {=IF(COLUMN(P1)>SUMPRODUCT(1/COUNTIF($A$2:P$15,$A$2:$A$15)),"",INDEX($A$2:$A$15,MIN(IF(COUNTIF($E2:T$2,$A$2:$A$15)=0,ROW($A$2:$A$15)-1))))}
A3: BBBBB | B3: MR | C3: peugeot | D3: 351 BF 548 | F3: {=IFERROR(INDEX(cold,SMALL(IF(cola=F$2,ROW(cola)-1,""),ROW($A1))),"")} -> 482 KG 362 | G3: {=IFERROR(INDEX(cold,SMALL(IF(cola=G$2,ROW(cola)-1,""),ROW($A1))),"")} -> 351 BF 548 | H3: {=IFERROR(INDEX(cold,SMALL(IF(cola=H$2,ROW(cola)-1,""),ROW($A1))),"")} -> 752 ZE 548 | I3: {=IFERROR(INDEX(cold,SMALL(IF(cola=I$2,ROW(cola)-1,""),ROW($A1))),"")} -> 624 DZ 548 | J3: {=IFERROR(INDEX(cold,SMALL(IF(cola=J$2,ROW(cola)-1,""),ROW($A1))),"")} -> 555 CE 548 | K3: {=IFERROR(INDEX(cold,SMALL(IF(cola=K$2,ROW(cola)-1,""),ROW($A1))),"")} -> 156 AW 548 | L3: {=IFERROR(INDEX(cold,SMALL(IF(cola=L$2,ROW(cola)-1,""),ROW($A1))),"")} -> 957 BC 548 | M3: {=IFERROR(INDEX(cold,SMALL(IF(cola=M$2,ROW(cola)-1,""),ROW($A1))),"")} -> 888 AM 548 | ... X3: {=IFERROR(INDEX(cold,SMALL(IF(cola=X$2,ROW(cola)-1,""),ROW($A1))),"")}
A4: CCCCC | B4: MR | C4: peugeot | D4: 752 ZE 548 | F4: {=IFERROR(INDEX(cold,SMALL(IF(cola=F$2,ROW(cola)-1,""),ROW($A2))),"")} -> 353 DC 548 | G4: {=IFERROR(INDEX(cold,SMALL(IF(cola=G$2,ROW(cola)-1,""),ROW($A2))),"")} | H4: {=IFERROR(INDEX(cold,SMALL(IF(cola=H$2,ROW(cola)-1,""),ROW($A2))),"")} | I4: {=IFERROR(INDEX(cold,SMALL(IF(cola=I$2,ROW(cola)-1,""),ROW($A2))),"")} | J4: {=IFERROR(INDEX(cold,SMALL(IF(cola=J$2,ROW(cola)-1,""),ROW($A2))),"")} -> 363 IJ 548 | K4: {=IFERROR(INDEX(cold,SMALL(IF(cola=K$2,ROW(cola)-1,""),ROW($A2))),"")} | L4: {=IFERROR(INDEX(cold,SMALL(IF(cola=L$2,ROW(cola)-1,""),ROW($A2))),"")} | M4: {=IFERROR(INDEX(cold,SMALL(IF(cola=M$2,ROW(cola)-1,""),ROW($A2))),"")} | ... X4: {=IFERROR(INDEX(cold,SMALL(IF(cola=X$2,ROW(cola)-1,""),ROW($A2))),"")}
A5: aaaaa | B5: MR | C5: peugeot | D5: 353 DC 548 | F5: {=IFERROR(INDEX(cold,SMALL(IF(cola=F$2,ROW(cola)-1,""),ROW($A3))),"")} | G5: {=IFERROR(INDEX(cold,SMALL(IF(cola=G$2,ROW(cola)-1,""),ROW($A3))),"")} | H5: {=IFERROR(INDEX(cold,SMALL(IF(cola=H$2,ROW(cola)-1,""),ROW($A3))),"")} | I5: {=IFERROR(INDEX(cold,SMALL(IF(cola=I$2,ROW(cola)-1,""),ROW($A3))),"")} | J5: {=IFERROR(INDEX(cold,SMALL(IF(cola=J$2,ROW(cola)-1,""),ROW($A3))),"")} | K5: {=IFERROR(INDEX(cold,SMALL(IF(cola=K$2,ROW(cola)-1,""),ROW($A3))),"")} | L5: {=IFERROR(INDEX(cold,SMALL(IF(cola=L$2,ROW(cola)-1,""),ROW($A3))),"")} | M5: {=IFERROR(INDEX(cold,SMALL(IF(cola=M$2,ROW(cola)-1,""),ROW($A3))),"")} | ... X5: {=IFERROR(INDEX(cold,SMALL(IF(cola=X$2,ROW(cola)-1,""),ROW($A3))),"")}
A6: EEEEE | B6: MME | C6: peugeot | D6: 624 DZ 548 | F6: {=IFERROR(INDEX(cold,SMALL(IF(cola=F$2,ROW(cola)-1,""),ROW($A4))),"")} | G6: {=IFERROR(INDEX(cold,SMALL(IF(cola=G$2,ROW(cola)-1,""),ROW($A4))),"")} | H6: {=IFERROR(INDEX(cold,SMALL(IF(cola=H$2,ROW(cola)-1,""),ROW($A4))),"")} | I6: {=IFERROR(INDEX(cold,SMALL(IF(cola=I$2,ROW(cola)-1,""),ROW($A4))),"")} | J6: {=IFERROR(INDEX(cold,SMALL(IF(cola=J$2,ROW(cola)-1,""),ROW($A4))),"")} | K6: {=IFERROR(INDEX(cold,SMALL(IF(cola=K$2,ROW(cola)-1,""),ROW($A4))),"")} | L6: {=IFERROR(INDEX(cold,SMALL(IF(cola=L$2,ROW(cola)-1,""),ROW($A4))),"")} | M6: {=IFERROR(INDEX(cold,SMALL(IF(cola=M$2,ROW(cola)-1,""),ROW($A4))),"")} | ... X6: {=IFERROR(INDEX(cold,SMALL(IF(cola=X$2,ROW(cola)-1,""),ROW($A4))),"")}
A7: FFFFF | B7: MR | C7: peugeot | D7: 555 CE 548 | F7: {=IFERROR(INDEX(cold,SMALL(IF(cola=F$2,ROW(cola)-1,""),ROW($A5))),"")} | G7: {=IFERROR(INDEX(cold,SMALL(IF(cola=G$2,ROW(cola)-1,""),ROW($A5))),"")} | H7: {=IFERROR(INDEX(cold,SMALL(IF(cola=H$2,ROW(cola)-1,""),ROW($A5))),"")} | I7: {=IFERROR(INDEX(cold,SMALL(IF(cola=I$2,ROW(cola)-1,""),ROW($A5))),"")} | J7: {=IFERROR(INDEX(cold,SMALL(IF(cola=J$2,ROW(cola)-1,""),ROW($A5))),"")} | K7: {=IFERROR(INDEX(cold,SMALL(IF(cola=K$2,ROW(cola)-1,""),ROW($A5))),"")} | L7: {=IFERROR(INDEX(cold,SMALL(IF(cola=L$2,ROW(cola)-1,""),ROW($A5))),"")} | M7: {=IFERROR(INDEX(cold,SMALL(IF(cola=M$2,ROW(cola)-1,""),ROW($A5))),"")} | ... X7: {=IFERROR(INDEX(cold,SMALL(IF(cola=X$2,ROW(cola)-1,""),ROW($A5))),"")}
A8: GGGGG | B8: MME | C8: peugeot | D8: 156 AW 548 | F8: {=IFERROR(INDEX(cold,SMALL(IF(cola=F$2,ROW(cola)-1,""),ROW($A6))),"")} | G8: {=IFERROR(INDEX(cold,SMALL(IF(cola=G$2,ROW(cola)-1,""),ROW($A6))),"")} | H8: {=IFERROR(INDEX(cold,SMALL(IF(cola=H$2,ROW(cola)-1,""),ROW($A6))),"")} | I8: {=IFERROR(INDEX(cold,SMALL(IF(cola=I$2,ROW(cola)-1,""),ROW($A6))),"")} | J8: {=IFERROR(INDEX(cold,SMALL(IF(cola=J$2,ROW(cola)-1,""),ROW($A6))),"")} | K8: {=IFERROR(INDEX(cold,SMALL(IF(cola=K$2,ROW(cola)-1,""),ROW($A6))),"")} | L8: {=IFERROR(INDEX(cold,SMALL(IF(cola=L$2,ROW(cola)-1,""),ROW($A6))),"")} | M8: {=IFERROR(INDEX(cold,SMALL(IF(cola=M$2,ROW(cola)-1,""),ROW($A6))),"")} | ... X8: {=IFERROR(INDEX(cold,SMALL(IF(cola=X$2,ROW(cola)-1,""),ROW($A6))),"")}
A9: HHHHHH | B9: MR | C9: peugeot | D9: 957 BC 548 | F9: {=IFERROR(INDEX(cold,SMALL(IF(cola=F$2,ROW(cola)-1,""),ROW($A7))),"")} | G9: {=IFERROR(INDEX(cold,SMALL(IF(cola=G$2,ROW(cola)-1,""),ROW($A7))),"")} | H9: {=IFERROR(INDEX(cold,SMALL(IF(cola=H$2,ROW(cola)-1,""),ROW($A7))),"")} | I9: {=IFERROR(INDEX(cold,SMALL(IF(cola=I$2,ROW(cola)-1,""),ROW($A7))),"")} | J9: {=IFERROR(INDEX(cold,SMALL(IF(cola=J$2,ROW(cola)-1,""),ROW($A7))),"")} | K9: {=IFERROR(INDEX(cold,SMALL(IF(cola=K$2,ROW(cola)-1,""),ROW($A7))),"")} | L9: {=IFERROR(INDEX(cold,SMALL(IF(cola=L$2,ROW(cola)-1,""),ROW($A7))),"")} | M9: {=IFERROR(INDEX(cold,SMALL(IF(cola=M$2,ROW(cola)-1,""),ROW($A7))),"")} | ... X9: {=IFERROR(INDEX(cold,SMALL(IF(cola=X$2,ROW(cola)-1,""),ROW($A7))),"")}
A10: IIIII | B10: MR | C10: peugeot | D10: 888 AM 548 | F10: {=IFERROR(INDEX(cold,SMALL(IF(cola=F$2,ROW(cola)-1,""),ROW($A8))),"")} | G10: {=IFERROR(INDEX(cold,SMALL(IF(cola=G$2,ROW(cola)-1,""),ROW($A8))),"")} | H10: {=IFERROR(INDEX(cold,SMALL(IF(cola=H$2,ROW(cola)-1,""),ROW($A8))),"")} | I10: {=IFERROR(INDEX(cold,SMALL(IF(cola=I$2,ROW(cola)-1,""),ROW($A8))),"")} | J10: {=IFERROR(INDEX(cold,SMALL(IF(cola=J$2,ROW(cola)-1,""),ROW($A8))),"")} | K10: {=IFERROR(INDEX(cold,SMALL(IF(cola=K$2,ROW(cola)-1,""),ROW($A8))),"")} | L10: {=IFERROR(INDEX(cold,SMALL(IF(cola=L$2,ROW(cola)-1,""),ROW($A8))),"")} | M10: {=IFERROR(INDEX(cold,SMALL(IF(cola=M$2,ROW(cola)-1,""),ROW($A8))),"")} | ... X10: {=IFERROR(INDEX(cold,SMALL(IF(cola=X$2,ROW(cola)-1,""),ROW($A8))),"")}
A11: JJJJJ | B11: MR | C11: peugeot | D11: 563 YT 548 | F11: {=IFERROR(INDEX(cold,SMALL(IF(cola=F$2,ROW(cola)-1,""),ROW($A9))),"")} | G11: {=IFERROR(INDEX(cold,SMALL(IF(cola=G$2,ROW(cola)-1,""),ROW($A9))),"")} | H11: {=IFERROR(INDEX(cold,SMALL(IF(cola=H$2,ROW(cola)-1,""),ROW($A9))),"")} | I11: {=IFERROR(INDEX(cold,SMALL(IF(cola=I$2,ROW(cola)-1,""),ROW($A9))),"")} | J11: {=IFERROR(INDEX(cold,SMALL(IF(cola=J$2,ROW(cola)-1,""),ROW($A9))),"")} | K11: {=IFERROR(INDEX(cold,SMALL(IF(cola=K$2,ROW(cola)-1,""),ROW($A9))),"")} | L11: {=IFERROR(INDEX(cold,SMALL(IF(cola=L$2,ROW(cola)-1,""),ROW($A9))),"")} | M11: {=IFERROR(INDEX(cold,SMALL(IF(cola=M$2,ROW(cola)-1,""),ROW($A9))),"")} | ... X11: {=IFERROR(INDEX(cold,SMALL(IF(cola=X$2,ROW(cola)-1,""),ROW($A9))),"")}
A12: KKKKK | B12: MR | C12: peugeot | D12: 360 ML 548 | F12: {=IFERROR(INDEX(cold,SMALL(IF(cola=F$2,ROW(cola)-1,""),ROW($A10))),"")} | G12: {=IFERROR(INDEX(cold,SMALL(IF(cola=G$2,ROW(cola)-1,""),ROW($A10))),"")} | H12: {=IFERROR(INDEX(cold,SMALL(IF(cola=H$2,ROW(cola)-1,""),ROW($A10))),"")} | I12: {=IFERROR(INDEX(cold,SMALL(IF(cola=I$2,ROW(cola)-1,""),ROW($A10))),"")} | J12: {=IFERROR(INDEX(cold,SMALL(IF(cola=J$2,ROW(cola)-1,""),ROW($A10))),"")} | K12: {=IFERROR(INDEX(cold,SMALL(IF(cola=K$2,ROW(cola)-1,""),ROW($A10))),"")} | L12: {=IFERROR(INDEX(cold,SMALL(IF(cola=L$2,ROW(cola)-1,""),ROW($A10))),"")} | M12: {=IFERROR(INDEX(cold,SMALL(IF(cola=M$2,ROW(cola)-1,""),ROW($A10))),"")} | ... X12: {=IFERROR(INDEX(cold,SMALL(IF(cola=X$2,ROW(cola)-1,""),ROW($A10))),"")}
A13: LLLLL | B13: MME | C13: peugeot | D13: 163 NJ 548 | F13: {=IFERROR(INDEX(cold,SMALL(IF(cola=F$2,ROW(cola)-1,""),ROW($A11))),"")} | G13: {=IFERROR(INDEX(cold,SMALL(IF(cola=G$2,ROW(cola)-1,""),ROW($A11))),"")} | H13: {=IFERROR(INDEX(cold,SMALL(IF(cola=H$2,ROW(cola)-1,""),ROW($A11))),"")} | I13: {=IFERROR(INDEX(cold,SMALL(IF(cola=I$2,ROW(cola)-1,""),ROW($A11))),"")} | J13: {=IFERROR(INDEX(cold,SMALL(IF(cola=J$2,ROW(cola)-1,""),ROW($A11))),"")} | K13: {=IFERROR(INDEX(cold,SMALL(IF(cola=K$2,ROW(cola)-1,""),ROW($A11))),"")} | L13: {=IFERROR(INDEX(cold,SMALL(IF(cola=L$2,ROW(cola)-1,""),ROW($A11))),"")} | M13: {=IFERROR(INDEX(cold,SMALL(IF(cola=M$2,ROW(cola)-1,""),ROW($A11))),"")} | ... X13: {=IFERROR(INDEX(cold,SMALL(IF(cola=X$2,ROW(cola)-1,""),ROW($A11))),"")}
A14: MMMMM | B14: MR | C14: peugeot | D14: 263 OT 548 | F14: {=IFERROR(INDEX(cold,SMALL(IF(cola=F$2,ROW(cola)-1,""),ROW($A12))),"")} | G14: {=IFERROR(INDEX(cold,SMALL(IF(cola=G$2,ROW(cola)-1,""),ROW($A12))),"")} | H14: {=IFERROR(INDEX(cold,SMALL(IF(cola=H$2,ROW(cola)-1,""),ROW($A12))),"")} | I14: {=IFERROR(INDEX(cold,SMALL(IF(cola=I$2,ROW(cola)-1,""),ROW($A12))),"")} | J14: {=IFERROR(INDEX(cold,SMALL(IF(cola=J$2,ROW(cola)-1,""),ROW($A12))),"")} | K14: {=IFERROR(INDEX(cold,SMALL(IF(cola=K$2,ROW(cola)-1,""),ROW($A12))),"")} | L14: {=IFERROR(INDEX(cold,SMALL(IF(cola=L$2,ROW(cola)-1,""),ROW($A12))),"")} | M14: {=IFERROR(INDEX(cold,SMALL(IF(cola=M$2,ROW(cola)-1,""),ROW($A12))),"")} | ... X14: {=IFERROR(INDEX(cold,SMALL(IF(cola=X$2,ROW(cola)-1,""),ROW($A12))),"")}
A15: fffff | B15: MR | C15: peugeot | D15: 363 IJ 548 | F15: {=IFERROR(INDEX(cold,SMALL(IF(cola=F$2,ROW(cola)-1,""),ROW($A13))),"")} | G15: {=IFERROR(INDEX(cold,SMALL(IF(cola=G$2,ROW(cola)-1,""),ROW($A13))),"")} | H15: {=IFERROR(INDEX(cold,SMALL(IF(cola=H$2,ROW(cola)-1,""),ROW($A13))),"")} | I15: {=IFERROR(INDEX(cold,SMALL(IF(cola=I$2,ROW(cola)-1,""),ROW($A13))),"")} | J15: {=IFERROR(INDEX(cold,SMALL(IF(cola=J$2,ROW(cola)-1,""),ROW($A13))),"")} | K15: {=IFERROR(INDEX(cold,SMALL(IF(cola=K$2,ROW(cola)-1,""),ROW($A13))),"")} | L15: {=IFERROR(INDEX(cold,SMALL(IF(cola=L$2,ROW(cola)-1,""),ROW($A13))),"")} | M15: {=IFERROR(INDEX(cold,SMALL(IF(cola=M$2,ROW(cola)-1,""),ROW($A13))),"")} | ... X15: {=IFERROR(INDEX(cold,SMALL(IF(cola=X$2,ROW(cola)-1,""),ROW($A13))),"")}
I20: les formules sont matricielles

Sheet voiture_2
A1: NOMS | B1: CIVILITE | C1: TYPE | D1: IMMATRICULATION
A2: AAAAA | B2: MR | C2: RENAULT | D2: 482 KG 362
A3: BBBBB | B3: MR | C3: RENAULT | D3: 351 BF 548
A4: CCCCC | B4: MR | C4: RENAULT | D4: 752 ZE 548
A5: DDDDD | B5: MR | C5: RENAULT | D5: 353 DC 548
A6: EEEEE | B6: MME | C6: RENAULT | D6: 624 DZ 548
A7: FFFFF | B7: MR | C7: RENAULT | D7: 555 CE 548
A8: GGGGG | B8: MME | C8: RENAULT | D8: 156 AW 548

Sheet voiture_3
A1: NOMS | B1: CIVILITE | C1: TYPE | D1: IMMATRICULATION
A2: AAAAA | B2: MR | C2: CITROEN | D2: 482 KG 362
A3: BBBBB | B3: MR | C3: CITROEN | D3: 351 BF 548
A4: CCCCC | B4: MR | C4: CITROEN | D4: 752 ZE 548
A5: DDDDD | B5: MR | C5: CITROEN | D5: 353 DC 548

Sheet Feuil1

Sheet Feuil2
