Workbook
Name bdesta: Feuil1!$G$5:$T$6
Name dept: OFFSET(Feuil1!$F$5,,,ROWS(estaminet))
Name estaminet: OFFSET(Feuil1!$A$5:$F$5,,,COUNTIF(Feuil1!$A:$A,"><")-1)
Name jour: Feuil1!$G$3:$T$3

Sheet Feuil1
B1: Liste des etablissement à essayer
A2: estaminet ? | B2: Nom | C2: Lieu | D2: Adresse / Telephone | E2: commentaires | F2: présence d'echin | G2: Jours d'ouverture
G3: Lundi midi | H3: Lundi soir | I3: Mardi midi | J3: Mardi soir | K3: mercredi midi | L3: mercredi soir | M3: jeudi midi | N3: jeudi soir | O3: vendredi midi | P3: vendredi soir | Q3: samedi midi | R3: samedi soir | S3: dimanche midi | T3: dimanche soir
A5: tulipe1 | B5: n°1 | C5: BAILLEUL | D5: 1233 | E5: comment1 | F5: echin1 | G5: oui | H5: oui | I5: oui | J5: oui | K5: oui | L5: oui | M5: oui | N5: oui | O5: oui | P5: oui | Q5: oui | R5: oui | S5: oui | T5: non
A6: tulipe2 | B6: n°2 | C6: BAILLEUL | D6: 456 | E6: comment2 | F6: echin2 | G6: oui | H6: oui | I6: non | J6: non | K6: non | L6: non | M6: non | N6: non | O6: non | P6: oui | Q6: oui | R6: oui | S6: oui | T6: oui
A7: tulipe3 | B7: n°3 | C7: wandignies les berdoules | D7: 789 | E7: comment3 | F7: echin3 | G7: oui | H7: oui | I7: oui | J7: oui | K7: oui | L7: non | M7: oui | N7: oui | O7: oui | P7: oui | Q7: non | R7: oui | S7: oui | T7: oui
A8: tulipe4 | B8: n°4 | C8: hazebrouck | D8: 101112 | E8: comment4 | F8: echin4 | G8: non | H8: oui | I8: non | J8: oui | K8: non | L8: oui | M8: non | N8: non | O8: oui | P8: oui | Q8: oui | R8: oui | S8: oui | T8: oui
A9: tulipe5 | B9: n°5 | C9: lillers | D9: 131415 | E9: comment5 | F9: echin5 | G9: oui | H9: oui | I9: oui | J9: oui | K9: oui | L9: oui | M9: oui | N9: oui | O9: oui | P9: non | Q9: oui | R9: oui | S9: oui | T9: non

Sheet recherche
C1: choisir un jour | E1: mercredi soir | G1: ouvert(oui)/fermé(non) | I1: non
C3: {=IFERROR(INDEX(estaminet,SMALL(IF(OFFSET(dept,,MATCH($E$1,jour,0),)=recherche!$I$1,ROW(estaminet)-4,""),ROW($A1)),COLUMN(A:A)),"")} -> tulipe2 | D3: {=IFERROR(INDEX(estaminet,SMALL(IF(OFFSET(dept,,MATCH($E$1,jour,0),)=recherche!$I$1,ROW(estaminet)-4,""),ROW($A1)),COLUMN(B:B)),"")} -> n°2 | E3: {=IFERROR(INDEX(estaminet,SMALL(IF(OFFSET(dept,,MATCH($E$1,jour,0),)=recherche!$I$1,ROW(estaminet)-4,""),ROW($A1)),COLUMN(C:C)),"")} -> BAILLEUL | F3: {=IFERROR(INDEX(estaminet,SMALL(IF(OFFSET(dept,,MATCH($E$1,jour,0),)=recherche!$I$1,ROW(estaminet)-4,""),ROW($A1)),COLUMN(D:D)),"")} -> 456 | G3: {=IFERROR(INDEX(estaminet,SMALL(IF(OFFSET(dept,,MATCH($E$1,jour,0),)=recherche!$I$1,ROW(estaminet)-4,""),ROW($A1)),COLUMN(E:E)),"")} -> comment2 | H3: {=IFERROR(INDEX(estaminet,SMALL(IF(OFFSET(dept,,MATCH($E$1,jour,0),)=recherche!$I$1,ROW(estaminet)-4,""),ROW($A1)),COLUMN(F:F)),"")} -> echin2
C4: {=IFERROR(INDEX(estaminet,SMALL(IF(OFFSET(dept,,MATCH($E$1,jour,0),)=recherche!$I$1,ROW(estaminet)-4,""),ROW($A2)),COLUMN(A:A)),"")} -> tulipe3 | D4: {=IFERROR(INDEX(estaminet,SMALL(IF(OFFSET(dept,,MATCH($E$1,jour,0),)=recherche!$I$1,ROW(estaminet)-4,""),ROW($A2)),COLUMN(B:B)),"")} -> n°3 | E4: {=IFERROR(INDEX(estaminet,SMALL(IF(OFFSET(dept,,MATCH($E$1,jour,0),)=recherche!$I$1,ROW(estaminet)-4,""),ROW($A2)),COLUMN(C:C)),"")} -> wandignies les berdoules | F4: {=IFERROR(INDEX(estaminet,SMALL(IF(OFFSET(dept,,MATCH($E$1,jour,0),)=recherche!$I$1,ROW(estaminet)-4,""),ROW($A2)),COLUMN(D:D)),"")} -> 789 | G4: {=IFERROR(INDEX(estaminet,SMALL(IF(OFFSET(dept,,MATCH($E$1,jour,0),)=recherche!$I$1,ROW(estaminet)-4,""),ROW($A2)),COLUMN(E:E)),"")} -> comment3 | H4: {=IFERROR(INDEX(estaminet,SMALL(IF(OFFSET(dept,,MATCH($E$1,jour,0),)=recherche!$I$1,ROW(estaminet)-4,""),ROW($A2)),COLUMN(F:F)),"")} -> echin3
C5: {=IFERROR(INDEX(estaminet,SMALL(IF(OFFSET(dept,,MATCH($E$1,jour,0),)=recherche!$I$1,ROW(estaminet)-4,""),ROW($A3)),COLUMN(A:A)),"")} | D5: {=IFERROR(INDEX(estaminet,SMALL(IF(OFFSET(dept,,MATCH($E$1,jour,0),)=recherche!$I$1,ROW(estaminet)-4,""),ROW($A3)),COLUMN(B:B)),"")} | E5: {=IFERROR(INDEX(estaminet,SMALL(IF(OFFSET(dept,,MATCH($E$1,jour,0),)=recherche!$I$1,ROW(estaminet)-4,""),ROW($A3)),COLUMN(C:C)),"")} | F5: {=IFERROR(INDEX(estaminet,SMALL(IF(OFFSET(dept,,MATCH($E$1,jour,0),)=recherche!$I$1,ROW(estaminet)-4,""),ROW($A3)),COLUMN(D:D)),"")} | G5: {=IFERROR(INDEX(estaminet,SMALL(IF(OFFSET(dept,,MATCH($E$1,jour,0),)=recherche!$I$1,ROW(estaminet)-4,""),ROW($A3)),COLUMN(E:E)),"")} | H5: {=IFERROR(INDEX(estaminet,SMALL(IF(OFFSET(dept,,MATCH($E$1,jour,0),)=recherche!$I$1,ROW(estaminet)-4,""),ROW($A3)),COLUMN(F:F)),"")}
C6: {=IFERROR(INDEX(estaminet,SMALL(IF(OFFSET(dept,,MATCH($E$1,jour,0),)=recherche!$I$1,ROW(estaminet)-4,""),ROW($A4)),COLUMN(A:A)),"")} | D6: {=IFERROR(INDEX(estaminet,SMALL(IF(OFFSET(dept,,MATCH($E$1,jour,0),)=recherche!$I$1,ROW(estaminet)-4,""),ROW($A4)),COLUMN(B:B)),"")} | E6: {=IFERROR(INDEX(estaminet,SMALL(IF(OFFSET(dept,,MATCH($E$1,jour,0),)=recherche!$I$1,ROW(estaminet)-4,""),ROW($A4)),COLUMN(C:C)),"")} | F6: {=IFERROR(INDEX(estaminet,SMALL(IF(OFFSET(dept,,MATCH($E$1,jour,0),)=recherche!$I$1,ROW(estaminet)-4,""),ROW($A4)),COLUMN(D:D)),"")} | G6: {=IFERROR(INDEX(estaminet,SMALL(IF(OFFSET(dept,,MATCH($E$1,jour,0),)=recherche!$I$1,ROW(estaminet)-4,""),ROW($A4)),COLUMN(E:E)),"")} | H6: {=IFERROR(INDEX(estaminet,SMALL(IF(OFFSET(dept,,MATCH($E$1,jour,0),)=recherche!$I$1,ROW(estaminet)-4,""),ROW($A4)),COLUMN(F:F)),"")}
C7: {=IFERROR(INDEX(estaminet,SMALL(IF(OFFSET(dept,,MATCH($E$1,jour,0),)=recherche!$I$1,ROW(estaminet)-4,""),ROW($A5)),COLUMN(A:A)),"")} | D7: {=IFERROR(INDEX(estaminet,SMALL(IF(OFFSET(dept,,MATCH($E$1,jour,0),)=recherche!$I$1,ROW(estaminet)-4,""),ROW($A5)),COLUMN(B:B)),"")} | E7: {=IFERROR(INDEX(estaminet,SMALL(IF(OFFSET(dept,,MATCH($E$1,jour,0),)=recherche!$I$1,ROW(estaminet)-4,""),ROW($A5)),COLUMN(C:C)),"")} | F7: {=IFERROR(INDEX(estaminet,SMALL(IF(OFFSET(dept,,MATCH($E$1,jour,0),)=recherche!$I$1,ROW(estaminet)-4,""),ROW($A5)),COLUMN(D:D)),"")} | G7: {=IFERROR(INDEX(estaminet,SMALL(IF(OFFSET(dept,,MATCH($E$1,jour,0),)=recherche!$I$1,ROW(estaminet)-4,""),ROW($A5)),COLUMN(E:E)),"")} | H7: {=IFERROR(INDEX(estaminet,SMALL(IF(OFFSET(dept,,MATCH($E$1,jour,0),)=recherche!$I$1,ROW(estaminet)-4,""),ROW($A5)),COLUMN(F:F)),"")}
C8: {=IFERROR(INDEX(estaminet,SMALL(IF(OFFSET(dept,,MATCH($E$1,jour,0),)=recherche!$I$1,ROW(estaminet)-4,""),ROW($A6)),COLUMN(A:A)),"")} | D8: {=IFERROR(INDEX(estaminet,SMALL(IF(OFFSET(dept,,MATCH($E$1,jour,0),)=recherche!$I$1,ROW(estaminet)-4,""),ROW($A6)),COLUMN(B:B)),"")} | E8: {=IFERROR(INDEX(estaminet,SMALL(IF(OFFSET(dept,,MATCH($E$1,jour,0),)=recherche!$I$1,ROW(estaminet)-4,""),ROW($A6)),COLUMN(C:C)),"")} | F8: {=IFERROR(INDEX(estaminet,SMALL(IF(OFFSET(dept,,MATCH($E$1,jour,0),)=recherche!$I$1,ROW(estaminet)-4,""),ROW($A6)),COLUMN(D:D)),"")} | G8: {=IFERROR(INDEX(estaminet,SMALL(IF(OFFSET(dept,,MATCH($E$1,jour,0),)=recherche!$I$1,ROW(estaminet)-4,""),ROW($A6)),COLUMN(E:E)),"")} | H8: {=IFERROR(INDEX(estaminet,SMALL(IF(OFFSET(dept,,MATCH($E$1,jour,0),)=recherche!$I$1,ROW(estaminet)-4,""),ROW($A6)),COLUMN(F:F)),"")}
C9: {=IFERROR(INDEX(estaminet,SMALL(IF(OFFSET(dept,,MATCH($E$1,jour,0),)=recherche!$I$1,ROW(estaminet)-4,""),ROW($A7)),COLUMN(A:A)),"")} | D9: {=IFERROR(INDEX(estaminet,SMALL(IF(OFFSET(dept,,MATCH($E$1,jour,0),)=recherche!$I$1,ROW(estaminet)-4,""),ROW($A7)),COLUMN(B:B)),"")} | E9: {=IFERROR(INDEX(estaminet,SMALL(IF(OFFSET(dept,,MATCH($E$1,jour,0),)=recherche!$I$1,ROW(estaminet)-4,""),ROW($A7)),COLUMN(C:C)),"")} | F9: {=IFERROR(INDEX(estaminet,SMALL(IF(OFFSET(dept,,MATCH($E$1,jour,0),)=recherche!$I$1,ROW(estaminet)-4,""),ROW($A7)),COLUMN(D:D)),"")} | G9: {=IFERROR(INDEX(estaminet,SMALL(IF(OFFSET(dept,,MATCH($E$1,jour,0),)=recherche!$I$1,ROW(estaminet)-4,""),ROW($A7)),COLUMN(E:E)),"")} | H9: {=IFERROR(INDEX(estaminet,SMALL(IF(OFFSET(dept,,MATCH($E$1,jour,0),)=recherche!$I$1,ROW(estaminet)-4,""),ROW($A7)),COLUMN(F:F)),"")}
C10: {=IFERROR(INDEX(estaminet,SMALL(IF(OFFSET(dept,,MATCH($E$1,jour,0),)=recherche!$I$1,ROW(estaminet)-4,""),ROW($A8)),COLUMN(A:A)),"")} | D10: {=IFERROR(INDEX(estaminet,SMALL(IF(OFFSET(dept,,MATCH($E$1,jour,0),)=recherche!$I$1,ROW(estaminet)-4,""),ROW($A8)),COLUMN(B:B)),"")} | E10: {=IFERROR(INDEX(estaminet,SMALL(IF(OFFSET(dept,,MATCH($E$1,jour,0),)=recherche!$I$1,ROW(estaminet)-4,""),ROW($A8)),COLUMN(C:C)),"")} | F10: {=IFERROR(INDEX(estaminet,SMALL(IF(OFFSET(dept,,MATCH($E$1,jour,0),)=recherche!$I$1,ROW(estaminet)-4,""),ROW($A8)),COLUMN(D:D)),"")} | G10: {=IFERROR(INDEX(estaminet,SMALL(IF(OFFSET(dept,,MATCH($E$1,jour,0),)=recherche!$I$1,ROW(estaminet)-4,""),ROW($A8)),COLUMN(E:E)),"")} | H10: {=IFERROR(INDEX(estaminet,SMALL(IF(OFFSET(dept,,MATCH($E$1,jour,0),)=recherche!$I$1,ROW(estaminet)-4,""),ROW($A8)),COLUMN(F:F)),"")}
C11: {=IFERROR(INDEX(estaminet,SMALL(IF(OFFSET(dept,,MATCH($E$1,jour,0),)=recherche!$I$1,ROW(estaminet)-4,""),ROW($A9)),COLUMN(A:A)),"")} | D11: {=IFERROR(INDEX(estaminet,SMALL(IF(OFFSET(dept,,MATCH($E$1,jour,0),)=recherche!$I$1,ROW(estaminet)-4,""),ROW($A9)),COLUMN(B:B)),"")} | E11: {=IFERROR(INDEX(estaminet,SMALL(IF(OFFSET(dept,,MATCH($E$1,jour,0),)=recherche!$I$1,ROW(estaminet)-4,""),ROW($A9)),COLUMN(C:C)),"")} | F11: {=IFERROR(INDEX(estaminet,SMALL(IF(OFFSET(dept,,MATCH($E$1,jour,0),)=recherche!$I$1,ROW(estaminet)-4,""),ROW($A9)),COLUMN(D:D)),"")} | G11: {=IFERROR(INDEX(estaminet,SMALL(IF(OFFSET(dept,,MATCH($E$1,jour,0),)=recherche!$I$1,ROW(estaminet)-4,""),ROW($A9)),COLUMN(E:E)),"")} | H11: {=IFERROR(INDEX(estaminet,SMALL(IF(OFFSET(dept,,MATCH($E$1,jour,0),)=recherche!$I$1,ROW(estaminet)-4,""),ROW($A9)),COLUMN(F:F)),"")}

Sheet Feuil3
