Workbook
Name bdval: OFFSET(QC!$M$3:$AA$3,,,ROWS(critere2))
Name critere1: QC!$M$1:$AA$1
Name critere2: OFFSET(QC!$H$3,,,COUNTIF(QC!$H$3:$H$2000,"><"))

Sheet Indicateurs
A1: Type d'erreur | B1: Zo ACP | C1: Nirina ACP | D1: Jérôme
A2: INTEGRITE DU TEXTE | B2: =SUMPRODUCT((critere1=$A2)*(critere2=B$1)*(bdval)) -> 1 | C2: =SUMPRODUCT((critere1=$A2)*(critere2=C$1)*(bdval)) -> 0 | D2: =SUMPRODUCT((critere1=$A2)*(critere2=D$1)*(bdval)) -> 0 | G2: dans gestionnaire de nom (dans le bandeau ou touches Ctrl+F3
A3: MACRO-STRUCTURE | B3: =SUMPRODUCT((critere1=$A3)*(critere2=B$1)*(bdval)) -> 2 | C3: =SUMPRODUCT((critere1=$A3)*(critere2=C$1)*(bdval)) -> 0 | D3: =SUMPRODUCT((critere1=$A3)*(critere2=D$1)*(bdval)) -> 0
A4: MICRO-STRUCTURE* - RENV-INT | B4: =SUMPRODUCT((critere1=$A4)*(critere2=B$1)*(bdval)) -> 3 | C4: =SUMPRODUCT((critere1=$A4)*(critere2=C$1)*(bdval)) -> 6 | D4: =SUMPRODUCT((critere1=$A4)*(critere2=D$1)*(bdval)) -> 0 | G4: critère1 | H4: QC!$M$1:$AA$1
A5: MICRO-STRUCTURE* - Autre | B5: =SUMPRODUCT((critere1=$A5)*(critere2=B$1)*(bdval)) -> 7 | C5: =SUMPRODUCT((critere1=$A5)*(critere2=C$1)*(bdval)) -> 1 | D5: =SUMPRODUCT((critere1=$A5)*(critere2=D$1)*(bdval)) -> 0 | G5: critére2 | H5: DECALER(QC!$H$3;;;NB.SI(QC!$H$3:$H$2000;"><"))
A6: DREV-FREV | B6: =SUMPRODUCT((critere1=$A6)*(critere2=B$1)*(bdval)) -> 9 | C6: =SUMPRODUCT((critere1=$A6)*(critere2=C$1)*(bdval)) -> 46 | D6: =SUMPRODUCT((critere1=$A6)*(critere2=D$1)*(bdval)) -> 0 | H6: on dimensionne la plage des controleurs
A7: J_REFJURI | B7: =SUMPRODUCT((critere1=$A7)*(critere2=B$1)*(bdval)) -> 12 | C7: =SUMPRODUCT((critere1=$A7)*(critere2=C$1)*(bdval)) -> 1 | D7: =SUMPRODUCT((critere1=$A7)*(critere2=D$1)*(bdval)) -> 0 | H7: grace àNB.SI qui compte les "textes"
A8: nettoyage** | B8: =SUMPRODUCT((critere1=$A8)*(critere2=B$1)*(bdval)) -> 6 | C8: =SUMPRODUCT((critere1=$A8)*(critere2=C$1)*(bdval)) -> 1 | D8: =SUMPRODUCT((critere1=$A8)*(critere2=D$1)*(bdval)) -> 0
A9: NORMALISATION D'UN HISTO | B9: =SUMPRODUCT((critere1=$A9)*(critere2=B$1)*(bdval)) -> 90 | C9: =SUMPRODUCT((critere1=$A9)*(critere2=C$1)*(bdval)) -> 83 | D9: =SUMPRODUCT((critere1=$A9)*(critere2=D$1)*(bdval)) -> 0 | G9: bdval | H9: DECALER(QC!$M$3:$AA$3;;;LIGNES(critere2))
A10: PONCTUATION/SEPARATEUR/ESPACE | B10: =SUMPRODUCT((critere1=$A10)*(critere2=B$1)*(bdval)) -> 55 | C10: =SUMPRODUCT((critere1=$A10)*(critere2=C$1)*(bdval)) -> 9 | D10: =SUMPRODUCT((critere1=$A10)*(critere2=D$1)*(bdval)) -> 0 | H10: on dimensionnela plage des valeurs à recupérer grace à
A11: abréviation | B11: =SUMPRODUCT((critere1=$A11)*(critere2=B$1)*(bdval)) -> 21 | C11: =SUMPRODUCT((critere1=$A11)*(critere2=C$1)*(bdval)) -> 0 | D11: =SUMPRODUCT((critere1=$A11)*(critere2=D$1)*(bdval)) -> 0 | H11: à la dimension de critère2 déjà dimensionné
A12: NORMALISATION D'UNE REF JURISPRUDENCE | B12: =SUMPRODUCT((critere1=$A12)*(critere2=B$1)*(bdval)) -> 13 | C12: =SUMPRODUCT((critere1=$A12)*(critere2=C$1)*(bdval)) -> 18 | D12: =SUMPRODUCT((critere1=$A12)*(critere2=D$1)*(bdval)) -> 0
A13: NORMALISATION D'UNE REF BIBLIO | B13: =SUMPRODUCT((critere1=$A13)*(critere2=B$1)*(bdval)) -> 1 | C13: =SUMPRODUCT((critere1=$A13)*(critere2=C$1)*(bdval)) -> 2 | D13: =SUMPRODUCT((critere1=$A13)*(critere2=D$1)*(bdval)) -> 0
A14: QUESTION | B14: =SUMPRODUCT((critere1=$A14)*(critere2=B$1)*(bdval)) -> 1 | C14: =SUMPRODUCT((critere1=$A14)*(critere2=C$1)*(bdval)) -> 2 | D14: =SUMPRODUCT((critere1=$A14)*(critere2=D$1)*(bdval)) -> 0 | G14: la formule d'extraction | I14: SOMMEPROD((critere1=$A2)*(critere2=B$1)*(bdval))
A15: AUTRE | B15: =SUMPRODUCT((critere1=$A15)*(critere2=B$1)*(bdval)) -> 25 | C15: =SUMPRODUCT((critere1=$A15)*(critere2=C$1)*(bdval)) -> 81 | D15: =SUMPRODUCT((critere1=$A15)*(critere2=D$1)*(bdval)) -> 0
G16: sommeprod part à la chasse aux critères qui croisent l'énoncé de la formule
G17: ce qui va donner une matrice virtuelle de 1 ou de 0 selon
G18: cette matrice se voit multipliée par celle de bdval et comme X fois 0=0……….

Sheet QC
A1: semaine | B1: Ud | C1: Étape | E1: date du QC | F1: Opé struct | G1: Opé norm | H1: Contrôleur | I1: nb signes | J1: taux de mise à jour | K1: Total erreurs pondérées | L1: Taux qualité interne | M1: INTEGRITE DU TEXTE | N1: MACRO-STRUCTURE | O1: MICRO-STRUCTURE* - RENV-INT | P1: MICRO-STRUCTURE* - Autre | Q1: DREV-FREV | R1: J_REFJURI | S1: nettoyage** | T1: NORMALISATION D'UN HISTO | U1: PONCTUATION/SEPARATEUR/ESPACE | V1: abréviation | W1: NORMALISATION D'UNE REF JURISPRUDENCE | X1: NORMALISATION D'UNE REF BIBLIO | Y1: QUESTION | Z1: AUTRE | AA1: 0 | AC1: Contrôle externe | AD1: Total erreurs pondérées | AE1: Taux qualité externe | AF1: Ecart interne/externe | AG1: INTEGRITE DU TEXTE | AH1: MACRO-STRUCTURE | AI1: MICRO-STRUCTURE* - RENV-INT | AJ1: MICRO-STRUCTURE* - Autre | AK1: DREV-FREV | AL1: J_REFJURI | AM1: nettoyage** | AN1: NORMALISATION D'UN HISTO | AO1: PONCTUATION/SEPARATEUR/ESPACE | AP1: abréviation | AQ1: NORMALISATION D'UNE REF JURISPRUDENCE | AR1: NORMALISATION D'UNE REF BIBLIO | AS1: QUESTION | AT1: AUTRE | AU1: 0
M2: =Typage_Erreurs!$B2 -> 5 | N2: =Typage_Erreurs!B3 -> 3 | O2: =Typage_Erreurs!B4 -> 2 | P2: =Typage_Erreurs!B5 -> 2 | Q2: =Typage_Erreurs!B6 -> 1 | R2: =Typage_Erreurs!B7 -> 1 | S2: =Typage_Erreurs!B8 -> 3 | T2: =Typage_Erreurs!B9 -> 3 | U2: =Typage_Erreurs!B10 -> 1 | V2: =Typage_Erreurs!B11 -> 3 | W2: =Typage_Erreurs!B12 -> 2 | X2: =Typage_Erreurs!B13 -> 1 | Y2: =Typage_Erreurs!B14 -> 1 | Z2: =Typage_Erreurs!B15 -> 1 | AA2: =Typage_Erreurs!B16 -> 0 | AG2: 5 | AH2: 3 | AI2: 2 | AJ2: 2 | AK2: 1 | AL2: 1 | AM2: 3 | AN2: 3 | AO2: 1 | AP2: 3 | AQ2: 2 | AR2: 1 | AS2: 1 | AT2: 1 | AU2: 0
A3: =CONCATENATE(YEAR(E3),IF(WEEKNUM(E3)<10,"_S0","_S"),WEEKNUM(E3)) -> 2019_S38 | B3: 08cja_L7 | C3: Placard | E3: 43724 | F3: Tantely | G3: Hery Tiana | H3: Zo ACP | I3: 5171834 | J3: 0.41341698 | K3: =M3*M$2+N3*N$2+O3*O$2+P3*P$2+Q3*Q$2+R3*R$2+S3*S$2+T3*T$2+U3*U$2+V3*V$2+W3*W$2+X3*X$2+Y3*Y$2+Z3*Z$2+AA3*AA$2 -> 410 | L3: =K3*100/(I3*J3) -> 0.019175689 | M3: 1 | N3: 0 | O3: 3 | P3: 4 | Q3: 9 | R3: 10 | S3: 1 | T3: 75 | U3: 28 | V3: 21 | W3: 13 | X3: 1 | Y3: 1 | Z3: 25 | AA3: 0 | AC3: JCA | AD3: =AG3*AG$2+AH3*AH$2+AI3*AI$2+AJ3*AJ$2+AK3*AK$2+AL3*AL$2+AM3*AM$2+AN3*AN$2+AO3*AO$2+AP3*AP$2+AQ3*AQ$2+AR3*AR$2+AU3*AU$2 -> 171 | AE3: =AD3*100/(I3*J3) -> 0.0079976652 | AF3: =K3-AD3 -> 239 | AG3: 6 | AH3: 2 | AI3: 0 | AJ3: 0 | AK3: 21 | AL3: 3 | AM3: 2 | AN3: 9 | AO3: 1 | AP3: 9 | AQ3: 24 | AR3: 2 | AS3: 2 | AT3: 6 | AU3: 0
A4: =CONCATENATE(YEAR(E4),IF(WEEKNUM(E4)<10,"_S0","_S"),WEEKNUM(E4)) -> 2019_S38 | B4: 08cja_L7 | C4: Placard | E4: 43724 | F4: Tantely | G4: Hery Tiana | H4: Nirina ACP | I4: 5171834 | J4: 0.41341698 | K4: =M4*M$2+N4*N$2+O4*O$2+P4*P$2+Q4*Q$2+R4*R$2+S4*S$2+T4*T$2+U4*U$2+V4*V$2+W4*W$2+X4*X$2+Y4*Y$2+Z4*Z$2+AA4*AA$2 -> 355 | L4: =K4*100/(I4*J4) -> 0.01660334 | M4: 0 | N4: 0 | O4: 5 | P4: 1 | Q4: 24 | R4: 1 | S4: 1 | T4: 68 | U4: 8 | V4: 0 | W4: 17 | X4: 2 | Y4: 2 | Z4: 65 | AA4: 0 | AC4: JCA | AD4: =AG4*AG$2+AH4*AH$2+AI4*AI$2+AJ4*AJ$2+AK4*AK$2+AL4*AL$2+AM4*AM$2+AN4*AN$2+AO4*AO$2+AP4*AP$2+AQ4*AQ$2+AR4*AR$2+AU4*AU$2 -> 171 | AE4: =AD4*100/(I4*J4) -> 0.0079976652 | AF4: =K4-AD4 -> 184 | AG4: 6 | AH4: 2 | AI4: 0 | AJ4: 0 | AK4: 21 | AL4: 3 | AM4: 2 | AN4: 9 | AO4: 1 | AP4: 9 | AQ4: 24 | AR4: 2 | AS4: 2 | AT4: 6 | AU4: 0
A5: =CONCATENATE(YEAR(E5),IF(WEEKNUM(E5)<10,"_S0","_S"),WEEKNUM(E5)) -> 2019_S38 | B5: 02CMF_L2 | C5: Placard | E5: 43724 | F5: Tantely | G5: Hery Tiana | H5: Zo ACP | I5: 12265114 | J5: 0.0042121908 | K5: =M5*M$2+N5*N$2+O5*O$2+P5*P$2+Q5*Q$2+R5*R$2+S5*S$2+T5*T$2+U5*U$2+V5*V$2+W5*W$2+X5*X$2+Y5*Y$2+Z5*Z$2+AA5*AA$2 -> 101 | L5: =K5*100/(I5*J5) -> 0.19549775 | N5: 2 | P5: 3 | R5: 2 | S5: 5 | T5: 15 | U5: 27 | AC5: JCA | AD5: =AG5*AG$2+AH5*AH$2+AI5*AI$2+AJ5*AJ$2+AK5*AK$2+AL5*AL$2+AM5*AM$2+AN5*AN$2+AO5*AO$2+AP5*AP$2+AQ5*AQ$2+AR5*AR$2+AU5*AU$2 -> 61 | AE5: =AD5*100/(I5*J5) -> 0.1180729 | AF5: =K5-AD5 -> 40 | AG5: 0 | AH5: 2 | AI5: 0 | AJ5: 0 | AK5: 0 | AL5: 1 | AM5: 5 | AN5: 13 | AO5: 0 | AP5: 0 | AQ5: 0 | AR5: 0 | AS5: 0 | AT5: 0 | AU5: 0
A6: =CONCATENATE(YEAR(E6),IF(WEEKNUM(E6)<10,"_S0","_S"),WEEKNUM(E6)) -> 2019_S38 | B6: 02CMF_L2 | C6: Placard | E6: 43724 | F6: Tantely | G6: Hery Tiana | H6: Nirina ACP | I6: 12265114 | J6: 0.0042121908 | K6: =M6*M$2+N6*N$2+O6*O$2+P6*P$2+Q6*Q$2+R6*R$2+S6*S$2+T6*T$2+U6*U$2+V6*V$2+W6*W$2+X6*X$2+Y6*Y$2+Z6*Z$2+AA6*AA$2 -> 88 | L6: =K6*100/(I6*J6) -> 0.17033467 | O6: 1 | Q6: 22 | T6: 15 | U6: 1 | W6: 1 | Z6: 16 | AC6: JCA | AD6: =AG6*AG$2+AH6*AH$2+AI6*AI$2+AJ6*AJ$2+AK6*AK$2+AL6*AL$2+AM6*AM$2+AN6*AN$2+AO6*AO$2+AP6*AP$2+AQ6*AQ$2+AR6*AR$2+AU6*AU$2 -> 61 | AE6: =AD6*100/(I6*J6) -> 0.1180729 | AF6: =K6-AD6 -> 27 | AG6: 0 | AH6: 2 | AI6: 0 | AJ6: 0 | AK6: 0 | AL6: 1 | AM6: 5 | AN6: 13 | AO6: 0 | AP6: 0 | AQ6: 0 | AR6: 0 | AS6: 0 | AT6: 0 | AU6: 0

Sheet Typage_Erreurs
A1: Type d'erreur | B1: Coefficient | C1: type de la _pi err
A2: INTEGRITE DU TEXTE | B2: 5 | C2: integrite
A3: MACRO-STRUCTURE | B3: 3 | C3: macro-struct
A4: MICRO-STRUCTURE* - RENV-INT | B4: 2 | C4: micro-struct_renv-int
A5: MICRO-STRUCTURE* - Autre | B5: 2 | C5: micro-struct_autre
A6: DREV-FREV | B6: 1 | C6: drev_frev
A7: J_REFJURI | B7: 1 | C7: j_refjuri
A8: nettoyage** | B8: 3 | C8: nettoyage
A9: NORMALISATION D'UN HISTO | B9: 3 | C9: histo
A10: PONCTUATION/SEPARATEUR/ESPACE | B10: 1 | C10: ponct_espace
A11: abréviation | B11: 3 | C11: abréviation
A12: NORMALISATION D'UNE REF JURISPRUDENCE | B12: 2 | C12: ref_juri
A13: NORMALISATION D'UNE REF BIBLIO | B13: 1 | C13: ref_bib
... A15: AUTRE | B15: 1 | C15: autre
A21: * MICROSTRUCTURE = MISE EN VALEUR, ATTRIBUT, TAG INLINE
A22: ** suppression des textes générés par la structure

Sheet Données
A2: Opérateur | B2: Étape
A3: Clara | B3: Placard
A4: Edouard | B4: Bouclage
A5: Feno | B5: Finalisation Mep
A6: Hery Tiana | B6: Corr Mep
A7: Lalatiana
A8: Lofo
A9: Nirina ACP
A10: Rinah
A11: Tahina
A12: Tantely
A13: Zo ACP
