Workbook
Name enlvt: OFFSET(base!$A$2,,,COUNTA(base!$A:$A)-1)
Name index1: OFFSET(param!$A$2,,,COUNT(param!$A:$A))
Name index2: OFFSET(param!$B$2,,,COUNT(param!$B:$B))
Name livr: OFFSET(enlvt,,1,)
Name noma1: OFFSET(enlvt,,2,)
Name noma2: OFFSET(enlvt,,3,)

Sheet recherche
A2: Enlevement | B2: 33 | D2: tu choisis (les n° sont triés sans doubles)
A4: Livraison | B4: 10 | D4: ne te sont proposés que ce qui correspond a l'enlevement choisi
C6: Nom 1 | D6: {=IFERROR(INDEX(noma1,SMALL(IF((enlvt*1=$B$2*1)*(livr*1=$B$4*1),ROW(livr)-1,""),COLUMN(A:A))),"")} -> TFB | E6: {=IFERROR(INDEX(noma1,SMALL(IF((enlvt*1=$B$2*1)*(livr*1=$B$4*1),ROW(livr)-1,""),COLUMN(B:B))),"")} | F6: {=IFERROR(INDEX(noma1,SMALL(IF((enlvt*1=$B$2*1)*(livr*1=$B$4*1),ROW(livr)-1,""),COLUMN(C:C))),"")}
C8: Nom 2 | D8: {=IFERROR(INDEX(noma2,SMALL(IF((enlvt*1=$B$2*1)*(livr*1=$B$4*1),ROW(livr)-1,""),COLUMN(A:A))),"")} -> - | E8: {=IFERROR(INDEX(noma2,SMALL(IF((enlvt*1=$B$2*1)*(livr*1=$B$4*1),ROW(livr)-1,""),COLUMN(B:B))),"")} | F8: {=IFERROR(INDEX(noma2,SMALL(IF((enlvt*1=$B$2*1)*(livr*1=$B$4*1),ROW(livr)-1,""),COLUMN(C:C))),"")}

Sheet base
A1: Enlevement | B1: Livraison | C1: Nom 1 | D1: Nom 2
A2: 33 | B2: 10 | C2: TFB | D2: -
A3: 21 | B3: 6 | C3: Becker | D3: -
A4: 21 | B4: 10 | C4: TEE | D4: -
A5: 21 | B5: 21 | C5: Conditionnement | D5: COB21
A6: 21 | B6: 44 | C6: COB21 | D6: -
A7: 21 | B7: 21 | C7: Fontaine | D7: Ziegler
A8: 21 | B8: 62 | C8: Rousseau | D8: COB21
A9: 21 | B9: 67 | C9: GRG | D9: -
A10: 21 | B10: 73 | C10: COB21 | D10: -
A11: 21 | B11: 65 | C11: COB21 | D11: Henrion
A12: 21 | B12: 78 | C12: COB21 | D12: -
A13: 21 | B13: 95 | C13: Libbra | D13: -
A14: 21 | B14: 93 | C14: Ziegler | D14: -
A15: 22 | B15: 59 | C15: Mauffrey | D15: -
A16: 27 | B16: 59 | C16: STAT | D16: -
A17: 33 | B17: 8 | C17: Moraud | D17: Ziegler
A18: 33 | B18: 15 | C18: Moraud | D18: -
A19: 33 | B19: 19 | C19: Houari | D19: Conte Soularue
A20: 33 | B20: 26 | C20: Ziegler | D20: -
A21: 33 | B21: 29 | C21: Ziegler | D21: -
A22: 33 | B22: 34 | C22: Ziegler | D22: -
A23: 33 | B23: 38 | C23: Ziegler | D23: Scotti
... A43: 59 | B43: 6 | C43: Makos | D43: Pedretti

Sheet param
A1: index1 | B1: index2
A2: {=OFFSET(base!A$1,MATCH(0,COUNTIF(A$1:A1,enlvt),0),)*1} -> 33 | B2: {=INDEX(livr,SMALL(IFERROR(IF(MATCH(IF(enlvt*1=recherche!B$2*1,livr*1,""),livr*1,0)=ROW(livr)-1,ROW(livr)-1),""),ROW($A1)))} -> 10
A3: {=OFFSET(base!A$1,MATCH(0,COUNTIF(A$1:A2,enlvt),0),)*1} -> 21 | B3: {=INDEX(livr,SMALL(IFERROR(IF(MATCH(IF(enlvt*1=recherche!B$2*1,livr*1,""),livr*1,0)=ROW(livr)-1,ROW(livr)-1),""),ROW($A2)))} -> 8
A4: {=OFFSET(base!A$1,MATCH(0,COUNTIF(A$1:A3,enlvt),0),)*1} -> 22 | B4: {=INDEX(livr,SMALL(IFERROR(IF(MATCH(IF(enlvt*1=recherche!B$2*1,livr*1,""),livr*1,0)=ROW(livr)-1,ROW(livr)-1),""),ROW($A3)))} -> 15
A5: {=OFFSET(base!A$1,MATCH(0,COUNTIF(A$1:A4,enlvt),0),)*1} -> 27 | B5: {=INDEX(livr,SMALL(IFERROR(IF(MATCH(IF(enlvt*1=recherche!B$2*1,livr*1,""),livr*1,0)=ROW(livr)-1,ROW(livr)-1),""),ROW($A4)))} -> 19
A6: {=OFFSET(base!A$1,MATCH(0,COUNTIF(A$1:A5,enlvt),0),)*1} -> 34 | B6: {=INDEX(livr,SMALL(IFERROR(IF(MATCH(IF(enlvt*1=recherche!B$2*1,livr*1,""),livr*1,0)=ROW(livr)-1,ROW(livr)-1),""),ROW($A5)))} -> 26
A7: {=OFFSET(base!A$1,MATCH(0,COUNTIF(A$1:A6,enlvt),0),)*1} -> 37 | B7: {=INDEX(livr,SMALL(IFERROR(IF(MATCH(IF(enlvt*1=recherche!B$2*1,livr*1,""),livr*1,0)=ROW(livr)-1,ROW(livr)-1),""),ROW($A6)))} -> 29
A8: {=OFFSET(base!A$1,MATCH(0,COUNTIF(A$1:A7,enlvt),0),)*1} -> 38 | B8: {=INDEX(livr,SMALL(IFERROR(IF(MATCH(IF(enlvt*1=recherche!B$2*1,livr*1,""),livr*1,0)=ROW(livr)-1,ROW(livr)-1),""),ROW($A7)))} -> 34
A9: {=OFFSET(base!A$1,MATCH(0,COUNTIF(A$1:A8,enlvt),0),)*1} -> 40 | B9: {=INDEX(livr,SMALL(IFERROR(IF(MATCH(IF(enlvt*1=recherche!B$2*1,livr*1,""),livr*1,0)=ROW(livr)-1,ROW(livr)-1),""),ROW($A8)))} -> 38
A10: {=OFFSET(base!A$1,MATCH(0,COUNTIF(A$1:A9,enlvt),0),)*1} -> 42 | B10: {=INDEX(livr,SMALL(IFERROR(IF(MATCH(IF(enlvt*1=recherche!B$2*1,livr*1,""),livr*1,0)=ROW(livr)-1,ROW(livr)-1),""),ROW($A9)))} -> 41
A11: {=OFFSET(base!A$1,MATCH(0,COUNTIF(A$1:A10,enlvt),0),)*1} -> 44 | B11: {=INDEX(livr,SMALL(IFERROR(IF(MATCH(IF(enlvt*1=recherche!B$2*1,livr*1,""),livr*1,0)=ROW(livr)-1,ROW(livr)-1),""),ROW($A10)))} -> 60
A12: {=OFFSET(base!A$1,MATCH(0,COUNTIF(A$1:A11,enlvt),0),)*1} -> 45 | B12: {=INDEX(livr,SMALL(IFERROR(IF(MATCH(IF(enlvt*1=recherche!B$2*1,livr*1,""),livr*1,0)=ROW(livr)-1,ROW(livr)-1),""),ROW($A11)))} -> 80
A13: {=OFFSET(base!A$1,MATCH(0,COUNTIF(A$1:A12,enlvt),0),)*1} -> 59 | B13: {=INDEX(livr,SMALL(IFERROR(IF(MATCH(IF(enlvt*1=recherche!B$2*1,livr*1,""),livr*1,0)=ROW(livr)-1,ROW(livr)-1),""),ROW($A12)))} -> 91
... A21: {=OFFSET(base!A$1,MATCH(0,COUNTIF(A$1:A20,enlvt),0),)*1} -> #N/A | B21: {=INDEX(livr,SMALL(IFERROR(IF(MATCH(IF(enlvt*1=recherche!B$2*1,livr*1,""),livr*1,0)=ROW(livr)-1,ROW(livr)-1),""),ROW($A20)))} -> #NUM!
A22: {=OFFSET(base!A$1,MATCH(0,COUNTIF(A$1:A21,enlvt),0),)*1} -> #N/A
A23: {=OFFSET(base!A$1,MATCH(0,COUNTIF(A$1:A22,enlvt),0),)*1} -> #N/A
A24: {=OFFSET(base!A$1,MATCH(0,COUNTIF(A$1:A23,enlvt),0),)*1} -> #N/A
A25: {=OFFSET(base!A$1,MATCH(0,COUNTIF(A$1:A24,enlvt),0),)*1} -> #N/A
A26: {=OFFSET(base!A$1,MATCH(0,COUNTIF(A$1:A25,enlvt),0),)*1} -> #N/A
A27: {=OFFSET(base!A$1,MATCH(0,COUNTIF(A$1:A26,enlvt),0),)*1} -> #N/A
A28: {=OFFSET(base!A$1,MATCH(0,COUNTIF(A$1:A27,enlvt),0),)*1} -> #N/A
