Workbook

Sheet tableau de selection
A1: Famille | B1: a | C1: Validation de données | D1: a2
B5: Dans cette exemple j'ai choisi la famille A et l'index 2
B6: Je veux les valeurs correspondant à la désignation de cette famille
B7: Comme montré ci-dessous
A8: Désignation | C8: tulipe
A9: =IF(HLOOKUP($B$1,Désignation!A:C,ROW()-7,FALSE)="","",HLOOKUP($B$1,Désignation!A:C,ROW()-7,FALSE)) -> ex | B9: 84 | C9: =IFERROR(VLOOKUP(A9,CHOOSE(MATCH(B$1,valeurs!A$3:L$3,0),valeurs!A$4:E$13,,,,,valeurs!$F4:K$13,,,,,,valeurs!L$4:S$13),(1+RIGHT(D$1)*1),0),"") -> 84
A10: =IF(HLOOKUP($B$1,Désignation!A:C,ROW()-7,FALSE)="","",HLOOKUP($B$1,Désignation!A:C,ROW()-7,FALSE)) -> tra | B10: 23 | C10: =IFERROR(VLOOKUP(A10,CHOOSE(MATCH(B$1,valeurs!A$3:L$3,0),valeurs!A$4:E$13,,,,,valeurs!$F5:K$13,,,,,,valeurs!L$4:S$13),(1+RIGHT(D$1)*1),0),"") -> 23
A11: =IF(HLOOKUP($B$1,Désignation!A:C,ROW()-7,FALSE)="","",HLOOKUP($B$1,Désignation!A:C,ROW()-7,FALSE)) -> or | B11: 84 | C11: =IFERROR(VLOOKUP(A11,CHOOSE(MATCH(B$1,valeurs!A$3:L$3,0),valeurs!A$4:E$13,,,,,valeurs!$F6:K$13,,,,,,valeurs!L$4:S$13),(1+RIGHT(D$1)*1),0),"") -> 84
A12: =IF(HLOOKUP($B$1,Désignation!A:C,ROW()-7,FALSE)="","",HLOOKUP($B$1,Désignation!A:C,ROW()-7,FALSE)) -> di | B12: 1 | C12: =IFERROR(VLOOKUP(A12,CHOOSE(MATCH(B$1,valeurs!A$3:L$3,0),valeurs!A$4:E$13,,,,,valeurs!$F7:K$13,,,,,,valeurs!L$4:S$13),(1+RIGHT(D$1)*1),0),"") -> 1
A13: =IF(HLOOKUP($B$1,Désignation!A:C,ROW()-7,FALSE)="","",HLOOKUP($B$1,Désignation!A:C,ROW()-7,FALSE)) -> nai | B13: 18 | C13: =IFERROR(VLOOKUP(A13,CHOOSE(MATCH(B$1,valeurs!A$3:L$3,0),valeurs!A$4:E$13,,,,,valeurs!$F8:K$13,,,,,,valeurs!L$4:S$13),(1+RIGHT(D$1)*1),0),"") -> 18
A14: =IF(HLOOKUP($B$1,Désignation!A:C,ROW()-7,FALSE)="","",HLOOKUP($B$1,Désignation!A:C,ROW()-7,FALSE)) -> re | B14: 1 | C14: =IFERROR(VLOOKUP(A14,CHOOSE(MATCH(B$1,valeurs!A$3:L$3,0),valeurs!A$4:E$13,,,,,valeurs!$F9:K$13,,,,,,valeurs!L$4:S$13),(1+RIGHT(D$1)*1),0),"") -> 1
A15: =IF(HLOOKUP($B$1,Désignation!A:C,ROW()-7,FALSE)="","",HLOOKUP($B$1,Désignation!A:C,ROW()-7,FALSE)) -> ma | B15: 84 | C15: =IFERROR(VLOOKUP(A15,CHOOSE(MATCH(B$1,valeurs!A$3:L$3,0),valeurs!A$4:E$13,,,,,valeurs!$F10:K$13,,,,,,valeurs!L$4:S$13),(1+RIGHT(D$1)*1),0),"") -> 84
A16: =IF(HLOOKUP($B$1,Désignation!A:C,ROW()-7,FALSE)="","",HLOOKUP($B$1,Désignation!A:C,ROW()-7,FALSE)) -> gni | B16: 84 | C16: =IFERROR(VLOOKUP(A16,CHOOSE(MATCH(B$1,valeurs!A$3:L$3,0),valeurs!A$4:E$13,,,,,valeurs!$F11:K$13,,,,,,valeurs!L$4:S$13),(1+RIGHT(D$1)*1),0),"") -> 84
A17: =IF(HLOOKUP($B$1,Désignation!A:C,ROW()-7,FALSE)="","",HLOOKUP($B$1,Désignation!A:C,ROW()-7,FALSE)) -> fi | B17: 6 | C17: =IFERROR(VLOOKUP(A17,CHOOSE(MATCH(B$1,valeurs!A$3:L$3,0),valeurs!A$4:E$13,,,,,valeurs!$F12:K$13,,,,,,valeurs!L$4:S$13),(1+RIGHT(D$1)*1),0),"") -> 6
A18: =IF(HLOOKUP($B$1,Désignation!A:C,ROW()-7,FALSE)="","",HLOOKUP($B$1,Désignation!A:C,ROW()-7,FALSE)) -> que | B18: 111111 | C18: =IFERROR(VLOOKUP(A18,CHOOSE(MATCH(B$1,valeurs!A$3:L$3,0),valeurs!A$4:E$13,,,,,valeurs!$F13:K$13,,,,,,valeurs!L$4:S$13),(1+RIGHT(D$1)*1),0),"") -> 111111
A19: =IF(HLOOKUP($B$1,Désignation!A:C,ROW()-7,FALSE)="","",HLOOKUP($B$1,Désignation!A:C,ROW()-7,FALSE))
A20: =IF(HLOOKUP($B$1,Désignation!A:C,ROW()-7,FALSE)="","",HLOOKUP($B$1,Désignation!A:C,ROW()-7,FALSE))
A21: =IF(HLOOKUP($B$1,Désignation!A:C,ROW()-7,FALSE)="","",HLOOKUP($B$1,Désignation!A:C,ROW()-7,FALSE))
A22: =IF(HLOOKUP($B$1,Désignation!A:C,ROW()-7,FALSE)="","",HLOOKUP($B$1,Désignation!A:C,ROW()-7,FALSE))
A23: =IF(HLOOKUP($B$1,Désignation!A:C,ROW()-7,FALSE)="","",HLOOKUP($B$1,Désignation!A:C,ROW()-7,FALSE))
A24: =IF(HLOOKUP($B$1,Désignation!A:C,ROW()-7,FALSE)="","",HLOOKUP($B$1,Désignation!A:C,ROW()-7,FALSE))
A25: =IF(HLOOKUP($B$1,Désignation!A:C,ROW()-7,FALSE)="","",HLOOKUP($B$1,Désignation!A:C,ROW()-7,FALSE))
A26: =IF(HLOOKUP($B$1,Désignation!A:C,ROW()-7,FALSE)="","",HLOOKUP($B$1,Désignation!A:C,ROW()-7,FALSE))
A27: =IF(HLOOKUP($B$1,Désignation!A:C,ROW()-7,FALSE)="","",HLOOKUP($B$1,Désignation!A:C,ROW()-7,FALSE))
A28: =IF(HLOOKUP($B$1,Désignation!A:C,ROW()-7,FALSE)="","",HLOOKUP($B$1,Désignation!A:C,ROW()-7,FALSE))
A29: =IF(HLOOKUP($B$1,Désignation!A:C,ROW()-7,FALSE)="","",HLOOKUP($B$1,Désignation!A:C,ROW()-7,FALSE))
A30: =IF(HLOOKUP($B$1,Désignation!A:C,ROW()-7,FALSE)="","",HLOOKUP($B$1,Désignation!A:C,ROW()-7,FALSE))
... A34: =IF(HLOOKUP($B$1,Désignation!A:C,ROW()-7,FALSE)="","",HLOOKUP($B$1,Désignation!A:C,ROW()-7,FALSE))

Sheet Désignation
A1: A | B1: B | C1: C
A2: ex | B2: su | C2: mer
A3: tra | B3: per | C3: ci
A4: or | B4: vi | C4: a
A5: di | B5: ve | C5: vo
A6: nai | B6: ex | C6: us
A7: re | B7: cel | C7: ma
A8: ma | B8: ex | C8: gni
A9: gni | B9: tra
A10: fi
A11: que

Sheet valeurs
B2: A1 | C2: A2 | D2: A3 | E2: A4 | G2: B1 | H2: B2 | I2: B3 | J2: B4 | K2: B5 | M2: C1 | N2: C2 | O2: C3 | P2: C4 | Q2: C5 | R2: C6
A3: A | F3: B | L3: C
A4: ex | B4: 1 | C4: 84 | D4: 3 | E4: 4 | F4: su | G4: 9 | H4: 4 | I4: 4 | J4: 45984 | K4: 45 | L4: mer | M4: 0 | N4: 22 | O4: 9 | P4: 87 | Q4: 8 | R4: 1
A5: tra | B5: 1 | C5: 23 | D5: 7 | E5: 8 | F5: per | G5: 4621 | H5: 4 | I5: 9 | J5: 84 | K5: 897 | L5: ci | M5: 15 | N5: 5 | O5: 2 | P5: 6 | Q5: 8 | R5: 5
A6: or | B6: 5 | C6: 84 | D6: 11 | E6: 12 | F6: vi | G6: 61 | H6: 6 | I6: 3 | J6: 9 | K6: 1 | L6: a | M6: 5 | N6: 0 | O6: 5 | P6: 84 | Q6: 0 | R6: 5
A7: di | B7: 51 | C7: 1 | D7: 15 | E7: 16 | F7: ve | G7: 9 | H7: 8 | I7: 2 | K7: 7 | L7: vo | M7: 2 | N7: 54 | O7: 64 | P7: 1 | Q7: 3 | R7: 1
A8: nai | B8: 0 | C8: 18 | D8: 19 | E8: 612 | F8: ex | G8: 654 | H8: 6875 | I8: 4 | J8: 1 | K8: 449 | L8: us | M8: 3 | N8: 4 | O8: 5 | P8: 7 | Q8: 4 | R8: 8
A9: re | B9: 6 | C9: 1 | D9: 321 | F9: cel | G9: 8 | H9: 4 | I9: 4 | J9: 546 | K9: 45 | L9: ma | M9: 8 | N9: 6 | O9: 9 | P9: 9 | Q9: 8 | R9: 84874
A10: ma | B10: 6 | C10: 84 | D10: 8484 | E10: 21 | F10: ex | G10: 0 | H10: 1 | I10: 4 | J10: 68 | K10: 1 | L10: gni | M10: 654 | N10: 15561 | O10: 14 | P10: 6 | Q10: 1 | R10: 216
A11: gni | B11: 87 | C11: 84 | D11: 216 | E11: 405 | F11: tra | G11: 15 | H11: 4 | I11: 1 | J11: 57 | K11: 84
A12: fi | B12: 54 | C12: 6 | D12: 150 | E12: 10
A13: que | B13: 9849 | C13: 111111 | D13: 68949 | E13: 654
