Workbook

Sheet Feuil1
P1: =IFERROR(INDEX(P6:P30,P2),"") -> AAA GP | Q1: =IFERROR(INDEX(Q6:Q30,Q2),"") -> BBB GP | R1: =IFERROR(INDEX(R6:R30,R2),"") | S1: =IFERROR(INDEX(S6:S30,S2),"") -> AAA GP | T1: =IFERROR(INDEX(T6:T30,T2),"") -> BBB GP | U1: =IFERROR(INDEX(U6:U30,U2),"") -> AAA GP | V1: =IFERROR(INDEX(V6:V30,V2),"") | W1: =IFERROR(INDEX(W6:W30,W2),"") | ... AT1: =IFERROR(INDEX(AT6:AT30,AT2),"")
F2: {=MIN(IF(P$6:P$18<>"",IF(COUNTIF($P$6:$U$18,P6:P18)>1,ROW(O6:P18)-5,"")))} -> 8 | G2: {=MIN(IF(Q$6:Q$18<>"",IF(COUNTIF($P$6:$U$18,Q6:Q18)>1,ROW(P6:Q18)-5,"")))} -> 3 | H2: {=MIN(IF(R$6:R$18<>"",IF(COUNTIF($P$6:$U$18,R6:R18)>1,ROW(Q6:R18)-5,"")))} -> 0 | I2: {=MIN(IF(S$6:S$18<>"",IF(COUNTIF($P$6:$U$18,S6:S18)>1,ROW(R6:S18)-5,"")))} -> 3 | J2: {=MIN(IF(T$6:T$18<>"",IF(COUNTIF($P$6:$U$18,T6:T18)>1,ROW(S6:T18)-5,"")))} -> 6 | K2: {=MIN(IF(U$6:U$18<>"",IF(COUNTIF($P$6:$U$18,U6:U18)>1,ROW(T6:U18)-5,"")))} -> 7 | L2: {=MIN(IF(V$6:V$18<>"",IF(COUNTIF($P$6:$U$18,V6:V18)>1,ROW(U6:V18)-5,"")))} -> 0 | M2: {=MIN(IF(W$6:W$18<>"",IF(COUNTIF($P$6:$U$18,W6:W18)>1,ROW(V6:W18)-5,"")))} -> 0 | ... O2: {=MIN(IF(Y$6:Y$18<>"",IF(COUNTIF($P$6:$U$18,Y6:Y18)>1,ROW(X6:Y18)-5,"")))} -> 0 | P2: {=MIN(IF(P$6:P$30<>"",IF(COUNTIF($P$6:$AT$30,P$6:P$30)>1,ROW(Y$6:Z$30)-5,"")))} -> 8 | Q2: {=MIN(IF(Q$6:Q$30<>"",IF(COUNTIF($P$6:$AT$30,Q$6:Q$30)>1,ROW(Z$6:AA$30)-5,"")))} -> 3 | R2: {=MIN(IF(R$6:R$30<>"",IF(COUNTIF($P$6:$AT$30,R$6:R$30)>1,ROW(AA$6:AB$30)-5,"")))} -> 0 | S2: {=MIN(IF(S$6:S$30<>"",IF(COUNTIF($P$6:$AT$30,S$6:S$30)>1,ROW(AB$6:AC$30)-5,"")))} -> 3 | T2: {=MIN(IF(T$6:T$30<>"",IF(COUNTIF($P$6:$AT$30,T$6:T$30)>1,ROW(AC$6:AD$30)-5,"")))} -> 6 | U2: {=MIN(IF(U$6:U$30<>"",IF(COUNTIF($P$6:$AT$30,U$6:U$30)>1,ROW(AD$6:AE$30)-5,"")))} -> 7 | V2: {=MIN(IF(V$6:V$30<>"",IF(COUNTIF($P$6:$AT$30,V$6:V$30)>1,ROW(AE$6:AF$30)-5,"")))} -> 0 | W2: {=MIN(IF(W$6:W$30<>"",IF(COUNTIF($P$6:$AT$30,W$6:W$30)>1,ROW(AF$6:AG$30)-5,"")))} -> 0 | ... AT2: {=MIN(IF(AT$6:AT$30<>"",IF(COUNTIF($P$6:$AT$30,AT$6:AT$30)>1,ROW(BC$6:BD$30)-5,"")))} -> 0
P4: 42339 | Q4: 42340 | R4: 42341 | S4: 42342 | T4: 42343 | U4: 42344 | V4: 42345 | W4: 42346 | X4: 42347 | Y4: 42348 | Z4: 42349 | AA4: 42350 | AB4: 42351 | AC4: 42352 | AD4: 42353 | AE4: 42354 | AF4: 42355 | AG4: 42356 | AH4: 42357 | AI4: 42358 | AJ4: 42359 | AK4: 42360 | AL4: 42361 | AM4: 42362 | AN4: 42363 | AO4: 42364 | AP4: 42365 | AQ4: 42366 | AR4: 42367 | AS4: 42368 | AT4: 42369
P5: 42339 | Q5: 42340 | R5: 42341 | S5: 42342 | T5: 42343 | U5: 42344 | V5: 42345 | W5: 42346 | X5: 42347 | Y5: 42348 | Z5: 42349 | AA5: 42350 | AB5: 42351 | AC5: 42352 | AD5: 42353 | AE5: 42354 | AF5: 42355 | AG5: 42356 | AH5: 42357 | AI5: 42358 | AJ5: 42359 | AK5: 42360 | AL5: 42361 | AM5: 42362 | AN5: 42363 | AO5: 42364 | AP5: 42365 | AQ5: 42366 | AR5: 42367 | AS5: 42368 | AT5: 42369
P6: A1 Gyn | Q6: B1 GP | R6: C1 GP | S6: D1 GP | T6: E1 Gyn | U6: F1 GP | V6: G1 GP | W6: H1 GP | X6: I1 Gyn | Y6: J1 Gyn | Z6: K1 GP | AA6: L1 GP | AB6: M1 GP | AC6: N1 GP | AD6: O1 Gyn | AE6: P1 GP | AF6: Q1 GP | AG6: R1 GP | AH6: S1 GP | AI6: T1 GP | AJ6: U1 GP | AK6: V1 Gyn | AL6: W1 GP | AM6: X1 GP | AN6: Y1 GP | AO6: Z1 GP | AP6: AAAA GP | AQ6: BBBB GP | AR6: CCCC GP | AS6: EEEEE GP | AT6: GGGGG GP
P7: A2 GP | Q7: B2 GP | R7: C2 GP | S7: D2 GP | T7: E2 Gyn | U7: F2 GP | V7: G2 GP | W7: H2 GP | X7: I2 Gyn | Y7: J2 Gyn | Z7: K2 GP | AA7: L2 GP | AB7: M2 GP | AC7: N2 Gyn | AD7: O2 Gyn | AE7: P2 GP | AF7: Q2 GP | AG7: R2 GP | AH7: S2 GP | AI7: T2 GP | AJ7: U2 GP | AK7: V2 GP | AL7: W2 GP | AM7: X2 GP | AN7: Y2 GP | AO7: Z2 GP | AR7: DDDD GP | AS7: FFFFF GP | AT7: HHHHHH GP
P8: A3 GP | Q8: BBB GP | R8: C3 GP | S8: AAA GP | T8: E3 Gyn | U8: F3 GP | V8: G3 GP | W8: H3 GP | X8: I3 Gyn | Y8: J3 Gyn | Z8: K3 GP | AA8: L3 GP | AB8: M3 GP | AC8: N3 Gyn | AD8: O3 Gyn | AE8: P3 GP | AF8: Q3 GP | AG8: R3 Gyn | AH8: S3 GP | AI8: T3 GP | AJ8: U3 GP | AK8: V3 GP | AL8: W3 GP | AM8: X3 GP | AN8: Y3 GP | AO8: BBB GP
P9: A4 GP | Q9: B4 GP | R9: C4 GP | S9: D4 GP | T9: E4 Gyn | U9: F4 GP | V9: G4 GP | W9: H4 GP | X9: I4 Gyn | Y9: J4 Gyn | Z9: AAA GP | AA9: L4 GP | AB9: M4 GP | AC9: N4 Gyn | AD9: O4 Gyn | AE9: P4 Gyn | AF9: Q4 GP | AG9: R4 GP | AH9: S4 GP | AI9: T4 GP | AJ9: U4 GP | AK9: V4 GP | AL9: W4 GP | AM9: X4 GP | AN9: Y4 GP | AO9: Z4 GP
P10: A5 GP | Q10: B5 GP | R10: C5 GP | S10: D5 GP | T10: E5 Gyn | U10: F5 GP | V10: G5 GP | W10: H5 GP | X10: I5 Gyn | Y10: J5 Gyn | Z10: K5 GP | AA10: L5 GP | AB10: M5 GP | AC10: N5 Gyn | AD10: O5 Gyn | AE10: P5 GP | AF10: Q5 GP | AG10: R5 GP | AH10: S5 GP | AI10: T5 GP | AJ10: U5 GP | AK10: V5 GP | AL10: W5 GP | AM10: X5 GP | AN10: Y5 GP | AO10: Z5 GP
P11: A6 GP | Q11: B6 GP | R11: C6 GP | S11: D6 GP | T11: BBB GP | U11: F6 GP | V11: G6 GP | W11: H6 GP | X11: I6 Gyn | Y11: J6 Gyn | Z11: K6 Gyn | AA11: L6 GP | AB11: M6 GP | AC11: N6 Gyn | AD11: O6 Gyn | AE11: P6 GP | AF11: Q6 GP | AG11: R6 GP | AH11: S6 GP | AI11: T6 GP | AJ11: U6 GP | AK11: V6 GP | AL11: W6 GP | AM11: X6 GP | AN11: Y6 GP | AO11: Z6 GP
P12: A7 GP | Q12: B7 GP | R12: C7 GP | S12: D7 GP | T12: E7 Gyn | U12: AAA GP | V12: G7 GP | W12: H7 GP | X12: I7 Gyn | Y12: J7 Gyn | Z12: K7 GP | AA12: L7 GP | AB12: M7 Gyn | AC12: N7 Gyn | AD12: O7 Gyn | AE12: P7 GP | AF12: Q7 GP | AG12: R7 GP | AH12: S7 GP | AI12: T7 GP | AJ12: U7 GP | AK12: V7 GP | AL12: W7 GP | AM12: X7 GP | AN12: Y7 GP | AO12: Z7 GP
P13: AAA GP | Q13: B8 GP | R13: C8 Gyn | S13: D8 GP | T13: E8 Gyn | U13: F8 GP | V13: G8 GP | W13: H8 Gyn | X13: I8 Gyn | Y13: J8 Gyn | Z13: K8 GP | AA13: L8 GP | AB13: M8 GP | AC13: N8 Gyn | AD13: O8 Gyn | AE13: P8 GP | AF13: Q8 GP | AG13: R8 GP | AH13: S8 GP | AI13: T8 GP | AJ13: U8 GP | AK13: V8 GP | AL13: AAA GP | AM13: X8 GP | AN13: Y8 GP | AO13: Z8 GP
P14: A9 GP | Q14: B9 GP | R14: C9 GP | S14: D9 Gyn | T14: E9 Gyn | U14: F9 GP | V14: G9 GP | W14: H9 Gyn | X14: I9 Gyn | Y14: J9 GP | Z14: K9 GP | AA14: L9 GP | AB14: M9 Gyn | AC14: N9 Gyn | AD14: O9 Gyn | AE14: P9 GP | AF14: Q9 GP | AG14: R9 GP | AH14: S9 GP | AI14: T9 Gyn | AJ14: U9 GP | AK14: V9 GP | AN14: Y9 GP | AO14: Z9 GP
P15: A10 GP | Q15: B10 GP | R15: C10 Gyn | S15: D10 Gyn | T15: E10 Gyn | U15: F10 GP | V15: G10 GP | W15: H10 Gyn | X15: I10 Gyn | Y15: J10 GP | Z15: K10 Gyn | AA15: L10 GP | AB15: M10 GP | AC15: N10 Gyn | AD15: O10 Gyn | AE15: BBB GP | AF15: Q10 GP | AG15: R10 GP | AH15: S10 GP | AJ15: U10 GP
P16: A11 GP | Q16: B11 GP | R16: C11 GP | S16: D11 Gyn | T16: E11 GP | U16: F11 GP | V16: G11 GP | W16: H11 GP | X16: I11 Gyn | Y16: J11 GP | Z16: K11 Gyn | AD16: O11 Gyn | AE16: P11 GP | AF16: Q11 GP | AG16: R11 GP | AH16: S11 GP | AJ16: U11 GP
P17: A12 GP | Q17: B12 GP | R17: C12 GP | S17: D12 Gyn | T17: E12 GP | V17: G12 GP | W17: H12 GP | Y17: J12 GP | AD17: O12 GP | AE17: P12 GP | AF17: Q12 GP | AG17: R12 GP | AJ17: U12 GP
Q18: B13 GP | R18: C13 GP | T18: E13 GP | AE18: P13 GP

Sheet Feuil2
C1: resultat
C2: {=IFERROR(INDEX(Feuil1!$P$1:$AT$1,,SMALL(IF(Feuil1!$P$1:$AT$1<>"",COLUMN($P$1:$AT$1)-15),ROW($A1))),"")} -> AAA GP | D2: {=IFERROR(INDEX(Feuil1!$P$5:$AT$5,,SMALL(IF(Feuil1!$P$1:$AT$1<>"",COLUMN($P$1:$AT$1)-15),ROW($A1))),"")} -> 42339
C3: {=IFERROR(INDEX(Feuil1!$P$1:$AT$1,,SMALL(IF(Feuil1!$P$1:$AT$1<>"",COLUMN($P$1:$AT$1)-15),ROW($A2))),"")} -> BBB GP | D3: {=IFERROR(INDEX(Feuil1!$P$5:$AT$5,,SMALL(IF(Feuil1!$P$1:$AT$1<>"",COLUMN($P$1:$AT$1)-15),ROW($A2))),"")} -> 42340
C4: {=IFERROR(INDEX(Feuil1!$P$1:$AT$1,,SMALL(IF(Feuil1!$P$1:$AT$1<>"",COLUMN($P$1:$AT$1)-15),ROW($A3))),"")} -> AAA GP | D4: {=IFERROR(INDEX(Feuil1!$P$5:$AT$5,,SMALL(IF(Feuil1!$P$1:$AT$1<>"",COLUMN($P$1:$AT$1)-15),ROW($A3))),"")} -> 42342
C5: {=IFERROR(INDEX(Feuil1!$P$1:$AT$1,,SMALL(IF(Feuil1!$P$1:$AT$1<>"",COLUMN($P$1:$AT$1)-15),ROW($A4))),"")} -> BBB GP | D5: {=IFERROR(INDEX(Feuil1!$P$5:$AT$5,,SMALL(IF(Feuil1!$P$1:$AT$1<>"",COLUMN($P$1:$AT$1)-15),ROW($A4))),"")} -> 42343
C6: {=IFERROR(INDEX(Feuil1!$P$1:$AT$1,,SMALL(IF(Feuil1!$P$1:$AT$1<>"",COLUMN($P$1:$AT$1)-15),ROW($A5))),"")} -> AAA GP | D6: {=IFERROR(INDEX(Feuil1!$P$5:$AT$5,,SMALL(IF(Feuil1!$P$1:$AT$1<>"",COLUMN($P$1:$AT$1)-15),ROW($A5))),"")} -> 42344
C7: {=IFERROR(INDEX(Feuil1!$P$1:$AT$1,,SMALL(IF(Feuil1!$P$1:$AT$1<>"",COLUMN($P$1:$AT$1)-15),ROW($A6))),"")} -> AAA GP | D7: {=IFERROR(INDEX(Feuil1!$P$5:$AT$5,,SMALL(IF(Feuil1!$P$1:$AT$1<>"",COLUMN($P$1:$AT$1)-15),ROW($A6))),"")} -> 42349
C8: {=IFERROR(INDEX(Feuil1!$P$1:$AT$1,,SMALL(IF(Feuil1!$P$1:$AT$1<>"",COLUMN($P$1:$AT$1)-15),ROW($A7))),"")} -> BBB GP | D8: {=IFERROR(INDEX(Feuil1!$P$5:$AT$5,,SMALL(IF(Feuil1!$P$1:$AT$1<>"",COLUMN($P$1:$AT$1)-15),ROW($A7))),"")} -> 42354
C9: {=IFERROR(INDEX(Feuil1!$P$1:$AT$1,,SMALL(IF(Feuil1!$P$1:$AT$1<>"",COLUMN($P$1:$AT$1)-15),ROW($A8))),"")} -> AAA GP | D9: {=IFERROR(INDEX(Feuil1!$P$5:$AT$5,,SMALL(IF(Feuil1!$P$1:$AT$1<>"",COLUMN($P$1:$AT$1)-15),ROW($A8))),"")} -> 42361
C10: {=IFERROR(INDEX(Feuil1!$P$1:$AT$1,,SMALL(IF(Feuil1!$P$1:$AT$1<>"",COLUMN($P$1:$AT$1)-15),ROW($A9))),"")} -> BBB GP | D10: {=IFERROR(INDEX(Feuil1!$P$5:$AT$5,,SMALL(IF(Feuil1!$P$1:$AT$1<>"",COLUMN($P$1:$AT$1)-15),ROW($A9))),"")} -> 42364
C11: {=IFERROR(INDEX(Feuil1!$P$1:$AT$1,,SMALL(IF(Feuil1!$P$1:$AT$1<>"",COLUMN($P$1:$AT$1)-15),ROW($A10))),"")} | D11: {=IFERROR(INDEX(Feuil1!$P$5:$AT$5,,SMALL(IF(Feuil1!$P$1:$AT$1<>"",COLUMN($P$1:$AT$1)-15),ROW($A10))),"")}
C12: {=IFERROR(INDEX(Feuil1!$P$1:$AT$1,,SMALL(IF(Feuil1!$P$1:$AT$1<>"",COLUMN($P$1:$AT$1)-15),ROW($A11))),"")} | D12: {=IFERROR(INDEX(Feuil1!$P$5:$AT$5,,SMALL(IF(Feuil1!$P$1:$AT$1<>"",COLUMN($P$1:$AT$1)-15),ROW($A11))),"")}
C13: {=IFERROR(INDEX(Feuil1!$P$1:$AT$1,,SMALL(IF(Feuil1!$P$1:$AT$1<>"",COLUMN($P$1:$AT$1)-15),ROW($A12))),"")} | D13: {=IFERROR(INDEX(Feuil1!$P$5:$AT$5,,SMALL(IF(Feuil1!$P$1:$AT$1<>"",COLUMN($P$1:$AT$1)-15),ROW($A12))),"")}
... C22: {=IFERROR(INDEX(Feuil1!$P$1:$AT$1,,SMALL(IF(Feuil1!$P$1:$AT$1<>"",COLUMN($P$1:$AT$1)-15),ROW($A21))),"")} | D22: {=IFERROR(INDEX(Feuil1!$P$5:$AT$5,,SMALL(IF(Feuil1!$P$1:$AT$1<>"",COLUMN($P$1:$AT$1)-15),ROW($A21))),"")}

Sheet Feuil3
