Workbook

Sheet Feuil1
A1: Type | B1: Groupe
A2: G14-Gond R14 Epicerie sèche - | C2: {=IFERROR(INDEX(Feuil2!B$2:B$39,SUMPRODUCT(MAX(ISNUMBER(--SEARCH("*"&Feuil2!C$2:C$39&"*",Feuil1!A2))*ROW(Feuil2!C$2:C$39)-1))),"")} -> GONDOLES
A3: S1 MAITRISE DE PROJET (PAR POS | C3: {=IFERROR(INDEX(Feuil2!B$2:B$39,SUMPRODUCT(MAX(ISNUMBER(--SEARCH("*"&Feuil2!C$2:C$39&"*",Feuil1!A3))*ROW(Feuil2!C$2:C$39)-1))),"")}
A4: 2EME DISQUE DUR | C4: {=IFERROR(INDEX(Feuil2!B$2:B$39,SUMPRODUCT(MAX(ISNUMBER(--SEARCH("*"&Feuil2!C$2:C$39&"*",Feuil1!A4))*ROW(Feuil2!C$2:C$39)-1))),"")}
A5: ASSISTANCE TECHNIQUE SUR SITE | C5: {=IFERROR(INDEX(Feuil2!B$2:B$39,SUMPRODUCT(MAX(ISNUMBER(--SEARCH("*"&Feuil2!C$2:C$39&"*",Feuil1!A5))*ROW(Feuil2!C$2:C$39)-1))),"")}
A6: Barette de 16 Mo pour caisses | C6: {=IFERROR(INDEX(Feuil2!B$2:B$39,SUMPRODUCT(MAX(ISNUMBER(--SEARCH("*"&Feuil2!C$2:C$39&"*",Feuil1!A6))*ROW(Feuil2!C$2:C$39)-1))),"")}
A7: CARTE BOUCLE PCI | C7: {=IFERROR(INDEX(Feuil2!B$2:B$39,SUMPRODUCT(MAX(ISNUMBER(--SEARCH("*"&Feuil2!C$2:C$39&"*",Feuil1!A7))*ROW(Feuil2!C$2:C$39)-1))),"")}
A8: CASIER A MONNAIE SUPPLEMENTAI | C8: {=IFERROR(INDEX(Feuil2!B$2:B$39,SUMPRODUCT(MAX(ISNUMBER(--SEARCH("*"&Feuil2!C$2:C$39&"*",Feuil1!A8))*ROW(Feuil2!C$2:C$39)-1))),"")}
A9: COÛT TRANSPORT (2,98 EURO LE K | C9: {=IFERROR(INDEX(Feuil2!B$2:B$39,SUMPRODUCT(MAX(ISNUMBER(--SEARCH("*"&Feuil2!C$2:C$39&"*",Feuil1!A9))*ROW(Feuil2!C$2:C$39)-1))),"")}
A10: COÛT TRANSPORT (2,98 EURO LE | C10: {=IFERROR(INDEX(Feuil2!B$2:B$39,SUMPRODUCT(MAX(ISNUMBER(--SEARCH("*"&Feuil2!C$2:C$39&"*",Feuil1!A10))*ROW(Feuil2!C$2:C$39)-1))),"")}
A11: COUVERCLE A CLE SUPPLEMENTAIR | C11: {=IFERROR(INDEX(Feuil2!B$2:B$39,SUMPRODUCT(MAX(ISNUMBER(--SEARCH("*"&Feuil2!C$2:C$39&"*",Feuil1!A11))*ROW(Feuil2!C$2:C$39)-1))),"")}
A12: DEMONTAGE MATERIEL EXISTANT EN | C12: {=IFERROR(INDEX(Feuil2!B$2:B$39,SUMPRODUCT(MAX(ISNUMBER(--SEARCH("*"&Feuil2!C$2:C$39&"*",Feuil1!A12))*ROW(Feuil2!C$2:C$39)-1))),"")}
A13: DEMONTAGE MATERIEL EXISTANT E | C13: {=IFERROR(INDEX(Feuil2!B$2:B$39,SUMPRODUCT(MAX(ISNUMBER(--SEARCH("*"&Feuil2!C$2:C$39&"*",Feuil1!A13))*ROW(Feuil2!C$2:C$39)-1))),"")}
... A250: Honoraires/Bureaux de contrôl | C250: {=IFERROR(INDEX(Feuil2!B$2:B$39,SUMPRODUCT(MAX(ISNUMBER(--SEARCH("*"&Feuil2!C$2:C$39&"*",Feuil1!A250))*ROW(Feuil2!C$2:C$39)-1))),"")} -> HONORAIRES

Sheet Feuil2
A1: Libellé | B1: Groupe
A2: GGB-Portillons/guidage - | B2: ACCUEIL | C2: =LEFT(A2,5) -> GGB-P
A3: GGB/Portillons entrée/sortie- | B3: ACCUEIL | C3: =LEFT(A3,5) -> GGB/P
A4: Rideaux d'air - | B4: CHAUFFAGE | C4: =LEFT(A4,5) -> Ridea
A5: Honoraires/Maîtres d'oeuvre - | B5: HONORAIRES | C5: =LEFT(A5,5) -> Honor
A6: Maîtres d'oeuvre - | B6: HONORAIRES | C6: =LEFT(A6,5) -> Maîtr
A7: Peintures - | B7: PEINTURE | C7: =LEFT(A7,5) -> Peint
A8: VRD/Bordures voiries : | B8: EXTERIEURS | C8: =LEFT(A8,5) -> VRD/B
A9: Onduleurs - | B9: ELECTRICITE | C9: =LEFT(A9,5) -> Ondul
A10: Bureaux d'études techniques- | B10: HONORAIRES | C10: =LEFT(A10,5) -> Burea
A11: Déco/Signalétique: | B11: SIGNALETIQUE | C11: =LEFT(A11,5) -> Déco/
A12: Métal Serrur/Portes lève-vite : | B12: SERRURERIE | C12: =LEFT(A12,5) -> Métal
A13: Mat Manut/Batteries : | B13: MANUTENTION | C13: =LEFT(A13,5) -> Mat M
... A39: G14-Gond R14 Epicerie sèche - | B39: GONDOLES | C39: =LEFT(A39,5) -> G14-G
