Workbook
Name Budget: OFFSET(name,,4,)
Name name: OFFSET(Feuil2!$A$2,,,COUNTIF(Feuil2!$A:$A,"><")-1)

Sheet recap
D1: pour le tri sans doublon la première ligne doit etre vide ou contenir une val differente de ce qu'il peut y avoir dans Name
A2: {=IFERROR(OFFSET(Feuil2!$A$1,MATCH(0,COUNTIF(recap!A$1:A1,name),0),),"")} -> google.com | B2: =IF(A2="","",SUMPRODUCT((name=A2)*(Budget))) -> 100
A3: {=IFERROR(OFFSET(Feuil2!$A$1,MATCH(0,COUNTIF(recap!A$1:A2,name),0),),"")} -> test | B3: =IF(A3="","",SUMPRODUCT((name=A3)*(Budget))) -> 650 | E3: toutes les plages necessaires au calcul sont nommées en dynamique (automatiquement extensibles ) pour voir comment >>> Ctrl et F3
A4: {=IFERROR(OFFSET(Feuil2!$A$1,MATCH(0,COUNTIF(recap!A$1:A3,name),0),),"")} -> test2 | B4: =IF(A4="","",SUMPRODUCT((name=A4)*(Budget))) -> 240
A5: {=IFERROR(OFFSET(Feuil2!$A$1,MATCH(0,COUNTIF(recap!A$1:A4,name),0),),"")} | B5: =IF(A5="","",SUMPRODUCT((name=A5)*(Budget))) | E5: la formule de tri sans doublon est matricielle (validation Ctrl maj Entée ) a 3doigts
A6: {=IFERROR(OFFSET(Feuil2!$A$1,MATCH(0,COUNTIF(recap!A$1:A5,name),0),),"")} | B6: =IF(A6="","",SUMPRODUCT((name=A6)*(Budget)))
A7: {=IFERROR(OFFSET(Feuil2!$A$1,MATCH(0,COUNTIF(recap!A$1:A6,name),0),),"")} | B7: =IF(A7="","",SUMPRODUCT((name=A7)*(Budget)))
A8: {=IFERROR(OFFSET(Feuil2!$A$1,MATCH(0,COUNTIF(recap!A$1:A7,name),0),),"")} | B8: =IF(A8="","",SUMPRODUCT((name=A8)*(Budget)))
A9: {=IFERROR(OFFSET(Feuil2!$A$1,MATCH(0,COUNTIF(recap!A$1:A8,name),0),),"")} | B9: =IF(A9="","",SUMPRODUCT((name=A9)*(Budget)))
A10: {=IFERROR(OFFSET(Feuil2!$A$1,MATCH(0,COUNTIF(recap!A$1:A9,name),0),),"")} | B10: =IF(A10="","",SUMPRODUCT((name=A10)*(Budget)))
A11: {=IFERROR(OFFSET(Feuil2!$A$1,MATCH(0,COUNTIF(recap!A$1:A10,name),0),),"")} | B11: =IF(A11="","",SUMPRODUCT((name=A11)*(Budget)))
A12: {=IFERROR(OFFSET(Feuil2!$A$1,MATCH(0,COUNTIF(recap!A$1:A11,name),0),),"")} | B12: =IF(A12="","",SUMPRODUCT((name=A12)*(Budget)))
A13: {=IFERROR(OFFSET(Feuil2!$A$1,MATCH(0,COUNTIF(recap!A$1:A12,name),0),),"")} | B13: =IF(A13="","",SUMPRODUCT((name=A13)*(Budget)))
A14: {=IFERROR(OFFSET(Feuil2!$A$1,MATCH(0,COUNTIF(recap!A$1:A13,name),0),),"")} | B14: =IF(A14="","",SUMPRODUCT((name=A14)*(Budget)))
A15: {=IFERROR(OFFSET(Feuil2!$A$1,MATCH(0,COUNTIF(recap!A$1:A14,name),0),),"")} | B15: =IF(A15="","",SUMPRODUCT((name=A15)*(Budget)))
A16: {=IFERROR(OFFSET(Feuil2!$A$1,MATCH(0,COUNTIF(recap!A$1:A15,name),0),),"")} | B16: =IF(A16="","",SUMPRODUCT((name=A16)*(Budget)))
A17: {=IFERROR(OFFSET(Feuil2!$A$1,MATCH(0,COUNTIF(recap!A$1:A16,name),0),),"")} | B17: =IF(A17="","",SUMPRODUCT((name=A17)*(Budget)))
... A21: {=IFERROR(OFFSET(Feuil2!$A$1,MATCH(0,COUNTIF(recap!A$1:A20,name),0),),"")} | B21: =IF(A21="","",SUMPRODUCT((name=A21)*(Budget)))

Sheet Feuil2
A1: Name | B1: Colonne1 | C1: colonne2 | D1: colonne3 | E1: Budget
A2: google.com | E2: 5
A3: google.com | E3: 5
A4: google.com | E4: 9
A5: google.com | E5: 6
A6: google.com | E6: 8
A7: google.com | E7: 5
A8: test | E8: 50
A9: test | E9: 50
A10: test | E10: 50
A11: test | E11: 50
A12: google.com | E12: 5
A13: google.com | E13: 6
... A40: test2 | E40: 30
