Workbook
Name plage: 'Données Départ'!$H$1:$P$85

Sheet Données Départ
J1: *
N2: *
I3: *
H4: *
N5: *
I6: *
L7: *
L8: 0
M9: *
M10: *
N11: *
N12: *
N13: *
P14: *
M15: *
K16: *
O17: *
L18: *
J19: *
I20: *
I21: *
O22: *
L23: 0
M24: *
J25: 0
L26: *
M27: *
K28: 0
K29: *
H30: 0
I31: *
O32: *
H33: *
I34: *
O35: *
J36: *
H37: *
L38: *
M39: *
M40: *
N41: *
I42: *
M43: *
P44: *
M45: *
K46: *
J47: *
L48: *
L49: 0
M50: *
K51: *
M52: *
O53: *
M54: *
K55: *
K56: *
L57: *
J58: *
J59: *
M60: *
K61: *
H62: *
J63: 0
L64: *
H65: *
L66: *
J67: *
I68: *
I69: *
I70: 0
L71: *
I72: *
K73: *
K74: 0
L75: *
O76: *
H77: *
M78: *
H79: *
J80: *
M81: *
L82: *
H83: *
I84: *
I85: *

Sheet Résultat Attendu
H1: * | S1: {=INDEX(plage,SMALL(IF(plage<>"",ROW(plage),10000),ROW(A1)),SMALL(IF('Données Départ'!$H1:$P1<>"",COLUMN(plage)-7,10000),1))} -> *
H2: * | S2: {=INDEX(plage,SMALL(IF(plage<>"",ROW(plage),10000),ROW(A2)),SMALL(IF('Données Départ'!$H2:$P2<>"",COLUMN(plage)-7,10000),1))} -> * | U2: formule matricielle à saisir en H1 puis
H3: * | S3: {=INDEX(plage,SMALL(IF(plage<>"",ROW(plage),10000),ROW(A3)),SMALL(IF('Données Départ'!$H3:$P3<>"",COLUMN(plage)-7,10000),1))} -> * | U3: valider avec les 3 touches Ctrl Maj Entrée en simultané
H4: * | S4: {=INDEX(plage,SMALL(IF(plage<>"",ROW(plage),10000),ROW(A4)),SMALL(IF('Données Départ'!$H4:$P4<>"",COLUMN(plage)-7,10000),1))} -> * | U4: ensuite une fois les { }
H5: * | S5: {=INDEX(plage,SMALL(IF(plage<>"",ROW(plage),10000),ROW(A5)),SMALL(IF('Données Départ'!$H5:$P5<>"",COLUMN(plage)-7,10000),1))} -> * | U5: tirer vers le bas
H6: * | S6: {=INDEX(plage,SMALL(IF(plage<>"",ROW(plage),10000),ROW(A6)),SMALL(IF('Données Départ'!$H6:$P6<>"",COLUMN(plage)-7,10000),1))} -> * | U6: nb) plage est laplage à traiter dans données de depart
H7: * | S7: {=INDEX(plage,SMALL(IF(plage<>"",ROW(plage),10000),ROW(A7)),SMALL(IF('Données Départ'!$H7:$P7<>"",COLUMN(plage)-7,10000),1))} -> * | U7: faire Ctrl+F3 pour voir
H8: 0 | S8: {=INDEX(plage,SMALL(IF(plage<>"",ROW(plage),10000),ROW(A8)),SMALL(IF('Données Départ'!$H8:$P8<>"",COLUMN(plage)-7,10000),1))} -> 0
H9: * | S9: {=INDEX(plage,SMALL(IF(plage<>"",ROW(plage),10000),ROW(A9)),SMALL(IF('Données Départ'!$H9:$P9<>"",COLUMN(plage)-7,10000),1))} -> *
H10: * | S10: {=INDEX(plage,SMALL(IF(plage<>"",ROW(plage),10000),ROW(A10)),SMALL(IF('Données Départ'!$H10:$P10<>"",COLUMN(plage)-7,10000),1))} -> *
H11: * | S11: {=INDEX(plage,SMALL(IF(plage<>"",ROW(plage),10000),ROW(A11)),SMALL(IF('Données Départ'!$H11:$P11<>"",COLUMN(plage)-7,10000),1))} -> *
H12: * | S12: {=INDEX(plage,SMALL(IF(plage<>"",ROW(plage),10000),ROW(A12)),SMALL(IF('Données Départ'!$H12:$P12<>"",COLUMN(plage)-7,10000),1))} -> *
H13: * | S13: {=INDEX(plage,SMALL(IF(plage<>"",ROW(plage),10000),ROW(A13)),SMALL(IF('Données Départ'!$H13:$P13<>"",COLUMN(plage)-7,10000),1))} -> *
H14: * | S14: {=INDEX(plage,SMALL(IF(plage<>"",ROW(plage),10000),ROW(A14)),SMALL(IF('Données Départ'!$H14:$P14<>"",COLUMN(plage)-7,10000),1))} -> *
H15: * | S15: {=INDEX(plage,SMALL(IF(plage<>"",ROW(plage),10000),ROW(A15)),SMALL(IF('Données Départ'!$H15:$P15<>"",COLUMN(plage)-7,10000),1))} -> *
H16: * | S16: {=INDEX(plage,SMALL(IF(plage<>"",ROW(plage),10000),ROW(A16)),SMALL(IF('Données Départ'!$H16:$P16<>"",COLUMN(plage)-7,10000),1))} -> *
H17: * | S17: {=INDEX(plage,SMALL(IF(plage<>"",ROW(plage),10000),ROW(A17)),SMALL(IF('Données Départ'!$H17:$P17<>"",COLUMN(plage)-7,10000),1))} -> *
H18: * | S18: {=INDEX(plage,SMALL(IF(plage<>"",ROW(plage),10000),ROW(A18)),SMALL(IF('Données Départ'!$H18:$P18<>"",COLUMN(plage)-7,10000),1))} -> *
H19: * | S19: {=INDEX(plage,SMALL(IF(plage<>"",ROW(plage),10000),ROW(A19)),SMALL(IF('Données Départ'!$H19:$P19<>"",COLUMN(plage)-7,10000),1))} -> *
H20: * | S20: {=INDEX(plage,SMALL(IF(plage<>"",ROW(plage),10000),ROW(A20)),SMALL(IF('Données Départ'!$H20:$P20<>"",COLUMN(plage)-7,10000),1))} -> *
... H22: * | S22: {=INDEX(plage,SMALL(IF(plage<>"",ROW(plage),10000),ROW(A22)),SMALL(IF('Données Départ'!$H22:$P22<>"",COLUMN(plage)-7,10000),1))} -> *
H23: 0 | S23: {=INDEX(plage,SMALL(IF(plage<>"",ROW(plage),10000),ROW(A23)),SMALL(IF('Données Départ'!$H23:$P23<>"",COLUMN(plage)-7,10000),1))} -> 0
H24: * | S24: {=INDEX(plage,SMALL(IF(plage<>"",ROW(plage),10000),ROW(A24)),SMALL(IF('Données Départ'!$H24:$P24<>"",COLUMN(plage)-7,10000),1))} -> *
H25: 0 | S25: {=INDEX(plage,SMALL(IF(plage<>"",ROW(plage),10000),ROW(A25)),SMALL(IF('Données Départ'!$H25:$P25<>"",COLUMN(plage)-7,10000),1))} -> 0
H26: * | S26: {=INDEX(plage,SMALL(IF(plage<>"",ROW(plage),10000),ROW(A26)),SMALL(IF('Données Départ'!$H26:$P26<>"",COLUMN(plage)-7,10000),1))} -> *
H27: * | S27: {=INDEX(plage,SMALL(IF(plage<>"",ROW(plage),10000),ROW(A27)),SMALL(IF('Données Départ'!$H27:$P27<>"",COLUMN(plage)-7,10000),1))} -> *
H28: 0 | S28: {=INDEX(plage,SMALL(IF(plage<>"",ROW(plage),10000),ROW(A28)),SMALL(IF('Données Départ'!$H28:$P28<>"",COLUMN(plage)-7,10000),1))} -> 0
H29: * | S29: {=INDEX(plage,SMALL(IF(plage<>"",ROW(plage),10000),ROW(A29)),SMALL(IF('Données Départ'!$H29:$P29<>"",COLUMN(plage)-7,10000),1))} -> *
H30: 0 | S30: {=INDEX(plage,SMALL(IF(plage<>"",ROW(plage),10000),ROW(A30)),SMALL(IF('Données Départ'!$H30:$P30<>"",COLUMN(plage)-7,10000),1))} -> 0
H31: * | S31: {=INDEX(plage,SMALL(IF(plage<>"",ROW(plage),10000),ROW(A31)),SMALL(IF('Données Départ'!$H31:$P31<>"",COLUMN(plage)-7,10000),1))} -> *
H32: * | S32: {=INDEX(plage,SMALL(IF(plage<>"",ROW(plage),10000),ROW(A32)),SMALL(IF('Données Départ'!$H32:$P32<>"",COLUMN(plage)-7,10000),1))} -> *
H33: * | S33: {=INDEX(plage,SMALL(IF(plage<>"",ROW(plage),10000),ROW(A33)),SMALL(IF('Données Départ'!$H33:$P33<>"",COLUMN(plage)-7,10000),1))} -> *
H34: * | S34: {=INDEX(plage,SMALL(IF(plage<>"",ROW(plage),10000),ROW(A34)),SMALL(IF('Données Départ'!$H34:$P34<>"",COLUMN(plage)-7,10000),1))} -> *
H35: * | S35: {=INDEX(plage,SMALL(IF(plage<>"",ROW(plage),10000),ROW(A35)),SMALL(IF('Données Départ'!$H35:$P35<>"",COLUMN(plage)-7,10000),1))} -> *
H36: * | S36: {=INDEX(plage,SMALL(IF(plage<>"",ROW(plage),10000),ROW(A36)),SMALL(IF('Données Départ'!$H36:$P36<>"",COLUMN(plage)-7,10000),1))} -> *
H37: * | S37: {=INDEX(plage,SMALL(IF(plage<>"",ROW(plage),10000),ROW(A37)),SMALL(IF('Données Départ'!$H37:$P37<>"",COLUMN(plage)-7,10000),1))} -> *
H38: * | S38: {=INDEX(plage,SMALL(IF(plage<>"",ROW(plage),10000),ROW(A38)),SMALL(IF('Données Départ'!$H38:$P38<>"",COLUMN(plage)-7,10000),1))} -> *
H39: * | S39: {=INDEX(plage,SMALL(IF(plage<>"",ROW(plage),10000),ROW(A39)),SMALL(IF('Données Départ'!$H39:$P39<>"",COLUMN(plage)-7,10000),1))} -> *
H40: * | S40: {=INDEX(plage,SMALL(IF(plage<>"",ROW(plage),10000),ROW(A40)),SMALL(IF('Données Départ'!$H40:$P40<>"",COLUMN(plage)-7,10000),1))} -> *
H41: * | S41: {=INDEX(plage,SMALL(IF(plage<>"",ROW(plage),10000),ROW(A41)),SMALL(IF('Données Départ'!$H41:$P41<>"",COLUMN(plage)-7,10000),1))} -> *
H42: * | S42: {=INDEX(plage,SMALL(IF(plage<>"",ROW(plage),10000),ROW(A42)),SMALL(IF('Données Départ'!$H42:$P42<>"",COLUMN(plage)-7,10000),1))} -> *
... H48: * | S48: {=INDEX(plage,SMALL(IF(plage<>"",ROW(plage),10000),ROW(A48)),SMALL(IF('Données Départ'!$H48:$P48<>"",COLUMN(plage)-7,10000),1))} -> *
H49: 0 | S49: {=INDEX(plage,SMALL(IF(plage<>"",ROW(plage),10000),ROW(A49)),SMALL(IF('Données Départ'!$H49:$P49<>"",COLUMN(plage)-7,10000),1))} -> 0
H50: * | S50: {=INDEX(plage,SMALL(IF(plage<>"",ROW(plage),10000),ROW(A50)),SMALL(IF('Données Départ'!$H50:$P50<>"",COLUMN(plage)-7,10000),1))} -> *
H51: * | S51: {=INDEX(plage,SMALL(IF(plage<>"",ROW(plage),10000),ROW(A51)),SMALL(IF('Données Départ'!$H51:$P51<>"",COLUMN(plage)-7,10000),1))} -> *
H52: * | S52: {=INDEX(plage,SMALL(IF(plage<>"",ROW(plage),10000),ROW(A52)),SMALL(IF('Données Départ'!$H52:$P52<>"",COLUMN(plage)-7,10000),1))} -> *
H53: * | S53: {=INDEX(plage,SMALL(IF(plage<>"",ROW(plage),10000),ROW(A53)),SMALL(IF('Données Départ'!$H53:$P53<>"",COLUMN(plage)-7,10000),1))} -> *
H54: * | S54: {=INDEX(plage,SMALL(IF(plage<>"",ROW(plage),10000),ROW(A54)),SMALL(IF('Données Départ'!$H54:$P54<>"",COLUMN(plage)-7,10000),1))} -> *
H55: * | S55: {=INDEX(plage,SMALL(IF(plage<>"",ROW(plage),10000),ROW(A55)),SMALL(IF('Données Départ'!$H55:$P55<>"",COLUMN(plage)-7,10000),1))} -> *
H56: * | S56: {=INDEX(plage,SMALL(IF(plage<>"",ROW(plage),10000),ROW(A56)),SMALL(IF('Données Départ'!$H56:$P56<>"",COLUMN(plage)-7,10000),1))} -> *
H57: * | S57: {=INDEX(plage,SMALL(IF(plage<>"",ROW(plage),10000),ROW(A57)),SMALL(IF('Données Départ'!$H57:$P57<>"",COLUMN(plage)-7,10000),1))} -> *
H58: * | S58: {=INDEX(plage,SMALL(IF(plage<>"",ROW(plage),10000),ROW(A58)),SMALL(IF('Données Départ'!$H58:$P58<>"",COLUMN(plage)-7,10000),1))} -> *
H59: * | S59: {=INDEX(plage,SMALL(IF(plage<>"",ROW(plage),10000),ROW(A59)),SMALL(IF('Données Départ'!$H59:$P59<>"",COLUMN(plage)-7,10000),1))} -> *
H60: * | S60: {=INDEX(plage,SMALL(IF(plage<>"",ROW(plage),10000),ROW(A60)),SMALL(IF('Données Départ'!$H60:$P60<>"",COLUMN(plage)-7,10000),1))} -> *
H61: * | S61: {=INDEX(plage,SMALL(IF(plage<>"",ROW(plage),10000),ROW(A61)),SMALL(IF('Données Départ'!$H61:$P61<>"",COLUMN(plage)-7,10000),1))} -> *
H62: * | S62: {=INDEX(plage,SMALL(IF(plage<>"",ROW(plage),10000),ROW(A62)),SMALL(IF('Données Départ'!$H62:$P62<>"",COLUMN(plage)-7,10000),1))} -> *
H63: 0 | S63: {=INDEX(plage,SMALL(IF(plage<>"",ROW(plage),10000),ROW(A63)),SMALL(IF('Données Départ'!$H63:$P63<>"",COLUMN(plage)-7,10000),1))} -> 0
H64: * | S64: {=INDEX(plage,SMALL(IF(plage<>"",ROW(plage),10000),ROW(A64)),SMALL(IF('Données Départ'!$H64:$P64<>"",COLUMN(plage)-7,10000),1))} -> *
H65: * | S65: {=INDEX(plage,SMALL(IF(plage<>"",ROW(plage),10000),ROW(A65)),SMALL(IF('Données Départ'!$H65:$P65<>"",COLUMN(plage)-7,10000),1))} -> *
H66: * | S66: {=INDEX(plage,SMALL(IF(plage<>"",ROW(plage),10000),ROW(A66)),SMALL(IF('Données Départ'!$H66:$P66<>"",COLUMN(plage)-7,10000),1))} -> *
H67: * | S67: {=INDEX(plage,SMALL(IF(plage<>"",ROW(plage),10000),ROW(A67)),SMALL(IF('Données Départ'!$H67:$P67<>"",COLUMN(plage)-7,10000),1))} -> *
H68: * | S68: {=INDEX(plage,SMALL(IF(plage<>"",ROW(plage),10000),ROW(A68)),SMALL(IF('Données Départ'!$H68:$P68<>"",COLUMN(plage)-7,10000),1))} -> *
H69: * | S69: {=INDEX(plage,SMALL(IF(plage<>"",ROW(plage),10000),ROW(A69)),SMALL(IF('Données Départ'!$H69:$P69<>"",COLUMN(plage)-7,10000),1))} -> *
H70: 0 | S70: {=INDEX(plage,SMALL(IF(plage<>"",ROW(plage),10000),ROW(A70)),SMALL(IF('Données Départ'!$H70:$P70<>"",COLUMN(plage)-7,10000),1))} -> 0
H71: * | S71: {=INDEX(plage,SMALL(IF(plage<>"",ROW(plage),10000),ROW(A71)),SMALL(IF('Données Départ'!$H71:$P71<>"",COLUMN(plage)-7,10000),1))} -> *
H72: * | S72: {=INDEX(plage,SMALL(IF(plage<>"",ROW(plage),10000),ROW(A72)),SMALL(IF('Données Départ'!$H72:$P72<>"",COLUMN(plage)-7,10000),1))} -> *
H73: * | S73: {=INDEX(plage,SMALL(IF(plage<>"",ROW(plage),10000),ROW(A73)),SMALL(IF('Données Départ'!$H73:$P73<>"",COLUMN(plage)-7,10000),1))} -> *
H74: 0 | S74: {=INDEX(plage,SMALL(IF(plage<>"",ROW(plage),10000),ROW(A74)),SMALL(IF('Données Départ'!$H74:$P74<>"",COLUMN(plage)-7,10000),1))} -> 0
H75: * | S75: {=INDEX(plage,SMALL(IF(plage<>"",ROW(plage),10000),ROW(A75)),SMALL(IF('Données Départ'!$H75:$P75<>"",COLUMN(plage)-7,10000),1))} -> *
H76: * | S76: {=INDEX(plage,SMALL(IF(plage<>"",ROW(plage),10000),ROW(A76)),SMALL(IF('Données Départ'!$H76:$P76<>"",COLUMN(plage)-7,10000),1))} -> *
H77: * | S77: {=INDEX(plage,SMALL(IF(plage<>"",ROW(plage),10000),ROW(A77)),SMALL(IF('Données Départ'!$H77:$P77<>"",COLUMN(plage)-7,10000),1))} -> *
H78: * | S78: {=INDEX(plage,SMALL(IF(plage<>"",ROW(plage),10000),ROW(A78)),SMALL(IF('Données Départ'!$H78:$P78<>"",COLUMN(plage)-7,10000),1))} -> *
H79: * | S79: {=INDEX(plage,SMALL(IF(plage<>"",ROW(plage),10000),ROW(A79)),SMALL(IF('Données Départ'!$H79:$P79<>"",COLUMN(plage)-7,10000),1))} -> *
H80: * | S80: {=INDEX(plage,SMALL(IF(plage<>"",ROW(plage),10000),ROW(A80)),SMALL(IF('Données Départ'!$H80:$P80<>"",COLUMN(plage)-7,10000),1))} -> *
H81: * | S81: {=INDEX(plage,SMALL(IF(plage<>"",ROW(plage),10000),ROW(A81)),SMALL(IF('Données Départ'!$H81:$P81<>"",COLUMN(plage)-7,10000),1))} -> *
H82: * | S82: {=INDEX(plage,SMALL(IF(plage<>"",ROW(plage),10000),ROW(A82)),SMALL(IF('Données Départ'!$H82:$P82<>"",COLUMN(plage)-7,10000),1))} -> *
H83: * | S83: {=INDEX(plage,SMALL(IF(plage<>"",ROW(plage),10000),ROW(A83)),SMALL(IF('Données Départ'!$H83:$P83<>"",COLUMN(plage)-7,10000),1))} -> *
H84: * | S84: {=INDEX(plage,SMALL(IF(plage<>"",ROW(plage),10000),ROW(A84)),SMALL(IF('Données Départ'!$H84:$P84<>"",COLUMN(plage)-7,10000),1))} -> *
H85: * | S85: {=INDEX(plage,SMALL(IF(plage<>"",ROW(plage),10000),ROW(A85)),SMALL(IF('Données Départ'!$H85:$P85<>"",COLUMN(plage)-7,10000),1))} -> *
