Workbook
Name plage: 'Données Départ'!$H$1:$P$85

Sheet Données Départ
J1: *
N2: *
I3: *
H4: *
N5: *
I6: *
L7: *
L8: 0
M9: *
M10: *
N11: *
N12: *
N13: *
P14: *
M15: *
K16: *
O17: *
L18: *
J19: *
I20: *
I21: *
O22: *
L23: 0
M24: *
J25: 0
L26: *
M27: *
K28: 0
K29: *
H30: 0
I31: *
O32: *
H33: *
I34: *
O35: *
J36: *
H37: *
L38: *
M39: *
M40: *
...

Sheet Résultat Attendu
H1: * | S1: {=INDEX(plage,SMALL(IF(plage<>"",ROW(plage),10000),ROW(A1)),SMALL(IF('Données Départ'!$H1:$P1<>"",COLUMN(plage)-7,10000),1))} -> *
H2: * | S2: {=INDEX(plage,SMALL(IF(plage<>"",ROW(plage),10000),ROW(A2)),SMALL(IF('Données Départ'!$H2:$P2<>"",COLUMN(plage)-7,10000),1))} -> * | U2: formule matricielle à saisir en H1 puis
H3: * | S3: {=INDEX(plage,SMALL(IF(plage<>"",ROW(plage),10000),ROW(A3)),SMALL(IF('Données Départ'!$H3:$P3<>"",COLUMN(plage)-7,10000),1))} -> * | U3: valider avec les 3 touches Ctrl Maj Entrée en simultané
H4: * | S4: {=INDEX(plage,SMALL(IF(plage<>"",ROW(plage),10000),ROW(A4)),SMALL(IF('Données Départ'!$H4:$P4<>"",COLUMN(plage)-7,10000),1))} -> * | U4: ensuite une fois les { }
H5: * | S5: {=INDEX(plage,SMALL(IF(plage<>"",ROW(plage),10000),ROW(A5)),SMALL(IF('Données Départ'!$H5:$P5<>"",COLUMN(plage)-7,10000),1))} -> * | U5: tirer vers le bas
H6: * | S6: {=INDEX(plage,SMALL(IF(plage<>"",ROW(plage),10000),ROW(A6)),SMALL(IF('Données Départ'!$H6:$P6<>"",COLUMN(plage)-7,10000),1))} -> * | U6: nb) plage est laplage à traiter dans données de depart
H7: * | S7: {=INDEX(plage,SMALL(IF(plage<>"",ROW(plage),10000),ROW(A7)),SMALL(IF('Données Départ'!$H7:$P7<>"",COLUMN(plage)-7,10000),1))} -> * | U7: faire Ctrl+F3 pour voir
H8: 0 | S8: {=INDEX(plage,SMALL(IF(plage<>"",ROW(plage),10000),ROW(A8)),SMALL(IF('Données Départ'!$H8:$P8<>"",COLUMN(plage)-7,10000),1))} -> 0
H9: * | S9: {=INDEX(plage,SMALL(IF(plage<>"",ROW(plage),10000),ROW(A9)),SMALL(IF('Données Départ'!$H9:$P9<>"",COLUMN(plage)-7,10000),1))} -> *
H10: * | S10: {=INDEX(plage,SMALL(IF(plage<>"",ROW(plage),10000),ROW(A10)),SMALL(IF('Données Départ'!$H10:$P10<>"",COLUMN(plage)-7,10000),1))} -> *
H11: * | S11: {=INDEX(plage,SMALL(IF(plage<>"",ROW(plage),10000),ROW(A11)),SMALL(IF('Données Départ'!$H11:$P11<>"",COLUMN(plage)-7,10000),1))} -> *
H12: * | S12: {=INDEX(plage,SMALL(IF(plage<>"",ROW(plage),10000),ROW(A12)),SMALL(IF('Données Départ'!$H12:$P12<>"",COLUMN(plage)-7,10000),1))} -> *
H13: * | S13: {=INDEX(plage,SMALL(IF(plage<>"",ROW(plage),10000),ROW(A13)),SMALL(IF('Données Départ'!$H13:$P13<>"",COLUMN(plage)-7,10000),1))} -> *
H14: * | S14: {=INDEX(plage,SMALL(IF(plage<>"",ROW(plage),10000),ROW(A14)),SMALL(IF('Données Départ'!$H14:$P14<>"",COLUMN(plage)-7,10000),1))} -> *
H15: * | S15: {=INDEX(plage,SMALL(IF(plage<>"",ROW(plage),10000),ROW(A15)),SMALL(IF('Données Départ'!$H15:$P15<>"",COLUMN(plage)-7,10000),1))} -> *
H16: * | S16: {=INDEX(plage,SMALL(IF(plage<>"",ROW(plage),10000),ROW(A16)),SMALL(IF('Données Départ'!$H16:$P16<>"",COLUMN(plage)-7,10000),1))} -> *
H17: * | S17: {=INDEX(plage,SMALL(IF(plage<>"",ROW(plage),10000),ROW(A17)),SMALL(IF('Données Départ'!$H17:$P17<>"",COLUMN(plage)-7,10000),1))} -> *
H18: * | S18: {=INDEX(plage,SMALL(IF(plage<>"",ROW(plage),10000),ROW(A18)),SMALL(IF('Données Départ'!$H18:$P18<>"",COLUMN(plage)-7,10000),1))} -> *
H19: * | S19: {=INDEX(plage,SMALL(IF(plage<>"",ROW(plage),10000),ROW(A19)),SMALL(IF('Données Départ'!$H19:$P19<>"",COLUMN(plage)-7,10000),1))} -> *
H20: * | S20: {=INDEX(plage,SMALL(IF(plage<>"",ROW(plage),10000),ROW(A20)),SMALL(IF('Données Départ'!$H20:$P20<>"",COLUMN(plage)-7,10000),1))} -> *
... H22: * | S22: {=INDEX(plage,SMALL(IF(plage<>"",ROW(plage),10000),ROW(A22)),SMALL(IF('Données Départ'!$H22:$P22<>"",COLUMN(plage)-7,10000),1))} -> *
H23: 0 | S23: {=INDEX(plage,SMALL(IF(plage<>"",ROW(plage),10000),ROW(A23)),SMALL(IF('Données Départ'!$H23:$P23<>"",COLUMN(plage)-7,10000),1))} -> 0
H24: * | S24: {=INDEX(plage,SMALL(IF(plage<>"",ROW(plage),10000),ROW(A24)),SMALL(IF('Données Départ'!$H24:$P24<>"",COLUMN(plage)-7,10000),1))} -> *
H25: 0 | S25: {=INDEX(plage,SMALL(IF(plage<>"",ROW(plage),10000),ROW(A25)),SMALL(IF('Données Départ'!$H25:$P25<>"",COLUMN(plage)-7,10000),1))} -> 0
H26: * | S26: {=INDEX(plage,SMALL(IF(plage<>"",ROW(plage),10000),ROW(A26)),SMALL(IF('Données Départ'!$H26:$P26<>"",COLUMN(plage)-7,10000),1))} -> *
H27: * | S27: {=INDEX(plage,SMALL(IF(plage<>"",ROW(plage),10000),ROW(A27)),SMALL(IF('Données Départ'!$H27:$P27<>"",COLUMN(plage)-7,10000),1))} -> *
H28: 0 | S28: {=INDEX(plage,SMALL(IF(plage<>"",ROW(plage),10000),ROW(A28)),SMALL(IF('Données Départ'!$H28:$P28<>"",COLUMN(plage)-7,10000),1))} -> 0
H29: * | S29: {=INDEX(plage,SMALL(IF(plage<>"",ROW(plage),10000),ROW(A29)),SMALL(IF('Données Départ'!$H29:$P29<>"",COLUMN(plage)-7,10000),1))} -> *
H30: 0 | S30: {=INDEX(plage,SMALL(IF(plage<>"",ROW(plage),10000),ROW(A30)),SMALL(IF('Données Départ'!$H30:$P30<>"",COLUMN(plage)-7,10000),1))} -> 0
H31: * | S31: {=INDEX(plage,SMALL(IF(plage<>"",ROW(plage),10000),ROW(A31)),SMALL(IF('Données Départ'!$H31:$P31<>"",COLUMN(plage)-7,10000),1))} -> *
H32: * | S32: {=INDEX(plage,SMALL(IF(plage<>"",ROW(plage),10000),ROW(A32)),SMALL(IF('Données Départ'!$H32:$P32<>"",COLUMN(plage)-7,10000),1))} -> *
H33: * | S33: {=INDEX(plage,SMALL(IF(plage<>"",ROW(plage),10000),ROW(A33)),SMALL(IF('Données Départ'!$H33:$P33<>"",COLUMN(plage)-7,10000),1))} -> *
H34: * | S34: {=INDEX(plage,SMALL(IF(plage<>"",ROW(plage),10000),ROW(A34)),SMALL(IF('Données Départ'!$H34:$P34<>"",COLUMN(plage)-7,10000),1))} -> *
H35: * | S35: {=INDEX(plage,SMALL(IF(plage<>"",ROW(plage),10000),ROW(A35)),SMALL(IF('Données Départ'!$H35:$P35<>"",COLUMN(plage)-7,10000),1))} -> *
H36: * | S36: {=INDEX(plage,SMALL(IF(plage<>"",ROW(plage),10000),ROW(A36)),SMALL(IF('Données Départ'!$H36:$P36<>"",COLUMN(plage)-7,10000),1))} -> *
H37: * | S37: {=INDEX(plage,SMALL(IF(plage<>"",ROW(plage),10000),ROW(A37)),SMALL(IF('Données Départ'!$H37:$P37<>"",COLUMN(plage)-7,10000),1))} -> *
H38: * | S38: {=INDEX(plage,SMALL(IF(plage<>"",ROW(plage),10000),ROW(A38)),SMALL(IF('Données Départ'!$H38:$P38<>"",COLUMN(plage)-7,10000),1))} -> *
H39: * | S39: {=INDEX(plage,SMALL(IF(plage<>"",ROW(plage),10000),ROW(A39)),SMALL(IF('Données Départ'!$H39:$P39<>"",COLUMN(plage)-7,10000),1))} -> *
H40: * | S40: {=INDEX(plage,SMALL(IF(plage<>"",ROW(plage),10000),ROW(A40)),SMALL(IF('Données Départ'!$H40:$P40<>"",COLUMN(plage)-7,10000),1))} -> *
H41: * | S41: {=INDEX(plage,SMALL(IF(plage<>"",ROW(plage),10000),ROW(A41)),SMALL(IF('Données Départ'!$H41:$P41<>"",COLUMN(plage)-7,10000),1))} -> *
...
