Workbook

Sheet Feuil1
A1: Numéro | B1: Part1 | C1: Part2 | D1: Part3 | E1: PartTotal | F1: Mont1 | G1: Mont2 | H1: Mont3 | I1: MontTotal
A2: 1 | B2: 12 | C2: 10 | D2: 60 | E2: =B2+C2+D2 -> 82 | F2: 2500 | G2: 2500 | H2: 2500 | I2: =F2+G2+H2 -> 7500
A3: 2 | B3: 10 | C3: 12 | D3: 10 | E3: 25 | F3: 25000 | G3: 25000 | H3: 25000 | I3: =F3+G3+H3 -> 75000
A4: 3 | B4: 40 | C4: 14 | D4: 21 | E4: 41 | F4: 125000 | G4: 125000 | H4: 125000 | I4: =F4+G4+H4 -> 375000
A5: 4 | B5: 10 | C5: 10 | D5: 0 | E5: 2 | F5: 189000 | G5: 189000 | H5: 189000 | I5: =F5+G5+H5 -> 567000
A6: 5 | B6: 2 | C6: 150 | D6: 4 | E6: 3 | F6: 128000 | G6: 128000 | H6: 128000 | I6: =F6+G6+H6 -> 384000
A7: 6 | B7: 8 | C7: 15 | D7: 2 | E7: 4 | F7: 2500 | G7: 2500 | H7: 2500 | I7: =F7+G7+H7 -> 7500
A8: 7 | B8: 9 | C8: 78 | D8: 1 | E8: 8 | F8: 2500 | G8: 2500 | H8: 2500 | I8: =F8+G8+H8 -> 7500
A9: 8 | B9: 10 | C9: 45 | D9: 0 | E9: 7 | F9: 2500 | G9: 2500 | H9: 2500 | I9: =F9+G9+H9 -> 7500
A10: 9 | B10: 5 | C10: 78 | D10: 0 | E10: 6 | F10: 15000 | G10: 15000 | H10: 15000 | I10: =F10+G10+H10 -> 45000
A11: 10 | B11: 6 | C11: 76 | D11: 0 | E11: 3 | F11: 2500 | G11: 2500 | H11: 2500 | I11: =F11+G11+H11 -> 7500
A12: 11 | B12: 7 | C12: 49 | D12: 0 | E12: 5 | F12: 45000 | G12: 45000 | H12: 45000 | I12: =F12+G12+H12 -> 135000
A13: 12 | B13: 8 | C13: 12 | D13: 5 | E13: 2 | F13: 2500 | G13: 2500 | H13: 2500 | I13: =F13+G13+H13 -> 7500
A14: 13 | B14: 9 | C14: 14 | D14: 5 | E14: 1 | F14: 2500 | G14: 2500 | H14: 2500 | I14: =F14+G14+H14 -> 7500
... A21: 20 | B21: 75 | C21: 0 | D21: 2 | E21: 77 | F21: 12280 | G21: 12280 | H21: 12280 | I21: =F21+G21+H21 -> 36840

Sheet extract
B2: {=IFERROR(INDEX(Feuil1!$A$2:$I$21,SMALL(IF(Feuil1!$B$2:$B$21+Feuil1!$C$2:$C$21+Feuil1!$D$2:$D$21<>Feuil1!$E$2:$E$21,ROW(Feuil1!$E$2:$E$21)-1,""),ROW($A1)),COLUMN(A:A)),"")} -> 2 | C2: {=IFERROR(INDEX(Feuil1!$A$2:$I$21,SMALL(IF(Feuil1!$B$2:$B$21+Feuil1!$C$2:$C$21+Feuil1!$D$2:$D$21<>Feuil1!$E$2:$E$21,ROW(Feuil1!$E$2:$E$21)-1,""),ROW($A1)),COLUMN(B:B)),"")} -> 10 | D2: {=IFERROR(INDEX(Feuil1!$A$2:$I$21,SMALL(IF(Feuil1!$B$2:$B$21+Feuil1!$C$2:$C$21+Feuil1!$D$2:$D$21<>Feuil1!$E$2:$E$21,ROW(Feuil1!$E$2:$E$21)-1,""),ROW($A1)),COLUMN(C:C)),"")} -> 12 | E2: {=IFERROR(INDEX(Feuil1!$A$2:$I$21,SMALL(IF(Feuil1!$B$2:$B$21+Feuil1!$C$2:$C$21+Feuil1!$D$2:$D$21<>Feuil1!$E$2:$E$21,ROW(Feuil1!$E$2:$E$21)-1,""),ROW($A1)),COLUMN(D:D)),"")} -> 10 | F2: {=IFERROR(INDEX(Feuil1!$A$2:$I$21,SMALL(IF(Feuil1!$B$2:$B$21+Feuil1!$C$2:$C$21+Feuil1!$D$2:$D$21<>Feuil1!$E$2:$E$21,ROW(Feuil1!$E$2:$E$21)-1,""),ROW($A1)),COLUMN(E:E)),"")} -> 25 | G2: {=IFERROR(INDEX(Feuil1!$A$2:$I$21,SMALL(IF(Feuil1!$B$2:$B$21+Feuil1!$C$2:$C$21+Feuil1!$D$2:$D$21<>Feuil1!$E$2:$E$21,ROW(Feuil1!$E$2:$E$21)-1,""),ROW($A1)),COLUMN(F:F)),"")} -> 25000 | H2: {=IFERROR(INDEX(Feuil1!$A$2:$I$21,SMALL(IF(Feuil1!$B$2:$B$21+Feuil1!$C$2:$C$21+Feuil1!$D$2:$D$21<>Feuil1!$E$2:$E$21,ROW(Feuil1!$E$2:$E$21)-1,""),ROW($A1)),COLUMN(G:G)),"")} -> 25000 | I2: {=IFERROR(INDEX(Feuil1!$A$2:$I$21,SMALL(IF(Feuil1!$B$2:$B$21+Feuil1!$C$2:$C$21+Feuil1!$D$2:$D$21<>Feuil1!$E$2:$E$21,ROW(Feuil1!$E$2:$E$21)-1,""),ROW($A1)),COLUMN(H:H)),"")} -> 25000 | J2: {=IFERROR(INDEX(Feuil1!$A$2:$I$21,SMALL(IF(Feuil1!$B$2:$B$21+Feuil1!$C$2:$C$21+Feuil1!$D$2:$D$21<>Feuil1!$E$2:$E$21,ROW(Feuil1!$E$2:$E$21)-1,""),ROW($A1)),COLUMN(I:I)),"")} -> 75000
B3: {=IFERROR(INDEX(Feuil1!$A$2:$I$21,SMALL(IF(Feuil1!$B$2:$B$21+Feuil1!$C$2:$C$21+Feuil1!$D$2:$D$21<>Feuil1!$E$2:$E$21,ROW(Feuil1!$E$2:$E$21)-1,""),ROW($A2)),COLUMN(A:A)),"")} -> 3 | C3: {=IFERROR(INDEX(Feuil1!$A$2:$I$21,SMALL(IF(Feuil1!$B$2:$B$21+Feuil1!$C$2:$C$21+Feuil1!$D$2:$D$21<>Feuil1!$E$2:$E$21,ROW(Feuil1!$E$2:$E$21)-1,""),ROW($A2)),COLUMN(B:B)),"")} -> 40 | D3: {=IFERROR(INDEX(Feuil1!$A$2:$I$21,SMALL(IF(Feuil1!$B$2:$B$21+Feuil1!$C$2:$C$21+Feuil1!$D$2:$D$21<>Feuil1!$E$2:$E$21,ROW(Feuil1!$E$2:$E$21)-1,""),ROW($A2)),COLUMN(C:C)),"")} -> 14 | E3: {=IFERROR(INDEX(Feuil1!$A$2:$I$21,SMALL(IF(Feuil1!$B$2:$B$21+Feuil1!$C$2:$C$21+Feuil1!$D$2:$D$21<>Feuil1!$E$2:$E$21,ROW(Feuil1!$E$2:$E$21)-1,""),ROW($A2)),COLUMN(D:D)),"")} -> 21 | F3: {=IFERROR(INDEX(Feuil1!$A$2:$I$21,SMALL(IF(Feuil1!$B$2:$B$21+Feuil1!$C$2:$C$21+Feuil1!$D$2:$D$21<>Feuil1!$E$2:$E$21,ROW(Feuil1!$E$2:$E$21)-1,""),ROW($A2)),COLUMN(E:E)),"")} -> 41 | G3: {=IFERROR(INDEX(Feuil1!$A$2:$I$21,SMALL(IF(Feuil1!$B$2:$B$21+Feuil1!$C$2:$C$21+Feuil1!$D$2:$D$21<>Feuil1!$E$2:$E$21,ROW(Feuil1!$E$2:$E$21)-1,""),ROW($A2)),COLUMN(F:F)),"")} -> 125000 | H3: {=IFERROR(INDEX(Feuil1!$A$2:$I$21,SMALL(IF(Feuil1!$B$2:$B$21+Feuil1!$C$2:$C$21+Feuil1!$D$2:$D$21<>Feuil1!$E$2:$E$21,ROW(Feuil1!$E$2:$E$21)-1,""),ROW($A2)),COLUMN(G:G)),"")} -> 125000 | I3: {=IFERROR(INDEX(Feuil1!$A$2:$I$21,SMALL(IF(Feuil1!$B$2:$B$21+Feuil1!$C$2:$C$21+Feuil1!$D$2:$D$21<>Feuil1!$E$2:$E$21,ROW(Feuil1!$E$2:$E$21)-1,""),ROW($A2)),COLUMN(H:H)),"")} -> 125000 | J3: {=IFERROR(INDEX(Feuil1!$A$2:$I$21,SMALL(IF(Feuil1!$B$2:$B$21+Feuil1!$C$2:$C$21+Feuil1!$D$2:$D$21<>Feuil1!$E$2:$E$21,ROW(Feuil1!$E$2:$E$21)-1,""),ROW($A2)),COLUMN(I:I)),"")} -> 375000
B4: {=IFERROR(INDEX(Feuil1!$A$2:$I$21,SMALL(IF(Feuil1!$B$2:$B$21+Feuil1!$C$2:$C$21+Feuil1!$D$2:$D$21<>Feuil1!$E$2:$E$21,ROW(Feuil1!$E$2:$E$21)-1,""),ROW($A3)),COLUMN(A:A)),"")} -> 4 | C4: {=IFERROR(INDEX(Feuil1!$A$2:$I$21,SMALL(IF(Feuil1!$B$2:$B$21+Feuil1!$C$2:$C$21+Feuil1!$D$2:$D$21<>Feuil1!$E$2:$E$21,ROW(Feuil1!$E$2:$E$21)-1,""),ROW($A3)),COLUMN(B:B)),"")} -> 10 | D4: {=IFERROR(INDEX(Feuil1!$A$2:$I$21,SMALL(IF(Feuil1!$B$2:$B$21+Feuil1!$C$2:$C$21+Feuil1!$D$2:$D$21<>Feuil1!$E$2:$E$21,ROW(Feuil1!$E$2:$E$21)-1,""),ROW($A3)),COLUMN(C:C)),"")} -> 10 | E4: {=IFERROR(INDEX(Feuil1!$A$2:$I$21,SMALL(IF(Feuil1!$B$2:$B$21+Feuil1!$C$2:$C$21+Feuil1!$D$2:$D$21<>Feuil1!$E$2:$E$21,ROW(Feuil1!$E$2:$E$21)-1,""),ROW($A3)),COLUMN(D:D)),"")} -> 0 | F4: {=IFERROR(INDEX(Feuil1!$A$2:$I$21,SMALL(IF(Feuil1!$B$2:$B$21+Feuil1!$C$2:$C$21+Feuil1!$D$2:$D$21<>Feuil1!$E$2:$E$21,ROW(Feuil1!$E$2:$E$21)-1,""),ROW($A3)),COLUMN(E:E)),"")} -> 2 | G4: {=IFERROR(INDEX(Feuil1!$A$2:$I$21,SMALL(IF(Feuil1!$B$2:$B$21+Feuil1!$C$2:$C$21+Feuil1!$D$2:$D$21<>Feuil1!$E$2:$E$21,ROW(Feuil1!$E$2:$E$21)-1,""),ROW($A3)),COLUMN(F:F)),"")} -> 189000 | H4: {=IFERROR(INDEX(Feuil1!$A$2:$I$21,SMALL(IF(Feuil1!$B$2:$B$21+Feuil1!$C$2:$C$21+Feuil1!$D$2:$D$21<>Feuil1!$E$2:$E$21,ROW(Feuil1!$E$2:$E$21)-1,""),ROW($A3)),COLUMN(G:G)),"")} -> 189000 | I4: {=IFERROR(INDEX(Feuil1!$A$2:$I$21,SMALL(IF(Feuil1!$B$2:$B$21+Feuil1!$C$2:$C$21+Feuil1!$D$2:$D$21<>Feuil1!$E$2:$E$21,ROW(Feuil1!$E$2:$E$21)-1,""),ROW($A3)),COLUMN(H:H)),"")} -> 189000 | J4: {=IFERROR(INDEX(Feuil1!$A$2:$I$21,SMALL(IF(Feuil1!$B$2:$B$21+Feuil1!$C$2:$C$21+Feuil1!$D$2:$D$21<>Feuil1!$E$2:$E$21,ROW(Feuil1!$E$2:$E$21)-1,""),ROW($A3)),COLUMN(I:I)),"")} -> 567000
B5: {=IFERROR(INDEX(Feuil1!$A$2:$I$21,SMALL(IF(Feuil1!$B$2:$B$21+Feuil1!$C$2:$C$21+Feuil1!$D$2:$D$21<>Feuil1!$E$2:$E$21,ROW(Feuil1!$E$2:$E$21)-1,""),ROW($A4)),COLUMN(A:A)),"")} -> 5 | C5: {=IFERROR(INDEX(Feuil1!$A$2:$I$21,SMALL(IF(Feuil1!$B$2:$B$21+Feuil1!$C$2:$C$21+Feuil1!$D$2:$D$21<>Feuil1!$E$2:$E$21,ROW(Feuil1!$E$2:$E$21)-1,""),ROW($A4)),COLUMN(B:B)),"")} -> 2 | D5: {=IFERROR(INDEX(Feuil1!$A$2:$I$21,SMALL(IF(Feuil1!$B$2:$B$21+Feuil1!$C$2:$C$21+Feuil1!$D$2:$D$21<>Feuil1!$E$2:$E$21,ROW(Feuil1!$E$2:$E$21)-1,""),ROW($A4)),COLUMN(C:C)),"")} -> 150 | E5: {=IFERROR(INDEX(Feuil1!$A$2:$I$21,SMALL(IF(Feuil1!$B$2:$B$21+Feuil1!$C$2:$C$21+Feuil1!$D$2:$D$21<>Feuil1!$E$2:$E$21,ROW(Feuil1!$E$2:$E$21)-1,""),ROW($A4)),COLUMN(D:D)),"")} -> 4 | F5: {=IFERROR(INDEX(Feuil1!$A$2:$I$21,SMALL(IF(Feuil1!$B$2:$B$21+Feuil1!$C$2:$C$21+Feuil1!$D$2:$D$21<>Feuil1!$E$2:$E$21,ROW(Feuil1!$E$2:$E$21)-1,""),ROW($A4)),COLUMN(E:E)),"")} -> 3 | G5: {=IFERROR(INDEX(Feuil1!$A$2:$I$21,SMALL(IF(Feuil1!$B$2:$B$21+Feuil1!$C$2:$C$21+Feuil1!$D$2:$D$21<>Feuil1!$E$2:$E$21,ROW(Feuil1!$E$2:$E$21)-1,""),ROW($A4)),COLUMN(F:F)),"")} -> 128000 | H5: {=IFERROR(INDEX(Feuil1!$A$2:$I$21,SMALL(IF(Feuil1!$B$2:$B$21+Feuil1!$C$2:$C$21+Feuil1!$D$2:$D$21<>Feuil1!$E$2:$E$21,ROW(Feuil1!$E$2:$E$21)-1,""),ROW($A4)),COLUMN(G:G)),"")} -> 128000 | I5: {=IFERROR(INDEX(Feuil1!$A$2:$I$21,SMALL(IF(Feuil1!$B$2:$B$21+Feuil1!$C$2:$C$21+Feuil1!$D$2:$D$21<>Feuil1!$E$2:$E$21,ROW(Feuil1!$E$2:$E$21)-1,""),ROW($A4)),COLUMN(H:H)),"")} -> 128000 | J5: {=IFERROR(INDEX(Feuil1!$A$2:$I$21,SMALL(IF(Feuil1!$B$2:$B$21+Feuil1!$C$2:$C$21+Feuil1!$D$2:$D$21<>Feuil1!$E$2:$E$21,ROW(Feuil1!$E$2:$E$21)-1,""),ROW($A4)),COLUMN(I:I)),"")} -> 384000
B6: {=IFERROR(INDEX(Feuil1!$A$2:$I$21,SMALL(IF(Feuil1!$B$2:$B$21+Feuil1!$C$2:$C$21+Feuil1!$D$2:$D$21<>Feuil1!$E$2:$E$21,ROW(Feuil1!$E$2:$E$21)-1,""),ROW($A5)),COLUMN(A:A)),"")} -> 6 | C6: {=IFERROR(INDEX(Feuil1!$A$2:$I$21,SMALL(IF(Feuil1!$B$2:$B$21+Feuil1!$C$2:$C$21+Feuil1!$D$2:$D$21<>Feuil1!$E$2:$E$21,ROW(Feuil1!$E$2:$E$21)-1,""),ROW($A5)),COLUMN(B:B)),"")} -> 8 | D6: {=IFERROR(INDEX(Feuil1!$A$2:$I$21,SMALL(IF(Feuil1!$B$2:$B$21+Feuil1!$C$2:$C$21+Feuil1!$D$2:$D$21<>Feuil1!$E$2:$E$21,ROW(Feuil1!$E$2:$E$21)-1,""),ROW($A5)),COLUMN(C:C)),"")} -> 15 | E6: {=IFERROR(INDEX(Feuil1!$A$2:$I$21,SMALL(IF(Feuil1!$B$2:$B$21+Feuil1!$C$2:$C$21+Feuil1!$D$2:$D$21<>Feuil1!$E$2:$E$21,ROW(Feuil1!$E$2:$E$21)-1,""),ROW($A5)),COLUMN(D:D)),"")} -> 2 | F6: {=IFERROR(INDEX(Feuil1!$A$2:$I$21,SMALL(IF(Feuil1!$B$2:$B$21+Feuil1!$C$2:$C$21+Feuil1!$D$2:$D$21<>Feuil1!$E$2:$E$21,ROW(Feuil1!$E$2:$E$21)-1,""),ROW($A5)),COLUMN(E:E)),"")} -> 4 | G6: {=IFERROR(INDEX(Feuil1!$A$2:$I$21,SMALL(IF(Feuil1!$B$2:$B$21+Feuil1!$C$2:$C$21+Feuil1!$D$2:$D$21<>Feuil1!$E$2:$E$21,ROW(Feuil1!$E$2:$E$21)-1,""),ROW($A5)),COLUMN(F:F)),"")} -> 2500 | H6: {=IFERROR(INDEX(Feuil1!$A$2:$I$21,SMALL(IF(Feuil1!$B$2:$B$21+Feuil1!$C$2:$C$21+Feuil1!$D$2:$D$21<>Feuil1!$E$2:$E$21,ROW(Feuil1!$E$2:$E$21)-1,""),ROW($A5)),COLUMN(G:G)),"")} -> 2500 | I6: {=IFERROR(INDEX(Feuil1!$A$2:$I$21,SMALL(IF(Feuil1!$B$2:$B$21+Feuil1!$C$2:$C$21+Feuil1!$D$2:$D$21<>Feuil1!$E$2:$E$21,ROW(Feuil1!$E$2:$E$21)-1,""),ROW($A5)),COLUMN(H:H)),"")} -> 2500 | J6: {=IFERROR(INDEX(Feuil1!$A$2:$I$21,SMALL(IF(Feuil1!$B$2:$B$21+Feuil1!$C$2:$C$21+Feuil1!$D$2:$D$21<>Feuil1!$E$2:$E$21,ROW(Feuil1!$E$2:$E$21)-1,""),ROW($A5)),COLUMN(I:I)),"")} -> 7500
B7: {=IFERROR(INDEX(Feuil1!$A$2:$I$21,SMALL(IF(Feuil1!$B$2:$B$21+Feuil1!$C$2:$C$21+Feuil1!$D$2:$D$21<>Feuil1!$E$2:$E$21,ROW(Feuil1!$E$2:$E$21)-1,""),ROW($A6)),COLUMN(A:A)),"")} -> 7 | C7: {=IFERROR(INDEX(Feuil1!$A$2:$I$21,SMALL(IF(Feuil1!$B$2:$B$21+Feuil1!$C$2:$C$21+Feuil1!$D$2:$D$21<>Feuil1!$E$2:$E$21,ROW(Feuil1!$E$2:$E$21)-1,""),ROW($A6)),COLUMN(B:B)),"")} -> 9 | D7: {=IFERROR(INDEX(Feuil1!$A$2:$I$21,SMALL(IF(Feuil1!$B$2:$B$21+Feuil1!$C$2:$C$21+Feuil1!$D$2:$D$21<>Feuil1!$E$2:$E$21,ROW(Feuil1!$E$2:$E$21)-1,""),ROW($A6)),COLUMN(C:C)),"")} -> 78 | E7: {=IFERROR(INDEX(Feuil1!$A$2:$I$21,SMALL(IF(Feuil1!$B$2:$B$21+Feuil1!$C$2:$C$21+Feuil1!$D$2:$D$21<>Feuil1!$E$2:$E$21,ROW(Feuil1!$E$2:$E$21)-1,""),ROW($A6)),COLUMN(D:D)),"")} -> 1 | F7: {=IFERROR(INDEX(Feuil1!$A$2:$I$21,SMALL(IF(Feuil1!$B$2:$B$21+Feuil1!$C$2:$C$21+Feuil1!$D$2:$D$21<>Feuil1!$E$2:$E$21,ROW(Feuil1!$E$2:$E$21)-1,""),ROW($A6)),COLUMN(E:E)),"")} -> 8 | G7: {=IFERROR(INDEX(Feuil1!$A$2:$I$21,SMALL(IF(Feuil1!$B$2:$B$21+Feuil1!$C$2:$C$21+Feuil1!$D$2:$D$21<>Feuil1!$E$2:$E$21,ROW(Feuil1!$E$2:$E$21)-1,""),ROW($A6)),COLUMN(F:F)),"")} -> 2500 | H7: {=IFERROR(INDEX(Feuil1!$A$2:$I$21,SMALL(IF(Feuil1!$B$2:$B$21+Feuil1!$C$2:$C$21+Feuil1!$D$2:$D$21<>Feuil1!$E$2:$E$21,ROW(Feuil1!$E$2:$E$21)-1,""),ROW($A6)),COLUMN(G:G)),"")} -> 2500 | I7: {=IFERROR(INDEX(Feuil1!$A$2:$I$21,SMALL(IF(Feuil1!$B$2:$B$21+Feuil1!$C$2:$C$21+Feuil1!$D$2:$D$21<>Feuil1!$E$2:$E$21,ROW(Feuil1!$E$2:$E$21)-1,""),ROW($A6)),COLUMN(H:H)),"")} -> 2500 | J7: {=IFERROR(INDEX(Feuil1!$A$2:$I$21,SMALL(IF(Feuil1!$B$2:$B$21+Feuil1!$C$2:$C$21+Feuil1!$D$2:$D$21<>Feuil1!$E$2:$E$21,ROW(Feuil1!$E$2:$E$21)-1,""),ROW($A6)),COLUMN(I:I)),"")} -> 7500
B8: {=IFERROR(INDEX(Feuil1!$A$2:$I$21,SMALL(IF(Feuil1!$B$2:$B$21+Feuil1!$C$2:$C$21+Feuil1!$D$2:$D$21<>Feuil1!$E$2:$E$21,ROW(Feuil1!$E$2:$E$21)-1,""),ROW($A7)),COLUMN(A:A)),"")} -> 8 | C8: {=IFERROR(INDEX(Feuil1!$A$2:$I$21,SMALL(IF(Feuil1!$B$2:$B$21+Feuil1!$C$2:$C$21+Feuil1!$D$2:$D$21<>Feuil1!$E$2:$E$21,ROW(Feuil1!$E$2:$E$21)-1,""),ROW($A7)),COLUMN(B:B)),"")} -> 10 | D8: {=IFERROR(INDEX(Feuil1!$A$2:$I$21,SMALL(IF(Feuil1!$B$2:$B$21+Feuil1!$C$2:$C$21+Feuil1!$D$2:$D$21<>Feuil1!$E$2:$E$21,ROW(Feuil1!$E$2:$E$21)-1,""),ROW($A7)),COLUMN(C:C)),"")} -> 45 | E8: {=IFERROR(INDEX(Feuil1!$A$2:$I$21,SMALL(IF(Feuil1!$B$2:$B$21+Feuil1!$C$2:$C$21+Feuil1!$D$2:$D$21<>Feuil1!$E$2:$E$21,ROW(Feuil1!$E$2:$E$21)-1,""),ROW($A7)),COLUMN(D:D)),"")} -> 0 | F8: {=IFERROR(INDEX(Feuil1!$A$2:$I$21,SMALL(IF(Feuil1!$B$2:$B$21+Feuil1!$C$2:$C$21+Feuil1!$D$2:$D$21<>Feuil1!$E$2:$E$21,ROW(Feuil1!$E$2:$E$21)-1,""),ROW($A7)),COLUMN(E:E)),"")} -> 7 | G8: {=IFERROR(INDEX(Feuil1!$A$2:$I$21,SMALL(IF(Feuil1!$B$2:$B$21+Feuil1!$C$2:$C$21+Feuil1!$D$2:$D$21<>Feuil1!$E$2:$E$21,ROW(Feuil1!$E$2:$E$21)-1,""),ROW($A7)),COLUMN(F:F)),"")} -> 2500 | H8: {=IFERROR(INDEX(Feuil1!$A$2:$I$21,SMALL(IF(Feuil1!$B$2:$B$21+Feuil1!$C$2:$C$21+Feuil1!$D$2:$D$21<>Feuil1!$E$2:$E$21,ROW(Feuil1!$E$2:$E$21)-1,""),ROW($A7)),COLUMN(G:G)),"")} -> 2500 | I8: {=IFERROR(INDEX(Feuil1!$A$2:$I$21,SMALL(IF(Feuil1!$B$2:$B$21+Feuil1!$C$2:$C$21+Feuil1!$D$2:$D$21<>Feuil1!$E$2:$E$21,ROW(Feuil1!$E$2:$E$21)-1,""),ROW($A7)),COLUMN(H:H)),"")} -> 2500 | J8: {=IFERROR(INDEX(Feuil1!$A$2:$I$21,SMALL(IF(Feuil1!$B$2:$B$21+Feuil1!$C$2:$C$21+Feuil1!$D$2:$D$21<>Feuil1!$E$2:$E$21,ROW(Feuil1!$E$2:$E$21)-1,""),ROW($A7)),COLUMN(I:I)),"")} -> 7500
B9: {=IFERROR(INDEX(Feuil1!$A$2:$I$21,SMALL(IF(Feuil1!$B$2:$B$21+Feuil1!$C$2:$C$21+Feuil1!$D$2:$D$21<>Feuil1!$E$2:$E$21,ROW(Feuil1!$E$2:$E$21)-1,""),ROW($A8)),COLUMN(A:A)),"")} -> 9 | C9: {=IFERROR(INDEX(Feuil1!$A$2:$I$21,SMALL(IF(Feuil1!$B$2:$B$21+Feuil1!$C$2:$C$21+Feuil1!$D$2:$D$21<>Feuil1!$E$2:$E$21,ROW(Feuil1!$E$2:$E$21)-1,""),ROW($A8)),COLUMN(B:B)),"")} -> 5 | D9: {=IFERROR(INDEX(Feuil1!$A$2:$I$21,SMALL(IF(Feuil1!$B$2:$B$21+Feuil1!$C$2:$C$21+Feuil1!$D$2:$D$21<>Feuil1!$E$2:$E$21,ROW(Feuil1!$E$2:$E$21)-1,""),ROW($A8)),COLUMN(C:C)),"")} -> 78 | E9: {=IFERROR(INDEX(Feuil1!$A$2:$I$21,SMALL(IF(Feuil1!$B$2:$B$21+Feuil1!$C$2:$C$21+Feuil1!$D$2:$D$21<>Feuil1!$E$2:$E$21,ROW(Feuil1!$E$2:$E$21)-1,""),ROW($A8)),COLUMN(D:D)),"")} -> 0 | F9: {=IFERROR(INDEX(Feuil1!$A$2:$I$21,SMALL(IF(Feuil1!$B$2:$B$21+Feuil1!$C$2:$C$21+Feuil1!$D$2:$D$21<>Feuil1!$E$2:$E$21,ROW(Feuil1!$E$2:$E$21)-1,""),ROW($A8)),COLUMN(E:E)),"")} -> 6 | G9: {=IFERROR(INDEX(Feuil1!$A$2:$I$21,SMALL(IF(Feuil1!$B$2:$B$21+Feuil1!$C$2:$C$21+Feuil1!$D$2:$D$21<>Feuil1!$E$2:$E$21,ROW(Feuil1!$E$2:$E$21)-1,""),ROW($A8)),COLUMN(F:F)),"")} -> 15000 | H9: {=IFERROR(INDEX(Feuil1!$A$2:$I$21,SMALL(IF(Feuil1!$B$2:$B$21+Feuil1!$C$2:$C$21+Feuil1!$D$2:$D$21<>Feuil1!$E$2:$E$21,ROW(Feuil1!$E$2:$E$21)-1,""),ROW($A8)),COLUMN(G:G)),"")} -> 15000 | I9: {=IFERROR(INDEX(Feuil1!$A$2:$I$21,SMALL(IF(Feuil1!$B$2:$B$21+Feuil1!$C$2:$C$21+Feuil1!$D$2:$D$21<>Feuil1!$E$2:$E$21,ROW(Feuil1!$E$2:$E$21)-1,""),ROW($A8)),COLUMN(H:H)),"")} -> 15000 | J9: {=IFERROR(INDEX(Feuil1!$A$2:$I$21,SMALL(IF(Feuil1!$B$2:$B$21+Feuil1!$C$2:$C$21+Feuil1!$D$2:$D$21<>Feuil1!$E$2:$E$21,ROW(Feuil1!$E$2:$E$21)-1,""),ROW($A8)),COLUMN(I:I)),"")} -> 45000
B10: {=IFERROR(INDEX(Feuil1!$A$2:$I$21,SMALL(IF(Feuil1!$B$2:$B$21+Feuil1!$C$2:$C$21+Feuil1!$D$2:$D$21<>Feuil1!$E$2:$E$21,ROW(Feuil1!$E$2:$E$21)-1,""),ROW($A9)),COLUMN(A:A)),"")} -> 10 | C10: {=IFERROR(INDEX(Feuil1!$A$2:$I$21,SMALL(IF(Feuil1!$B$2:$B$21+Feuil1!$C$2:$C$21+Feuil1!$D$2:$D$21<>Feuil1!$E$2:$E$21,ROW(Feuil1!$E$2:$E$21)-1,""),ROW($A9)),COLUMN(B:B)),"")} -> 6 | D10: {=IFERROR(INDEX(Feuil1!$A$2:$I$21,SMALL(IF(Feuil1!$B$2:$B$21+Feuil1!$C$2:$C$21+Feuil1!$D$2:$D$21<>Feuil1!$E$2:$E$21,ROW(Feuil1!$E$2:$E$21)-1,""),ROW($A9)),COLUMN(C:C)),"")} -> 76 | E10: {=IFERROR(INDEX(Feuil1!$A$2:$I$21,SMALL(IF(Feuil1!$B$2:$B$21+Feuil1!$C$2:$C$21+Feuil1!$D$2:$D$21<>Feuil1!$E$2:$E$21,ROW(Feuil1!$E$2:$E$21)-1,""),ROW($A9)),COLUMN(D:D)),"")} -> 0 | F10: {=IFERROR(INDEX(Feuil1!$A$2:$I$21,SMALL(IF(Feuil1!$B$2:$B$21+Feuil1!$C$2:$C$21+Feuil1!$D$2:$D$21<>Feuil1!$E$2:$E$21,ROW(Feuil1!$E$2:$E$21)-1,""),ROW($A9)),COLUMN(E:E)),"")} -> 3 | G10: {=IFERROR(INDEX(Feuil1!$A$2:$I$21,SMALL(IF(Feuil1!$B$2:$B$21+Feuil1!$C$2:$C$21+Feuil1!$D$2:$D$21<>Feuil1!$E$2:$E$21,ROW(Feuil1!$E$2:$E$21)-1,""),ROW($A9)),COLUMN(F:F)),"")} -> 2500 | H10: {=IFERROR(INDEX(Feuil1!$A$2:$I$21,SMALL(IF(Feuil1!$B$2:$B$21+Feuil1!$C$2:$C$21+Feuil1!$D$2:$D$21<>Feuil1!$E$2:$E$21,ROW(Feuil1!$E$2:$E$21)-1,""),ROW($A9)),COLUMN(G:G)),"")} -> 2500 | I10: {=IFERROR(INDEX(Feuil1!$A$2:$I$21,SMALL(IF(Feuil1!$B$2:$B$21+Feuil1!$C$2:$C$21+Feuil1!$D$2:$D$21<>Feuil1!$E$2:$E$21,ROW(Feuil1!$E$2:$E$21)-1,""),ROW($A9)),COLUMN(H:H)),"")} -> 2500 | J10: {=IFERROR(INDEX(Feuil1!$A$2:$I$21,SMALL(IF(Feuil1!$B$2:$B$21+Feuil1!$C$2:$C$21+Feuil1!$D$2:$D$21<>Feuil1!$E$2:$E$21,ROW(Feuil1!$E$2:$E$21)-1,""),ROW($A9)),COLUMN(I:I)),"")} -> 7500
B11: {=IFERROR(INDEX(Feuil1!$A$2:$I$21,SMALL(IF(Feuil1!$B$2:$B$21+Feuil1!$C$2:$C$21+Feuil1!$D$2:$D$21<>Feuil1!$E$2:$E$21,ROW(Feuil1!$E$2:$E$21)-1,""),ROW($A10)),COLUMN(A:A)),"")} -> 11 | C11: {=IFERROR(INDEX(Feuil1!$A$2:$I$21,SMALL(IF(Feuil1!$B$2:$B$21+Feuil1!$C$2:$C$21+Feuil1!$D$2:$D$21<>Feuil1!$E$2:$E$21,ROW(Feuil1!$E$2:$E$21)-1,""),ROW($A10)),COLUMN(B:B)),"")} -> 7 | D11: {=IFERROR(INDEX(Feuil1!$A$2:$I$21,SMALL(IF(Feuil1!$B$2:$B$21+Feuil1!$C$2:$C$21+Feuil1!$D$2:$D$21<>Feuil1!$E$2:$E$21,ROW(Feuil1!$E$2:$E$21)-1,""),ROW($A10)),COLUMN(C:C)),"")} -> 49 | E11: {=IFERROR(INDEX(Feuil1!$A$2:$I$21,SMALL(IF(Feuil1!$B$2:$B$21+Feuil1!$C$2:$C$21+Feuil1!$D$2:$D$21<>Feuil1!$E$2:$E$21,ROW(Feuil1!$E$2:$E$21)-1,""),ROW($A10)),COLUMN(D:D)),"")} -> 0 | F11: {=IFERROR(INDEX(Feuil1!$A$2:$I$21,SMALL(IF(Feuil1!$B$2:$B$21+Feuil1!$C$2:$C$21+Feuil1!$D$2:$D$21<>Feuil1!$E$2:$E$21,ROW(Feuil1!$E$2:$E$21)-1,""),ROW($A10)),COLUMN(E:E)),"")} -> 5 | G11: {=IFERROR(INDEX(Feuil1!$A$2:$I$21,SMALL(IF(Feuil1!$B$2:$B$21+Feuil1!$C$2:$C$21+Feuil1!$D$2:$D$21<>Feuil1!$E$2:$E$21,ROW(Feuil1!$E$2:$E$21)-1,""),ROW($A10)),COLUMN(F:F)),"")} -> 45000 | H11: {=IFERROR(INDEX(Feuil1!$A$2:$I$21,SMALL(IF(Feuil1!$B$2:$B$21+Feuil1!$C$2:$C$21+Feuil1!$D$2:$D$21<>Feuil1!$E$2:$E$21,ROW(Feuil1!$E$2:$E$21)-1,""),ROW($A10)),COLUMN(G:G)),"")} -> 45000 | I11: {=IFERROR(INDEX(Feuil1!$A$2:$I$21,SMALL(IF(Feuil1!$B$2:$B$21+Feuil1!$C$2:$C$21+Feuil1!$D$2:$D$21<>Feuil1!$E$2:$E$21,ROW(Feuil1!$E$2:$E$21)-1,""),ROW($A10)),COLUMN(H:H)),"")} -> 45000 | J11: {=IFERROR(INDEX(Feuil1!$A$2:$I$21,SMALL(IF(Feuil1!$B$2:$B$21+Feuil1!$C$2:$C$21+Feuil1!$D$2:$D$21<>Feuil1!$E$2:$E$21,ROW(Feuil1!$E$2:$E$21)-1,""),ROW($A10)),COLUMN(I:I)),"")} -> 135000
B12: {=IFERROR(INDEX(Feuil1!$A$2:$I$21,SMALL(IF(Feuil1!$B$2:$B$21+Feuil1!$C$2:$C$21+Feuil1!$D$2:$D$21<>Feuil1!$E$2:$E$21,ROW(Feuil1!$E$2:$E$21)-1,""),ROW($A11)),COLUMN(A:A)),"")} -> 12 | C12: {=IFERROR(INDEX(Feuil1!$A$2:$I$21,SMALL(IF(Feuil1!$B$2:$B$21+Feuil1!$C$2:$C$21+Feuil1!$D$2:$D$21<>Feuil1!$E$2:$E$21,ROW(Feuil1!$E$2:$E$21)-1,""),ROW($A11)),COLUMN(B:B)),"")} -> 8 | D12: {=IFERROR(INDEX(Feuil1!$A$2:$I$21,SMALL(IF(Feuil1!$B$2:$B$21+Feuil1!$C$2:$C$21+Feuil1!$D$2:$D$21<>Feuil1!$E$2:$E$21,ROW(Feuil1!$E$2:$E$21)-1,""),ROW($A11)),COLUMN(C:C)),"")} -> 12 | E12: {=IFERROR(INDEX(Feuil1!$A$2:$I$21,SMALL(IF(Feuil1!$B$2:$B$21+Feuil1!$C$2:$C$21+Feuil1!$D$2:$D$21<>Feuil1!$E$2:$E$21,ROW(Feuil1!$E$2:$E$21)-1,""),ROW($A11)),COLUMN(D:D)),"")} -> 5 | F12: {=IFERROR(INDEX(Feuil1!$A$2:$I$21,SMALL(IF(Feuil1!$B$2:$B$21+Feuil1!$C$2:$C$21+Feuil1!$D$2:$D$21<>Feuil1!$E$2:$E$21,ROW(Feuil1!$E$2:$E$21)-1,""),ROW($A11)),COLUMN(E:E)),"")} -> 2 | G12: {=IFERROR(INDEX(Feuil1!$A$2:$I$21,SMALL(IF(Feuil1!$B$2:$B$21+Feuil1!$C$2:$C$21+Feuil1!$D$2:$D$21<>Feuil1!$E$2:$E$21,ROW(Feuil1!$E$2:$E$21)-1,""),ROW($A11)),COLUMN(F:F)),"")} -> 2500 | H12: {=IFERROR(INDEX(Feuil1!$A$2:$I$21,SMALL(IF(Feuil1!$B$2:$B$21+Feuil1!$C$2:$C$21+Feuil1!$D$2:$D$21<>Feuil1!$E$2:$E$21,ROW(Feuil1!$E$2:$E$21)-1,""),ROW($A11)),COLUMN(G:G)),"")} -> 2500 | I12: {=IFERROR(INDEX(Feuil1!$A$2:$I$21,SMALL(IF(Feuil1!$B$2:$B$21+Feuil1!$C$2:$C$21+Feuil1!$D$2:$D$21<>Feuil1!$E$2:$E$21,ROW(Feuil1!$E$2:$E$21)-1,""),ROW($A11)),COLUMN(H:H)),"")} -> 2500 | J12: {=IFERROR(INDEX(Feuil1!$A$2:$I$21,SMALL(IF(Feuil1!$B$2:$B$21+Feuil1!$C$2:$C$21+Feuil1!$D$2:$D$21<>Feuil1!$E$2:$E$21,ROW(Feuil1!$E$2:$E$21)-1,""),ROW($A11)),COLUMN(I:I)),"")} -> 7500
B13: {=IFERROR(INDEX(Feuil1!$A$2:$I$21,SMALL(IF(Feuil1!$B$2:$B$21+Feuil1!$C$2:$C$21+Feuil1!$D$2:$D$21<>Feuil1!$E$2:$E$21,ROW(Feuil1!$E$2:$E$21)-1,""),ROW($A12)),COLUMN(A:A)),"")} -> 13 | C13: {=IFERROR(INDEX(Feuil1!$A$2:$I$21,SMALL(IF(Feuil1!$B$2:$B$21+Feuil1!$C$2:$C$21+Feuil1!$D$2:$D$21<>Feuil1!$E$2:$E$21,ROW(Feuil1!$E$2:$E$21)-1,""),ROW($A12)),COLUMN(B:B)),"")} -> 9 | D13: {=IFERROR(INDEX(Feuil1!$A$2:$I$21,SMALL(IF(Feuil1!$B$2:$B$21+Feuil1!$C$2:$C$21+Feuil1!$D$2:$D$21<>Feuil1!$E$2:$E$21,ROW(Feuil1!$E$2:$E$21)-1,""),ROW($A12)),COLUMN(C:C)),"")} -> 14 | E13: {=IFERROR(INDEX(Feuil1!$A$2:$I$21,SMALL(IF(Feuil1!$B$2:$B$21+Feuil1!$C$2:$C$21+Feuil1!$D$2:$D$21<>Feuil1!$E$2:$E$21,ROW(Feuil1!$E$2:$E$21)-1,""),ROW($A12)),COLUMN(D:D)),"")} -> 5 | F13: {=IFERROR(INDEX(Feuil1!$A$2:$I$21,SMALL(IF(Feuil1!$B$2:$B$21+Feuil1!$C$2:$C$21+Feuil1!$D$2:$D$21<>Feuil1!$E$2:$E$21,ROW(Feuil1!$E$2:$E$21)-1,""),ROW($A12)),COLUMN(E:E)),"")} -> 1 | G13: {=IFERROR(INDEX(Feuil1!$A$2:$I$21,SMALL(IF(Feuil1!$B$2:$B$21+Feuil1!$C$2:$C$21+Feuil1!$D$2:$D$21<>Feuil1!$E$2:$E$21,ROW(Feuil1!$E$2:$E$21)-1,""),ROW($A12)),COLUMN(F:F)),"")} -> 2500 | H13: {=IFERROR(INDEX(Feuil1!$A$2:$I$21,SMALL(IF(Feuil1!$B$2:$B$21+Feuil1!$C$2:$C$21+Feuil1!$D$2:$D$21<>Feuil1!$E$2:$E$21,ROW(Feuil1!$E$2:$E$21)-1,""),ROW($A12)),COLUMN(G:G)),"")} -> 2500 | I13: {=IFERROR(INDEX(Feuil1!$A$2:$I$21,SMALL(IF(Feuil1!$B$2:$B$21+Feuil1!$C$2:$C$21+Feuil1!$D$2:$D$21<>Feuil1!$E$2:$E$21,ROW(Feuil1!$E$2:$E$21)-1,""),ROW($A12)),COLUMN(H:H)),"")} -> 2500 | J13: {=IFERROR(INDEX(Feuil1!$A$2:$I$21,SMALL(IF(Feuil1!$B$2:$B$21+Feuil1!$C$2:$C$21+Feuil1!$D$2:$D$21<>Feuil1!$E$2:$E$21,ROW(Feuil1!$E$2:$E$21)-1,""),ROW($A12)),COLUMN(I:I)),"")} -> 7500
... B20: {=IFERROR(INDEX(Feuil1!$A$2:$I$21,SMALL(IF(Feuil1!$B$2:$B$21+Feuil1!$C$2:$C$21+Feuil1!$D$2:$D$21<>Feuil1!$E$2:$E$21,ROW(Feuil1!$E$2:$E$21)-1,""),ROW($A19)),COLUMN(A:A)),"")} | C20: {=IFERROR(INDEX(Feuil1!$A$2:$I$21,SMALL(IF(Feuil1!$B$2:$B$21+Feuil1!$C$2:$C$21+Feuil1!$D$2:$D$21<>Feuil1!$E$2:$E$21,ROW(Feuil1!$E$2:$E$21)-1,""),ROW($A19)),COLUMN(B:B)),"")} | D20: {=IFERROR(INDEX(Feuil1!$A$2:$I$21,SMALL(IF(Feuil1!$B$2:$B$21+Feuil1!$C$2:$C$21+Feuil1!$D$2:$D$21<>Feuil1!$E$2:$E$21,ROW(Feuil1!$E$2:$E$21)-1,""),ROW($A19)),COLUMN(C:C)),"")} | E20: {=IFERROR(INDEX(Feuil1!$A$2:$I$21,SMALL(IF(Feuil1!$B$2:$B$21+Feuil1!$C$2:$C$21+Feuil1!$D$2:$D$21<>Feuil1!$E$2:$E$21,ROW(Feuil1!$E$2:$E$21)-1,""),ROW($A19)),COLUMN(D:D)),"")} | F20: {=IFERROR(INDEX(Feuil1!$A$2:$I$21,SMALL(IF(Feuil1!$B$2:$B$21+Feuil1!$C$2:$C$21+Feuil1!$D$2:$D$21<>Feuil1!$E$2:$E$21,ROW(Feuil1!$E$2:$E$21)-1,""),ROW($A19)),COLUMN(E:E)),"")} | G20: {=IFERROR(INDEX(Feuil1!$A$2:$I$21,SMALL(IF(Feuil1!$B$2:$B$21+Feuil1!$C$2:$C$21+Feuil1!$D$2:$D$21<>Feuil1!$E$2:$E$21,ROW(Feuil1!$E$2:$E$21)-1,""),ROW($A19)),COLUMN(F:F)),"")} | H20: {=IFERROR(INDEX(Feuil1!$A$2:$I$21,SMALL(IF(Feuil1!$B$2:$B$21+Feuil1!$C$2:$C$21+Feuil1!$D$2:$D$21<>Feuil1!$E$2:$E$21,ROW(Feuil1!$E$2:$E$21)-1,""),ROW($A19)),COLUMN(G:G)),"")} | I20: {=IFERROR(INDEX(Feuil1!$A$2:$I$21,SMALL(IF(Feuil1!$B$2:$B$21+Feuil1!$C$2:$C$21+Feuil1!$D$2:$D$21<>Feuil1!$E$2:$E$21,ROW(Feuil1!$E$2:$E$21)-1,""),ROW($A19)),COLUMN(H:H)),"")} | J20: {=IFERROR(INDEX(Feuil1!$A$2:$I$21,SMALL(IF(Feuil1!$B$2:$B$21+Feuil1!$C$2:$C$21+Feuil1!$D$2:$D$21<>Feuil1!$E$2:$E$21,ROW(Feuil1!$E$2:$E$21)-1,""),ROW($A19)),COLUMN(I:I)),"")}
