Workbook

Sheet clients
A2: Client | C2: Numero | D2: 1 | H2: Date
C3: Nom | D3: =IF(ISBLANK(D2),"-",IF(ISNA(VLOOKUP(D2,Personnels!A4:D13,2,FALSE)),"Existe pas",VLOOKUP(D2,Personnels!A4:D13,2,FALSE))) -> Nilson | H3: =TODAY() -> 42760
A5: Dates interventions | B5: Dossier concerné | D5: Personnel internvenant | H5: Mission effectuée
B6: Code | C6: Intitulé | D6: Numéro | E6: Nom | F6: Prénom | G6: Cout Horaire | H6: Code | I6: Libellé | J6: Nombre d'heures | K6: Montant
A7: 42736 | B7: SO | C7: =IF(ISBLANK(B7),"-",IF(ISNA(HLOOKUP(B7,Dossiers!A$3:H$4,2,FALSE)),"Existe pas",HLOOKUP(B7,Dossiers!A$3:H$4,2,FALSE))) -> Social | D7: 4 | E7: =IF(ISBLANK(D7),"-",IF(ISNA(VLOOKUP(D7,Personnels!A$4:D$100,2,FALSE)),"Existe pas",VLOOKUP(D7,Personnels!A$4:D$100,2,FALSE))) -> Martin | F7: =IF(ISBLANK($D7),"-",IF(ISNA(VLOOKUP($D7,Personnels!A$4:D$100,3,FALSE)),"Existe pas",VLOOKUP(D7,Personnels!A$4:D$100,3,FALSE))) -> Pierre | G7: =IFERROR(VLOOKUP(VLOOKUP(E7,Personnels!B$4:D$100,3,FALSE),Niveaux!A$4:C$100,3),"-") -> 70 | H7: =IFERROR(VLOOKUP(E7,Personnels!B$4:D$100,3,FALSE),"-") -> OS | I7: =IFERROR(VLOOKUP(H7,Missions!B$4:D$100,2,FALSE),"no") -> no | J7: 10 | K7: =J7*G7 -> 700
A8: 42736 | B8: ST | C8: =IF(ISBLANK(B8),"-",IF(ISNA(HLOOKUP(B8,Dossiers!A$3:H$4,2,FALSE)),"Existe pas",HLOOKUP(B8,Dossiers!A$3:H$4,2,FALSE))) -> Status | D8: 5 | E8: =IF(ISBLANK(D8),"-",IF(ISNA(VLOOKUP(D8,Personnels!A$4:D$100,2,FALSE)),"Existe pas",VLOOKUP(D8,Personnels!A$4:D$100,2,FALSE))) -> Petit | F8: =IF(ISBLANK($D8),"-",IF(ISNA(VLOOKUP($D8,Personnels!A$4:D$100,3,FALSE)),"Existe pas",VLOOKUP(D8,Personnels!A$4:D$100,3,FALSE))) -> Celine | G8: =IFERROR(VLOOKUP(VLOOKUP(E8,Personnels!B$4:D$100,3,FALSE),Niveaux!A$4:C$100,3),"-") -> 70 | H8: =IFERROR(VLOOKUP(E8,Personnels!B$4:D$100,3,FALSE),"-") -> SE | I8: =IFERROR(VLOOKUP(H8,Missions!B$4:D$100,2,FALSE),"no") -> no | J8: 5 | K8: =J8*G8 -> 350
A9: 42737 | B9: IM | C9: =IF(ISBLANK(B9),"-",IF(ISNA(HLOOKUP(B9,Dossiers!A$3:H$4,2,FALSE)),"Existe pas",HLOOKUP(B9,Dossiers!A$3:H$4,2,FALSE))) -> Immobilisations | D9: 3 | E9: =IF(ISBLANK(D9),"-",IF(ISNA(VLOOKUP(D9,Personnels!A$4:D$100,2,FALSE)),"Existe pas",VLOOKUP(D9,Personnels!A$4:D$100,2,FALSE))) -> Vallas | F9: =IF(ISBLANK($D9),"-",IF(ISNA(VLOOKUP($D9,Personnels!A$4:D$100,3,FALSE)),"Existe pas",VLOOKUP(D9,Personnels!A$4:D$100,3,FALSE))) -> Roberto | G9: =IFERROR(VLOOKUP(VLOOKUP(E9,Personnels!B$4:D$100,3,FALSE),Niveaux!A$4:C$100,3),"-") -> 40 | H9: =IFERROR(VLOOKUP(E9,Personnels!B$4:D$100,3,FALSE),"-") -> CB | I9: =IFERROR(VLOOKUP(H9,Missions!B$4:D$100,2,FALSE),"no") -> no | J9: 2 | K9: =J9*G9 -> 80
A10: 42739 | B10: IF | C10: =IF(ISBLANK(B10),"-",IF(ISNA(HLOOKUP(B10,Dossiers!A$3:H$4,2,FALSE)),"Existe pas",HLOOKUP(B10,Dossiers!A$3:H$4,2,FALSE))) -> Informatique | D10: 5 | E10: =IF(ISBLANK(D10),"-",IF(ISNA(VLOOKUP(D10,Personnels!A$4:D$100,2,FALSE)),"Existe pas",VLOOKUP(D10,Personnels!A$4:D$100,2,FALSE))) -> Petit | F10: =IF(ISBLANK($D10),"-",IF(ISNA(VLOOKUP($D10,Personnels!A$4:D$100,3,FALSE)),"Existe pas",VLOOKUP(D10,Personnels!A$4:D$100,3,FALSE))) -> Celine | G10: =IFERROR(VLOOKUP(VLOOKUP(E10,Personnels!B$4:D$100,3,FALSE),Niveaux!A$4:C$100,3),"-") -> 70 | H10: =IFERROR(VLOOKUP(E10,Personnels!B$4:D$100,3,FALSE),"-") -> SE | I10: =IFERROR(VLOOKUP(H10,Missions!B$4:D$100,2,FALSE),"no") -> no | J10: 4 | K10: =J10*G10 -> 280
A11: 42739 | B11: FI | C11: =IF(ISBLANK(B11),"-",IF(ISNA(HLOOKUP(B11,Dossiers!A$3:H$4,2,FALSE)),"Existe pas",HLOOKUP(B11,Dossiers!A$3:H$4,2,FALSE))) -> Fiscal | D11: 6 | E11: =IF(ISBLANK(D11),"-",IF(ISNA(VLOOKUP(D11,Personnels!A$4:D$100,2,FALSE)),"Existe pas",VLOOKUP(D11,Personnels!A$4:D$100,2,FALSE))) -> Barbieux | F11: =IF(ISBLANK($D11),"-",IF(ISNA(VLOOKUP($D11,Personnels!A$4:D$100,3,FALSE)),"Existe pas",VLOOKUP(D11,Personnels!A$4:D$100,3,FALSE))) -> Leticia | G11: =IFERROR(VLOOKUP(VLOOKUP(E11,Personnels!B$4:D$100,3,FALSE),Niveaux!A$4:C$100,3),"-") -> 70 | H11: =IFERROR(VLOOKUP(E11,Personnels!B$4:D$100,3,FALSE),"-") -> SE | I11: =IFERROR(VLOOKUP(H11,Missions!B$4:D$100,2,FALSE),"no") -> no | J11: 1 | K11: =J11*G11 -> 70
A12: 42745 | B12: FI | C12: =IF(ISBLANK(B12),"-",IF(ISNA(HLOOKUP(B12,Dossiers!A$3:H$4,2,FALSE)),"Existe pas",HLOOKUP(B12,Dossiers!A$3:H$4,2,FALSE))) -> Fiscal | D12: 1 | E12: =IF(ISBLANK(D12),"-",IF(ISNA(VLOOKUP(D12,Personnels!A$4:D$100,2,FALSE)),"Existe pas",VLOOKUP(D12,Personnels!A$4:D$100,2,FALSE))) -> Nilson | F12: =IF(ISBLANK($D12),"-",IF(ISNA(VLOOKUP($D12,Personnels!A$4:D$100,3,FALSE)),"Existe pas",VLOOKUP(D12,Personnels!A$4:D$100,3,FALSE))) -> Jack | G12: =IFERROR(VLOOKUP(VLOOKUP(E12,Personnels!B$4:D$100,3,FALSE),Niveaux!A$4:C$100,3),"-") -> 70 | H12: =IFERROR(VLOOKUP(E12,Personnels!B$4:D$100,3,FALSE),"-") -> RE | I12: =IFERROR(VLOOKUP(H12,Missions!B$4:D$100,2,FALSE),"no") -> no | J12: 7 | K12: =J12*G12 -> 490
A13: 42746 | B13: CO | C13: =IF(ISBLANK(B13),"-",IF(ISNA(HLOOKUP(B13,Dossiers!A$3:H$4,2,FALSE)),"Existe pas",HLOOKUP(B13,Dossiers!A$3:H$4,2,FALSE))) -> Comptable | D13: 9 | E13: =IF(ISBLANK(D13),"-",IF(ISNA(VLOOKUP(D13,Personnels!A$4:D$100,2,FALSE)),"Existe pas",VLOOKUP(D13,Personnels!A$4:D$100,2,FALSE))) -> Laverdure | F13: =IF(ISBLANK($D13),"-",IF(ISNA(VLOOKUP($D13,Personnels!A$4:D$100,3,FALSE)),"Existe pas",VLOOKUP(D13,Personnels!A$4:D$100,3,FALSE))) -> Stéphane | G13: =IFERROR(VLOOKUP(VLOOKUP(E13,Personnels!B$4:D$100,3,FALSE),Niveaux!A$4:C$100,3),"-") -> 70 | H13: =IFERROR(VLOOKUP(E13,Personnels!B$4:D$100,3,FALSE),"-") -> EC | I13: =IFERROR(VLOOKUP(H13,Missions!B$4:D$100,2,FALSE),"no") -> no | J13: 3 | K13: =J13*G13 -> 210
A14: 42747 | B14: SO | C14: =IF(ISBLANK(B14),"-",IF(ISNA(HLOOKUP(B14,Dossiers!A$3:H$4,2,FALSE)),"Existe pas",HLOOKUP(B14,Dossiers!A$3:H$4,2,FALSE))) -> Social | D14: 10 | E14: =IF(ISBLANK(D14),"-",IF(ISNA(VLOOKUP(D14,Personnels!A$4:D$100,2,FALSE)),"Existe pas",VLOOKUP(D14,Personnels!A$4:D$100,2,FALSE))) -> Stephan | F14: =IF(ISBLANK($D14),"-",IF(ISNA(VLOOKUP($D14,Personnels!A$4:D$100,3,FALSE)),"Existe pas",VLOOKUP(D14,Personnels!A$4:D$100,3,FALSE))) -> Patrick | G14: =IFERROR(VLOOKUP(VLOOKUP(E14,Personnels!B$4:D$100,3,FALSE),Niveaux!A$4:C$100,3),"-") -> 70 | H14: =IFERROR(VLOOKUP(E14,Personnels!B$4:D$100,3,FALSE),"-") -> CJ | I14: =IFERROR(VLOOKUP(H14,Missions!B$4:D$100,2,FALSE),"no") -> no | J14: 3 | K14: =J14*G14 -> 210
A15: 42748 | B15: ST | C15: =IF(ISBLANK(B15),"-",IF(ISNA(HLOOKUP(B15,Dossiers!A$3:H$4,2,FALSE)),"Existe pas",HLOOKUP(B15,Dossiers!A$3:H$4,2,FALSE))) -> Status | D15: 4 | E15: =IF(ISBLANK(D15),"-",IF(ISNA(VLOOKUP(D15,Personnels!A$4:D$100,2,FALSE)),"Existe pas",VLOOKUP(D15,Personnels!A$4:D$100,2,FALSE))) -> Martin | F15: =IF(ISBLANK($D15),"-",IF(ISNA(VLOOKUP($D15,Personnels!A$4:D$100,3,FALSE)),"Existe pas",VLOOKUP(D15,Personnels!A$4:D$100,3,FALSE))) -> Pierre | G15: =IFERROR(VLOOKUP(VLOOKUP(E15,Personnels!B$4:D$100,3,FALSE),Niveaux!A$4:C$100,3),"-") -> 70 | H15: =IFERROR(VLOOKUP(E15,Personnels!B$4:D$100,3,FALSE),"-") -> OS | I15: =IFERROR(VLOOKUP(H15,Missions!B$4:D$100,2,FALSE),"no") -> no | J15: 6 | K15: =J15*G15 -> 420
A16: 42749 | B16: CO | C16: =IF(ISBLANK(B16),"-",IF(ISNA(HLOOKUP(B16,Dossiers!A$3:H$4,2,FALSE)),"Existe pas",HLOOKUP(B16,Dossiers!A$3:H$4,2,FALSE))) -> Comptable | D16: 7 | E16: =IF(ISBLANK(D16),"-",IF(ISNA(VLOOKUP(D16,Personnels!A$4:D$100,2,FALSE)),"Existe pas",VLOOKUP(D16,Personnels!A$4:D$100,2,FALSE))) -> Antonios | F16: =IF(ISBLANK($D16),"-",IF(ISNA(VLOOKUP($D16,Personnels!A$4:D$100,3,FALSE)),"Existe pas",VLOOKUP(D16,Personnels!A$4:D$100,3,FALSE))) -> Hugo | G16: =IFERROR(VLOOKUP(VLOOKUP(E16,Personnels!B$4:D$100,3,FALSE),Niveaux!A$4:C$100,3),"-") -> 70 | H16: =IFERROR(VLOOKUP(E16,Personnels!B$4:D$100,3,FALSE),"-") -> EC | I16: =IFERROR(VLOOKUP(H16,Missions!B$4:D$100,2,FALSE),"no") -> no | J16: 6 | K16: =J16*G16 -> 420
C17: =IF(ISBLANK(B17),"-",IF(ISNA(HLOOKUP(B17,Dossiers!A$3:H$4,2,FALSE)),"Existe pas",HLOOKUP(B17,Dossiers!A$3:H$4,2,FALSE))) -> - | E17: =IF(ISBLANK(D17),"-",IF(ISNA(VLOOKUP(D17,Personnels!A$4:D$100,2,FALSE)),"Existe pas",VLOOKUP(D17,Personnels!A$4:D$100,2,FALSE))) -> - | F17: =IF(ISBLANK($D17),"-",IF(ISNA(VLOOKUP($D17,Personnels!A$4:D$100,3,FALSE)),"Existe pas",VLOOKUP(D17,Personnels!A$4:D$100,3,FALSE))) -> - | G17: =IFERROR(VLOOKUP(VLOOKUP(E17,Personnels!B$4:D$100,3,FALSE),Niveaux!A$4:C$100,3),"-") -> - | H17: =IFERROR(VLOOKUP(E17,Personnels!B$4:D$100,3,FALSE),"-") -> - | I17: =IFERROR(VLOOKUP(H17,Missions!B$4:D$100,2,FALSE),"no") -> no
J18: Total heures | K18: Total montant
J19: =SUM(J7:J17) -> 47 | K19: =SUM(K7:K17) -> 3230
A20: Statistiques
A21: Montant minimum des inerventions | B21: =MIN(K7:K16) -> 70
A22: Montant maximum des interventions | B22: =MAX(K7:K16) -> 700
A23: nombre des interventions dépassant les 100 euros | B23: =COUNTIF((K7:K16),">=100") -> 8
A24: Montant des interventions qui concernent le dossier i"fiscal" | B24: =SUMIFS(K7:K16,B7:B16,"FI") -> 560

Sheet Personnels
A1: Personnels
A3: Numéro | B3: Nom | C3: Prénom | D3: Code Niveau
A4: 1 | B4: Nilson | C4: Jack | D4: RE
A5: 2 | B5: Erdogan | C5: Tunc | D5: CA
A6: 3 | B6: Vallas | C6: Roberto | D6: CB
A7: 4 | B7: Martin | C7: Pierre | D7: OS
A8: 5 | B8: Petit | C8: Celine | D8: SE
A9: 6 | B9: Barbieux | C9: Leticia | D9: SE
A10: 7 | B10: Antonios | C10: Hugo | D10: EC
A11: 8 | B11: Guaudio | C11: Julien | D11: CB
A12: 9 | B12: Laverdure | C12: Stéphane | D12: EC
A13: 10 | B13: Stephan | C13: Patrick | D13: CJ

Sheet Niveaux
A1: Niveaux
A3: Code | B3: Libellé | C3: Taux horaire
A4: SE | B4: Secretaire | C4: 15
A5: CA | B5: Collaborateur Niveau A | C5: 30
A6: RE | B6: Réviseur | C6: 45
A7: EC | B7: Expert Comptable | C7: 80
A8: OS | B8: Opérateur de saisie | C8: 12
A9: CB | B9: Collaborateur Niveau B | C9: 40
A10: CJ | B10: Conseil Juridique | C10: 70

Sheet Missions
A1: Missions
A3: Code | B3: Nature
A4: AD | B4: Audit
A5: AN | B5: Analyse
A6: CP | B6: Comptabilisation
A7: CS | B7: Conseil
A8: CT | B8: Contrôle
A9: DC | B9: Déclaration
A10: ED | B10: Etabli. Documents
A11: IP | B11: Imputation
A12: RV | B12: Révision
A13: SI | B13: Saisie

Sheet Dossiers
A1: Dossiers
A3: Code | B3: CO | C3: FI | D3: IF | E3: IM | F3: JU | G3: SO | H3: ST
A4: Intitulé | B4: Comptable | C4: Fiscal | D4: Informatique | E4: Immobilisations | F4: Juridique | G4: Social | H4: Status
