Workbook
Name dept: INVENTAIRE!$A$1
Name Item: OFFSET(INVENTAIRE!$A$2,,,COUNT(INVENTAIRE!$A:$A))
Name Rg: OFFSET(INVENTAIRE!$C$2,0,0,COUNT(INVENTAIRE!$C:$C),1)

Sheet INVENTAIRE
A1: Item | F1: Ref. | G1: Type | H1: Nom | I1: Coloris | J1: Qte.
A2: 18002 | B2: {=IFERROR(INDEX(Item,MATCH(SMALL(IF(MATCH(Item,Item,0)=ROW(Item)-1,COUNTIF(Item,"<="&Item),""),ROW(A1)),IF(MATCH(Item,Item,0)=ROW(Item)-1,COUNTIF(Item,"<="&Item),""),0)),"")} -> 18002 | F2: =IF(B2="","",(IF(VLOOKUP(B2,[1]LISTING!$A$4:$AE$45,3,0)=INVENTAIRE!B2,"",VLOOKUP(INVENTAIRE!B2,[1]LISTING!$A$4:$AE$45,3,0)))) | G2: =IF($C2="","",(VLOOKUP($C2,[1]LISTING!$A$4:$AE$45,2,0))) | H2: =IF($C2="","",(VLOOKUP($C2,[1]LISTING!$A$4:$AE$45,4,0))) | I2: =IF($C2="","",(VLOOKUP($C2,[1]LISTING!$A$4:$AE$45,5,0))) | J2: =IF(C2="","",(COUNTIF(A:A,C2))) | K2: etape 1: nommer en dynamique la col des items
A3: 18023 | B3: {=IFERROR(INDEX(Item,MATCH(SMALL(IF(MATCH(Item,Item,0)=ROW(Item)-1,COUNTIF(Item,"<="&Item),""),ROW(A2)),IF(MATCH(Item,Item,0)=ROW(Item)-1,COUNTIF(Item,"<="&Item),""),0)),"")} -> 18004 | F3: =IF(C3="","",(IF(VLOOKUP(C3,[1]LISTING!$A$4:$AE$45,3,0)=INVENTAIRE!C3,"",VLOOKUP(INVENTAIRE!C3,[1]LISTING!$A$4:$AE$45,3,0)))) | G3: =IF($C3="","",(VLOOKUP($C3,[1]LISTING!$A$4:$AE$45,2,0))) | H3: =IF($C3="","",(VLOOKUP($C3,[1]LISTING!$A$4:$AE$45,4,0))) | I3: =IF($C3="","",(VLOOKUP($C3,[1]LISTING!$A$4:$AE$45,5,0))) | J3: =IF(C3="","",(COUNTIF(A:A,C3)))
A4: 18004 | B4: {=IFERROR(INDEX(Item,MATCH(SMALL(IF(MATCH(Item,Item,0)=ROW(Item)-1,COUNTIF(Item,"<="&Item),""),ROW(A3)),IF(MATCH(Item,Item,0)=ROW(Item)-1,COUNTIF(Item,"<="&Item),""),0)),"")} -> 18013 | F4: =IF(C4="","",(IF(VLOOKUP(C4,[1]LISTING!$A$4:$AE$45,3,0)=INVENTAIRE!C4,"",VLOOKUP(INVENTAIRE!C4,[1]LISTING!$A$4:$AE$45,3,0)))) | G4: =IF($C4="","",(VLOOKUP($C4,[1]LISTING!$A$4:$AE$45,2,0))) | H4: =IF($C4="","",(VLOOKUP($C4,[1]LISTING!$A$4:$AE$45,4,0))) | I4: =IF($C4="","",(VLOOKUP($C4,[1]LISTING!$A$4:$AE$45,5,0))) | J4: =IF(C4="","",(COUNTIF(A:A,C4))) | K4: etape2 la formule matriciele à valider avec les
A5: 18004 | B5: {=IFERROR(INDEX(Item,MATCH(SMALL(IF(MATCH(Item,Item,0)=ROW(Item)-1,COUNTIF(Item,"<="&Item),""),ROW(A4)),IF(MATCH(Item,Item,0)=ROW(Item)-1,COUNTIF(Item,"<="&Item),""),0)),"")} -> 18015 | F5: =IF(C5="","",(IF(VLOOKUP(C5,[1]LISTING!$A$4:$AE$45,3,0)=INVENTAIRE!C5,"",VLOOKUP(INVENTAIRE!C5,[1]LISTING!$A$4:$AE$45,3,0)))) | G5: =IF($C5="","",(VLOOKUP($C5,[1]LISTING!$A$4:$AE$45,2,0))) | H5: =IF($C5="","",(VLOOKUP($C5,[1]LISTING!$A$4:$AE$45,4,0))) | I5: =IF($C5="","",(VLOOKUP($C5,[1]LISTING!$A$4:$AE$45,5,0))) | J5: =IF(C5="","",(COUNTIF(A:A,C5))) | K5: 3 touches Ctrl Maj Entrée
A6: 18004 | B6: {=IFERROR(INDEX(Item,MATCH(SMALL(IF(MATCH(Item,Item,0)=ROW(Item)-1,COUNTIF(Item,"<="&Item),""),ROW(A5)),IF(MATCH(Item,Item,0)=ROW(Item)-1,COUNTIF(Item,"<="&Item),""),0)),"")} -> 18020 | F6: =IF(C6="","",(IF(VLOOKUP(C6,[1]LISTING!$A$4:$AE$45,3,0)=INVENTAIRE!C6,"",VLOOKUP(INVENTAIRE!C6,[1]LISTING!$A$4:$AE$45,3,0)))) | G6: =IF($C6="","",(VLOOKUP($C6,[1]LISTING!$A$4:$AE$45,2,0))) | H6: =IF($C6="","",(VLOOKUP($C6,[1]LISTING!$A$4:$AE$45,4,0))) | I6: =IF($C6="","",(VLOOKUP($C6,[1]LISTING!$A$4:$AE$45,5,0))) | J6: =IF(C6="","",(COUNTIF(A:A,C6)))
A7: 18015 | B7: {=IFERROR(INDEX(Item,MATCH(SMALL(IF(MATCH(Item,Item,0)=ROW(Item)-1,COUNTIF(Item,"<="&Item),""),ROW(A6)),IF(MATCH(Item,Item,0)=ROW(Item)-1,COUNTIF(Item,"<="&Item),""),0)),"")} -> 18022 | F7: =IF(C7="","",(IF(VLOOKUP(C7,[1]LISTING!$A$4:$AE$45,3,0)=INVENTAIRE!C7,"",VLOOKUP(INVENTAIRE!C7,[1]LISTING!$A$4:$AE$45,3,0)))) | G7: =IF($C7="","",(VLOOKUP($C7,[1]LISTING!$A$4:$AE$45,2,0))) | H7: =IF($C7="","",(VLOOKUP($C7,[1]LISTING!$A$4:$AE$45,4,0))) | I7: =IF($C7="","",(VLOOKUP($C7,[1]LISTING!$A$4:$AE$45,5,0))) | J7: =IF(C7="","",(COUNTIF(A:A,C7)))
A8: 18015 | B8: {=IFERROR(INDEX(Item,MATCH(SMALL(IF(MATCH(Item,Item,0)=ROW(Item)-1,COUNTIF(Item,"<="&Item),""),ROW(A7)),IF(MATCH(Item,Item,0)=ROW(Item)-1,COUNTIF(Item,"<="&Item),""),0)),"")} -> 18023 | F8: =IF(C8="","",(IF(VLOOKUP(C8,[1]LISTING!$A$4:$AE$45,3,0)=INVENTAIRE!C8,"",VLOOKUP(INVENTAIRE!C8,[1]LISTING!$A$4:$AE$45,3,0)))) | G8: =IF($C8="","",(VLOOKUP($C8,[1]LISTING!$A$4:$AE$45,2,0))) | H8: =IF($C8="","",(VLOOKUP($C8,[1]LISTING!$A$4:$AE$45,4,0))) | I8: =IF($C8="","",(VLOOKUP($C8,[1]LISTING!$A$4:$AE$45,5,0))) | J8: =IF(C8="","",(COUNTIF(A:A,C8)))
A9: 18004 | B9: {=IFERROR(INDEX(Item,MATCH(SMALL(IF(MATCH(Item,Item,0)=ROW(Item)-1,COUNTIF(Item,"<="&Item),""),ROW(A8)),IF(MATCH(Item,Item,0)=ROW(Item)-1,COUNTIF(Item,"<="&Item),""),0)),"")} | E9: =IF(C9="","",(IF(VLOOKUP(C9,[1]LISTING!$A$4:$AE$45,3,0)=INVENTAIRE!C9,"",VLOOKUP(INVENTAIRE!C9,[1]LISTING!$A$4:$AE$45,3,0)))) | F9: =IF($C9="","",(VLOOKUP($C9,[1]LISTING!$A$4:$AE$45,2,0))) | G9: =IF($C9="","",(VLOOKUP($C9,[1]LISTING!$A$4:$AE$45,4,0))) | H9: =IF($C9="","",(VLOOKUP($C9,[1]LISTING!$A$4:$AE$45,5,0))) | I9: =IF(C9="","",(COUNTIF(A:A,C9)))
A10: 18002 | B10: {=IFERROR(INDEX(Item,MATCH(SMALL(IF(MATCH(Item,Item,0)=ROW(Item)-1,COUNTIF(Item,"<="&Item),""),ROW(A9)),IF(MATCH(Item,Item,0)=ROW(Item)-1,COUNTIF(Item,"<="&Item),""),0)),"")} | E10: =IF(C10="","",(IF(VLOOKUP(C10,[1]LISTING!$A$4:$AE$45,3,0)=INVENTAIRE!C10,"",VLOOKUP(INVENTAIRE!C10,[1]LISTING!$A$4:$AE$45,3,0)))) | F10: =IF($C10="","",(VLOOKUP($C10,[1]LISTING!$A$4:$AE$45,2,0))) | G10: =IF($C10="","",(VLOOKUP($C10,[1]LISTING!$A$4:$AE$45,4,0))) | H10: =IF($C10="","",(VLOOKUP($C10,[1]LISTING!$A$4:$AE$45,5,0))) | I10: =IF(C10="","",(COUNTIF(A:A,C10)))
A11: 18015 | B11: {=IFERROR(INDEX(Item,MATCH(SMALL(IF(MATCH(Item,Item,0)=ROW(Item)-1,COUNTIF(Item,"<="&Item),""),ROW(A10)),IF(MATCH(Item,Item,0)=ROW(Item)-1,COUNTIF(Item,"<="&Item),""),0)),"")} | E11: =IF(C11="","",(IF(VLOOKUP(C11,[1]LISTING!$A$4:$AE$45,3,0)=INVENTAIRE!C11,"",VLOOKUP(INVENTAIRE!C11,[1]LISTING!$A$4:$AE$45,3,0)))) | F11: =IF($C11="","",(VLOOKUP($C11,[1]LISTING!$A$4:$AE$45,2,0))) | G11: =IF($C11="","",(VLOOKUP($C11,[1]LISTING!$A$4:$AE$45,4,0))) | H11: =IF($C11="","",(VLOOKUP($C11,[1]LISTING!$A$4:$AE$45,5,0))) | I11: =IF(C11="","",(COUNTIF(A:A,C11)))
A12: 18013 | B12: {=IFERROR(INDEX(Item,MATCH(SMALL(IF(MATCH(Item,Item,0)=ROW(Item)-1,COUNTIF(Item,"<="&Item),""),ROW(A11)),IF(MATCH(Item,Item,0)=ROW(Item)-1,COUNTIF(Item,"<="&Item),""),0)),"")} | F12: =IF($C12="","",(VLOOKUP($C12,[1]LISTING!$A$4:$AE$45,2,0))) | G12: =IF($C12="","",(VLOOKUP($C12,[1]LISTING!$A$4:$AE$45,4,0))) | H12: =IF($C12="","",(VLOOKUP($C12,[1]LISTING!$A$4:$AE$45,5,0))) | I12: =IF(C12="","",(COUNTIF(A:A,C12)))
A13: 18013 | B13: {=IFERROR(INDEX(Item,MATCH(SMALL(IF(MATCH(Item,Item,0)=ROW(Item)-1,COUNTIF(Item,"<="&Item),""),ROW(A12)),IF(MATCH(Item,Item,0)=ROW(Item)-1,COUNTIF(Item,"<="&Item),""),0)),"")} | E13: =IF(C13="","",(IF(VLOOKUP(C13,[1]LISTING!$A$4:$AE$45,3,0)=INVENTAIRE!C13,"",VLOOKUP(INVENTAIRE!C13,[1]LISTING!$A$4:$AE$45,3,0)))) | F13: =IF($C13="","",(VLOOKUP($C13,[1]LISTING!$A$4:$AE$45,2,0))) | G13: =IF($C13="","",(VLOOKUP($C13,[1]LISTING!$A$4:$AE$45,4,0))) | H13: =IF($C13="","",(VLOOKUP($C13,[1]LISTING!$A$4:$AE$45,5,0))) | I13: =IF(C13="","",(COUNTIF(A:A,C13)))
A14: 18013 | B14: {=IFERROR(INDEX(Item,MATCH(SMALL(IF(MATCH(Item,Item,0)=ROW(Item)-1,COUNTIF(Item,"<="&Item),""),ROW(A13)),IF(MATCH(Item,Item,0)=ROW(Item)-1,COUNTIF(Item,"<="&Item),""),0)),"")} | E14: =IF(C14="","",(IF(VLOOKUP(C14,[1]LISTING!$A$4:$AE$45,3,0)=INVENTAIRE!C14,"",VLOOKUP(INVENTAIRE!C14,[1]LISTING!$A$4:$AE$45,3,0)))) | F14: =IF($C14="","",(VLOOKUP($C14,[1]LISTING!$A$4:$AE$45,2,0))) | G14: =IF($C14="","",(VLOOKUP($C14,[1]LISTING!$A$4:$AE$45,4,0))) | H14: =IF($C14="","",(VLOOKUP($C14,[1]LISTING!$A$4:$AE$45,5,0))) | I14: =IF(C14="","",(COUNTIF(A:A,C14)))
A15: 18004 | B15: {=IFERROR(INDEX(Item,MATCH(SMALL(IF(MATCH(Item,Item,0)=ROW(Item)-1,COUNTIF(Item,"<="&Item),""),ROW(A14)),IF(MATCH(Item,Item,0)=ROW(Item)-1,COUNTIF(Item,"<="&Item),""),0)),"")} | E15: =IF(C15="","",(IF(VLOOKUP(C15,[1]LISTING!$A$4:$AE$45,3,0)=INVENTAIRE!C15,"",VLOOKUP(INVENTAIRE!C15,[1]LISTING!$A$4:$AE$45,3,0)))) | F15: =IF($C15="","",(VLOOKUP($C15,[1]LISTING!$A$4:$AE$45,2,0))) | G15: =IF($C15="","",(VLOOKUP($C15,[1]LISTING!$A$4:$AE$45,4,0))) | H15: =IF($C15="","",(VLOOKUP($C15,[1]LISTING!$A$4:$AE$45,5,0))) | I15: =IF(C15="","",(COUNTIF(A:A,C15)))
A16: 18002 | E16: =IF(C16="","",(IF(VLOOKUP(C16,[1]LISTING!$A$4:$AE$45,3,0)=INVENTAIRE!C16,"",VLOOKUP(INVENTAIRE!C16,[1]LISTING!$A$4:$AE$45,3,0)))) | F16: =IF($C16="","",(VLOOKUP($C16,[1]LISTING!$A$4:$AE$45,2,0))) | G16: =IF($C16="","",(VLOOKUP($C16,[1]LISTING!$A$4:$AE$45,4,0))) | H16: =IF($C16="","",(VLOOKUP($C16,[1]LISTING!$A$4:$AE$45,5,0))) | I16: =IF(C16="","",(COUNTIF(A:A,C16)))
A17: 18015 | E17: =IF(C17="","",(IF(VLOOKUP(C17,[1]LISTING!$A$4:$AE$45,3,0)=INVENTAIRE!C17,"",VLOOKUP(INVENTAIRE!C17,[1]LISTING!$A$4:$AE$45,3,0)))) | F17: =IF($C17="","",(VLOOKUP($C17,[1]LISTING!$A$4:$AE$45,2,0))) | G17: =IF($C17="","",(VLOOKUP($C17,[1]LISTING!$A$4:$AE$45,4,0))) | H17: =IF($C17="","",(VLOOKUP($C17,[1]LISTING!$A$4:$AE$45,5,0))) | I17: =IF(C17="","",(COUNTIF(A:A,C17)))
A18: 18020 | E18: =IF(C18="","",(IF(VLOOKUP(C18,[1]LISTING!$A$4:$AE$45,3,0)=INVENTAIRE!C18,"",VLOOKUP(INVENTAIRE!C18,[1]LISTING!$A$4:$AE$45,3,0)))) | F18: =IF($C18="","",(VLOOKUP($C18,[1]LISTING!$A$4:$AE$45,2,0))) | G18: =IF($C18="","",(VLOOKUP($C18,[1]LISTING!$A$4:$AE$45,4,0))) | H18: =IF($C18="","",(VLOOKUP($C18,[1]LISTING!$A$4:$AE$45,5,0))) | I18: =IF(C18="","",(COUNTIF(A:A,C18)))
A19: 18022 | E19: =IF(C19="","",(IF(VLOOKUP(C19,[1]LISTING!$A$4:$AE$45,3,0)=INVENTAIRE!C19,"",VLOOKUP(INVENTAIRE!C19,[1]LISTING!$A$4:$AE$45,3,0)))) | F19: =IF($C19="","",(VLOOKUP($C19,[1]LISTING!$A$4:$AE$45,2,0))) | G19: =IF($C19="","",(VLOOKUP($C19,[1]LISTING!$A$4:$AE$45,4,0))) | H19: =IF($C19="","",(VLOOKUP($C19,[1]LISTING!$A$4:$AE$45,5,0))) | I19: =IF(C19="","",(COUNTIF(A:A,C19)))
E20: =IF(C20="","",(IF(VLOOKUP(C20,[1]LISTING!$A$4:$AE$45,3,0)=INVENTAIRE!C20,"",VLOOKUP(INVENTAIRE!C20,[1]LISTING!$A$4:$AE$45,3,0)))) | F20: =IF($C20="","",(VLOOKUP($C20,[1]LISTING!$A$4:$AE$45,2,0))) | G20: =IF($C20="","",(VLOOKUP($C20,[1]LISTING!$A$4:$AE$45,4,0))) | H20: =IF($C20="","",(VLOOKUP($C20,[1]LISTING!$A$4:$AE$45,5,0))) | I20: =IF(C20="","",(COUNTIF(A:A,C20)))
