Workbook

Sheet Sheet1
B1: 42887 | C1: 42888 | D1: 42889 | E1: 42890 | F1: 42891 | G1: 42892 | H1: 42893 | I1: 42894 | J1: 42895 | K1: 42896 | L1: 42897 | M1: 42898 | N1: 42899 | O1: 42900 | P1: 42901 | Q1: 42902 | R1: 42903 | S1: 42904 | T1: 42905 | U1: 42906 | V1: 42907 | W1: 42908 | X1: 42909 | Y1: 42910 | Z1: 42911 | AA1: 42912 | AB1: 42913 | AC1: 42914 | AD1: 42915 | AE1: 42916 | AF1: 42917 | AG1: 42918 | AH1: 42919 | AI1: 42920 | AJ1: 42921 | AK1: 42922 | AL1: 42923 | AM1: 42924 | AN1: 42925 | AO1: 42926 | AP1: 42927
A2: Check-In | B2: =COUNTIF(Sheet2!$A:$A,Sheet1!B1) -> 1 | C2: =COUNTIF(Sheet2!$A:$A,Sheet1!C1) -> 1 | D2: =COUNTIF(Sheet2!$A:$A,Sheet1!D1) -> 2 | E2: =COUNTIF(Sheet2!$A:$A,Sheet1!E1) -> 0 | F2: =COUNTIF(Sheet2!$A:$A,Sheet1!F1) -> 2 | G2: =COUNTIF(Sheet2!$A:$A,Sheet1!G1) -> 1 | H2: =COUNTIF(Sheet2!$A:$A,Sheet1!H1) -> 2 | I2: =COUNTIF(Sheet2!$A:$A,Sheet1!I1) -> 3 | ... AP2: =COUNTIF(Sheet2!$A:$A,Sheet1!AP1) -> 0
A4: Resultat recherché | B4: =COUNTIF(B5:B54,"yes") -> 1 | C4: =COUNTIF(C5:C54,"yes") -> 2 | D4: =COUNTIF(D5:D54,"yes") -> 4 | E4: =COUNTIF(E5:E54,"yes") -> 3 | F4: =COUNTIF(F5:F54,"yes") -> 4 | G4: =COUNTIF(G5:G54,"yes") -> 4 | H4: =COUNTIF(H5:H54,"yes") -> 6 | I4: =COUNTIF(I5:I54,"yes") -> 7 | ... AP4: =COUNTIF(AP5:AP54,"yes") -> 1
B5: =IF(AND(B$1>=Sheet2!$A2,Sheet1!B$1<Sheet2!$B2),"yes","no") -> yes | C5: =IF(AND(C$1>=Sheet2!$A2,Sheet1!C$1<Sheet2!$B2),"yes","no") -> yes | D5: =IF(AND(D$1>=Sheet2!$A2,Sheet1!D$1<Sheet2!$B2),"yes","no") -> yes | E5: =IF(AND(E$1>=Sheet2!$A2,Sheet1!E$1<Sheet2!$B2),"yes","no") -> no | F5: =IF(AND(F$1>=Sheet2!$A2,Sheet1!F$1<Sheet2!$B2),"yes","no") -> no | G5: =IF(AND(G$1>=Sheet2!$A2,Sheet1!G$1<Sheet2!$B2),"yes","no") -> no | H5: =IF(AND(H$1>=Sheet2!$A2,Sheet1!H$1<Sheet2!$B2),"yes","no") -> no | I5: =IF(AND(I$1>=Sheet2!$A2,Sheet1!I$1<Sheet2!$B2),"yes","no") -> no | ... AP5: =IF(AND(AP$1>=Sheet2!$A2,Sheet1!AP$1<Sheet2!$B2),"yes","no") -> no
B6: =IF(AND(B$1>=Sheet2!$A3,Sheet1!B$1<Sheet2!$B3),"yes","no") -> no | C6: =IF(AND(C$1>=Sheet2!$A3,Sheet1!C$1<Sheet2!$B3),"yes","no") -> yes | D6: =IF(AND(D$1>=Sheet2!$A3,Sheet1!D$1<Sheet2!$B3),"yes","no") -> yes | E6: =IF(AND(E$1>=Sheet2!$A3,Sheet1!E$1<Sheet2!$B3),"yes","no") -> yes | F6: =IF(AND(F$1>=Sheet2!$A3,Sheet1!F$1<Sheet2!$B3),"yes","no") -> no | G6: =IF(AND(G$1>=Sheet2!$A3,Sheet1!G$1<Sheet2!$B3),"yes","no") -> no | H6: =IF(AND(H$1>=Sheet2!$A3,Sheet1!H$1<Sheet2!$B3),"yes","no") -> no | I6: =IF(AND(I$1>=Sheet2!$A3,Sheet1!I$1<Sheet2!$B3),"yes","no") -> no | ... AP6: =IF(AND(AP$1>=Sheet2!$A3,Sheet1!AP$1<Sheet2!$B3),"yes","no") -> no
B7: =IF(AND(B$1>=Sheet2!$A4,Sheet1!B$1<Sheet2!$B4),"yes","no") -> no | C7: =IF(AND(C$1>=Sheet2!$A4,Sheet1!C$1<Sheet2!$B4),"yes","no") -> no | D7: =IF(AND(D$1>=Sheet2!$A4,Sheet1!D$1<Sheet2!$B4),"yes","no") -> yes | E7: =IF(AND(E$1>=Sheet2!$A4,Sheet1!E$1<Sheet2!$B4),"yes","no") -> yes | F7: =IF(AND(F$1>=Sheet2!$A4,Sheet1!F$1<Sheet2!$B4),"yes","no") -> yes | G7: =IF(AND(G$1>=Sheet2!$A4,Sheet1!G$1<Sheet2!$B4),"yes","no") -> no | H7: =IF(AND(H$1>=Sheet2!$A4,Sheet1!H$1<Sheet2!$B4),"yes","no") -> no | I7: =IF(AND(I$1>=Sheet2!$A4,Sheet1!I$1<Sheet2!$B4),"yes","no") -> no | ... AP7: =IF(AND(AP$1>=Sheet2!$A4,Sheet1!AP$1<Sheet2!$B4),"yes","no") -> no
B8: =IF(AND(B$1>=Sheet2!$A5,Sheet1!B$1<Sheet2!$B5),"yes","no") -> no | C8: =IF(AND(C$1>=Sheet2!$A5,Sheet1!C$1<Sheet2!$B5),"yes","no") -> no | D8: =IF(AND(D$1>=Sheet2!$A5,Sheet1!D$1<Sheet2!$B5),"yes","no") -> yes | E8: =IF(AND(E$1>=Sheet2!$A5,Sheet1!E$1<Sheet2!$B5),"yes","no") -> yes | F8: =IF(AND(F$1>=Sheet2!$A5,Sheet1!F$1<Sheet2!$B5),"yes","no") -> yes | G8: =IF(AND(G$1>=Sheet2!$A5,Sheet1!G$1<Sheet2!$B5),"yes","no") -> yes | H8: =IF(AND(H$1>=Sheet2!$A5,Sheet1!H$1<Sheet2!$B5),"yes","no") -> yes | I8: =IF(AND(I$1>=Sheet2!$A5,Sheet1!I$1<Sheet2!$B5),"yes","no") -> no | ... AP8: =IF(AND(AP$1>=Sheet2!$A5,Sheet1!AP$1<Sheet2!$B5),"yes","no") -> no
B9: =IF(AND(B$1>=Sheet2!$A6,Sheet1!B$1<Sheet2!$B6),"yes","no") -> no | C9: =IF(AND(C$1>=Sheet2!$A6,Sheet1!C$1<Sheet2!$B6),"yes","no") -> no | D9: =IF(AND(D$1>=Sheet2!$A6,Sheet1!D$1<Sheet2!$B6),"yes","no") -> no | E9: =IF(AND(E$1>=Sheet2!$A6,Sheet1!E$1<Sheet2!$B6),"yes","no") -> no | F9: =IF(AND(F$1>=Sheet2!$A6,Sheet1!F$1<Sheet2!$B6),"yes","no") -> yes | G9: =IF(AND(G$1>=Sheet2!$A6,Sheet1!G$1<Sheet2!$B6),"yes","no") -> yes | H9: =IF(AND(H$1>=Sheet2!$A6,Sheet1!H$1<Sheet2!$B6),"yes","no") -> yes | I9: =IF(AND(I$1>=Sheet2!$A6,Sheet1!I$1<Sheet2!$B6),"yes","no") -> yes | ... AP9: =IF(AND(AP$1>=Sheet2!$A6,Sheet1!AP$1<Sheet2!$B6),"yes","no") -> no
B10: =IF(AND(B$1>=Sheet2!$A7,Sheet1!B$1<Sheet2!$B7),"yes","no") -> no | C10: =IF(AND(C$1>=Sheet2!$A7,Sheet1!C$1<Sheet2!$B7),"yes","no") -> no | D10: =IF(AND(D$1>=Sheet2!$A7,Sheet1!D$1<Sheet2!$B7),"yes","no") -> no | E10: =IF(AND(E$1>=Sheet2!$A7,Sheet1!E$1<Sheet2!$B7),"yes","no") -> no | F10: =IF(AND(F$1>=Sheet2!$A7,Sheet1!F$1<Sheet2!$B7),"yes","no") -> yes | G10: =IF(AND(G$1>=Sheet2!$A7,Sheet1!G$1<Sheet2!$B7),"yes","no") -> yes | H10: =IF(AND(H$1>=Sheet2!$A7,Sheet1!H$1<Sheet2!$B7),"yes","no") -> yes | I10: =IF(AND(I$1>=Sheet2!$A7,Sheet1!I$1<Sheet2!$B7),"yes","no") -> no | ... AP10: =IF(AND(AP$1>=Sheet2!$A7,Sheet1!AP$1<Sheet2!$B7),"yes","no") -> no
B11: =IF(AND(B$1>=Sheet2!$A8,Sheet1!B$1<Sheet2!$B8),"yes","no") -> no | C11: =IF(AND(C$1>=Sheet2!$A8,Sheet1!C$1<Sheet2!$B8),"yes","no") -> no | D11: =IF(AND(D$1>=Sheet2!$A8,Sheet1!D$1<Sheet2!$B8),"yes","no") -> no | E11: =IF(AND(E$1>=Sheet2!$A8,Sheet1!E$1<Sheet2!$B8),"yes","no") -> no | F11: =IF(AND(F$1>=Sheet2!$A8,Sheet1!F$1<Sheet2!$B8),"yes","no") -> no | G11: =IF(AND(G$1>=Sheet2!$A8,Sheet1!G$1<Sheet2!$B8),"yes","no") -> yes | H11: =IF(AND(H$1>=Sheet2!$A8,Sheet1!H$1<Sheet2!$B8),"yes","no") -> yes | I11: =IF(AND(I$1>=Sheet2!$A8,Sheet1!I$1<Sheet2!$B8),"yes","no") -> yes | ... AP11: =IF(AND(AP$1>=Sheet2!$A8,Sheet1!AP$1<Sheet2!$B8),"yes","no") -> no
B12: =IF(AND(B$1>=Sheet2!$A9,Sheet1!B$1<Sheet2!$B9),"yes","no") -> no | C12: =IF(AND(C$1>=Sheet2!$A9,Sheet1!C$1<Sheet2!$B9),"yes","no") -> no | D12: =IF(AND(D$1>=Sheet2!$A9,Sheet1!D$1<Sheet2!$B9),"yes","no") -> no | E12: =IF(AND(E$1>=Sheet2!$A9,Sheet1!E$1<Sheet2!$B9),"yes","no") -> no | F12: =IF(AND(F$1>=Sheet2!$A9,Sheet1!F$1<Sheet2!$B9),"yes","no") -> no | G12: =IF(AND(G$1>=Sheet2!$A9,Sheet1!G$1<Sheet2!$B9),"yes","no") -> no | H12: =IF(AND(H$1>=Sheet2!$A9,Sheet1!H$1<Sheet2!$B9),"yes","no") -> yes | I12: =IF(AND(I$1>=Sheet2!$A9,Sheet1!I$1<Sheet2!$B9),"yes","no") -> yes | ... AP12: =IF(AND(AP$1>=Sheet2!$A9,Sheet1!AP$1<Sheet2!$B9),"yes","no") -> no
B13: =IF(AND(B$1>=Sheet2!$A10,Sheet1!B$1<Sheet2!$B10),"yes","no") -> no | C13: =IF(AND(C$1>=Sheet2!$A10,Sheet1!C$1<Sheet2!$B10),"yes","no") -> no | D13: =IF(AND(D$1>=Sheet2!$A10,Sheet1!D$1<Sheet2!$B10),"yes","no") -> no | E13: =IF(AND(E$1>=Sheet2!$A10,Sheet1!E$1<Sheet2!$B10),"yes","no") -> no | F13: =IF(AND(F$1>=Sheet2!$A10,Sheet1!F$1<Sheet2!$B10),"yes","no") -> no | G13: =IF(AND(G$1>=Sheet2!$A10,Sheet1!G$1<Sheet2!$B10),"yes","no") -> no | H13: =IF(AND(H$1>=Sheet2!$A10,Sheet1!H$1<Sheet2!$B10),"yes","no") -> yes | I13: =IF(AND(I$1>=Sheet2!$A10,Sheet1!I$1<Sheet2!$B10),"yes","no") -> yes | ... AP13: =IF(AND(AP$1>=Sheet2!$A10,Sheet1!AP$1<Sheet2!$B10),"yes","no") -> no
B14: =IF(AND(B$1>=Sheet2!$A11,Sheet1!B$1<Sheet2!$B11),"yes","no") -> no | C14: =IF(AND(C$1>=Sheet2!$A11,Sheet1!C$1<Sheet2!$B11),"yes","no") -> no | D14: =IF(AND(D$1>=Sheet2!$A11,Sheet1!D$1<Sheet2!$B11),"yes","no") -> no | E14: =IF(AND(E$1>=Sheet2!$A11,Sheet1!E$1<Sheet2!$B11),"yes","no") -> no | F14: =IF(AND(F$1>=Sheet2!$A11,Sheet1!F$1<Sheet2!$B11),"yes","no") -> no | G14: =IF(AND(G$1>=Sheet2!$A11,Sheet1!G$1<Sheet2!$B11),"yes","no") -> no | H14: =IF(AND(H$1>=Sheet2!$A11,Sheet1!H$1<Sheet2!$B11),"yes","no") -> no | I14: =IF(AND(I$1>=Sheet2!$A11,Sheet1!I$1<Sheet2!$B11),"yes","no") -> yes | ... AP14: =IF(AND(AP$1>=Sheet2!$A11,Sheet1!AP$1<Sheet2!$B11),"yes","no") -> no
B15: =IF(AND(B$1>=Sheet2!$A12,Sheet1!B$1<Sheet2!$B12),"yes","no") -> no | C15: =IF(AND(C$1>=Sheet2!$A12,Sheet1!C$1<Sheet2!$B12),"yes","no") -> no | D15: =IF(AND(D$1>=Sheet2!$A12,Sheet1!D$1<Sheet2!$B12),"yes","no") -> no | E15: =IF(AND(E$1>=Sheet2!$A12,Sheet1!E$1<Sheet2!$B12),"yes","no") -> no | F15: =IF(AND(F$1>=Sheet2!$A12,Sheet1!F$1<Sheet2!$B12),"yes","no") -> no | G15: =IF(AND(G$1>=Sheet2!$A12,Sheet1!G$1<Sheet2!$B12),"yes","no") -> no | H15: =IF(AND(H$1>=Sheet2!$A12,Sheet1!H$1<Sheet2!$B12),"yes","no") -> no | I15: =IF(AND(I$1>=Sheet2!$A12,Sheet1!I$1<Sheet2!$B12),"yes","no") -> yes | ... AP15: =IF(AND(AP$1>=Sheet2!$A12,Sheet1!AP$1<Sheet2!$B12),"yes","no") -> no
B16: =IF(AND(B$1>=Sheet2!$A13,Sheet1!B$1<Sheet2!$B13),"yes","no") -> no | C16: =IF(AND(C$1>=Sheet2!$A13,Sheet1!C$1<Sheet2!$B13),"yes","no") -> no | D16: =IF(AND(D$1>=Sheet2!$A13,Sheet1!D$1<Sheet2!$B13),"yes","no") -> no | E16: =IF(AND(E$1>=Sheet2!$A13,Sheet1!E$1<Sheet2!$B13),"yes","no") -> no | F16: =IF(AND(F$1>=Sheet2!$A13,Sheet1!F$1<Sheet2!$B13),"yes","no") -> no | G16: =IF(AND(G$1>=Sheet2!$A13,Sheet1!G$1<Sheet2!$B13),"yes","no") -> no | H16: =IF(AND(H$1>=Sheet2!$A13,Sheet1!H$1<Sheet2!$B13),"yes","no") -> no | I16: =IF(AND(I$1>=Sheet2!$A13,Sheet1!I$1<Sheet2!$B13),"yes","no") -> yes | ... AP16: =IF(AND(AP$1>=Sheet2!$A13,Sheet1!AP$1<Sheet2!$B13),"yes","no") -> no
... B54: =IF(AND(B$1>=Sheet2!$A51,Sheet1!B$1<Sheet2!$B51),"yes","no") -> no | C54: =IF(AND(C$1>=Sheet2!$A51,Sheet1!C$1<Sheet2!$B51),"yes","no") -> no | D54: =IF(AND(D$1>=Sheet2!$A51,Sheet1!D$1<Sheet2!$B51),"yes","no") -> no | E54: =IF(AND(E$1>=Sheet2!$A51,Sheet1!E$1<Sheet2!$B51),"yes","no") -> no | F54: =IF(AND(F$1>=Sheet2!$A51,Sheet1!F$1<Sheet2!$B51),"yes","no") -> no | G54: =IF(AND(G$1>=Sheet2!$A51,Sheet1!G$1<Sheet2!$B51),"yes","no") -> no | H54: =IF(AND(H$1>=Sheet2!$A51,Sheet1!H$1<Sheet2!$B51),"yes","no") -> no | I54: =IF(AND(I$1>=Sheet2!$A51,Sheet1!I$1<Sheet2!$B51),"yes","no") -> no | ... AP54: =IF(AND(AP$1>=Sheet2!$A51,Sheet1!AP$1<Sheet2!$B51),"yes","no") -> no

Sheet Sheet2
A1: Check-in date | B1: Check-out date | C1: Nights booked | E1: conca de cola et col b | H1: resultat nb occurances | I1: =SUMPRODUCT(1/COUNTIF(E2:E51,E2:E51)) -> 45
A2: 42887 | B2: 42890 | C2: 3 | E2: =A2&B2 -> 4288742890
A3: 42888 | B3: 42891 | C3: 3 | E3: =A3&B3 -> 4288842891
A4: 42889 | B4: 42892 | C4: 3 | E4: =A4&B4 -> 4288942892
A5: 42889 | B5: 42894 | C5: 5 | E5: =A5&B5 -> 4288942894
A6: 42891 | B6: 42898 | C6: 7 | E6: =A6&B6 -> 4289142898
A7: 42891 | B7: 42894 | C7: 3 | E7: =A7&B7 -> 4289142894
A8: 42892 | B8: 42897 | C8: 5 | E8: =A8&B8 -> 4289242897
A9: 42893 | B9: 42896 | C9: 3 | E9: =A9&B9 -> 4289342896
A10: 42893 | B10: 42897 | C10: 4 | E10: =A10&B10 -> 4289342897
A11: 42894 | B11: 42902 | C11: 8 | E11: =A11&B11 -> 4289442902
A12: 42894 | B12: 42898 | C12: 4 | E12: =A12&B12 -> 4289442898
A13: 42894 | B13: 42900 | C13: 6 | E13: =A13&B13 -> 4289442900
... A51: 42916 | B51: 42919 | C51: 3 | E51: =A51&B51 -> 4291642919
