Workbook
Name critère: Sheet1!$M$2:$M$8

Sheet Sheet1
A1: PAYS | B1: Test ID | C1: Status 1 | D1: Status 2 | E1: Status 3
A2: France | B2: 1 | C2: Not started | D2: X | E2: X | H2: EQUIV(C2:E2;M$2:M$8;0 | M2: NOK
A3: France | B3: 2 | C3: Not relevant | D3: X | E3: X | H3: {=MATCH(C3:E3,M$2:M$8,0)} -> 4 | M3: Processed with error
A4: France | B4: 3 | C4: Not applicable | D4: X | E4: X | H4: {=MATCH(C4:E4,M$2:M$8,0)} -> 6 | M4: OK
A5: France | B5: 4 | C5: OK | D5: KO | E5: X | H5: {=MIN(IFERROR(MATCH(C5:E5,M$2:M$8,0),""))} -> 3 | M5: Not relevant
A6: France | B6: 5 | C6: OK | D6: X | E6: X | H6: {=MATCH(C6:E6,M$2:M$8,0)} -> 3 | M6: Not started
A7: France | B7: 6 | C7: Processed with error | D7: X | E7: X | H7: {=MATCH(C7:E7,M$2:M$8,0)} -> 2 | M7: Not applicable
A8: France | B8: 7 | C8: OK | D8: X | E8: X | H8: {=MATCH(C8:E8,M$2:M$8,0)} -> 3 | M8: X
A9: France | B9: 8 | C9: OK | D9: X | E9: X | H9: {=MATCH(C9:E9,M$2:M$8,0)} -> 3
A10: France | B10: 9 | C10: Error | D10: X | E10: X | H10: {=MATCH(C10:E10,M$2:M$8,0)} -> #N/A
A11: France | B11: 10 | C11: OK | D11: X | E11: X | H11: {=MATCH(C11:E11,M$2:M$8,0)} -> 3
A12: France | B12: 11 | C12: OK | D12: X | E12: X | H12: {=MATCH(C12:E12,M$2:M$8,0)} -> 3
A13: France | B13: 12 | C13: Processed with error | D13: X | E13: X | H13: {=MATCH(C13:E13,M$2:M$8,0)} -> 2
A14: France | B14: 13 | C14: OK | D14: X | E14: X | H14: {=MATCH(C14:E14,M$2:M$8,0)} -> 3
A15: France | B15: 14 | C15: OK | D15: X | E15: X | H15: {=MATCH(C15:E15,M$2:M$8,0)} -> 3
A16: Espagne | B16: 8 | C16: Not started | D16: Not started | E16: Not started | H16: {=MATCH(C16:E16,M$2:M$8,0)} -> 5
A17: Portugual | B17: 3 | C17: Not applicable | D17: Not applicable | E17: Not applicable | H17: {=MATCH(C17:E17,M$2:M$8,0)} -> 6
A18: Portugual | B18: 5 | C18: Not applicable | D18: Not applicable | E18: Not applicable | H18: {=MATCH(C18:E18,M$2:M$8,0)} -> 6
A19: Portugual | B19: 7 | C19: Not applicable | D19: Not applicable | E19: Not applicable | H19: {=MATCH(C19:E19,M$2:M$8,0)} -> 6
A20: Portugual | B20: 9 | C20: Not applicable | D20: Not applicable | E20: Not applicable | H20: {=MATCH(C20:E20,M$2:M$8,0)} -> 6
A21: Portugual | B21: 11 | C21: Not applicable | D21: Not applicable | E21: Not applicable | H21: {=MATCH(C21:E21,M$2:M$8,0)} -> 6
A22: Portugual | B22: 13 | C22: OK | D22: Not relevant | E22: OK | H22: {=MIN(MATCH(C22:E22,M$2:M$8,0))} -> 3
A23: Portugual | B23: 15 | C23: OK | D23: Not Started | E23: Not Started | H23: {=MATCH(C23:E23,M$2:M$8,0)} -> 3
A24: Portugual | B24: 17 | C24: OK | D24: Not applicable | E24: OK
A25: Portugual | B25: 19 | C25: Not started | D25: X | E25: OK
A26: Portugual | B26: 21 | C26: Not relevant | D26: X | E26: OK
A27: Portugual | B27: 23 | C27: Processed with error | D27: X | E27: X
A28: Portugual | B28: 25 | C28: OK | D28: X | E28: X
A29: Portugual | B29: 27 | C29: OK | D29: X | E29: X
A30: Portugual | B30: 29 | C30: Processed with error | D30: X | E30: X
A31: Portugual | B31: 31 | C31: OK | D31: X | E31: X
A32: Portugual | B32: 33 | C32: OK | D32: X | E32: X
A33: Maroc | B33: 50 | C33: Processed with error | D33: X | E33: X
A34: Maroc | B34: 52 | C34: OK | D34: X | E34: X
A35: Maroc | B35: 54 | C35: OK | D35: Processed with error | E35: X
... A111: Colombie | B111: 66 | C111: Not applicable | D111: Not applicable | E111: X

Sheet Sheet2
A1: ID | B1: Meilleur Statut | C1: Pays
A2: =SMALL(Sheet1!B:B,ROW(A1)) -> 1 | B2: {=IFERROR(INDEX(critère,MIN(IFERROR(MATCH(OFFSET(Sheet1!C$2:E$2,MATCH(C2&A2,Sheet1!A$2:A$2000&Sheet1!B$2:B$2000,0)-1,),critère,0),""))),"ID absent")} -> Not started | C2: {=INDEX(Sheet1!A$2:A$200,SMALL(IF(Sheet1!B$2:B$2000=A2,ROW(B$2:B$2000)-1,""),COUNTIF(Sheet2!A$2:A2,Sheet2!A2)))} -> France | E2: A Savoir que les statuts sont classés dans l'ordre suivant : NOK>Processed with Error>OK>Not relevant>Not Started>Not applicable
A3: =SMALL(Sheet1!B:B,ROW(A2)) -> 2 | B3: {=IFERROR(INDEX(critère,MIN(IFERROR(MATCH(OFFSET(Sheet1!C$2:E$2,MATCH(C3&A3,Sheet1!A$2:A$2000&Sheet1!B$2:B$2000,0)-1,),critère,0),""))),"ID absent")} -> Not relevant | C3: {=INDEX(Sheet1!A$2:A$200,SMALL(IF(Sheet1!B$2:B$2000=A3,ROW(B$2:B$2000)-1,""),COUNTIF(Sheet2!A$2:A3,Sheet2!A3)))} -> France
A4: =SMALL(Sheet1!B:B,ROW(A3)) -> 3 | B4: {=IFERROR(INDEX(critère,MIN(IFERROR(MATCH(OFFSET(Sheet1!C$2:E$2,MATCH(C4&A4,Sheet1!A$2:A$2000&Sheet1!B$2:B$2000,0)-1,),critère,0),""))),"ID absent")} -> Not applicable | C4: {=INDEX(Sheet1!A$2:A$200,SMALL(IF(Sheet1!B$2:B$2000=A4,ROW(B$2:B$2000)-1,""),COUNTIF(Sheet2!A$2:A4,Sheet2!A4)))} -> France | E4: les ID sont classés par ordre pour mettre en valeur les doublon donc les pays eventuels
A5: =SMALL(Sheet1!B:B,ROW(A4)) -> 3 | B5: {=IFERROR(INDEX(critère,MIN(IFERROR(MATCH(OFFSET(Sheet1!C$2:E$2,MATCH(C5&A5,Sheet1!A$2:A$2000&Sheet1!B$2:B$2000,0)-1,),critère,0),""))),"ID absent")} -> Not applicable | C5: {=INDEX(Sheet1!A$2:A$200,SMALL(IF(Sheet1!B$2:B$2000=A5,ROW(B$2:B$2000)-1,""),COUNTIF(Sheet2!A$2:A5,Sheet2!A5)))} -> Portugual | E5: le meilleur statut est extrait par l'analyse de la fraction de ligne qui correspond a l'ID du pays dans la grille nommée critère , on recupère la position mini
A6: =SMALL(Sheet1!B:B,ROW(A5)) -> 4 | B6: {=IFERROR(INDEX(critère,MIN(IFERROR(MATCH(OFFSET(Sheet1!C$2:E$2,MATCH(C6&A6,Sheet1!A$2:A$2000&Sheet1!B$2:B$2000,0)-1,),critère,0),""))),"ID absent")} -> OK | C6: {=INDEX(Sheet1!A$2:A$200,SMALL(IF(Sheet1!B$2:B$2000=A6,ROW(B$2:B$2000)-1,""),COUNTIF(Sheet2!A$2:A6,Sheet2!A6)))} -> France
A7: =SMALL(Sheet1!B:B,ROW(A6)) -> 5 | B7: {=IFERROR(INDEX(critère,MIN(IFERROR(MATCH(OFFSET(Sheet1!C$2:E$2,MATCH(C7&A7,Sheet1!A$2:A$2000&Sheet1!B$2:B$2000,0)-1,),critère,0),""))),"ID absent")} -> OK | C7: {=INDEX(Sheet1!A$2:A$200,SMALL(IF(Sheet1!B$2:B$2000=A7,ROW(B$2:B$2000)-1,""),COUNTIF(Sheet2!A$2:A7,Sheet2!A7)))} -> France
A8: =SMALL(Sheet1!B:B,ROW(A7)) -> 5 | B8: {=IFERROR(INDEX(critère,MIN(IFERROR(MATCH(OFFSET(Sheet1!C$2:E$2,MATCH(C8&A8,Sheet1!A$2:A$2000&Sheet1!B$2:B$2000,0)-1,),critère,0),""))),"ID absent")} -> Not applicable | C8: {=INDEX(Sheet1!A$2:A$200,SMALL(IF(Sheet1!B$2:B$2000=A8,ROW(B$2:B$2000)-1,""),COUNTIF(Sheet2!A$2:A8,Sheet2!A8)))} -> Portugual
A9: =SMALL(Sheet1!B:B,ROW(A8)) -> 6 | B9: {=IFERROR(INDEX(critère,MIN(IFERROR(MATCH(OFFSET(Sheet1!C$2:E$2,MATCH(C9&A9,Sheet1!A$2:A$2000&Sheet1!B$2:B$2000,0)-1,),critère,0),""))),"ID absent")} -> Processed with error | C9: {=INDEX(Sheet1!A$2:A$200,SMALL(IF(Sheet1!B$2:B$2000=A9,ROW(B$2:B$2000)-1,""),COUNTIF(Sheet2!A$2:A9,Sheet2!A9)))} -> France
A10: =SMALL(Sheet1!B:B,ROW(A9)) -> 7 | B10: {=IFERROR(INDEX(critère,MIN(IFERROR(MATCH(OFFSET(Sheet1!C$2:E$2,MATCH(C10&A10,Sheet1!A$2:A$2000&Sheet1!B$2:B$2000,0)-1,),critère,0),""))),"ID absent")} -> OK | C10: {=INDEX(Sheet1!A$2:A$200,SMALL(IF(Sheet1!B$2:B$2000=A10,ROW(B$2:B$2000)-1,""),COUNTIF(Sheet2!A$2:A10,Sheet2!A10)))} -> France
A11: =SMALL(Sheet1!B:B,ROW(A10)) -> 7 | B11: {=IFERROR(INDEX(critère,MIN(IFERROR(MATCH(OFFSET(Sheet1!C$2:E$2,MATCH(C11&A11,Sheet1!A$2:A$2000&Sheet1!B$2:B$2000,0)-1,),critère,0),""))),"ID absent")} -> Not applicable | C11: {=INDEX(Sheet1!A$2:A$200,SMALL(IF(Sheet1!B$2:B$2000=A11,ROW(B$2:B$2000)-1,""),COUNTIF(Sheet2!A$2:A11,Sheet2!A11)))} -> Portugual
A12: =SMALL(Sheet1!B:B,ROW(A11)) -> 8 | B12: {=IFERROR(INDEX(critère,MIN(IFERROR(MATCH(OFFSET(Sheet1!C$2:E$2,MATCH(C12&A12,Sheet1!A$2:A$2000&Sheet1!B$2:B$2000,0)-1,),critère,0),""))),"ID absent")} -> OK | C12: {=INDEX(Sheet1!A$2:A$200,SMALL(IF(Sheet1!B$2:B$2000=A12,ROW(B$2:B$2000)-1,""),COUNTIF(Sheet2!A$2:A12,Sheet2!A12)))} -> France
A13: =SMALL(Sheet1!B:B,ROW(A12)) -> 8 | B13: {=IFERROR(INDEX(critère,MIN(IFERROR(MATCH(OFFSET(Sheet1!C$2:E$2,MATCH(C13&A13,Sheet1!A$2:A$2000&Sheet1!B$2:B$2000,0)-1,),critère,0),""))),"ID absent")} -> Not started | C13: {=INDEX(Sheet1!A$2:A$200,SMALL(IF(Sheet1!B$2:B$2000=A13,ROW(B$2:B$2000)-1,""),COUNTIF(Sheet2!A$2:A13,Sheet2!A13)))} -> Espagne
A14: =SMALL(Sheet1!B:B,ROW(A13)) -> 9 | B14: {=IFERROR(INDEX(critère,MIN(IFERROR(MATCH(OFFSET(Sheet1!C$2:E$2,MATCH(C14&A14,Sheet1!A$2:A$2000&Sheet1!B$2:B$2000,0)-1,),critère,0),""))),"ID absent")} -> X | C14: {=INDEX(Sheet1!A$2:A$200,SMALL(IF(Sheet1!B$2:B$2000=A14,ROW(B$2:B$2000)-1,""),COUNTIF(Sheet2!A$2:A14,Sheet2!A14)))} -> France
A15: =SMALL(Sheet1!B:B,ROW(A14)) -> 9 | B15: {=IFERROR(INDEX(critère,MIN(IFERROR(MATCH(OFFSET(Sheet1!C$2:E$2,MATCH(C15&A15,Sheet1!A$2:A$2000&Sheet1!B$2:B$2000,0)-1,),critère,0),""))),"ID absent")} -> Not applicable | C15: {=INDEX(Sheet1!A$2:A$200,SMALL(IF(Sheet1!B$2:B$2000=A15,ROW(B$2:B$2000)-1,""),COUNTIF(Sheet2!A$2:A15,Sheet2!A15)))} -> Portugual
A16: =SMALL(Sheet1!B:B,ROW(A15)) -> 10 | B16: {=IFERROR(INDEX(critère,MIN(IFERROR(MATCH(OFFSET(Sheet1!C$2:E$2,MATCH(C16&A16,Sheet1!A$2:A$2000&Sheet1!B$2:B$2000,0)-1,),critère,0),""))),"ID absent")} -> OK | C16: {=INDEX(Sheet1!A$2:A$200,SMALL(IF(Sheet1!B$2:B$2000=A16,ROW(B$2:B$2000)-1,""),COUNTIF(Sheet2!A$2:A16,Sheet2!A16)))} -> France
A17: =SMALL(Sheet1!B:B,ROW(A16)) -> 11 | B17: {=IFERROR(INDEX(critère,MIN(IFERROR(MATCH(OFFSET(Sheet1!C$2:E$2,MATCH(C17&A17,Sheet1!A$2:A$2000&Sheet1!B$2:B$2000,0)-1,),critère,0),""))),"ID absent")} -> OK | C17: {=INDEX(Sheet1!A$2:A$200,SMALL(IF(Sheet1!B$2:B$2000=A17,ROW(B$2:B$2000)-1,""),COUNTIF(Sheet2!A$2:A17,Sheet2!A17)))} -> France
... A111: =SMALL(Sheet1!B:B,ROW(A110)) -> 100 | B111: {=IFERROR(INDEX(critère,MIN(IFERROR(MATCH(OFFSET(Sheet1!C$2:E$2,MATCH(C111&A111,Sheet1!A$2:A$2000&Sheet1!B$2:B$2000,0)-1,),critère,0),""))),"ID absent")} -> OK | C111: {=INDEX(Sheet1!A$2:A$200,SMALL(IF(Sheet1!B$2:B$2000=A111,ROW(B$2:B$2000)-1,""),COUNTIF(Sheet2!A$2:A111,Sheet2!A111)))} -> Maroc
A112: =IFERROR(SMALL(Sheet1!B:B,ROW(A111)),"") | B112: {=IFERROR(INDEX(critère,MIN(IFERROR(MATCH(OFFSET(Sheet1!C$2:E$2,MATCH(A112,Sheet1!B$2:B$2000,0),),critère,0),""))),"ID absent")} -> ID absent | C112: {=IFERROR(INDEX(Sheet1!A$2:A$200,SMALL(IF(Sheet1!B$2:B$2000=A112,ROW(B$2:B$2000)-1,""),COUNTIF(Sheet2!A$2:A112,Sheet2!A112))),"")} -> 0
A113: =IFERROR(SMALL(Sheet1!B:B,ROW(A112)),"") | B113: {=IFERROR(INDEX(critère,MIN(IFERROR(MATCH(OFFSET(Sheet1!C$2:E$2,MATCH(A113,Sheet1!B$2:B$2000,0),),critère,0),""))),"ID absent")} -> ID absent | C113: {=IFERROR(INDEX(Sheet1!A$2:A$200,SMALL(IF(Sheet1!B$2:B$2000=A113,ROW(B$2:B$2000)-1,""),COUNTIF(Sheet2!A$2:A113,Sheet2!A113))),"")} -> 0
A114: =IFERROR(SMALL(Sheet1!B:B,ROW(A113)),"") | B114: {=IFERROR(INDEX(critère,MIN(IFERROR(MATCH(OFFSET(Sheet1!C$2:E$2,MATCH(A114,Sheet1!B$2:B$2000,0),),critère,0),""))),"ID absent")} -> ID absent | C114: {=IFERROR(INDEX(Sheet1!A$2:A$200,SMALL(IF(Sheet1!B$2:B$2000=A114,ROW(B$2:B$2000)-1,""),COUNTIF(Sheet2!A$2:A114,Sheet2!A114))),"")} -> 0
A115: =IFERROR(SMALL(Sheet1!B:B,ROW(A114)),"") | B115: {=IFERROR(INDEX(critère,MIN(IFERROR(MATCH(OFFSET(Sheet1!C$2:E$2,MATCH(A115,Sheet1!B$2:B$2000,0),),critère,0),""))),"ID absent")} -> ID absent | C115: {=IFERROR(INDEX(Sheet1!A$2:A$200,SMALL(IF(Sheet1!B$2:B$2000=A115,ROW(B$2:B$2000)-1,""),COUNTIF(Sheet2!A$2:A115,Sheet2!A115))),"")} -> 0
A116: =IFERROR(SMALL(Sheet1!B:B,ROW(A115)),"") | B116: {=IFERROR(INDEX(critère,MIN(IFERROR(MATCH(OFFSET(Sheet1!C$2:E$2,MATCH(A116,Sheet1!B$2:B$2000,0),),critère,0),""))),"ID absent")} -> ID absent | C116: {=IFERROR(INDEX(Sheet1!A$2:A$200,SMALL(IF(Sheet1!B$2:B$2000=A116,ROW(B$2:B$2000)-1,""),COUNTIF(Sheet2!A$2:A116,Sheet2!A116))),"")} -> 0
A117: =IFERROR(SMALL(Sheet1!B:B,ROW(A116)),"") | B117: {=IFERROR(INDEX(critère,MIN(IFERROR(MATCH(OFFSET(Sheet1!C$2:E$2,MATCH(A117,Sheet1!B$2:B$2000,0),),critère,0),""))),"ID absent")} -> ID absent | C117: {=IFERROR(INDEX(Sheet1!A$2:A$200,SMALL(IF(Sheet1!B$2:B$2000=A117,ROW(B$2:B$2000)-1,""),COUNTIF(Sheet2!A$2:A117,Sheet2!A117))),"")} -> 0
A118: =IFERROR(SMALL(Sheet1!B:B,ROW(A117)),"") | B118: {=IFERROR(INDEX(critère,MIN(IFERROR(MATCH(OFFSET(Sheet1!C$2:E$2,MATCH(A118,Sheet1!B$2:B$2000,0),),critère,0),""))),"ID absent")} -> ID absent | C118: {=IFERROR(INDEX(Sheet1!A$2:A$200,SMALL(IF(Sheet1!B$2:B$2000=A118,ROW(B$2:B$2000)-1,""),COUNTIF(Sheet2!A$2:A118,Sheet2!A118))),"")} -> 0
A119: =IFERROR(SMALL(Sheet1!B:B,ROW(A118)),"") | B119: {=IFERROR(INDEX(critère,MIN(IFERROR(MATCH(OFFSET(Sheet1!C$2:E$2,MATCH(A119,Sheet1!B$2:B$2000,0),),critère,0),""))),"ID absent")} -> ID absent | C119: {=IFERROR(INDEX(Sheet1!A$2:A$200,SMALL(IF(Sheet1!B$2:B$2000=A119,ROW(B$2:B$2000)-1,""),COUNTIF(Sheet2!A$2:A119,Sheet2!A119))),"")} -> 0
A120: =IFERROR(SMALL(Sheet1!B:B,ROW(A119)),"") | B120: {=IFERROR(INDEX(critère,MIN(IFERROR(MATCH(OFFSET(Sheet1!C$2:E$2,MATCH(A120,Sheet1!B$2:B$2000,0),),critère,0),""))),"ID absent")} -> ID absent | C120: {=IFERROR(INDEX(Sheet1!A$2:A$200,SMALL(IF(Sheet1!B$2:B$2000=A120,ROW(B$2:B$2000)-1,""),COUNTIF(Sheet2!A$2:A120,Sheet2!A120))),"")} -> 0
A121: =IFERROR(SMALL(Sheet1!B:B,ROW(A120)),"") | B121: {=IFERROR(INDEX(critère,MIN(IFERROR(MATCH(OFFSET(Sheet1!C$2:E$2,MATCH(A121,Sheet1!B$2:B$2000,0),),critère,0),""))),"ID absent")} -> ID absent | C121: {=IFERROR(INDEX(Sheet1!A$2:A$200,SMALL(IF(Sheet1!B$2:B$2000=A121,ROW(B$2:B$2000)-1,""),COUNTIF(Sheet2!A$2:A121,Sheet2!A121))),"")} -> 0
A122: =IFERROR(SMALL(Sheet1!B:B,ROW(A121)),"") | B122: {=IFERROR(INDEX(critère,MIN(IFERROR(MATCH(OFFSET(Sheet1!C$2:E$2,MATCH(A122,Sheet1!B$2:B$2000,0),),critère,0),""))),"ID absent")} -> ID absent | C122: {=IFERROR(INDEX(Sheet1!A$2:A$200,SMALL(IF(Sheet1!B$2:B$2000=A122,ROW(B$2:B$2000)-1,""),COUNTIF(Sheet2!A$2:A122,Sheet2!A122))),"")} -> 0
A123: =IFERROR(SMALL(Sheet1!B:B,ROW(A122)),"") | B123: {=IFERROR(INDEX(critère,MIN(IFERROR(MATCH(OFFSET(Sheet1!C$2:E$2,MATCH(A123,Sheet1!B$2:B$2000,0),),critère,0),""))),"ID absent")} -> ID absent | C123: {=IFERROR(INDEX(Sheet1!A$2:A$200,SMALL(IF(Sheet1!B$2:B$2000=A123,ROW(B$2:B$2000)-1,""),COUNTIF(Sheet2!A$2:A123,Sheet2!A123))),"")} -> 0
... A859: =IFERROR(SMALL(Sheet1!B:B,ROW(A858)),"") | B859: {=IFERROR(INDEX(critère,MIN(IFERROR(MATCH(OFFSET(Sheet1!C$2:E$2,MATCH(A859,Sheet1!B$2:B$2000,0),),critère,0),""))),"ID absent")} -> ID absent | C859: {=IFERROR(INDEX(Sheet1!A$2:A$200,SMALL(IF(Sheet1!B$2:B$2000=A859,ROW(B$2:B$2000)-1,""),COUNTIF(Sheet2!A$2:A859,Sheet2!A859))),"")}
