Workbook
Name liste: OFFSET(Etudiants!$K$2,,,COUNTIF(Etudiants!$K:$K,"><"))
Name Vérif: OFFSET(Etudiants!$C$1,0,0,COUNT(Etudiants!$B$1:$B$6),1)

Sheet Planning
A1: Date | B1: Etudiant | C1: Cours
A2: 43647 | C2: A
A3: 43647 | C3: A
A4: 43647 | C4: A
A5: 43647 | C5: A
A6: 43647 | B6: Daniel | C6: A
A7: 43647 | C7: A

Sheet Etudiants
A1: Bernard | B1: =IF(COUNTIF(Planning!$B$2:$B$7,A1)>=1,"",ROW()) -> 1 | C1: =IF(ROW(A1)-ROW(A$1)+1>COUNT(B$1:B$6),"",INDEX(A:A,SMALL(B$1:B$6,1+ROW(A1)-ROW(A$1)))) -> Bernard | E1: l | F1: Deux formules possibles pour Colonne C | L1: tulipe sans colonne b : en direct
A2: Jean | B2: =IF(COUNTIF(Planning!$B$2:$B$7,A2)>=1,"",ROW()) -> 2 | C2: =IF(ROW(A2)-ROW(A$1)+1>COUNT(B$1:B$6),"",INDEX(A:A,SMALL(B$1:B$6,1+ROW(A2)-ROW(A$1)))) -> Jean | G2: =IF(ROW(A1)-ROW(A$1)+1>COUNT(B$1:B$6),"",INDEX(A:A,SMALL(B$1:B$6,1+ROW(A1)-ROW(A$1)))) -> Bernard | H2: {=IF(ROW($A$1:$A$6)-ROW($A$1)+1>COUNT($B$1:$B$6),"",INDEX($A:$A,SMALL($B$1:$B$6,ROW(INDIRECT("1:"&ROWS($A$1:$A$6))))))} -> Bernard | K2: {=IFERROR(INDEX(A$1:A$6,SMALL(IF(COUNTIF(Planning!B$2:B$7,A$1:A$6)=0,ROW(A$1:A$6),""),ROW(A1))),"")} -> Bernard
A3: Gérard | B3: =IF(COUNTIF(Planning!$B$2:$B$7,A3)>=1,"",ROW()) -> 3 | C3: =IF(ROW(A3)-ROW(A$1)+1>COUNT(B$1:B$6),"",INDEX(A:A,SMALL(B$1:B$6,1+ROW(A3)-ROW(A$1)))) -> Gérard | G3: =IF(ROW(A2)-ROW(A$1)+1>COUNT(B$1:B$6),"",INDEX(A:A,SMALL(B$1:B$6,1+ROW(A2)-ROW(A$1)))) -> Jean | H3: Jean | K3: {=IFERROR(INDEX(A$1:A$6,SMALL(IF(COUNTIF(Planning!B$2:B$7,A$1:A$6)=0,ROW(A$1:A$6),""),ROW(A2))),"")} -> Jean
A4: Daniel | B4: =IF(COUNTIF(Planning!$B$2:$B$7,A4)>=1,"",ROW()) | C4: =IF(ROW(A4)-ROW(A$1)+1>COUNT(B$1:B$6),"",INDEX(A:A,SMALL(B$1:B$6,1+ROW(A4)-ROW(A$1)))) -> Marc | G4: =IF(ROW(A3)-ROW(A$1)+1>COUNT(B$1:B$6),"",INDEX(A:A,SMALL(B$1:B$6,1+ROW(A3)-ROW(A$1)))) -> Gérard | H4: Gérard | K4: {=IFERROR(INDEX(A$1:A$6,SMALL(IF(COUNTIF(Planning!B$2:B$7,A$1:A$6)=0,ROW(A$1:A$6),""),ROW(A3))),"")} -> Gérard | N4: utilisation | P4: la plage verte est nommée ;liste
A5: Marc | B5: =IF(COUNTIF(Planning!$B$2:$B$7,A5)>=1,"",ROW()) -> 5 | C5: =IF(ROW(A5)-ROW(A$1)+1>COUNT(B$1:B$6),"",INDEX(A:A,SMALL(B$1:B$6,1+ROW(A5)-ROW(A$1)))) -> Simon | G5: =IF(ROW(A4)-ROW(A$1)+1>COUNT(B$1:B$6),"",INDEX(A:A,SMALL(B$1:B$6,1+ROW(A4)-ROW(A$1)))) -> Marc | H5: Marc | K5: {=IFERROR(INDEX(A$1:A$6,SMALL(IF(COUNTIF(Planning!B$2:B$7,A$1:A$6)=0,ROW(A$1:A$6),""),ROW(A4))),"")} -> Marc | P5: en dynamique voir gestionnaire
A6: Simon | B6: =IF(COUNTIF(Planning!$B$2:$B$7,A6)>=1,"",ROW()) -> 6 | C6: =IF(ROW(A6)-ROW(A$1)+1>COUNT(B$1:B$6),"",INDEX(A:A,SMALL(B$1:B$6,1+ROW(A6)-ROW(A$1)))) | G6: =IF(ROW(A5)-ROW(A$1)+1>COUNT(B$1:B$6),"",INDEX(A:A,SMALL(B$1:B$6,1+ROW(A5)-ROW(A$1)))) -> Simon | H6: Simon | K6: {=IFERROR(INDEX(A$1:A$6,SMALL(IF(COUNTIF(Planning!B$2:B$7,A$1:A$6)=0,ROW(A$1:A$6),""),ROW(A5))),"")} -> Simon
G7: =IF(ROW(A6)-ROW(A$1)+1>COUNT(B$1:B$6),"",INDEX(A:A,SMALL(B$1:B$6,1+ROW(A6)-ROW(A$1)))) | H7: {=IF(ROW($A$1:$A$6)-ROW($A$1)+1>COUNT($B$1:$B$6),"",INDEX($A:$A,SMALL($B$1:$B$6,ROW(INDIRECT("1:"&ROWS($A$1:$A$6))))))} -> Bernard | K7: {=IFERROR(INDEX(A$1:A$6,SMALL(IF(COUNTIF(Planning!B$2:B$7,A$1:A$6)=0,ROW(A$1:A$6),""),ROW(A6))),"")} | P7: Bernard
E8: l | F8: Dans la Colonne B … possibilité de remplacer la valeur 1 par la valeur 3
E10: l | F10: La plage nommée ' Vérif ' permet d'ajuster la Validation des Données | P10: valid>>liste >>>= liste
