Workbook

Sheet Synthèse
A1: 2014 | B1: CAD | C1: 28485 | D1: =SUMPRODUCT((Données!$B$2:$B$94=$B1)*(Données!$C$1:$I$1=$A1)*(Données!$C$2:$I$94)) -> 28485
B2: CATPM | D2: =SUMPRODUCT((Données!$B$2:$B$94=$B2)*(Données!$C$1:$I$1=$A1)*(Données!$C$2:$I$94)) -> 463702
B3: VDS | D3: =SUMPRODUCT((Données!$B$2:$B$94=$B3)*(Données!$C$1:$I$1=$A1)*(Données!$C$2:$I$94)) -> 616559
A5: 2015 | B5: CAD | D5: =SUMPRODUCT((Données!$B$2:$B$94=$B5)*(Données!$C$1:$I$1=$A5)*(Données!$C$2:$I$94)) -> 28155
B6: CATPM | D6: =SUMPRODUCT((Données!$B$2:$B$94=$B6)*(Données!$C$1:$I$1=$A5)*(Données!$C$2:$I$94)) -> 462668
B7: VDS | D7: =SUMPRODUCT((Données!$B$2:$B$94=$B7)*(Données!$C$1:$I$1=$A5)*(Données!$C$2:$I$94)) -> 615877
A9: 2016 | B9: CAD | D9: =SUMPRODUCT((Données!$B$2:$B$94=$B9)*(Données!$C$1:$I$1=$A9)*(Données!$C$2:$I$94)) -> 31395
B10: CATPM | D10: =SUMPRODUCT((Données!$B$2:$B$94=$B10)*(Données!$C$1:$I$1=$A9)*(Données!$C$2:$I$94)) -> 472820
B11: VDS | D11: =SUMPRODUCT((Données!$B$2:$B$94=$B11)*(Données!$C$1:$I$1=$A9)*(Données!$C$2:$I$94)) -> 622573
A13: 2017 | B13: CAD | D13: =SUMPRODUCT((Données!$B$2:$B$94=$B13)*(Données!$C$1:$I$1=$A13)*(Données!$C$2:$I$94)) -> 30825
B14: CATPM | D14: =SUMPRODUCT((Données!$B$2:$B$94=$B14)*(Données!$C$1:$I$1=$A13)*(Données!$C$2:$I$94)) -> 471034
B15: VDS | D15: =SUMPRODUCT((Données!$B$2:$B$94=$B15)*(Données!$C$1:$I$1=$A13)*(Données!$C$2:$I$94)) -> 621395
A17: 2018 | B17: CAD | D17: =SUMPRODUCT((Données!$B$2:$B$94=$B17)*(Données!$C$1:$I$1=$A17)*(Données!$C$2:$I$94)) -> 36720
B18: CATPM | D18: =SUMPRODUCT((Données!$B$2:$B$94=$B18)*(Données!$C$1:$I$1=$A17)*(Données!$C$2:$I$94)) -> 489505
B19: VDS | D19: =SUMPRODUCT((Données!$B$2:$B$94=$B19)*(Données!$C$1:$I$1=$A17)*(Données!$C$2:$I$94)) -> 633578

Sheet Données
A1: Nom | B1: Type | C1: 2014 | D1: 2015 | E1: 2016 | F1: =E1+1 -> 2017 | G1: =F1+1 -> 2018 | H1: =G1+1 -> 2019 | I1: =H1+1 -> 2020
A2: toto 1 | B2: CAD | C2: =100 -> 100 | D2: =C2-22 -> 78 | E2: =C2+194 -> 294 | F2: =E2-38 -> 256 | G2: =F2+393 -> 649 | H2: =G2-45 -> 604 | I2: =D2+2889 -> 2967
A3: toto 2 | B3: CAD | C3: =C2+257 -> 357 | D3: =C3-22 -> 335 | E3: =C3+194 -> 551 | F3: =E3-38 -> 513 | G3: =F3+393 -> 906 | H3: =G3-45 -> 861 | I3: =D3+2889 -> 3224
A4: toto 3 | B4: CAD | C4: =C3+257 -> 614 | D4: =C4-22 -> 592 | E4: =C4+194 -> 808 | F4: =E4-38 -> 770 | G4: =F4+393 -> 1163 | H4: =G4-45 -> 1118 | I4: =D4+2889 -> 3481
A5: toto 4 | B5: CAD | C5: =C4+257 -> 871 | D5: =C5-22 -> 849 | E5: =C5+194 -> 1065 | F5: =E5-38 -> 1027 | G5: =F5+393 -> 1420 | H5: =G5-45 -> 1375 | I5: =D5+2889 -> 3738
A6: toto 5 | B6: CAD | C6: =C5+257 -> 1128 | D6: =C6-22 -> 1106 | E6: =C6+194 -> 1322 | F6: =E6-38 -> 1284 | G6: =F6+393 -> 1677 | H6: =G6-45 -> 1632 | I6: =D6+2889 -> 3995
A7: toto 6 | B7: CAD | C7: =C6+257 -> 1385 | D7: =C7-22 -> 1363 | E7: =C7+194 -> 1579 | F7: =E7-38 -> 1541 | G7: =F7+393 -> 1934 | H7: =G7-45 -> 1889 | I7: =D7+2889 -> 4252
A8: toto 7 | B8: CAD | C8: =C7+257 -> 1642 | D8: =C8-22 -> 1620 | E8: =C8+194 -> 1836 | F8: =E8-38 -> 1798 | G8: =F8+393 -> 2191 | H8: =G8-45 -> 2146 | I8: =D8+2889 -> 4509
A9: toto 8 | B9: CAD | C9: =C8+257 -> 1899 | D9: =C9-22 -> 1877 | E9: =C9+194 -> 2093 | F9: =E9-38 -> 2055 | G9: =F9+393 -> 2448 | H9: =G9-45 -> 2403 | I9: =D9+2889 -> 4766
A10: toto 9 | B10: CAD | C10: =C9+257 -> 2156 | D10: =C10-22 -> 2134 | E10: =C10+194 -> 2350 | F10: =E10-38 -> 2312 | G10: =F10+393 -> 2705 | H10: =G10-45 -> 2660 | I10: =D10+2889 -> 5023
A11: toto 10 | B11: CAD | C11: =C10+257 -> 2413 | D11: =C11-22 -> 2391 | E11: =C11+194 -> 2607 | F11: =E11-38 -> 2569 | G11: =F11+393 -> 2962 | H11: =G11-45 -> 2917 | I11: =D11+2889 -> 5280
A12: toto 11 | B12: CAD | C12: =C11+257 -> 2670 | D12: =C12-22 -> 2648 | E12: =C12+194 -> 2864 | F12: =E12-38 -> 2826 | G12: =F12+393 -> 3219 | H12: =G12-45 -> 3174 | I12: =D12+2889 -> 5537
A13: toto 12 | B13: CAD | C13: =C12+257 -> 2927 | D13: =C13-22 -> 2905 | E13: =C13+194 -> 3121 | F13: =E13-38 -> 3083 | G13: =F13+393 -> 3476 | H13: =G13-45 -> 3431 | I13: =D13+2889 -> 5794
A14: toto 13 | B14: CAD | C14: =C13+257 -> 3184 | D14: =C14-22 -> 3162 | E14: =C14+194 -> 3378 | F14: =E14-38 -> 3340 | G14: =F14+393 -> 3733 | H14: =G14-45 -> 3688 | I14: =D14+2889 -> 6051
... A94: tutu 51 | B94: VDS | C94: =C93+257 -> 23744 | D94: =C94-22 -> 23722 | E94: =C94+194 -> 23938 | F94: =E94-38 -> 23900 | G94: =F94+393 -> 24293 | H94: =G94-45 -> 24248 | I94: =D94+2889 -> 26611
