Workbook

Sheet Feuil1
A1: LISTE NUMEROS | B1: attendu | C1: ou alors
A2: 33245245 | B2: =IFERROR(VLOOKUP(A2,Resultat!A$2:B$10,2,0),"") -> *** XYZ XYZ | C2: =IF(COUNTIF(Resultat!A$2:A$10,A2),"Magique","") -> Magique
A3: 33245248 | B3: =IFERROR(VLOOKUP(A3,Resultat!A$2:B$10,2,0),"") | C3: =IF(COUNTIF(Resultat!A$2:A$10,A3),"Magique","")
A4: 33245250 | B4: =IFERROR(VLOOKUP(A4,Resultat!A$2:B$10,2,0),"") | C4: =IF(COUNTIF(Resultat!A$2:A$10,A4),"Magique","")
A5: 11244244 | B5: =IFERROR(VLOOKUP(A5,Resultat!A$2:B$10,2,0),"") -> *** XYZ XYZ | C5: =IF(COUNTIF(Resultat!A$2:A$10,A5),"Magique","") -> Magique
A6: 11244249 | B6: =IFERROR(VLOOKUP(A6,Resultat!A$2:B$10,2,0),"") | C6: =IF(COUNTIF(Resultat!A$2:A$10,A6),"Magique","")
A7: 11244256 | B7: =IFERROR(VLOOKUP(A7,Resultat!A$2:B$10,2,0),"") | C7: =IF(COUNTIF(Resultat!A$2:A$10,A7),"Magique","")
A8: 22555555 | B8: =IFERROR(VLOOKUP(A8,Resultat!A$2:B$10,2,0),"") -> *** XYZ XYZ | C8: =IF(COUNTIF(Resultat!A$2:A$10,A8),"Magique","") -> Magique
A9: 22555556 | B9: =IFERROR(VLOOKUP(A9,Resultat!A$2:B$10,2,0),"") | C9: =IF(COUNTIF(Resultat!A$2:A$10,A9),"Magique","")
A10: 22555557 | B10: =IFERROR(VLOOKUP(A10,Resultat!A$2:B$10,2,0),"") | C10: =IF(COUNTIF(Resultat!A$2:A$10,A10),"Magique","")
A11: 33546666 | B11: =IFERROR(VLOOKUP(A11,Resultat!A$2:B$10,2,0),"") -> *** ** XX XX | C11: =IF(COUNTIF(Resultat!A$2:A$10,A11),"Magique","") -> Magique
A12: 33546667 | B12: =IFERROR(VLOOKUP(A12,Resultat!A$2:B$10,2,0),"") | C12: =IF(COUNTIF(Resultat!A$2:A$10,A12),"Magique","")
A13: 33546668 | B13: =IFERROR(VLOOKUP(A13,Resultat!A$2:B$10,2,0),"") | C13: =IF(COUNTIF(Resultat!A$2:A$10,A13),"Magique","")
... A28: 11143937 | B28: =IFERROR(VLOOKUP(A28,Resultat!A$2:B$10,2,0),"") | C28: =IF(COUNTIF(Resultat!A$2:A$10,A28),"Magique","")

Sheet Resultat
A1: NUMEROS MAGIQUES | B1: TYPE NUMERO MAGIQUE
A2: 33245245 | B2: *** XYZ XYZ
A3: 11244244 | B3: *** XYZ XYZ
A4: 22555555 | B4: *** XYZ XYZ
A5: 33546666 | B5: *** ** XX XX
A6: 22148888 | B6: *** ** XX XX
A7: 25135544 | B7: *** ** XX YY
A8: 33159966 | B8: *** ** XX YY
A9: 11145656 | B9: *** ** XY XY
A10: 11143939 | B10: *** ** XY XY
