Workbook
Name activites: [1]PROGRAMME!$B$3:$B$72
Name entete_programme: [1]PROGRAMME!$B$2:$H$2
Name liste1: OFFSET(Données!$I$2,,,COUNTIF(Données!$I:$I,"><")-1)
Name nom_structures: [1]PROGRAMME!$H$3:$H$72
Name tab_activites: [1]PROGRAMME!$B$3:$H$72

Sheet Données
I1: liste auto des srtucturespar ordre alpha sans double
A2: Activités | B2: Prévision budgétaire | C2: Structures | I2: {=INDEX(C$3:C$17,MATCH(0,COUNTIF(C$3:C$17,"<"&C$3:C$17)-SUM(COUNTIF(C$3:C$17,I$1:I1)),0))} -> BCMP
A3: Mettre en place une infrastructure moderne | B3: 200 | C3: PTIC | I3: {=INDEX(C$3:C$17,MATCH(0,COUNTIF(C$3:C$17,"<"&C$3:C$17)-SUM(COUNTIF(C$3:C$17,I$1:I2)),0))} -> DC
A4: Renforcer le réseau | B4: 100 | C4: PTIC | I4: {=INDEX(C$3:C$17,MATCH(0,COUNTIF(C$3:C$17,"<"&C$3:C$17)-SUM(COUNTIF(C$3:C$17,I$1:I3)),0))} -> DES
A5: Assurer l’appui technique aux acteurs | B5: 85 | C5: PTIC | I5: {=INDEX(C$3:C$17,MATCH(0,COUNTIF(C$3:C$17,"<"&C$3:C$17)-SUM(COUNTIF(C$3:C$17,I$1:I4)),0))} -> DFP
A6: Inventorier les biens meubles et immeubles | B6: 50 | C6: BCMP | I6: {=INDEX(C$3:C$17,MATCH(0,COUNTIF(C$3:C$17,"<"&C$3:C$17)-SUM(COUNTIF(C$3:C$17,I$1:I5)),0))} -> DGICE
A7: Elaborer le projet de budget 2020-2022 | B7: 50 | C7: DFP | I7: {=INDEX(C$3:C$17,MATCH(0,COUNTIF(C$3:C$17,"<"&C$3:C$17)-SUM(COUNTIF(C$3:C$17,I$1:I6)),0))} -> DMP
A8: Assurer la gestion comptable des ressources financières et matérielles | B8: 20 | C8: DFP | I8: {=INDEX(C$3:C$17,MATCH(0,COUNTIF(C$3:C$17,"<"&C$3:C$17)-SUM(COUNTIF(C$3:C$17,I$1:I7)),0))} -> DRH
A9: Assurer la couverture médiatique | B9: 80 | C9: DC | I9: {=INDEX(C$3:C$17,MATCH(0,COUNTIF(C$3:C$17,"<"&C$3:C$17)-SUM(COUNTIF(C$3:C$17,I$1:I8)),0))} -> DS
A10: Produire les supports de communication | B10: 60 | C10: DC | I10: {=INDEX(C$3:C$17,MATCH(0,COUNTIF(C$3:C$17,"<"&C$3:C$17)-SUM(COUNTIF(C$3:C$17,I$1:I9)),0))} -> PTIC
A11: Elaborer un feuillet statistique | B11: 75 | C11: DS | I11: {=INDEX(C$3:C$17,MATCH(0,COUNTIF(C$3:C$17,"<"&C$3:C$17)-SUM(COUNTIF(C$3:C$17,I$1:I10)),0))} -> #N/A
A12: Elaborer l’annuaire statistique | B12: 120 | C12: DES | I12: {=INDEX(C$3:C$17,MATCH(0,COUNTIF(C$3:C$17,"<"&C$3:C$17)-SUM(COUNTIF(C$3:C$17,I$1:I11)),0))} -> #N/A
A13: Organiser les cadres de concertation | B13: 50 | C13: DES | I13: {=INDEX(C$3:C$17,MATCH(0,COUNTIF(C$3:C$17,"<"&C$3:C$17)-SUM(COUNTIF(C$3:C$17,I$1:I12)),0))} -> #N/A
A14: Reviser les actes actes réglementaires existants | B14: 35 | C14: DGICE | I14: {=INDEX(C$3:C$17,MATCH(0,COUNTIF(C$3:C$17,"<"&C$3:C$17)-SUM(COUNTIF(C$3:C$17,I$1:I13)),0))} -> #N/A
... A17: Organiser le recrutement des agents | B17: 90 | C17: DRH | I17: {=INDEX(C$3:C$17,MATCH(0,COUNTIF(C$3:C$17,"<"&C$3:C$17)-SUM(COUNTIF(C$3:C$17,I$1:I16)),0))} -> #N/A
I18: {=INDEX(C$3:C$17,MATCH(0,COUNTIF(C$3:C$17,"<"&C$3:C$17)-SUM(COUNTIF(C$3:C$17,I$1:I17)),0))} -> #N/A
I19: {=INDEX(C$3:C$17,MATCH(0,COUNTIF(C$3:C$17,"<"&C$3:C$17)-SUM(COUNTIF(C$3:C$17,I$1:I18)),0))} -> #N/A
I20: {=INDEX(C$3:C$17,MATCH(0,COUNTIF(C$3:C$17,"<"&C$3:C$17)-SUM(COUNTIF(C$3:C$17,I$1:I19)),0))} -> #N/A
I21: {=INDEX(C$3:C$17,MATCH(0,COUNTIF(C$3:C$17,"<"&C$3:C$17)-SUM(COUNTIF(C$3:C$17,I$1:I20)),0))} -> #N/A
I22: {=INDEX(C$3:C$17,MATCH(0,COUNTIF(C$3:C$17,"<"&C$3:C$17)-SUM(COUNTIF(C$3:C$17,I$1:I21)),0))} -> #N/A
I23: {=INDEX(C$3:C$17,MATCH(0,COUNTIF(C$3:C$17,"<"&C$3:C$17)-SUM(COUNTIF(C$3:C$17,I$1:I22)),0))} -> #N/A

Sheet Résultat
B1: Structure
B2: DES | D2: choix dans liste
B7: Liste des activités de la structure | C7: Prévision budgétaire
B8: =IFERROR(INDEX(Données!A$3:A$17,SUMPRODUCT(SMALL((Données!C$3:C$17=$B$2)*ROW($A$3:$A$17),COUNTIF(Données!$C$3:$C$17,"<>"&$B$2)+ROW(A1)))-2),"") -> Elaborer l’annuaire statistique | C8: =IFERROR(VLOOKUP(B8,Données!A$3:C$17,2,0),"") -> 120
B9: =IFERROR(INDEX(Données!A$3:A$17,SUMPRODUCT(SMALL((Données!C$3:C$17=$B$2)*ROW($A$3:$A$17),COUNTIF(Données!$C$3:$C$17,"<>"&$B$2)+ROW(A2)))-2),"") -> Organiser les cadres de concertation | C9: =IFERROR(VLOOKUP(B9,Données!A$3:C$17,2,0),"") -> 50
B10: =IFERROR(INDEX(Données!A$3:A$17,SUMPRODUCT(SMALL((Données!C$3:C$17=$B$2)*ROW($A$3:$A$17),COUNTIF(Données!$C$3:$C$17,"<>"&$B$2)+ROW(A3)))-2),"") | C10: =IFERROR(VLOOKUP(B10,Données!A$3:C$17,2,0),"")
B11: =IFERROR(INDEX(Données!A$3:A$17,SUMPRODUCT(SMALL((Données!C$3:C$17=$B$2)*ROW($A$3:$A$17),COUNTIF(Données!$C$3:$C$17,"<>"&$B$2)+ROW(A4)))-2),"") | C11: =IFERROR(VLOOKUP(B11,Données!A$3:C$17,2,0),"")
B12: =IFERROR(INDEX(Données!A$3:A$17,SUMPRODUCT(SMALL((Données!C$3:C$17=$B$2)*ROW($A$3:$A$17),COUNTIF(Données!$C$3:$C$17,"<>"&$B$2)+ROW(A5)))-2),"") | C12: =IFERROR(VLOOKUP(B12,Données!A$3:C$17,2,0),"")
B13: =IFERROR(INDEX(Données!A$3:A$17,SUMPRODUCT(SMALL((Données!C$3:C$17=$B$2)*ROW($A$3:$A$17),COUNTIF(Données!$C$3:$C$17,"<>"&$B$2)+ROW(A6)))-2),"") | C13: =IFERROR(VLOOKUP(B13,Données!A$3:C$17,2,0),"")
B14: =IFERROR(INDEX(Données!A$3:A$17,SUMPRODUCT(SMALL((Données!C$3:C$17=$B$2)*ROW($A$3:$A$17),COUNTIF(Données!$C$3:$C$17,"<>"&$B$2)+ROW(A7)))-2),"") | C14: =IFERROR(VLOOKUP(B14,Données!A$3:C$17,2,0),"")
B15: =IFERROR(INDEX(Données!A$3:A$17,SUMPRODUCT(SMALL((Données!C$3:C$17=$B$2)*ROW($A$3:$A$17),COUNTIF(Données!$C$3:$C$17,"<>"&$B$2)+ROW(A8)))-2),"") | C15: =IFERROR(VLOOKUP(B15,Données!A$3:C$17,2,0),"")
B16: =IFERROR(INDEX(Données!A$3:A$17,SUMPRODUCT(SMALL((Données!C$3:C$17=$B$2)*ROW($A$3:$A$17),COUNTIF(Données!$C$3:$C$17,"<>"&$B$2)+ROW(A9)))-2),"") | C16: =IFERROR(VLOOKUP(B16,Données!A$3:C$17,2,0),"")
B17: =IFERROR(INDEX(Données!A$3:A$17,SUMPRODUCT(SMALL((Données!C$3:C$17=$B$2)*ROW($A$3:$A$17),COUNTIF(Données!$C$3:$C$17,"<>"&$B$2)+ROW(A10)))-2),"") | C17: =IFERROR(VLOOKUP(B17,Données!A$3:C$17,2,0),"")
B18: =IFERROR(INDEX(Données!A$3:A$17,SUMPRODUCT(SMALL((Données!C$3:C$17=$B$2)*ROW($A$3:$A$17),COUNTIF(Données!$C$3:$C$17,"<>"&$B$2)+ROW(A11)))-2),"") | C18: =IFERROR(VLOOKUP(B18,Données!A$3:C$17,2,0),"")
B19: =IFERROR(INDEX(Données!A$3:A$17,SUMPRODUCT(SMALL((Données!C$3:C$17=$B$2)*ROW($A$3:$A$17),COUNTIF(Données!$C$3:$C$17,"<>"&$B$2)+ROW(A12)))-2),"") | C19: =IFERROR(VLOOKUP(B19,Données!A$3:C$17,2,0),"")
... B23: =IFERROR(INDEX(Données!A$3:A$17,SUMPRODUCT(SMALL((Données!C$3:C$17=$B$2)*ROW($A$3:$A$17),COUNTIF(Données!$C$3:$C$17,"<>"&$B$2)+ROW(A16)))-2),"") | C23: =IFERROR(VLOOKUP(B23,Données!A$3:C$17,2,0),"")
B24: Total | C24: =SUM(C8:C23) -> 170
