Workbook
Name bdjp: OFFSET(JP!$A$2:$S$2,,,ROWS(semaine))
Name bdmp: OFFSET(MP!$A$2:$L$2,,,COUNTIF(semaine,MP!$P$1))
Name liste1: OFFSET(JP!$AA$2,,,COUNTIF(JP!$AA:$AA,"><"))
Name listemploca: OFFSET(MP!$AA$2,,,COUNTIF(MP!$AA:$AA,"><"))
Name mploca: OFFSET(MP!$L$2,,,COUNTIF(MP!$L:$L,"><")-1)
Name semaine: OFFSET(JP!$R$2,,,COUNTA(JP!$A:$A)-1)

Sheet JP
A1: Type | B1: Genre | C1: Espèce | D1: Variété | E1: Cont | F1: Type | G1: PV | H1: Période | I1: Con/Per | J1: C/P/Type | K1: Cont. Plants | L1: Qté | M1: PA | N1: Four | O1: Budget | P1: PV2 | Q1: CA | R1: S MP | S1: Loca
A2: Graminées | B2: Acorus | D2: Ogon | E2: C2 | F2: 124 | G2: 0.5 | H2: AUT | I2: AUT C2 | J2: AUT C2 | K2: ALV40 | L2: 80 | M2: 0.82 | N2: VOL | O2: 65.6 | Q2: 0 | R2: S44 | S2: SD11 | AA2: {=OFFSET(JP!R$1,MATCH(0,COUNTIF(AA$1:AA1,semaine),0),)} -> S44
A3: Graminées | B3: Carex | D3: Buchananii | E3: C2 | H3: AUT | I3: AUT C2 | J3: AUT C2 | K3: ALV40 | L3: 80 | M3: 0.53 | N3: VOL | O3: 42.4 | Q3: 0 | R3: S45 | S3: J4 | AA3: {=OFFSET(JP!R$1,MATCH(0,COUNTIF(AA$1:AA2,semaine),0),)} -> S45
A4: Graminées | B4: Carex | D4: comans Frosted curls | E4: C2 | H4: AUT | I4: AUT C2 | J4: AUT C2 | K4: ALV40 | L4: 40 | M4: 0.81 | N4: VOL | O4: 32.4 | Q4: 0 | R4: S44 | S4: J4 | AA4: {=OFFSET(JP!R$1,MATCH(0,COUNTIF(AA$1:AA3,semaine),0),)} -> S46
A5: Graminées | B5: Carex | D5: Ever gold | E5: C2 | H5: AUT | I5: AUT C2 | J5: AUT C2 | K5: ALV40 | L5: 80 | M5: 0.85 | N5: VOL | O5: 68 | Q5: 0 | R5: S46 | S5: J5 | AA5: {=OFFSET(JP!R$1,MATCH(0,COUNTIF(AA$1:AA4,semaine),0),)} -> 0
A6: Graminées | B6: Carex | D6: Evercolor Everillo | E6: C2 | H6: AUT | I6: AUT C2 | J6: AUT C2 | K6: P12 | L6: 60 | M6: 1.8 | N6: 3C | O6: 108 | Q6: 0 | R6: S44 | S6: J6 | AA6: {=OFFSET(JP!R$1,MATCH(0,COUNTIF(AA$1:AA5,semaine),0),)} -> #N/A
A7: Graminées | B7: Carex | D7: Evercolor Evesheen | E7: C2 | H7: AUT | I7: AUT C2 | J7: AUT C2 | K7: P12 | L7: 60 | M7: 1.8 | N7: 3C | O7: 108 | Q7: 0 | AA7: {=OFFSET(JP!R$1,MATCH(0,COUNTIF(AA$1:AA6,semaine),0),)} -> #N/A
A8: Graminées | B8: Carex | D8: Ice dance | E8: C2 | H8: AUT | I8: AUT C2 | J8: AUT C2 | K8: ALV40 | L8: 80 | M8: 0.85 | N8: VOL | O8: 68 | Q8: 0 | R8: S44 | S8: J4 | AA8: {=OFFSET(JP!R$1,MATCH(0,COUNTIF(AA$1:AA7,semaine),0),)} -> #N/A
AA9: {=OFFSET(JP!R$1,MATCH(0,COUNTIF(AA$1:AA8,semaine),0),)} -> #N/A

Sheet MP
A1: Type | B1: Genre | C1: Espèce | D1: Variété | E1: Cont | F1: Type | G1: Période | H1: Cont. Plants | I1: Qté | J1: Four | K1: S MP | L1: Loca | O1: choix semaine | P1: S44
A2: {=IFERROR(INDEX(bdjp,SMALL(IF(semaine=$P$1,ROW(semaine)-1,""),ROW(A1)),COLUMN(A:A)),"")} -> Graminées | B2: {=IFERROR(INDEX(bdjp,SMALL(IF(semaine=$P$1,ROW(semaine)-1,""),ROW(B1)),COLUMN(B:B)),"")} -> Acorus | C2: {=IFERROR(INDEX(bdjp,SMALL(IF(semaine=$P$1,ROW(semaine)-1,""),ROW(C1)),COLUMN(C:C)),"")} -> 0 | D2: {=IFERROR(INDEX(bdjp,SMALL(IF(semaine=$P$1,ROW(semaine)-1,""),ROW(D1)),COLUMN(D:D)),"")} -> Ogon | E2: {=IFERROR(INDEX(bdjp,SMALL(IF(semaine=$P$1,ROW(semaine)-1,""),ROW(E1)),COLUMN(E:E)),"")} -> C2 | F2: {=IFERROR(INDEX(bdjp,SMALL(IF(semaine=$P$1,ROW(semaine)-1,""),ROW(F1)),COLUMN(F:F)),"")} -> 124 | G2: {=IFERROR(INDEX(bdjp,SMALL(IF(semaine=$P$1,ROW(semaine)-1,""),ROW(G1)),COLUMN(H:H)),"")} -> AUT | H2: {=IFERROR(INDEX(bdjp,SMALL(IF(semaine=$P$1,ROW(semaine)-1,""),ROW(H1)),COLUMN(K:K)),"")} -> ALV40 | I2: {=IFERROR(INDEX(bdjp,SMALL(IF(semaine=$P$1,ROW(semaine)-1,""),ROW(I1)),COLUMN(L:L)),"")} -> 80 | J2: {=IFERROR(INDEX(bdjp,SMALL(IF(semaine=$P$1,ROW(semaine)-1,""),ROW(J1)),COLUMN(N:N)),"")} -> VOL | K2: {=IFERROR(INDEX(bdjp,SMALL(IF(semaine=$P$1,ROW(semaine)-1,""),ROW(K1)),COLUMN(R:R)),"")} -> S44 | L2: {=IFERROR(INDEX(bdjp,SMALL(IF(semaine=$P$1,ROW(semaine)-1,""),ROW(L1)),COLUMN(S:S)),"")} -> SD11 | AA2: {=OFFSET(L$1,MATCH(0,COUNTIF(AA$1:AA1,mploca),0),)} -> SD11
A3: {=IFERROR(INDEX(bdjp,SMALL(IF(semaine=$P$1,ROW(semaine)-1,""),ROW(A2)),COLUMN(A:A)),"")} -> Graminées | B3: {=IFERROR(INDEX(bdjp,SMALL(IF(semaine=$P$1,ROW(semaine)-1,""),ROW(B2)),COLUMN(B:B)),"")} -> Carex | C3: {=IFERROR(INDEX(bdjp,SMALL(IF(semaine=$P$1,ROW(semaine)-1,""),ROW(C2)),COLUMN(C:C)),"")} -> 0 | D3: {=IFERROR(INDEX(bdjp,SMALL(IF(semaine=$P$1,ROW(semaine)-1,""),ROW(D2)),COLUMN(D:D)),"")} -> comans Frosted curls | E3: {=IFERROR(INDEX(bdjp,SMALL(IF(semaine=$P$1,ROW(semaine)-1,""),ROW(E2)),COLUMN(E:E)),"")} -> C2 | F3: {=IFERROR(INDEX(bdjp,SMALL(IF(semaine=$P$1,ROW(semaine)-1,""),ROW(F2)),COLUMN(F:F)),"")} -> 0 | G3: {=IFERROR(INDEX(bdjp,SMALL(IF(semaine=$P$1,ROW(semaine)-1,""),ROW(G2)),COLUMN(H:H)),"")} -> AUT | H3: {=IFERROR(INDEX(bdjp,SMALL(IF(semaine=$P$1,ROW(semaine)-1,""),ROW(H2)),COLUMN(K:K)),"")} -> ALV40 | I3: {=IFERROR(INDEX(bdjp,SMALL(IF(semaine=$P$1,ROW(semaine)-1,""),ROW(I2)),COLUMN(L:L)),"")} -> 40 | J3: {=IFERROR(INDEX(bdjp,SMALL(IF(semaine=$P$1,ROW(semaine)-1,""),ROW(J2)),COLUMN(N:N)),"")} -> VOL | K3: {=IFERROR(INDEX(bdjp,SMALL(IF(semaine=$P$1,ROW(semaine)-1,""),ROW(K2)),COLUMN(R:R)),"")} -> S44 | L3: {=IFERROR(INDEX(bdjp,SMALL(IF(semaine=$P$1,ROW(semaine)-1,""),ROW(L2)),COLUMN(S:S)),"")} -> J4 | AA3: {=OFFSET(L$1,MATCH(0,COUNTIF(AA$1:AA2,mploca),0),)} -> J4
A4: {=IFERROR(INDEX(bdjp,SMALL(IF(semaine=$P$1,ROW(semaine)-1,""),ROW(A3)),COLUMN(A:A)),"")} -> Graminées | B4: {=IFERROR(INDEX(bdjp,SMALL(IF(semaine=$P$1,ROW(semaine)-1,""),ROW(B3)),COLUMN(B:B)),"")} -> Carex | C4: {=IFERROR(INDEX(bdjp,SMALL(IF(semaine=$P$1,ROW(semaine)-1,""),ROW(C3)),COLUMN(C:C)),"")} -> 0 | D4: {=IFERROR(INDEX(bdjp,SMALL(IF(semaine=$P$1,ROW(semaine)-1,""),ROW(D3)),COLUMN(D:D)),"")} -> Evercolor Everillo | E4: {=IFERROR(INDEX(bdjp,SMALL(IF(semaine=$P$1,ROW(semaine)-1,""),ROW(E3)),COLUMN(E:E)),"")} -> C2 | F4: {=IFERROR(INDEX(bdjp,SMALL(IF(semaine=$P$1,ROW(semaine)-1,""),ROW(F3)),COLUMN(F:F)),"")} -> 0 | G4: {=IFERROR(INDEX(bdjp,SMALL(IF(semaine=$P$1,ROW(semaine)-1,""),ROW(G3)),COLUMN(H:H)),"")} -> AUT | H4: {=IFERROR(INDEX(bdjp,SMALL(IF(semaine=$P$1,ROW(semaine)-1,""),ROW(H3)),COLUMN(K:K)),"")} -> P12 | I4: {=IFERROR(INDEX(bdjp,SMALL(IF(semaine=$P$1,ROW(semaine)-1,""),ROW(I3)),COLUMN(L:L)),"")} -> 60 | J4: {=IFERROR(INDEX(bdjp,SMALL(IF(semaine=$P$1,ROW(semaine)-1,""),ROW(J3)),COLUMN(N:N)),"")} -> 3C | K4: {=IFERROR(INDEX(bdjp,SMALL(IF(semaine=$P$1,ROW(semaine)-1,""),ROW(K3)),COLUMN(R:R)),"")} -> S44 | L4: {=IFERROR(INDEX(bdjp,SMALL(IF(semaine=$P$1,ROW(semaine)-1,""),ROW(L3)),COLUMN(S:S)),"")} -> J6 | AA4: {=OFFSET(L$1,MATCH(0,COUNTIF(AA$1:AA3,mploca),0),)} -> J6
A5: {=IFERROR(INDEX(bdjp,SMALL(IF(semaine=$P$1,ROW(semaine)-1,""),ROW(A4)),COLUMN(A:A)),"")} -> Graminées | B5: {=IFERROR(INDEX(bdjp,SMALL(IF(semaine=$P$1,ROW(semaine)-1,""),ROW(B4)),COLUMN(B:B)),"")} -> Carex | C5: {=IFERROR(INDEX(bdjp,SMALL(IF(semaine=$P$1,ROW(semaine)-1,""),ROW(C4)),COLUMN(C:C)),"")} -> 0 | D5: {=IFERROR(INDEX(bdjp,SMALL(IF(semaine=$P$1,ROW(semaine)-1,""),ROW(D4)),COLUMN(D:D)),"")} -> Ice dance | E5: {=IFERROR(INDEX(bdjp,SMALL(IF(semaine=$P$1,ROW(semaine)-1,""),ROW(E4)),COLUMN(E:E)),"")} -> C2 | F5: {=IFERROR(INDEX(bdjp,SMALL(IF(semaine=$P$1,ROW(semaine)-1,""),ROW(F4)),COLUMN(F:F)),"")} -> 0 | G5: {=IFERROR(INDEX(bdjp,SMALL(IF(semaine=$P$1,ROW(semaine)-1,""),ROW(G4)),COLUMN(H:H)),"")} -> AUT | H5: {=IFERROR(INDEX(bdjp,SMALL(IF(semaine=$P$1,ROW(semaine)-1,""),ROW(H4)),COLUMN(K:K)),"")} -> ALV40 | I5: {=IFERROR(INDEX(bdjp,SMALL(IF(semaine=$P$1,ROW(semaine)-1,""),ROW(I4)),COLUMN(L:L)),"")} -> 80 | J5: {=IFERROR(INDEX(bdjp,SMALL(IF(semaine=$P$1,ROW(semaine)-1,""),ROW(J4)),COLUMN(N:N)),"")} -> VOL | K5: {=IFERROR(INDEX(bdjp,SMALL(IF(semaine=$P$1,ROW(semaine)-1,""),ROW(K4)),COLUMN(R:R)),"")} -> S44 | L5: {=IFERROR(INDEX(bdjp,SMALL(IF(semaine=$P$1,ROW(semaine)-1,""),ROW(L4)),COLUMN(S:S)),"")} -> J4 | AA5: {=OFFSET(L$1,MATCH(0,COUNTIF(AA$1:AA4,mploca),0),)} -> #N/A
A6: {=IFERROR(INDEX(bdjp,SMALL(IF(semaine=$P$1,ROW(semaine)-1,""),ROW(A5)),COLUMN(A:A)),"")} | B6: {=IFERROR(INDEX(bdjp,SMALL(IF(semaine=$P$1,ROW(semaine)-1,""),ROW(B5)),COLUMN(B:B)),"")} | C6: {=IFERROR(INDEX(bdjp,SMALL(IF(semaine=$P$1,ROW(semaine)-1,""),ROW(C5)),COLUMN(C:C)),"")} | D6: {=IFERROR(INDEX(bdjp,SMALL(IF(semaine=$P$1,ROW(semaine)-1,""),ROW(D5)),COLUMN(D:D)),"")} | E6: {=IFERROR(INDEX(bdjp,SMALL(IF(semaine=$P$1,ROW(semaine)-1,""),ROW(E5)),COLUMN(E:E)),"")} | F6: {=IFERROR(INDEX(bdjp,SMALL(IF(semaine=$P$1,ROW(semaine)-1,""),ROW(F5)),COLUMN(F:F)),"")} | G6: {=IFERROR(INDEX(bdjp,SMALL(IF(semaine=$P$1,ROW(semaine)-1,""),ROW(G5)),COLUMN(H:H)),"")} | H6: {=IFERROR(INDEX(bdjp,SMALL(IF(semaine=$P$1,ROW(semaine)-1,""),ROW(H5)),COLUMN(K:K)),"")} | I6: {=IFERROR(INDEX(bdjp,SMALL(IF(semaine=$P$1,ROW(semaine)-1,""),ROW(I5)),COLUMN(L:L)),"")} | J6: {=IFERROR(INDEX(bdjp,SMALL(IF(semaine=$P$1,ROW(semaine)-1,""),ROW(J5)),COLUMN(N:N)),"")} | K6: {=IFERROR(INDEX(bdjp,SMALL(IF(semaine=$P$1,ROW(semaine)-1,""),ROW(K5)),COLUMN(R:R)),"")} | L6: {=IFERROR(INDEX(bdjp,SMALL(IF(semaine=$P$1,ROW(semaine)-1,""),ROW(L5)),COLUMN(S:S)),"")} | AA6: {=OFFSET(L$1,MATCH(0,COUNTIF(AA$1:AA5,mploca),0),)} -> #N/A
A7: {=IFERROR(INDEX(bdjp,SMALL(IF(semaine=$P$1,ROW(semaine)-1,""),ROW(A6)),COLUMN(A:A)),"")} | B7: {=IFERROR(INDEX(bdjp,SMALL(IF(semaine=$P$1,ROW(semaine)-1,""),ROW(B6)),COLUMN(B:B)),"")} | C7: {=IFERROR(INDEX(bdjp,SMALL(IF(semaine=$P$1,ROW(semaine)-1,""),ROW(C6)),COLUMN(C:C)),"")} | D7: {=IFERROR(INDEX(bdjp,SMALL(IF(semaine=$P$1,ROW(semaine)-1,""),ROW(D6)),COLUMN(D:D)),"")} | E7: {=IFERROR(INDEX(bdjp,SMALL(IF(semaine=$P$1,ROW(semaine)-1,""),ROW(E6)),COLUMN(E:E)),"")} | F7: {=IFERROR(INDEX(bdjp,SMALL(IF(semaine=$P$1,ROW(semaine)-1,""),ROW(F6)),COLUMN(F:F)),"")} | G7: {=IFERROR(INDEX(bdjp,SMALL(IF(semaine=$P$1,ROW(semaine)-1,""),ROW(G6)),COLUMN(H:H)),"")} | H7: {=IFERROR(INDEX(bdjp,SMALL(IF(semaine=$P$1,ROW(semaine)-1,""),ROW(H6)),COLUMN(K:K)),"")} | I7: {=IFERROR(INDEX(bdjp,SMALL(IF(semaine=$P$1,ROW(semaine)-1,""),ROW(I6)),COLUMN(L:L)),"")} | J7: {=IFERROR(INDEX(bdjp,SMALL(IF(semaine=$P$1,ROW(semaine)-1,""),ROW(J6)),COLUMN(N:N)),"")} | K7: {=IFERROR(INDEX(bdjp,SMALL(IF(semaine=$P$1,ROW(semaine)-1,""),ROW(K6)),COLUMN(R:R)),"")} | L7: {=IFERROR(INDEX(bdjp,SMALL(IF(semaine=$P$1,ROW(semaine)-1,""),ROW(L6)),COLUMN(S:S)),"")} | AA7: {=OFFSET(L$1,MATCH(0,COUNTIF(AA$1:AA6,mploca),0),)} -> #N/A
AA8: {=OFFSET(L$1,MATCH(0,COUNTIF(AA$1:AA7,mploca),0),)} -> #N/A
AA9: {=OFFSET(L$1,MATCH(0,COUNTIF(AA$1:AA8,mploca),0),)} -> #N/A
AA10: {=OFFSET(L$1,MATCH(0,COUNTIF(AA$1:AA9,mploca),0),)} -> #N/A
AA11: {=OFFSET(L$1,MATCH(0,COUNTIF(AA$1:AA10,mploca),0),)} -> #N/A

Sheet LOC
A1: Type | B1: Genre | C1: Espèce | D1: Variété | E1: Cont | F1: Type | G1: Période | H1: Cont. Plants | I1: Qté | J1: Four | K1: S MP | L1: Loca | M1: choix de loc | N1: J6
A2: {=IFERROR(INDEX(bdmp,SMALL(IF(mploca=$N$1,ROW(mploca)-1,""),ROW(A1)),COLUMN(A:A)),"")} -> Graminées | B2: {=IFERROR(INDEX(bdmp,SMALL(IF(mploca=$N$1,ROW(mploca)-1,""),ROW(B1)),COLUMN(B:B)),"")} -> Carex | C2: {=IFERROR(INDEX(bdmp,SMALL(IF(mploca=$N$1,ROW(mploca)-1,""),ROW(C1)),COLUMN(C:C)),"")} -> 0 | D2: {=IFERROR(INDEX(bdmp,SMALL(IF(mploca=$N$1,ROW(mploca)-1,""),ROW(D1)),COLUMN(D:D)),"")} -> Evercolor Everillo | E2: {=IFERROR(INDEX(bdmp,SMALL(IF(mploca=$N$1,ROW(mploca)-1,""),ROW(E1)),COLUMN(E:E)),"")} -> C2 | F2: {=IFERROR(INDEX(bdmp,SMALL(IF(mploca=$N$1,ROW(mploca)-1,""),ROW(F1)),COLUMN(F:F)),"")} -> 0 | G2: {=IFERROR(INDEX(bdmp,SMALL(IF(mploca=$N$1,ROW(mploca)-1,""),ROW(G1)),COLUMN(G:G)),"")} -> AUT | H2: {=IFERROR(INDEX(bdmp,SMALL(IF(mploca=$N$1,ROW(mploca)-1,""),ROW(H1)),COLUMN(H:H)),"")} -> P12 | I2: {=IFERROR(INDEX(bdmp,SMALL(IF(mploca=$N$1,ROW(mploca)-1,""),ROW(I1)),COLUMN(I:I)),"")} -> 60 | J2: {=IFERROR(INDEX(bdmp,SMALL(IF(mploca=$N$1,ROW(mploca)-1,""),ROW(J1)),COLUMN(J:J)),"")} -> 3C | K2: {=IFERROR(INDEX(bdmp,SMALL(IF(mploca=$N$1,ROW(mploca)-1,""),ROW(K1)),COLUMN(K:K)),"")} -> S44 | L2: {=IFERROR(INDEX(bdmp,SMALL(IF(mploca=$N$1,ROW(mploca)-1,""),ROW(L1)),COLUMN(L:L)),"")} -> J6
A3: {=IFERROR(INDEX(bdmp,SMALL(IF(mploca=$N$1,ROW(mploca)-1,""),ROW(A2)),COLUMN(A:A)),"")} | B3: {=IFERROR(INDEX(bdmp,SMALL(IF(mploca=$N$1,ROW(mploca)-1,""),ROW(B2)),COLUMN(B:B)),"")} | C3: {=IFERROR(INDEX(bdmp,SMALL(IF(mploca=$N$1,ROW(mploca)-1,""),ROW(C2)),COLUMN(C:C)),"")} | D3: {=IFERROR(INDEX(bdmp,SMALL(IF(mploca=$N$1,ROW(mploca)-1,""),ROW(D2)),COLUMN(D:D)),"")} | E3: {=IFERROR(INDEX(bdmp,SMALL(IF(mploca=$N$1,ROW(mploca)-1,""),ROW(E2)),COLUMN(E:E)),"")} | F3: {=IFERROR(INDEX(bdmp,SMALL(IF(mploca=$N$1,ROW(mploca)-1,""),ROW(F2)),COLUMN(F:F)),"")} | G3: {=IFERROR(INDEX(bdmp,SMALL(IF(mploca=$N$1,ROW(mploca)-1,""),ROW(G2)),COLUMN(G:G)),"")} | H3: {=IFERROR(INDEX(bdmp,SMALL(IF(mploca=$N$1,ROW(mploca)-1,""),ROW(H2)),COLUMN(H:H)),"")} | I3: {=IFERROR(INDEX(bdmp,SMALL(IF(mploca=$N$1,ROW(mploca)-1,""),ROW(I2)),COLUMN(I:I)),"")} | J3: {=IFERROR(INDEX(bdmp,SMALL(IF(mploca=$N$1,ROW(mploca)-1,""),ROW(J2)),COLUMN(J:J)),"")} | K3: {=IFERROR(INDEX(bdmp,SMALL(IF(mploca=$N$1,ROW(mploca)-1,""),ROW(K2)),COLUMN(K:K)),"")} | L3: {=IFERROR(INDEX(bdmp,SMALL(IF(mploca=$N$1,ROW(mploca)-1,""),ROW(L2)),COLUMN(L:L)),"")}
A4: {=IFERROR(INDEX(bdmp,SMALL(IF(mploca=$N$1,ROW(mploca)-1,""),ROW(A3)),COLUMN(A:A)),"")} | B4: {=IFERROR(INDEX(bdmp,SMALL(IF(mploca=$N$1,ROW(mploca)-1,""),ROW(B3)),COLUMN(B:B)),"")} | C4: {=IFERROR(INDEX(bdmp,SMALL(IF(mploca=$N$1,ROW(mploca)-1,""),ROW(C3)),COLUMN(C:C)),"")} | D4: {=IFERROR(INDEX(bdmp,SMALL(IF(mploca=$N$1,ROW(mploca)-1,""),ROW(D3)),COLUMN(D:D)),"")} | E4: {=IFERROR(INDEX(bdmp,SMALL(IF(mploca=$N$1,ROW(mploca)-1,""),ROW(E3)),COLUMN(E:E)),"")} | F4: {=IFERROR(INDEX(bdmp,SMALL(IF(mploca=$N$1,ROW(mploca)-1,""),ROW(F3)),COLUMN(F:F)),"")} | G4: {=IFERROR(INDEX(bdmp,SMALL(IF(mploca=$N$1,ROW(mploca)-1,""),ROW(G3)),COLUMN(G:G)),"")} | H4: {=IFERROR(INDEX(bdmp,SMALL(IF(mploca=$N$1,ROW(mploca)-1,""),ROW(H3)),COLUMN(H:H)),"")} | I4: {=IFERROR(INDEX(bdmp,SMALL(IF(mploca=$N$1,ROW(mploca)-1,""),ROW(I3)),COLUMN(I:I)),"")} | J4: {=IFERROR(INDEX(bdmp,SMALL(IF(mploca=$N$1,ROW(mploca)-1,""),ROW(J3)),COLUMN(J:J)),"")} | K4: {=IFERROR(INDEX(bdmp,SMALL(IF(mploca=$N$1,ROW(mploca)-1,""),ROW(K3)),COLUMN(K:K)),"")} | L4: {=IFERROR(INDEX(bdmp,SMALL(IF(mploca=$N$1,ROW(mploca)-1,""),ROW(L3)),COLUMN(L:L)),"")}
A5: {=IFERROR(INDEX(bdmp,SMALL(IF(mploca=$N$1,ROW(mploca)-1,""),ROW(A4)),COLUMN(A:A)),"")} | B5: {=IFERROR(INDEX(bdmp,SMALL(IF(mploca=$N$1,ROW(mploca)-1,""),ROW(B4)),COLUMN(B:B)),"")} | C5: {=IFERROR(INDEX(bdmp,SMALL(IF(mploca=$N$1,ROW(mploca)-1,""),ROW(C4)),COLUMN(C:C)),"")} | D5: {=IFERROR(INDEX(bdmp,SMALL(IF(mploca=$N$1,ROW(mploca)-1,""),ROW(D4)),COLUMN(D:D)),"")} | E5: {=IFERROR(INDEX(bdmp,SMALL(IF(mploca=$N$1,ROW(mploca)-1,""),ROW(E4)),COLUMN(E:E)),"")} | F5: {=IFERROR(INDEX(bdmp,SMALL(IF(mploca=$N$1,ROW(mploca)-1,""),ROW(F4)),COLUMN(F:F)),"")} | G5: {=IFERROR(INDEX(bdmp,SMALL(IF(mploca=$N$1,ROW(mploca)-1,""),ROW(G4)),COLUMN(G:G)),"")} | H5: {=IFERROR(INDEX(bdmp,SMALL(IF(mploca=$N$1,ROW(mploca)-1,""),ROW(H4)),COLUMN(H:H)),"")} | I5: {=IFERROR(INDEX(bdmp,SMALL(IF(mploca=$N$1,ROW(mploca)-1,""),ROW(I4)),COLUMN(I:I)),"")} | J5: {=IFERROR(INDEX(bdmp,SMALL(IF(mploca=$N$1,ROW(mploca)-1,""),ROW(J4)),COLUMN(J:J)),"")} | K5: {=IFERROR(INDEX(bdmp,SMALL(IF(mploca=$N$1,ROW(mploca)-1,""),ROW(K4)),COLUMN(K:K)),"")} | L5: {=IFERROR(INDEX(bdmp,SMALL(IF(mploca=$N$1,ROW(mploca)-1,""),ROW(L4)),COLUMN(L:L)),"")}
A6: {=IFERROR(INDEX(bdmp,SMALL(IF(mploca=$N$1,ROW(mploca)-1,""),ROW(A5)),COLUMN(A:A)),"")} | B6: {=IFERROR(INDEX(bdmp,SMALL(IF(mploca=$N$1,ROW(mploca)-1,""),ROW(B5)),COLUMN(B:B)),"")} | C6: {=IFERROR(INDEX(bdmp,SMALL(IF(mploca=$N$1,ROW(mploca)-1,""),ROW(C5)),COLUMN(C:C)),"")} | D6: {=IFERROR(INDEX(bdmp,SMALL(IF(mploca=$N$1,ROW(mploca)-1,""),ROW(D5)),COLUMN(D:D)),"")} | E6: {=IFERROR(INDEX(bdmp,SMALL(IF(mploca=$N$1,ROW(mploca)-1,""),ROW(E5)),COLUMN(E:E)),"")} | F6: {=IFERROR(INDEX(bdmp,SMALL(IF(mploca=$N$1,ROW(mploca)-1,""),ROW(F5)),COLUMN(F:F)),"")} | G6: {=IFERROR(INDEX(bdmp,SMALL(IF(mploca=$N$1,ROW(mploca)-1,""),ROW(G5)),COLUMN(G:G)),"")} | H6: {=IFERROR(INDEX(bdmp,SMALL(IF(mploca=$N$1,ROW(mploca)-1,""),ROW(H5)),COLUMN(H:H)),"")} | I6: {=IFERROR(INDEX(bdmp,SMALL(IF(mploca=$N$1,ROW(mploca)-1,""),ROW(I5)),COLUMN(I:I)),"")} | J6: {=IFERROR(INDEX(bdmp,SMALL(IF(mploca=$N$1,ROW(mploca)-1,""),ROW(J5)),COLUMN(J:J)),"")} | K6: {=IFERROR(INDEX(bdmp,SMALL(IF(mploca=$N$1,ROW(mploca)-1,""),ROW(K5)),COLUMN(K:K)),"")} | L6: {=IFERROR(INDEX(bdmp,SMALL(IF(mploca=$N$1,ROW(mploca)-1,""),ROW(L5)),COLUMN(L:L)),"")}
A7: {=IFERROR(INDEX(bdmp,SMALL(IF(mploca=$N$1,ROW(mploca)-1,""),ROW(A6)),COLUMN(A:A)),"")} | B7: {=IFERROR(INDEX(bdmp,SMALL(IF(mploca=$N$1,ROW(mploca)-1,""),ROW(B6)),COLUMN(B:B)),"")} | C7: {=IFERROR(INDEX(bdmp,SMALL(IF(mploca=$N$1,ROW(mploca)-1,""),ROW(C6)),COLUMN(C:C)),"")} | D7: {=IFERROR(INDEX(bdmp,SMALL(IF(mploca=$N$1,ROW(mploca)-1,""),ROW(D6)),COLUMN(D:D)),"")} | E7: {=IFERROR(INDEX(bdmp,SMALL(IF(mploca=$N$1,ROW(mploca)-1,""),ROW(E6)),COLUMN(E:E)),"")} | F7: {=IFERROR(INDEX(bdmp,SMALL(IF(mploca=$N$1,ROW(mploca)-1,""),ROW(F6)),COLUMN(F:F)),"")} | G7: {=IFERROR(INDEX(bdmp,SMALL(IF(mploca=$N$1,ROW(mploca)-1,""),ROW(G6)),COLUMN(G:G)),"")} | H7: {=IFERROR(INDEX(bdmp,SMALL(IF(mploca=$N$1,ROW(mploca)-1,""),ROW(H6)),COLUMN(H:H)),"")} | I7: {=IFERROR(INDEX(bdmp,SMALL(IF(mploca=$N$1,ROW(mploca)-1,""),ROW(I6)),COLUMN(I:I)),"")} | J7: {=IFERROR(INDEX(bdmp,SMALL(IF(mploca=$N$1,ROW(mploca)-1,""),ROW(J6)),COLUMN(J:J)),"")} | K7: {=IFERROR(INDEX(bdmp,SMALL(IF(mploca=$N$1,ROW(mploca)-1,""),ROW(K6)),COLUMN(K:K)),"")} | L7: {=IFERROR(INDEX(bdmp,SMALL(IF(mploca=$N$1,ROW(mploca)-1,""),ROW(L6)),COLUMN(L:L)),"")}
