Workbook
Name tablo1: OFFSET('1'!$L$2,,,COUNTIF('1'!$L:$L,"><"))
Name tablo2: OFFSET('2'!$L$2,,,COUNTIF('2'!$L:$L,"><")-1)

Sheet 1
A1: Nom | B1: REF | C1: Site | D1: Zone | E1: Prix | F1: Large | G1: Type | H1: DOM | I1: Numéreo
A2: ABCD1 | B2: 1 | C2: BB | D2: 0 | E2: ZEH | F2: 5402 | G2: THJ | H2: M | I2: 8417 | K2: matricielle | L2: {=INDEX(A:A,SMALL(IF((Tableau3[Site]='Recherche '!C$3)*(Tableau3[[Zone ]]='Recherche '!D$3)*(Tableau3[[Prix ]]='Recherche '!E$3)*(Tableau3[large]='Recherche '!F$3)*(Tableau3[Type]='Recherche '!G$3),ROW(Tableau3[Nom])-1),ROW(A1)))} -> ABCD2
A3: ABCD2 | B3: 2 | C3: BB | D3: 0 | E3: PZ | F3: 56132 | G3: FE | H3: L | I3: 7559 | L3: {=INDEX(A:A,SMALL(IF((Tableau3[Site]='Recherche '!C$3)*(Tableau3[[Zone ]]='Recherche '!D$3)*(Tableau3[[Prix ]]='Recherche '!E$3)*(Tableau3[large]='Recherche '!F$3)*(Tableau3[Type]='Recherche '!G$3),ROW(Tableau3[Nom])-1),ROW(A2)))} -> ABCD4
A4: ABCD3 | B4: 3 | C4: BB | D4: 0 | E4: DHE | F4: 56132 | G4: DA | H4: M | I4: 7612 | L4: {=INDEX(A:A,SMALL(IF((Tableau3[Site]='Recherche '!C$3)*(Tableau3[[Zone ]]='Recherche '!D$3)*(Tableau3[[Prix ]]='Recherche '!E$3)*(Tableau3[large]='Recherche '!F$3)*(Tableau3[Type]='Recherche '!G$3),ROW(Tableau3[Nom])-1),ROW(A3)))} -> ABCD7
A5: ABCD4 | B5: 4 | C5: BB | D5: 0 | E5: TDFG | F5: 56132 | G5: GA | H5: C | I5: 7004 | L5: {=INDEX(A:A,SMALL(IF((Tableau3[Site]='Recherche '!C$3)*(Tableau3[[Zone ]]='Recherche '!D$3)*(Tableau3[[Prix ]]='Recherche '!E$3)*(Tableau3[large]='Recherche '!F$3)*(Tableau3[Type]='Recherche '!G$3),ROW(Tableau3[Nom])-1),ROW(A4)))} -> #NUM!
A6: ABCD5 | B6: 5 | C6: BB | D6: 0 | E6: SDFSD | F6: 56132 | G6: VS | H6: S | I6: 7077 | L6: {=INDEX(A:A,SMALL(IF((Tableau3[Site]='Recherche '!C$3)*(Tableau3[[Zone ]]='Recherche '!D$3)*(Tableau3[[Prix ]]='Recherche '!E$3)*(Tableau3[large]='Recherche '!F$3)*(Tableau3[Type]='Recherche '!G$3),ROW(Tableau3[Nom])-1),ROW(A5)))} -> #NUM!
A7: ABCD6 | B7: 6 | C7: BB | D7: 0 | E7: FAZ | F7: 56132 | G7: HT | H7: S | I7: 8201 | L7: {=INDEX(A:A,SMALL(IF((Tableau3[Site]='Recherche '!C$3)*(Tableau3[[Zone ]]='Recherche '!D$3)*(Tableau3[[Prix ]]='Recherche '!E$3)*(Tableau3[large]='Recherche '!F$3)*(Tableau3[Type]='Recherche '!G$3),ROW(Tableau3[Nom])-1),ROW(A6)))} -> #NUM!
A8: ABCD7 | B8: 7 | C8: BB | D8: 1 | E8: FZF | F8: 56132 | G8: DJ | H8: S | I8: 6018 | L8: {=INDEX(A:A,SMALL(IF((Tableau3[Site]='Recherche '!C$3)*(Tableau3[[Zone ]]='Recherche '!D$3)*(Tableau3[[Prix ]]='Recherche '!E$3)*(Tableau3[large]='Recherche '!F$3)*(Tableau3[Type]='Recherche '!G$3),ROW(Tableau3[Nom])-1),ROW(A7)))} -> #NUM!
A9: ABCD8 | B9: 8 | C9: BB | D9: 1 | E9: ZGFZ | F9: 56132 | G9: SH | H9: S | I9: 6634 | L9: {=INDEX(A:A,SMALL(IF((Tableau3[Site]='Recherche '!C$3)*(Tableau3[[Zone ]]='Recherche '!D$3)*(Tableau3[[Prix ]]='Recherche '!E$3)*(Tableau3[large]='Recherche '!F$3)*(Tableau3[Type]='Recherche '!G$3),ROW(Tableau3[Nom])-1),ROW(A8)))} -> #NUM!
A10: ABCD9 | B10: 9 | C10: BB | D10: 2 | E10: 0 | F10: 56132 | G10: SH | H10: S | I10: 6034 | L10: {=INDEX(A:A,SMALL(IF((Tableau3[Site]='Recherche '!C$3)*(Tableau3[[Zone ]]='Recherche '!D$3)*(Tableau3[[Prix ]]='Recherche '!E$3)*(Tableau3[large]='Recherche '!F$3)*(Tableau3[Type]='Recherche '!G$3),ROW(Tableau3[Nom])-1),ROW(A9)))} -> #NUM!
A11: ABCD10 | B11: 10 | C11: BB | D11: 2 | E11: 0 | F11: 56132 | G11: TR | H11: S | I11: 6038 | L11: {=INDEX(A:A,SMALL(IF((Tableau3[Site]='Recherche '!C$3)*(Tableau3[[Zone ]]='Recherche '!D$3)*(Tableau3[[Prix ]]='Recherche '!E$3)*(Tableau3[large]='Recherche '!F$3)*(Tableau3[Type]='Recherche '!G$3),ROW(Tableau3[Nom])-1),ROW(A10)))} -> #NUM!
A12: ABCD11 | B12: 11 | C12: BB | D12: 3 | E12: GZ | F12: 56132 | G12: ZH | H12: S | I12: 6039 | L12: {=INDEX(A:A,SMALL(IF((Tableau3[Site]='Recherche '!C$3)*(Tableau3[[Zone ]]='Recherche '!D$3)*(Tableau3[[Prix ]]='Recherche '!E$3)*(Tableau3[large]='Recherche '!F$3)*(Tableau3[Type]='Recherche '!G$3),ROW(Tableau3[Nom])-1),ROW(A11)))} -> #NUM!
A13: ABCD12 | B13: 12 | C13: BB | D13: 3 | E13: 0 | F13: 56132 | G13: SH | H13: S | I13: 6042 | L13: {=INDEX(A:A,SMALL(IF((Tableau3[Site]='Recherche '!C$3)*(Tableau3[[Zone ]]='Recherche '!D$3)*(Tableau3[[Prix ]]='Recherche '!E$3)*(Tableau3[large]='Recherche '!F$3)*(Tableau3[Type]='Recherche '!G$3),ROW(Tableau3[Nom])-1),ROW(A12)))} -> #NUM!
A14: ABCD13 | B14: 13 | C14: BB | D14: 3 | E14: GZ | F14: 56132 | G14: SH | H14: S | I14: 6043 | L14: {=INDEX(A:A,SMALL(IF((Tableau3[Site]='Recherche '!C$3)*(Tableau3[[Zone ]]='Recherche '!D$3)*(Tableau3[[Prix ]]='Recherche '!E$3)*(Tableau3[large]='Recherche '!F$3)*(Tableau3[Type]='Recherche '!G$3),ROW(Tableau3[Nom])-1),ROW(A13)))} -> #NUM!
A15: ABCD14 | B15: 14 | C15: BB | D15: 4 | E15: 0 | F15: 56132 | G15: SH | H15: S | I15: 6044 | L15: {=INDEX(A:A,SMALL(IF((Tableau3[Site]='Recherche '!C$3)*(Tableau3[[Zone ]]='Recherche '!D$3)*(Tableau3[[Prix ]]='Recherche '!E$3)*(Tableau3[large]='Recherche '!F$3)*(Tableau3[Type]='Recherche '!G$3),ROW(Tableau3[Nom])-1),ROW(A14)))} -> #NUM!
A16: ABCD15 | B16: 15 | C16: BB | D16: 4 | E16: GG | F16: 56132 | G16: SYH | H16: S | I16: 6048 | L16: {=INDEX(A:A,SMALL(IF((Tableau3[Site]='Recherche '!C$3)*(Tableau3[[Zone ]]='Recherche '!D$3)*(Tableau3[[Prix ]]='Recherche '!E$3)*(Tableau3[large]='Recherche '!F$3)*(Tableau3[Type]='Recherche '!G$3),ROW(Tableau3[Nom])-1),ROW(A15)))} -> #NUM!
A17: ABCD16 | B17: 16 | C17: BB | D17: 5 | E17: ZGFZ | F17: 65161 | G17: S | H17: S | I17: 6049 | L17: {=INDEX(A:A,SMALL(IF((Tableau3[Site]='Recherche '!C$3)*(Tableau3[[Zone ]]='Recherche '!D$3)*(Tableau3[[Prix ]]='Recherche '!E$3)*(Tableau3[large]='Recherche '!F$3)*(Tableau3[Type]='Recherche '!G$3),ROW(Tableau3[Nom])-1),ROW(A16)))} -> #NUM!
A18: ABCD17 | B18: 17 | C18: BB | D18: 5 | E18: 0 | F18: 65161 | G18: UU | H18: S | I18: 6053 | L18: {=INDEX(A:A,SMALL(IF((Tableau3[Site]='Recherche '!C$3)*(Tableau3[[Zone ]]='Recherche '!D$3)*(Tableau3[[Prix ]]='Recherche '!E$3)*(Tableau3[large]='Recherche '!F$3)*(Tableau3[Type]='Recherche '!G$3),ROW(Tableau3[Nom])-1),ROW(A17)))} -> #NUM!
A19: ABCD18 | B19: 18 | C19: BB | D19: 6 | E19: GZ | F19: 65161 | G19: ERK | H19: S | I19: 6054 | L19: {=INDEX(A:A,SMALL(IF((Tableau3[Site]='Recherche '!C$3)*(Tableau3[[Zone ]]='Recherche '!D$3)*(Tableau3[[Prix ]]='Recherche '!E$3)*(Tableau3[large]='Recherche '!F$3)*(Tableau3[Type]='Recherche '!G$3),ROW(Tableau3[Nom])-1),ROW(A18)))} -> #NUM!
A20: ABCD19 | B20: 19 | C20: BB | D20: 6 | E20: 0 | F20: 65161 | G20: TK | H20: S | I20: 6057 | L20: {=INDEX(A:A,SMALL(IF((Tableau3[Site]='Recherche '!C$3)*(Tableau3[[Zone ]]='Recherche '!D$3)*(Tableau3[[Prix ]]='Recherche '!E$3)*(Tableau3[large]='Recherche '!F$3)*(Tableau3[Type]='Recherche '!G$3),ROW(Tableau3[Nom])-1),ROW(A19)))} -> #NUM!
A21: ABCD20 | B21: 20 | C21: BB | D21: 6 | E21: 0 | F21: 65161 | G21: KT | H21: S | I21: 6058 | L21: {=INDEX(A:A,SMALL(IF((Tableau3[Site]='Recherche '!C$3)*(Tableau3[[Zone ]]='Recherche '!D$3)*(Tableau3[[Prix ]]='Recherche '!E$3)*(Tableau3[large]='Recherche '!F$3)*(Tableau3[Type]='Recherche '!G$3),ROW(Tableau3[Nom])-1),ROW(A20)))} -> #NUM!
A22: ABCD21 | B22: 21 | C22: BB | D22: 7 | E22: 0 | F22: 65161 | G22: TR | H22: S | I22: 6059 | L22: {=INDEX(A:A,SMALL(IF((Tableau3[Site]='Recherche '!C$3)*(Tableau3[[Zone ]]='Recherche '!D$3)*(Tableau3[[Prix ]]='Recherche '!E$3)*(Tableau3[large]='Recherche '!F$3)*(Tableau3[Type]='Recherche '!G$3),ROW(Tableau3[Nom])-1),ROW(A21)))} -> #NUM!
A23: ABCD22 | B23: 22 | C23: BB | D23: 7 | E23: 0 | F23: 65161 | G23: TR | H23: S | I23: 6063 | L23: {=INDEX(A:A,SMALL(IF((Tableau3[Site]='Recherche '!C$3)*(Tableau3[[Zone ]]='Recherche '!D$3)*(Tableau3[[Prix ]]='Recherche '!E$3)*(Tableau3[large]='Recherche '!F$3)*(Tableau3[Type]='Recherche '!G$3),ROW(Tableau3[Nom])-1),ROW(A22)))} -> #NUM!
A24: ABCD23 | B24: 23 | C24: BB | D24: 8 | E24: 0 | F24: 65161 | G24: TR | H24: S | I24: 6064 | L24: {=INDEX(A:A,SMALL(IF((Tableau3[Site]='Recherche '!C$3)*(Tableau3[[Zone ]]='Recherche '!D$3)*(Tableau3[[Prix ]]='Recherche '!E$3)*(Tableau3[large]='Recherche '!F$3)*(Tableau3[Type]='Recherche '!G$3),ROW(Tableau3[Nom])-1),ROW(A23)))} -> #NUM!

Sheet 2
A1: Nom | B1: REF | C1: Site | D1: Zone | E1: Prix | F1: large | G1: Type | H1: DOM | I1: Numéreo
A2: afg1 | B2: 1 | C2: BB | D2: 0 | E2: ZEH | F2: 5402 | G2: THJ | H2: M | I2: 59 | K2: matricielle | L2: {=INDEX(A:A,SMALL(IF((Tableau3[Site]='Recherche '!C$3)*(Tableau3[[Zone ]]='Recherche '!D$3)*(Tableau3[[Prix ]]='Recherche '!E$3)*(Tableau3[large]='Recherche '!F$3)*(Tableau3[Type]='Recherche '!G$3),ROW(Tableau3[Nom])-1),ROW(A1)))} -> afg2
A3: afg2 | B3: 2 | C3: RP | D3: 0 | E3: ZHSTJS | F3: 5402 | G3: HS | H3: M | I3: 54 | L3: {=INDEX(A:A,SMALL(IF((Tableau3[Site]='Recherche '!C$3)*(Tableau3[[Zone ]]='Recherche '!D$3)*(Tableau3[[Prix ]]='Recherche '!E$3)*(Tableau3[large]='Recherche '!F$3)*(Tableau3[Type]='Recherche '!G$3),ROW(Tableau3[Nom])-1),ROW(A2)))} -> afg4
A4: afg3 | B4: 3 | C4: bb | D4: X | E4: 0 | F4: 56132 | G4: sh | H4: s | I4: 146135 | L4: {=INDEX(A:A,SMALL(IF((Tableau3[Site]='Recherche '!C$3)*(Tableau3[[Zone ]]='Recherche '!D$3)*(Tableau3[[Prix ]]='Recherche '!E$3)*(Tableau3[large]='Recherche '!F$3)*(Tableau3[Type]='Recherche '!G$3),ROW(Tableau3[Nom])-1),ROW(A3)))} -> afg7
A5: afg4 | B5: 4 | C5: RP | D5: 0 | E5: ZHSTJS | F5: 5402 | G5: HS | H5: M | I5: 1563 | L5: {=INDEX(A:A,SMALL(IF((Tableau3[Site]='Recherche '!C$3)*(Tableau3[[Zone ]]='Recherche '!D$3)*(Tableau3[[Prix ]]='Recherche '!E$3)*(Tableau3[large]='Recherche '!F$3)*(Tableau3[Type]='Recherche '!G$3),ROW(Tableau3[Nom])-1),ROW(A4)))} -> #NUM!
A6: afg3 | B6: 3 | C6: bb | D6: X | E6: 0 | F6: 56132 | G6: sh | H6: s | I6: 146135 | L6: {=INDEX(A:A,SMALL(IF((Tableau3[Site]='Recherche '!C$3)*(Tableau3[[Zone ]]='Recherche '!D$3)*(Tableau3[[Prix ]]='Recherche '!E$3)*(Tableau3[large]='Recherche '!F$3)*(Tableau3[Type]='Recherche '!G$3),ROW(Tableau3[Nom])-1),ROW(A5)))} -> #NUM!
A7: afg6 | B7: 6 | C7: JP | D7: 0 | E7: EH | F7: 5402 | G7: SDFH | H7: M | I7: 8 | L7: {=INDEX(A:A,SMALL(IF((Tableau3[Site]='Recherche '!C$3)*(Tableau3[[Zone ]]='Recherche '!D$3)*(Tableau3[[Prix ]]='Recherche '!E$3)*(Tableau3[large]='Recherche '!F$3)*(Tableau3[Type]='Recherche '!G$3),ROW(Tableau3[Nom])-1),ROW(A6)))} -> #NUM!
A8: afg7 | B8: 7 | C8: JP | D8: 0 | E8: JZ | F8: 5402 | G8: EZHZ | H8: M | I8: 431 | L8: {=INDEX(A:A,SMALL(IF((Tableau3[Site]='Recherche '!C$3)*(Tableau3[[Zone ]]='Recherche '!D$3)*(Tableau3[[Prix ]]='Recherche '!E$3)*(Tableau3[large]='Recherche '!F$3)*(Tableau3[Type]='Recherche '!G$3),ROW(Tableau3[Nom])-1),ROW(A7)))} -> #NUM!
A9: afg3 | B9: 3 | C9: bb | D9: X | E9: 0 | F9: 56132 | G9: sh | H9: s | I9: 146135 | L9: {=INDEX(A:A,SMALL(IF((Tableau3[Site]='Recherche '!C$3)*(Tableau3[[Zone ]]='Recherche '!D$3)*(Tableau3[[Prix ]]='Recherche '!E$3)*(Tableau3[large]='Recherche '!F$3)*(Tableau3[Type]='Recherche '!G$3),ROW(Tableau3[Nom])-1),ROW(A8)))} -> #NUM!
A10: afg9 | B10: 9 | C10: JP | D10: 0 | F10: 5402 | G10: JS | H10: M | I10: 30 | L10: {=INDEX(A:A,SMALL(IF((Tableau3[Site]='Recherche '!C$3)*(Tableau3[[Zone ]]='Recherche '!D$3)*(Tableau3[[Prix ]]='Recherche '!E$3)*(Tableau3[large]='Recherche '!F$3)*(Tableau3[Type]='Recherche '!G$3),ROW(Tableau3[Nom])-1),ROW(A9)))} -> #NUM!
L11: {=INDEX(A:A,SMALL(IF((Tableau3[Site]='Recherche '!C$3)*(Tableau3[[Zone ]]='Recherche '!D$3)*(Tableau3[[Prix ]]='Recherche '!E$3)*(Tableau3[large]='Recherche '!F$3)*(Tableau3[Type]='Recherche '!G$3),ROW(Tableau3[Nom])-1),ROW(A10)))} -> #NUM!
L12: {=INDEX(A:A,SMALL(IF((Tableau3[Site]='Recherche '!C$3)*(Tableau3[[Zone ]]='Recherche '!D$3)*(Tableau3[[Prix ]]='Recherche '!E$3)*(Tableau3[large]='Recherche '!F$3)*(Tableau3[Type]='Recherche '!G$3),ROW(Tableau3[Nom])-1),ROW(A11)))} -> #NUM!
L13: {=INDEX(A:A,SMALL(IF((Tableau3[Site]='Recherche '!C$3)*(Tableau3[[Zone ]]='Recherche '!D$3)*(Tableau3[[Prix ]]='Recherche '!E$3)*(Tableau3[large]='Recherche '!F$3)*(Tableau3[Type]='Recherche '!G$3),ROW(Tableau3[Nom])-1),ROW(A12)))} -> #NUM!
L14: {=INDEX(A:A,SMALL(IF((Tableau3[Site]='Recherche '!C$3)*(Tableau3[[Zone ]]='Recherche '!D$3)*(Tableau3[[Prix ]]='Recherche '!E$3)*(Tableau3[large]='Recherche '!F$3)*(Tableau3[Type]='Recherche '!G$3),ROW(Tableau3[Nom])-1),ROW(A13)))} -> #NUM!
L15: {=INDEX(A:A,SMALL(IF((Tableau3[Site]='Recherche '!C$3)*(Tableau3[[Zone ]]='Recherche '!D$3)*(Tableau3[[Prix ]]='Recherche '!E$3)*(Tableau3[large]='Recherche '!F$3)*(Tableau3[Type]='Recherche '!G$3),ROW(Tableau3[Nom])-1),ROW(A14)))} -> #NUM!
L16: {=INDEX(A:A,SMALL(IF((Tableau3[Site]='Recherche '!C$3)*(Tableau3[[Zone ]]='Recherche '!D$3)*(Tableau3[[Prix ]]='Recherche '!E$3)*(Tableau3[large]='Recherche '!F$3)*(Tableau3[Type]='Recherche '!G$3),ROW(Tableau3[Nom])-1),ROW(A15)))} -> #NUM!
L17: {=INDEX(A:A,SMALL(IF((Tableau3[Site]='Recherche '!C$3)*(Tableau3[[Zone ]]='Recherche '!D$3)*(Tableau3[[Prix ]]='Recherche '!E$3)*(Tableau3[large]='Recherche '!F$3)*(Tableau3[Type]='Recherche '!G$3),ROW(Tableau3[Nom])-1),ROW(A16)))} -> #NUM!
L18: {=INDEX(A:A,SMALL(IF((Tableau3[Site]='Recherche '!C$3)*(Tableau3[[Zone ]]='Recherche '!D$3)*(Tableau3[[Prix ]]='Recherche '!E$3)*(Tableau3[large]='Recherche '!F$3)*(Tableau3[Type]='Recherche '!G$3),ROW(Tableau3[Nom])-1),ROW(A17)))} -> #NUM!
L19: {=INDEX(A:A,SMALL(IF((Tableau3[Site]='Recherche '!C$3)*(Tableau3[[Zone ]]='Recherche '!D$3)*(Tableau3[[Prix ]]='Recherche '!E$3)*(Tableau3[large]='Recherche '!F$3)*(Tableau3[Type]='Recherche '!G$3),ROW(Tableau3[Nom])-1),ROW(A18)))} -> #NUM!
L20: {=INDEX(A:A,SMALL(IF((Tableau3[Site]='Recherche '!C$3)*(Tableau3[[Zone ]]='Recherche '!D$3)*(Tableau3[[Prix ]]='Recherche '!E$3)*(Tableau3[large]='Recherche '!F$3)*(Tableau3[Type]='Recherche '!G$3),ROW(Tableau3[Nom])-1),ROW(A19)))} -> #NUM!
L21: {=INDEX(A:A,SMALL(IF((Tableau3[Site]='Recherche '!C$3)*(Tableau3[[Zone ]]='Recherche '!D$3)*(Tableau3[[Prix ]]='Recherche '!E$3)*(Tableau3[large]='Recherche '!F$3)*(Tableau3[Type]='Recherche '!G$3),ROW(Tableau3[Nom])-1),ROW(A20)))} -> #NUM!
L22: {=INDEX(A:A,SMALL(IF((Tableau3[Site]='Recherche '!C$3)*(Tableau3[[Zone ]]='Recherche '!D$3)*(Tableau3[[Prix ]]='Recherche '!E$3)*(Tableau3[large]='Recherche '!F$3)*(Tableau3[Type]='Recherche '!G$3),ROW(Tableau3[Nom])-1),ROW(A21)))} -> #NUM!
... L32: {=INDEX(A:A,SMALL(IF((Tableau3[Site]='Recherche '!C$3)*(Tableau3[[Zone ]]='Recherche '!D$3)*(Tableau3[[Prix ]]='Recherche '!E$3)*(Tableau3[large]='Recherche '!F$3)*(Tableau3[Type]='Recherche '!G$3),ROW(Tableau3[Nom])-1),ROW(A31)))} -> #NUM!

Sheet Recherche 
A1: Exemple
C2: Site | D2: Zone | E2: Prix | F2: Large | G2: Type | H2: DOM | J2: source | K2: Nom1 | L2: Nom2
C3: BB | D3: x | E3: 0 | F3: 56132 | G3: SH | H3: S | J3: =IF(K3="","",IF(COUNTA(tablo1)+1-ROW(A1)>0,1,2)) -> 1 | K3: =IFERROR(IF(ROW(A1)-1<COUNTA(tablo1),INDEX(tablo1,ABS(COUNTA(tablo1)+1-ROW(A1))),INDEX(tablo2,ABS(COUNTA(tablo1)+1-ROW(A1)))),"") -> ABCD7
J4: =IF(K4="","",IF(COUNTA(tablo1)+1-ROW(A2)>0,1,2)) -> 1 | K4: =IFERROR(IF(ROW(A2)-1<COUNTA(tablo1),INDEX(tablo1,ABS(COUNTA(tablo1)+1-ROW(A2))),INDEX(tablo2,ABS(COUNTA(tablo1)+1-ROW(A2)))),"") -> ABCD4
J5: =IF(K5="","",IF(COUNTA(tablo1)+1-ROW(A3)>0,1,2)) -> 1 | K5: =IFERROR(IF(ROW(A3)-1<COUNTA(tablo1),INDEX(tablo1,ABS(COUNTA(tablo1)+1-ROW(A3))),INDEX(tablo2,ABS(COUNTA(tablo1)+1-ROW(A3)))),"") -> ABCD2
J6: =IF(K6="","",IF(COUNTA(tablo1)+1-ROW(A4)>0,1,2)) | K6: =IFERROR(IF(ROW(A4)-1<COUNTA(tablo1),INDEX(tablo1,ABS(COUNTA(tablo1)+1-ROW(A4))),INDEX(tablo2,ABS(COUNTA(tablo1)+1-ROW(A4)))),"")
J7: =IF(K7="","",IF(COUNTA(tablo1)+1-ROW(A5)>0,1,2)) -> 2 | K7: =IFERROR(IF(ROW(A5)-1<COUNTA(tablo1),INDEX(tablo1,ABS(COUNTA(tablo1)+1-ROW(A5))),INDEX(tablo2,ABS(COUNTA(tablo1)+1-ROW(A5)))),"") -> afg2
J8: =IF(K8="","",IF(COUNTA(tablo1)+1-ROW(A6)>0,1,2)) -> 2 | K8: =IFERROR(IF(ROW(A6)-1<COUNTA(tablo1),INDEX(tablo1,ABS(COUNTA(tablo1)+1-ROW(A6))),INDEX(tablo2,ABS(COUNTA(tablo1)+1-ROW(A6)))),"") -> afg4
J9: =IF(K9="","",IF(COUNTA(tablo1)+1-ROW(A7)>0,1,2)) | K9: =IFERROR(IF(ROW(A7)-1<COUNTA(tablo1),INDEX(tablo1,ABS(COUNTA(tablo1)+1-ROW(A7))),INDEX(tablo2,ABS(COUNTA(tablo1)+1-ROW(A7)))),"")
J10: =IF(K10="","",IF(COUNTA(tablo1)+1-ROW(A8)>0,1,2)) | K10: =IFERROR(IF(ROW(A8)-1<COUNTA(tablo1),INDEX(tablo1,ABS(COUNTA(tablo1)+1-ROW(A8))),INDEX(tablo2,ABS(COUNTA(tablo1)+1-ROW(A8)))),"")
J11: =IF(K11="","",IF(COUNTA(tablo1)+1-ROW(A9)>0,1,2)) | K11: =IFERROR(IF(ROW(A9)-1<COUNTA(tablo1),INDEX(tablo1,ABS(COUNTA(tablo1)+1-ROW(A9))),INDEX(tablo2,ABS(COUNTA(tablo1)+1-ROW(A9)))),"")
J12: =IF(K12="","",IF(COUNTA(tablo1)+1-ROW(A10)>0,1,2)) | K12: =IFERROR(IF(ROW(A10)-1<COUNTA(tablo1),INDEX(tablo1,ABS(COUNTA(tablo1)+1-ROW(A10))),INDEX(tablo2,ABS(COUNTA(tablo1)+1-ROW(A10)))),"")
H15: vide de separation : je ne sais pas faire autrement >>>catastrophe ????
H17: pour nom 2 j'ai effacé betement la formule ;alors je ne vois plus quoi
