Workbook
Name dept: LISTES!$B$3
Name quoi: LISTES!$A$3:$A$13

Sheet Feuil3
B2: CHIFFRAGE ESTIMATIF | H2: Date:
B5: Intitulé du projet
B6: Nom des clients
B7: Adresse du projet
B8: Ville du projet
B10: Intitulé | C10: U | D10: PU | E10: Qté | F10: Total | G10: Tarif | H10: TVA | I10: TOTAL
A11: Menuiseries_intérieures
G12: =CEILING(G23,10) -> 0 | I12: =IF(H12>=0.001,(G12*H12)+G12,G12) -> 0
B13: Evacuations sous dallage (Ø100) | C13: =IF(ISNA(VLOOKUP(B13,INDIRECT(A$11&"!$C$6:$J$100"),2,FALSE)),"",(VLOOKUP(B13,INDIRECT(A$11&"!$C$6:$J$100"),2,FALSE))) | D13: =IF(ISNA(VLOOKUP(B13,INDIRECT(A$11&"!$C$6:$J$100"),8,FALSE)),"",(VLOOKUP(B13,INDIRECT(A$11&"!$C$6:$J$100"),8,FALSE))) | E13: 10 | F13: =IF(ISERR(E13*D13),"",(E13*D13))
C14: =IF(ISNA(VLOOKUP(B14,INDIRECT(A$11&"!$C$6:$J$100"),2,FALSE)),"",(VLOOKUP(B14,INDIRECT(A$11&"!$C$6:$J$100"),2,FALSE))) | D14: =IF(ISNA(VLOOKUP(B14,INDIRECT(A$11&"!$C$6:$J$100"),8,FALSE)),"",(VLOOKUP(B14,INDIRECT(A$11&"!$C$6:$J$100"),8,FALSE))) | F14: =IF(ISERR(E14*D14),"",(E14*D14))
C15: =IF(ISNA(VLOOKUP(B15,INDIRECT(A$11&"!$C$6:$J$100"),2,FALSE)),"",(VLOOKUP(B15,INDIRECT(A$11&"!$C$6:$J$100"),2,FALSE))) | D15: =IF(ISNA(VLOOKUP(B15,INDIRECT(A$11&"!$C$6:$J$100"),8,FALSE)),"",(VLOOKUP(B15,INDIRECT(A$11&"!$C$6:$J$100"),8,FALSE))) | F15: =IF(ISERR(E15*D15),"",(E15*D15))
C16: =IF(ISNA(VLOOKUP(B16,INDIRECT(A$11&"!$C$6:$J$100"),2,FALSE)),"",(VLOOKUP(B16,INDIRECT(A$11&"!$C$6:$J$100"),2,FALSE))) | D16: =IF(ISNA(VLOOKUP(B16,INDIRECT(A$11&"!$C$6:$J$100"),8,FALSE)),"",(VLOOKUP(B16,INDIRECT(A$11&"!$C$6:$J$100"),8,FALSE))) | F16: =IF(ISERR(E16*D16),"",(E16*D16))
C17: =IF(ISNA(VLOOKUP(B17,INDIRECT(A$11&"!$C$6:$J$100"),2,FALSE)),"",(VLOOKUP(B17,INDIRECT(A$11&"!$C$6:$J$100"),2,FALSE))) | D17: =IF(ISNA(VLOOKUP(B17,INDIRECT(A$11&"!$C$6:$J$100"),8,FALSE)),"",(VLOOKUP(B17,INDIRECT(A$11&"!$C$6:$J$100"),8,FALSE))) | F17: =IF(ISERR(E17*D17),"",(E17*D17))
C18: =IF(ISNA(VLOOKUP(B18,INDIRECT(A$11&"!$C$6:$J$100"),2,FALSE)),"",(VLOOKUP(B18,INDIRECT(A$11&"!$C$6:$J$100"),2,FALSE))) | D18: =IF(ISNA(VLOOKUP(B18,INDIRECT(A$11&"!$C$6:$J$100"),8,FALSE)),"",(VLOOKUP(B18,INDIRECT(A$11&"!$C$6:$J$100"),8,FALSE))) | F18: =IF(ISERR(E18*D18),"",(E18*D18))
C19: =IF(ISNA(VLOOKUP(B19,INDIRECT(A$11&"!$C$6:$J$100"),2,FALSE)),"",(VLOOKUP(B19,INDIRECT(A$11&"!$C$6:$J$100"),2,FALSE))) | D19: =IF(ISNA(VLOOKUP(B19,INDIRECT(A$11&"!$C$6:$J$100"),8,FALSE)),"",(VLOOKUP(B19,INDIRECT(A$11&"!$C$6:$J$100"),8,FALSE))) | F19: =IF(ISERR(E19*D19),"",(E19*D19))
C20: =IF(ISNA(VLOOKUP(B20,INDIRECT(A$11&"!$C$6:$J$100"),2,FALSE)),"",(VLOOKUP(B20,INDIRECT(A$11&"!$C$6:$J$100"),2,FALSE))) | D20: =IF(ISNA(VLOOKUP(B20,INDIRECT(A$11&"!$C$6:$J$100"),8,FALSE)),"",(VLOOKUP(B20,INDIRECT(A$11&"!$C$6:$J$100"),8,FALSE))) | F20: =IF(ISERR(E20*D20),"",(E20*D20))
C21: =IF(ISNA(VLOOKUP(B21,INDIRECT(A$11&"!$C$6:$J$100"),2,FALSE)),"",(VLOOKUP(B21,INDIRECT(A$11&"!$C$6:$J$100"),2,FALSE))) | D21: =IF(ISNA(VLOOKUP(B21,INDIRECT(A$11&"!$C$6:$J$100"),8,FALSE)),"",(VLOOKUP(B21,INDIRECT(A$11&"!$C$6:$J$100"),8,FALSE))) | F21: =IF(ISERR(E21*D21),"",(E21*D21))
C22: =IF(ISNA(VLOOKUP(B22,INDIRECT(A$11&"!$C$6:$J$100"),2,FALSE)),"",(VLOOKUP(B22,INDIRECT(A$11&"!$C$6:$J$100"),2,FALSE))) | D22: =IF(ISNA(VLOOKUP(B22,INDIRECT(A$11&"!$C$6:$J$100"),8,FALSE)),"",(VLOOKUP(B22,INDIRECT(A$11&"!$C$6:$J$100"),8,FALSE))) | F22: =IF(ISERR(E22*D22),"",(E22*D22))
B23: TOTAL | G23: =SUM(F13:F22) -> 0
A24: Charpente
G25: =CEILING(G36,10) -> #REF! | I25: =IF(H25>=0.001,(G25*H25)+G25,G25) -> #REF!
C26: =IF(ISNA(VLOOKUP(B26,INDIRECT(A$24&"!$C$6:$J$100"),2,FALSE)),"",(VLOOKUP(B26,INDIRECT(A$24&"!$C$6:$J$100"),2,FALSE))) | D26: =IF(ISNA(VLOOKUP(B26,INDIRECT(A$24&"!$C$6:$J$100"),8,FALSE)),"",(VLOOKUP(B26,INDIRECT(A$24&"!$C$6:$J$100"),8,FALSE))) | F26: =IF(ISERR(E26*D26),"",(E26*D26))
C27: =IF(ISNA(VLOOKUP(B27,INDIRECT(A$24&"!$C$6:$J$100"),2,FALSE)),"",(VLOOKUP(B27,INDIRECT(A$24&"!$C$6:$J$100"),2,FALSE))) | D27: =IF(ISNA(VLOOKUP(B27,INDIRECT(A$24&"!$C$6:$J$100"),8,FALSE)),"",(VLOOKUP(B27,INDIRECT(A$24&"!$C$6:$J$100"),8,FALSE))) | F27: =IF(ISERR(E27*D27),"",(E27*D27))
C28: =IF(ISNA(VLOOKUP(B28,INDIRECT(A$24&"!$C$6:$J$100"),2,FALSE)),"",(VLOOKUP(B28,INDIRECT(A$24&"!$C$6:$J$100"),2,FALSE))) | D28: =IF(ISNA(VLOOKUP(B28,INDIRECT(A$24&"!$C$6:$J$100"),8,FALSE)),"",(VLOOKUP(B28,INDIRECT(A$24&"!$C$6:$J$100"),8,FALSE))) | F28: =IF(ISERR(E28*D28),"",(E28*D28))
C29: =IF(ISNA(VLOOKUP(B29,INDIRECT(A$24&"!$C$6:$J$100"),2,FALSE)),"",(VLOOKUP(B29,INDIRECT(A$24&"!$C$6:$J$100"),2,FALSE))) | D29: =IF(ISNA(VLOOKUP(B29,INDIRECT(A$24&"!$C$6:$J$100"),8,FALSE)),"",(VLOOKUP(B29,INDIRECT(A$24&"!$C$6:$J$100"),8,FALSE))) | F29: =IF(ISERR(E29*D29),"",(E29*D29))
C30: =IF(ISNA(VLOOKUP(B30,INDIRECT(A$24&"!$C$6:$J$100"),2,FALSE)),"",(VLOOKUP(B30,INDIRECT(A$24&"!$C$6:$J$100"),2,FALSE))) | D30: =IF(ISNA(VLOOKUP(B30,INDIRECT(A$24&"!$C$6:$J$100"),8,FALSE)),"",(VLOOKUP(B30,INDIRECT(A$24&"!$C$6:$J$100"),8,FALSE))) | F30: =IF(ISERR(E30*D30),"",(E30*D30))
C31: =IF(ISNA(VLOOKUP(B31,INDIRECT(A$24&"!$C$6:$J$100"),2,FALSE)),"",(VLOOKUP(B31,INDIRECT(A$24&"!$C$6:$J$100"),2,FALSE))) | D31: =IF(ISNA(VLOOKUP(B31,INDIRECT(A$24&"!$C$6:$J$100"),8,FALSE)),"",(VLOOKUP(B31,INDIRECT(A$24&"!$C$6:$J$100"),8,FALSE))) | F31: =IF(ISERR(E31*D31),"",(E31*D31))
C32: =IF(ISNA(VLOOKUP(B32,INDIRECT(A$24&"!$C$6:$J$100"),2,FALSE)),"",(VLOOKUP(B32,INDIRECT(A$24&"!$C$6:$J$100"),2,FALSE))) | D32: =IF(ISNA(VLOOKUP(B32,INDIRECT(A$24&"!$C$6:$J$100"),8,FALSE)),"",(VLOOKUP(B32,INDIRECT(A$24&"!$C$6:$J$100"),8,FALSE))) | F32: =IF(ISERR(E32*D32),"",(E32*D32))
C33: =IF(ISNA(VLOOKUP(B33,INDIRECT(A$24&"!$C$6:$J$100"),2,FALSE)),"",(VLOOKUP(B33,INDIRECT(A$24&"!$C$6:$J$100"),2,FALSE))) | D33: =IF(ISNA(VLOOKUP(B33,INDIRECT(A$24&"!$C$6:$J$100"),8,FALSE)),"",(VLOOKUP(B33,INDIRECT(A$24&"!$C$6:$J$100"),8,FALSE))) | F33: =IF(ISERR(E33*D33),"",(E33*D33))
C34: =IF(ISNA(VLOOKUP(B34,INDIRECT(A$24&"!$C$6:$J$100"),2,FALSE)),"",(VLOOKUP(B34,INDIRECT(A$24&"!$C$6:$J$100"),2,FALSE))) | D34: =IF(ISNA(VLOOKUP(B34,INDIRECT(A$24&"!$C$6:$J$100"),8,FALSE)),"",(VLOOKUP(B34,INDIRECT(A$24&"!$C$6:$J$100"),8,FALSE))) | F34: =IF(ISERR(E34*D34),"",(E34*D34))
C35: =IF(ISNA(VLOOKUP(B35,INDIRECT(A$24&"!$C$6:$J$100"),2,FALSE)),"",(VLOOKUP(B35,INDIRECT(A$24&"!$C$6:$J$100"),2,FALSE))) | D35: =IF(ISNA(VLOOKUP(B35,INDIRECT(A$24&"!$C$6:$J$100"),8,FALSE)),"",(VLOOKUP(B35,INDIRECT(A$24&"!$C$6:$J$100"),8,FALSE))) | F35: =IF(ISERR(E35*D35),"",(E35*D35))
B36: TOTAL | F36: =IF(ISERR(E36*D36),"",(E36*D36)) -> 0 | G36: =SUM(#REF!) -> #REF!
A37: Couverture | F37: =IF(ISERR(E37*D37),"",(E37*D37)) -> 0
F38: =IF(ISERR(E38*D38),"",(E38*D38)) -> 0 | G38: =CEILING(G49,10) -> #REF! | I38: =IF(H38>=0.001,(G38*H38)+G38,G38) -> #REF!
C39: =IF(ISNA(VLOOKUP(B39,INDIRECT(A$37&"!$C$6:$J$100"),2,FALSE)),"",(VLOOKUP(B39,INDIRECT(A$37&"!$C$6:$J$100"),2,FALSE))) | D39: =IF(ISNA(VLOOKUP(B39,INDIRECT(A$37&"!$C$6:$J$100"),8,FALSE)),"",(VLOOKUP(B39,INDIRECT(A$37&"!$C$6:$J$100"),8,FALSE))) | F39: =IF(ISERR(E39*D39),"",(E39*D39))
C40: =IF(ISNA(VLOOKUP(B40,INDIRECT(A$37&"!$C$6:$J$100"),2,FALSE)),"",(VLOOKUP(B40,INDIRECT(A$37&"!$C$6:$J$100"),2,FALSE))) | D40: =IF(ISNA(VLOOKUP(B40,INDIRECT(A$37&"!$C$6:$J$100"),8,FALSE)),"",(VLOOKUP(B40,INDIRECT(A$37&"!$C$6:$J$100"),8,FALSE))) | F40: =IF(ISERR(E40*D40),"",(E40*D40))
C41: =IF(ISNA(VLOOKUP(B41,INDIRECT(A$37&"!$C$6:$J$100"),2,FALSE)),"",(VLOOKUP(B41,INDIRECT(A$37&"!$C$6:$J$100"),2,FALSE))) | D41: =IF(ISNA(VLOOKUP(B41,INDIRECT(A$37&"!$C$6:$J$100"),8,FALSE)),"",(VLOOKUP(B41,INDIRECT(A$37&"!$C$6:$J$100"),8,FALSE))) | F41: =IF(ISERR(E41*D41),"",(E41*D41))
C42: =IF(ISNA(VLOOKUP(B42,INDIRECT(A$37&"!$C$6:$J$100"),2,FALSE)),"",(VLOOKUP(B42,INDIRECT(A$37&"!$C$6:$J$100"),2,FALSE))) | D42: =IF(ISNA(VLOOKUP(B42,INDIRECT(A$37&"!$C$6:$J$100"),8,FALSE)),"",(VLOOKUP(B42,INDIRECT(A$37&"!$C$6:$J$100"),8,FALSE))) | F42: =IF(ISERR(E42*D42),"",(E42*D42))
C43: =IF(ISNA(VLOOKUP(B43,INDIRECT(A$37&"!$C$6:$J$100"),2,FALSE)),"",(VLOOKUP(B43,INDIRECT(A$37&"!$C$6:$J$100"),2,FALSE))) | D43: =IF(ISNA(VLOOKUP(B43,INDIRECT(A$37&"!$C$6:$J$100"),8,FALSE)),"",(VLOOKUP(B43,INDIRECT(A$37&"!$C$6:$J$100"),8,FALSE))) | F43: =IF(ISERR(E43*D43),"",(E43*D43))
C44: =IF(ISNA(VLOOKUP(B44,INDIRECT(A$37&"!$C$6:$J$100"),2,FALSE)),"",(VLOOKUP(B44,INDIRECT(A$37&"!$C$6:$J$100"),2,FALSE))) | D44: =IF(ISNA(VLOOKUP(B44,INDIRECT(A$37&"!$C$6:$J$100"),8,FALSE)),"",(VLOOKUP(B44,INDIRECT(A$37&"!$C$6:$J$100"),8,FALSE))) | F44: =IF(ISERR(E44*D44),"",(E44*D44))
C45: =IF(ISNA(VLOOKUP(B45,INDIRECT(A$37&"!$C$6:$J$100"),2,FALSE)),"",(VLOOKUP(B45,INDIRECT(A$37&"!$C$6:$J$100"),2,FALSE))) | D45: =IF(ISNA(VLOOKUP(B45,INDIRECT(A$37&"!$C$6:$J$100"),8,FALSE)),"",(VLOOKUP(B45,INDIRECT(A$37&"!$C$6:$J$100"),8,FALSE))) | F45: =IF(ISERR(E45*D45),"",(E45*D45))
C46: =IF(ISNA(VLOOKUP(B46,INDIRECT(A$37&"!$C$6:$J$100"),2,FALSE)),"",(VLOOKUP(B46,INDIRECT(A$37&"!$C$6:$J$100"),2,FALSE))) | D46: =IF(ISNA(VLOOKUP(B46,INDIRECT(A$37&"!$C$6:$J$100"),8,FALSE)),"",(VLOOKUP(B46,INDIRECT(A$37&"!$C$6:$J$100"),8,FALSE))) | F46: =IF(ISERR(E46*D46),"",(E46*D46))
C47: =IF(ISNA(VLOOKUP(B47,INDIRECT(A$37&"!$C$6:$J$100"),2,FALSE)),"",(VLOOKUP(B47,INDIRECT(A$37&"!$C$6:$J$100"),2,FALSE))) | D47: =IF(ISNA(VLOOKUP(B47,INDIRECT(A$37&"!$C$6:$J$100"),8,FALSE)),"",(VLOOKUP(B47,INDIRECT(A$37&"!$C$6:$J$100"),8,FALSE))) | F47: =IF(ISERR(E47*D47),"",(E47*D47))
C48: =IF(ISNA(VLOOKUP(B48,INDIRECT(A$37&"!$C$6:$J$100"),2,FALSE)),"",(VLOOKUP(B48,INDIRECT(A$37&"!$C$6:$J$100"),2,FALSE))) | D48: =IF(ISNA(VLOOKUP(B48,INDIRECT(A$37&"!$C$6:$J$100"),8,FALSE)),"",(VLOOKUP(B48,INDIRECT(A$37&"!$C$6:$J$100"),8,FALSE))) | F48: =IF(ISERR(E48*D48),"",(E48*D48))
B49: TOTAL | F49: =IF(ISERR(E49*D49),"",(E49*D49)) -> 0 | G49: =SUM(#REF!) -> #REF!
A50: Menuiseries_exterieures | F50: =IF(ISERR(E50*D50),"",(E50*D50)) -> 0
F51: =IF(ISERR(E51*D51),"",(E51*D51)) -> 0 | G51: =CEILING(G62,10) -> #REF! | I51: =IF(H51>=0.001,(G51*H51)+G51,G51) -> #REF!
C52: =IF(ISNA(VLOOKUP(B52,INDIRECT(A$50&"!$C$6:$J$100"),2,FALSE)),"",(VLOOKUP(B52,INDIRECT(A$50&"!$C$6:$J$100"),2,FALSE))) | D52: =IF(ISNA(VLOOKUP(B52,INDIRECT(A$50&"!$C$6:$J$100"),8,FALSE)),"",(VLOOKUP(B52,INDIRECT(A$50&"!$C$6:$J$100"),8,FALSE))) | F52: =IF(ISERR(E52*D52),"",(E52*D52))
C53: =IF(ISNA(VLOOKUP(B53,INDIRECT(A$50&"!$C$6:$J$100"),2,FALSE)),"",(VLOOKUP(B53,INDIRECT(A$50&"!$C$6:$J$100"),2,FALSE))) | D53: =IF(ISNA(VLOOKUP(B53,INDIRECT(A$50&"!$C$6:$J$100"),8,FALSE)),"",(VLOOKUP(B53,INDIRECT(A$50&"!$C$6:$J$100"),8,FALSE))) | F53: =IF(ISERR(E53*D53),"",(E53*D53))
C54: =IF(ISNA(VLOOKUP(B54,INDIRECT(A$50&"!$C$6:$J$100"),2,FALSE)),"",(VLOOKUP(B54,INDIRECT(A$50&"!$C$6:$J$100"),2,FALSE))) | D54: =IF(ISNA(VLOOKUP(B54,INDIRECT(A$50&"!$C$6:$J$100"),8,FALSE)),"",(VLOOKUP(B54,INDIRECT(A$50&"!$C$6:$J$100"),8,FALSE))) | F54: =IF(ISERR(E54*D54),"",(E54*D54))
C55: =IF(ISNA(VLOOKUP(B55,INDIRECT(A$50&"!$C$6:$J$100"),2,FALSE)),"",(VLOOKUP(B55,INDIRECT(A$50&"!$C$6:$J$100"),2,FALSE))) | D55: =IF(ISNA(VLOOKUP(B55,INDIRECT(A$50&"!$C$6:$J$100"),8,FALSE)),"",(VLOOKUP(B55,INDIRECT(A$50&"!$C$6:$J$100"),8,FALSE))) | F55: =IF(ISERR(E55*D55),"",(E55*D55))
C56: =IF(ISNA(VLOOKUP(B56,INDIRECT(A$50&"!$C$6:$J$100"),2,FALSE)),"",(VLOOKUP(B56,INDIRECT(A$50&"!$C$6:$J$100"),2,FALSE))) | D56: =IF(ISNA(VLOOKUP(B56,INDIRECT(A$50&"!$C$6:$J$100"),8,FALSE)),"",(VLOOKUP(B56,INDIRECT(A$50&"!$C$6:$J$100"),8,FALSE))) | F56: =IF(ISERR(E56*D56),"",(E56*D56))
C57: =IF(ISNA(VLOOKUP(B57,INDIRECT(A$50&"!$C$6:$J$100"),2,FALSE)),"",(VLOOKUP(B57,INDIRECT(A$50&"!$C$6:$J$100"),2,FALSE))) | D57: =IF(ISNA(VLOOKUP(B57,INDIRECT(A$50&"!$C$6:$J$100"),8,FALSE)),"",(VLOOKUP(B57,INDIRECT(A$50&"!$C$6:$J$100"),8,FALSE))) | F57: =IF(ISERR(E57*D57),"",(E57*D57))
C58: =IF(ISNA(VLOOKUP(B58,INDIRECT(A$50&"!$C$6:$J$100"),2,FALSE)),"",(VLOOKUP(B58,INDIRECT(A$50&"!$C$6:$J$100"),2,FALSE))) | D58: =IF(ISNA(VLOOKUP(B58,INDIRECT(A$50&"!$C$6:$J$100"),8,FALSE)),"",(VLOOKUP(B58,INDIRECT(A$50&"!$C$6:$J$100"),8,FALSE))) | F58: =IF(ISERR(E58*D58),"",(E58*D58))
C59: =IF(ISNA(VLOOKUP(B59,INDIRECT(A$50&"!$C$6:$J$100"),2,FALSE)),"",(VLOOKUP(B59,INDIRECT(A$50&"!$C$6:$J$100"),2,FALSE))) | D59: =IF(ISNA(VLOOKUP(B59,INDIRECT(A$50&"!$C$6:$J$100"),8,FALSE)),"",(VLOOKUP(B59,INDIRECT(A$50&"!$C$6:$J$100"),8,FALSE))) | F59: =IF(ISERR(E59*D59),"",(E59*D59))
C60: =IF(ISNA(VLOOKUP(B60,INDIRECT(A$50&"!$C$6:$J$100"),2,FALSE)),"",(VLOOKUP(B60,INDIRECT(A$50&"!$C$6:$J$100"),2,FALSE))) | D60: =IF(ISNA(VLOOKUP(B60,INDIRECT(A$50&"!$C$6:$J$100"),8,FALSE)),"",(VLOOKUP(B60,INDIRECT(A$50&"!$C$6:$J$100"),8,FALSE))) | F60: =IF(ISERR(E60*D60),"",(E60*D60))
C61: =IF(ISNA(VLOOKUP(B61,INDIRECT(A$50&"!$C$6:$J$100"),2,FALSE)),"",(VLOOKUP(B61,INDIRECT(A$50&"!$C$6:$J$100"),2,FALSE))) | D61: =IF(ISNA(VLOOKUP(B61,INDIRECT(A$50&"!$C$6:$J$100"),8,FALSE)),"",(VLOOKUP(B61,INDIRECT(A$50&"!$C$6:$J$100"),8,FALSE))) | F61: =IF(ISERR(E61*D61),"",(E61*D61))
B62: TOTAL | F62: =IF(ISERR(E62*D62),"",(E62*D62)) -> 0 | G62: =SUM(#REF!) -> #REF!
A63: Platrerie | F63: =IF(ISERR(E63*D63),"",(E63*D63)) -> 0
F64: =IF(ISERR(E64*D64),"",(E64*D64)) -> 0 | G64: =CEILING(G75,10) -> #REF! | I64: =IF(H64>=0.001,(G64*H64)+G64,G64) -> #REF!
C65: =IF(ISNA(VLOOKUP(B65,INDIRECT(A$63&"!$C$6:$J$100"),2,FALSE)),"",(VLOOKUP(B65,INDIRECT(A$63&"!$C$6:$J$100"),2,FALSE))) | D65: =IF(ISNA(VLOOKUP(B65,INDIRECT(A$63&"!$C$6:$J$100"),8,FALSE)),"",(VLOOKUP(B65,INDIRECT(A$63&"!$C$6:$J$100"),8,FALSE))) | F65: =IF(ISERR(E65*D65),"",(E65*D65))
C66: =IF(ISNA(VLOOKUP(B66,INDIRECT(A$63&"!$C$6:$J$100"),2,FALSE)),"",(VLOOKUP(B66,INDIRECT(A$63&"!$C$6:$J$100"),2,FALSE))) | D66: =IF(ISNA(VLOOKUP(B66,INDIRECT(A$63&"!$C$6:$J$100"),8,FALSE)),"",(VLOOKUP(B66,INDIRECT(A$63&"!$C$6:$J$100"),8,FALSE))) | F66: =IF(ISERR(E66*D66),"",(E66*D66))
C67: =IF(ISNA(VLOOKUP(B67,INDIRECT(A$63&"!$C$6:$J$100"),2,FALSE)),"",(VLOOKUP(B67,INDIRECT(A$63&"!$C$6:$J$100"),2,FALSE))) | D67: =IF(ISNA(VLOOKUP(B67,INDIRECT(A$63&"!$C$6:$J$100"),8,FALSE)),"",(VLOOKUP(B67,INDIRECT(A$63&"!$C$6:$J$100"),8,FALSE))) | F67: =IF(ISERR(E67*D67),"",(E67*D67))
C68: =IF(ISNA(VLOOKUP(B68,INDIRECT(A$63&"!$C$6:$J$100"),2,FALSE)),"",(VLOOKUP(B68,INDIRECT(A$63&"!$C$6:$J$100"),2,FALSE))) | D68: =IF(ISNA(VLOOKUP(B68,INDIRECT(A$63&"!$C$6:$J$100"),8,FALSE)),"",(VLOOKUP(B68,INDIRECT(A$63&"!$C$6:$J$100"),8,FALSE))) | F68: =IF(ISERR(E68*D68),"",(E68*D68))
C69: =IF(ISNA(VLOOKUP(B69,INDIRECT(A$63&"!$C$6:$J$100"),2,FALSE)),"",(VLOOKUP(B69,INDIRECT(A$63&"!$C$6:$J$100"),2,FALSE))) | D69: =IF(ISNA(VLOOKUP(B69,INDIRECT(A$63&"!$C$6:$J$100"),8,FALSE)),"",(VLOOKUP(B69,INDIRECT(A$63&"!$C$6:$J$100"),8,FALSE))) | F69: =IF(ISERR(E69*D69),"",(E69*D69))
C70: =IF(ISNA(VLOOKUP(B70,INDIRECT(A$63&"!$C$6:$J$100"),2,FALSE)),"",(VLOOKUP(B70,INDIRECT(A$63&"!$C$6:$J$100"),2,FALSE))) | D70: =IF(ISNA(VLOOKUP(B70,INDIRECT(A$63&"!$C$6:$J$100"),8,FALSE)),"",(VLOOKUP(B70,INDIRECT(A$63&"!$C$6:$J$100"),8,FALSE))) | F70: =IF(ISERR(E70*D70),"",(E70*D70))
C71: =IF(ISNA(VLOOKUP(B71,INDIRECT(A$63&"!$C$6:$J$100"),2,FALSE)),"",(VLOOKUP(B71,INDIRECT(A$63&"!$C$6:$J$100"),2,FALSE))) | D71: =IF(ISNA(VLOOKUP(B71,INDIRECT(A$63&"!$C$6:$J$100"),8,FALSE)),"",(VLOOKUP(B71,INDIRECT(A$63&"!$C$6:$J$100"),8,FALSE))) | F71: =IF(ISERR(E71*D71),"",(E71*D71))
C72: =IF(ISNA(VLOOKUP(B72,INDIRECT(A$63&"!$C$6:$J$100"),2,FALSE)),"",(VLOOKUP(B72,INDIRECT(A$63&"!$C$6:$J$100"),2,FALSE))) | D72: =IF(ISNA(VLOOKUP(B72,INDIRECT(A$63&"!$C$6:$J$100"),8,FALSE)),"",(VLOOKUP(B72,INDIRECT(A$63&"!$C$6:$J$100"),8,FALSE))) | F72: =IF(ISERR(E72*D72),"",(E72*D72))
C73: =IF(ISNA(VLOOKUP(B73,INDIRECT(A$63&"!$C$6:$J$100"),2,FALSE)),"",(VLOOKUP(B73,INDIRECT(A$63&"!$C$6:$J$100"),2,FALSE))) | D73: =IF(ISNA(VLOOKUP(B73,INDIRECT(A$63&"!$C$6:$J$100"),8,FALSE)),"",(VLOOKUP(B73,INDIRECT(A$63&"!$C$6:$J$100"),8,FALSE))) | F73: =IF(ISERR(E73*D73),"",(E73*D73))
C74: =IF(ISNA(VLOOKUP(B74,INDIRECT(A$63&"!$C$6:$J$100"),2,FALSE)),"",(VLOOKUP(B74,INDIRECT(A$63&"!$C$6:$J$100"),2,FALSE))) | D74: =IF(ISNA(VLOOKUP(B74,INDIRECT(A$63&"!$C$6:$J$100"),8,FALSE)),"",(VLOOKUP(B74,INDIRECT(A$63&"!$C$6:$J$100"),8,FALSE))) | F74: =IF(ISERR(E74*D74),"",(E74*D74))
B75: TOTAL | F75: =IF(ISERR(E75*D75),"",(E75*D75)) -> 0 | G75: =SUM(#REF!) -> #REF!
A76: Electricité | F76: =IF(ISERR(E76*D76),"",(E76*D76)) -> 0
F77: =IF(ISERR(E77*D77),"",(E77*D77)) -> 0 | G77: =CEILING(G88,10) -> #REF! | I77: =IF(H77>=0.001,(G77*H77)+G77,G77) -> #REF!
C78: =IF(ISNA(VLOOKUP(B78,INDIRECT(A$76&"!$C$6:$J$100"),2,FALSE)),"",(VLOOKUP(B78,INDIRECT(A$76&"!$C$6:$J$100"),2,FALSE))) | D78: =IF(ISNA(VLOOKUP(B78,INDIRECT(A$76&"!$C$6:$J$100"),8,FALSE)),"",(VLOOKUP(B78,INDIRECT(A$76&"!$C$6:$J$100"),8,FALSE))) | F78: =IF(ISERR(E78*D78),"",(E78*D78))
C79: =IF(ISNA(VLOOKUP(B79,INDIRECT(A$76&"!$C$6:$J$100"),2,FALSE)),"",(VLOOKUP(B79,INDIRECT(A$76&"!$C$6:$J$100"),2,FALSE))) | D79: =IF(ISNA(VLOOKUP(B79,INDIRECT(A$76&"!$C$6:$J$100"),8,FALSE)),"",(VLOOKUP(B79,INDIRECT(A$76&"!$C$6:$J$100"),8,FALSE))) | F79: =IF(ISERR(E79*D79),"",(E79*D79))
C80: =IF(ISNA(VLOOKUP(B80,INDIRECT(A$76&"!$C$6:$J$100"),2,FALSE)),"",(VLOOKUP(B80,INDIRECT(A$76&"!$C$6:$J$100"),2,FALSE))) | D80: =IF(ISNA(VLOOKUP(B80,INDIRECT(A$76&"!$C$6:$J$100"),8,FALSE)),"",(VLOOKUP(B80,INDIRECT(A$76&"!$C$6:$J$100"),8,FALSE))) | F80: =IF(ISERR(E80*D80),"",(E80*D80))
C81: =IF(ISNA(VLOOKUP(B81,INDIRECT(A$76&"!$C$6:$J$100"),2,FALSE)),"",(VLOOKUP(B81,INDIRECT(A$76&"!$C$6:$J$100"),2,FALSE))) | D81: =IF(ISNA(VLOOKUP(B81,INDIRECT(A$76&"!$C$6:$J$100"),8,FALSE)),"",(VLOOKUP(B81,INDIRECT(A$76&"!$C$6:$J$100"),8,FALSE))) | F81: =IF(ISERR(E81*D81),"",(E81*D81))
C82: =IF(ISNA(VLOOKUP(B82,INDIRECT(A$76&"!$C$6:$J$100"),2,FALSE)),"",(VLOOKUP(B82,INDIRECT(A$76&"!$C$6:$J$100"),2,FALSE))) | D82: =IF(ISNA(VLOOKUP(B82,INDIRECT(A$76&"!$C$6:$J$100"),8,FALSE)),"",(VLOOKUP(B82,INDIRECT(A$76&"!$C$6:$J$100"),8,FALSE))) | F82: =IF(ISERR(E82*D82),"",(E82*D82))
C83: =IF(ISNA(VLOOKUP(B83,INDIRECT(A$76&"!$C$6:$J$100"),2,FALSE)),"",(VLOOKUP(B83,INDIRECT(A$76&"!$C$6:$J$100"),2,FALSE))) | D83: =IF(ISNA(VLOOKUP(B83,INDIRECT(A$76&"!$C$6:$J$100"),8,FALSE)),"",(VLOOKUP(B83,INDIRECT(A$76&"!$C$6:$J$100"),8,FALSE))) | F83: =IF(ISERR(E83*D83),"",(E83*D83))
C84: =IF(ISNA(VLOOKUP(B84,INDIRECT(A$76&"!$C$6:$J$100"),2,FALSE)),"",(VLOOKUP(B84,INDIRECT(A$76&"!$C$6:$J$100"),2,FALSE))) | D84: =IF(ISNA(VLOOKUP(B84,INDIRECT(A$76&"!$C$6:$J$100"),8,FALSE)),"",(VLOOKUP(B84,INDIRECT(A$76&"!$C$6:$J$100"),8,FALSE))) | F84: =IF(ISERR(E84*D84),"",(E84*D84))
C85: =IF(ISNA(VLOOKUP(B85,INDIRECT(A$76&"!$C$6:$J$100"),2,FALSE)),"",(VLOOKUP(B85,INDIRECT(A$76&"!$C$6:$J$100"),2,FALSE))) | D85: =IF(ISNA(VLOOKUP(B85,INDIRECT(A$76&"!$C$6:$J$100"),8,FALSE)),"",(VLOOKUP(B85,INDIRECT(A$76&"!$C$6:$J$100"),8,FALSE))) | F85: =IF(ISERR(E85*D85),"",(E85*D85))
C86: =IF(ISNA(VLOOKUP(B86,INDIRECT(A$76&"!$C$6:$J$100"),2,FALSE)),"",(VLOOKUP(B86,INDIRECT(A$76&"!$C$6:$J$100"),2,FALSE))) | D86: =IF(ISNA(VLOOKUP(B86,INDIRECT(A$76&"!$C$6:$J$100"),8,FALSE)),"",(VLOOKUP(B86,INDIRECT(A$76&"!$C$6:$J$100"),8,FALSE))) | F86: =IF(ISERR(E86*D86),"",(E86*D86))
C87: =IF(ISNA(VLOOKUP(B87,INDIRECT(A$76&"!$C$6:$J$100"),2,FALSE)),"",(VLOOKUP(B87,INDIRECT(A$76&"!$C$6:$J$100"),2,FALSE))) | D87: =IF(ISNA(VLOOKUP(B87,INDIRECT(A$76&"!$C$6:$J$100"),8,FALSE)),"",(VLOOKUP(B87,INDIRECT(A$76&"!$C$6:$J$100"),8,FALSE))) | F87: =IF(ISERR(E87*D87),"",(E87*D87))
B88: TOTAL | F88: =IF(ISERR(E88*D88),"",(E88*D88)) -> 0 | G88: =SUM(#REF!) -> #REF!
A89: Plomberie | F89: =IF(ISERR(E89*D89),"",(E89*D89)) -> 0
F90: =IF(ISERR(E90*D90),"",(E90*D90)) -> 0 | G90: =CEILING(G101,10) -> #REF! | I90: =IF(H90>=0.001,(G90*H90)+G90,G90) -> #REF!
C91: =IF(ISNA(VLOOKUP(B91,INDIRECT(A$89&"!$C$6:$J$100"),2,FALSE)),"",(VLOOKUP(B91,INDIRECT(A$89&"!$C$6:$J$100"),2,FALSE))) | D91: =IF(ISNA(VLOOKUP(B91,INDIRECT(A$89&"!$C$6:$J$100"),8,FALSE)),"",(VLOOKUP(B91,INDIRECT(A$89&"!$C$6:$J$100"),8,FALSE))) | F91: =IF(ISERR(E91*D91),"",(E91*D91))
C92: =IF(ISNA(VLOOKUP(B92,INDIRECT(A$89&"!$C$6:$J$100"),2,FALSE)),"",(VLOOKUP(B92,INDIRECT(A$89&"!$C$6:$J$100"),2,FALSE))) | D92: =IF(ISNA(VLOOKUP(B92,INDIRECT(A$89&"!$C$6:$J$100"),8,FALSE)),"",(VLOOKUP(B92,INDIRECT(A$89&"!$C$6:$J$100"),8,FALSE))) | F92: =IF(ISERR(E92*D92),"",(E92*D92))
C93: =IF(ISNA(VLOOKUP(B93,INDIRECT(A$89&"!$C$6:$J$100"),2,FALSE)),"",(VLOOKUP(B93,INDIRECT(A$89&"!$C$6:$J$100"),2,FALSE))) | D93: =IF(ISNA(VLOOKUP(B93,INDIRECT(A$89&"!$C$6:$J$100"),8,FALSE)),"",(VLOOKUP(B93,INDIRECT(A$89&"!$C$6:$J$100"),8,FALSE))) | F93: =IF(ISERR(E93*D93),"",(E93*D93))
C94: =IF(ISNA(VLOOKUP(B94,INDIRECT(A$89&"!$C$6:$J$100"),2,FALSE)),"",(VLOOKUP(B94,INDIRECT(A$89&"!$C$6:$J$100"),2,FALSE))) | D94: =IF(ISNA(VLOOKUP(B94,INDIRECT(A$89&"!$C$6:$J$100"),8,FALSE)),"",(VLOOKUP(B94,INDIRECT(A$89&"!$C$6:$J$100"),8,FALSE))) | F94: =IF(ISERR(E94*D94),"",(E94*D94))
C95: =IF(ISNA(VLOOKUP(B95,INDIRECT(A$89&"!$C$6:$J$100"),2,FALSE)),"",(VLOOKUP(B95,INDIRECT(A$89&"!$C$6:$J$100"),2,FALSE))) | D95: =IF(ISNA(VLOOKUP(B95,INDIRECT(A$89&"!$C$6:$J$100"),8,FALSE)),"",(VLOOKUP(B95,INDIRECT(A$89&"!$C$6:$J$100"),8,FALSE))) | F95: =IF(ISERR(E95*D95),"",(E95*D95))
C96: =IF(ISNA(VLOOKUP(B96,INDIRECT(A$89&"!$C$6:$J$100"),2,FALSE)),"",(VLOOKUP(B96,INDIRECT(A$89&"!$C$6:$J$100"),2,FALSE))) | D96: =IF(ISNA(VLOOKUP(B96,INDIRECT(A$89&"!$C$6:$J$100"),8,FALSE)),"",(VLOOKUP(B96,INDIRECT(A$89&"!$C$6:$J$100"),8,FALSE))) | F96: =IF(ISERR(E96*D96),"",(E96*D96))
C97: =IF(ISNA(VLOOKUP(B97,INDIRECT(A$89&"!$C$6:$J$100"),2,FALSE)),"",(VLOOKUP(B97,INDIRECT(A$89&"!$C$6:$J$100"),2,FALSE))) | D97: =IF(ISNA(VLOOKUP(B97,INDIRECT(A$89&"!$C$6:$J$100"),8,FALSE)),"",(VLOOKUP(B97,INDIRECT(A$89&"!$C$6:$J$100"),8,FALSE))) | F97: =IF(ISERR(E97*D97),"",(E97*D97))
C98: =IF(ISNA(VLOOKUP(B98,INDIRECT(A$89&"!$C$6:$J$100"),2,FALSE)),"",(VLOOKUP(B98,INDIRECT(A$89&"!$C$6:$J$100"),2,FALSE))) | D98: =IF(ISNA(VLOOKUP(B98,INDIRECT(A$89&"!$C$6:$J$100"),8,FALSE)),"",(VLOOKUP(B98,INDIRECT(A$89&"!$C$6:$J$100"),8,FALSE))) | F98: =IF(ISERR(E98*D98),"",(E98*D98))
C99: =IF(ISNA(VLOOKUP(B99,INDIRECT(A$89&"!$C$6:$J$100"),2,FALSE)),"",(VLOOKUP(B99,INDIRECT(A$89&"!$C$6:$J$100"),2,FALSE))) | D99: =IF(ISNA(VLOOKUP(B99,INDIRECT(A$89&"!$C$6:$J$100"),8,FALSE)),"",(VLOOKUP(B99,INDIRECT(A$89&"!$C$6:$J$100"),8,FALSE))) | F99: =IF(ISERR(E99*D99),"",(E99*D99))
C100: =IF(ISNA(VLOOKUP(B100,INDIRECT(A$89&"!$C$6:$J$100"),2,FALSE)),"",(VLOOKUP(B100,INDIRECT(A$89&"!$C$6:$J$100"),2,FALSE))) | D100: =IF(ISNA(VLOOKUP(B100,INDIRECT(A$89&"!$C$6:$J$100"),8,FALSE)),"",(VLOOKUP(B100,INDIRECT(A$89&"!$C$6:$J$100"),8,FALSE))) | F100: =IF(ISERR(E100*D100),"",(E100*D100))
B101: TOTAL | F101: =IF(ISERR(E101*D101),"",(E101*D101)) -> 0 | G101: =SUM(#REF!) -> #REF!
A102: Menuiseries_intérieures | F102: =IF(ISERR(E102*D102),"",(E102*D102)) -> 0
F103: =IF(ISERR(E103*D103),"",(E103*D103)) -> 0 | G103: =CEILING(G113,10) -> #REF! | I103: =IF(H103>=0.001,(G103*H103)+G103,G103) -> #REF!
B104: 0 | C104: =IF(ISNA(VLOOKUP(B104,INDIRECT(A$102&"!$C$6:$J$100"),2,FALSE)),"",(VLOOKUP(B104,INDIRECT(A$102&"!$C$6:$J$100"),2,FALSE))) | D104: =IF(ISNA(VLOOKUP(B104,INDIRECT(A$102&"!$C$6:$J$100"),8,FALSE)),"",(VLOOKUP(B104,INDIRECT(A$102&"!$C$6:$J$100"),8,FALSE))) | F104: =IF(ISERR(E104*D104),"",(E104*D104))
...

Sheet Feuil1
A2: PROJET NEUF | B2: =IF(A2="extension","NEUF",IF(A2="projet neuf","NEUF","Rénovation")) -> NEUF | C2: Lot | D2: Intitulé | E2: Unité | F2: Quantité | G2: PU | H2: TOTAL
C4: Maconnerie | D4: {=INDIRECT(C4)} -> #REF! | G4: =VLOOKUP(D4,Maconnerie!C7:D100,2,FALSE) -> #REF! | H4: =G4*F4 -> #REF!
D6: =IF(COUNTIF([1]BdD!$A$2:$A$1000,$C$6)>=ROW()-2,INDEX([1]BdD!$A$2:$W$1000,MATCH([1]Pain!$B$1&ROW()-2,[1]BdD!$X$2:$X$1000,0),2),"")

Sheet LISTES
B1: =COUNTIF(B2:B100,"><") -> 34 | C1: =COUNTIF(C2:C100,"><") -> 10 | D1: =COUNTIF(D2:D100,"><") -> 18 | E1: =COUNTIF(E2:E100,"><") -> 13 | F1: =COUNTIF(F2:F100,"><") -> 18 | G1: =COUNTIF(G2:G100,"><") -> 18 | H1: =COUNTIF(H2:H100,"><") -> 13 | I1: =COUNTIF(I2:I100,"><") -> 5 | ... L1: =COUNTIF(L2:L100,"><") -> 6
A2: List | B2: Maconnerie | C2: Charpente | D2: Couverture | E2: Menuiseries_exterieures | F2: Platrerie | G2: Electricité | H2: Plomberie | I2: Menuiseries_intérieures | J2: Sols | K2: Ossature_bois | L2: Peintures
A3: =B2 -> Maconnerie | B3: =Maconnerie!C20 -> Arase etanche | C3: =Charpente!C6 -> Installation de chantier | D3: =Couverture!C6 -> 0 | E3: =Menuiseries_exterieures!C6 -> 0 | F3: =Platrerie!C6 -> 0 | G3: =Electricité!C6 -> 0 | H3: =PLOMBERIE!C6 -> 0 | I3: =Menuiseries_intérieures!C6 -> 0 | J3: =Sols!C6 -> 0 | K3: =Ossature_bois!C6 -> 0 | L3: =Peintures!C6 -> RENO PLAF: revision, egrenage, poncage, toile de verre 2x finition
A4: =C2 -> Charpente | B4: =Maconnerie!C19 -> Etancheité en sous bassement | C4: =Charpente!C7 -> Charpente traditionnelle | D4: =Couverture!C7 -> Echaffaudage de l'ensemble | E4: =Menuiseries_exterieures!C7 -> Menuiseries tapée de 140 ALU RAL9010 vitrage 4/20/4 | F4: =Platrerie!C7 -> Isolation plancher bois en LDV 240mm R=6 | G4: =Electricité!C7 -> Lampe en va et vient | H4: =PLOMBERIE!C7 -> Chaudiere gaz a condensation DIETRICH 40 litres (MCR24/28) | I4: =Menuiseries_intérieures!C7 -> Porte interieur 83cm isoplane compris bequillage | J4: =Sols!C7 -> Chape ciment talochée epaisseur 5cm | K4: =Ossature_bois!C7 -> Mur bois 45 x 145 axe de 60 + panneau OSB12mm + parepluie et sablieres basse III | L4: =Peintures!C7 -> RENO MURS: Detapissage, preparation support, impression, patente 2 couche finition
A5: =D2 -> Couverture | B5: =Maconnerie!C16 -> Polyane | C5: =Charpente!C8 -> Lincoir | D5: =Couverture!C8 -> Couverture ardoises naturelles d'Espagne sur liteaux sapin avec crochets inox | E5: =Menuiseries_exterieures!C8 -> 2 vtx 120 x 115 | F5: =Platrerie!C8 -> Isolation plafond LDV 300mm R=7.50 | G5: =Electricité!C8 -> Prise de courant 2P+T | H5: =PLOMBERIE!C8 -> Thermostat d'ambiance | I5: =Menuiseries_intérieures!C8 -> Porte interieur à galandage 83cm y compris bequillage | J5: =Sols!C8 -> Carrelage 30 x 30 gres emaillé pose droite | K5: =Ossature_bois!C8 -> Mur de refend 45 x 145 axe de 60 + sabliere | L5: =Peintures!C8 -> RENO MURS: Preparation support, impression, patente 2 couches finition
A6: =E2 -> Menuiseries_exterieures | B6: =Maconnerie!C9 -> Decapage terrain | C6: =Charpente!C9 -> Corniche sous face PVC blanc | D6: =Couverture!C9 -> Faitage en tuile à emboitement | E6: =Menuiseries_exterieures!C9 -> 1 vt 60 x 215 vitrage imprimé | F6: =Platrerie!C9 -> Plafond BA13 sur F530 RDC | G6: =Electricité!C9 -> Prise de courant 2P sans TERRE | H6: =PLOMBERIE!C9 -> Radiateur pour chaudiere gaz 600 x 600 1148 watts | I6: =Menuiseries_intérieures!C9 -> Porte 83 post formée fournie posée | J6: =Sols!C9 -> Plinthe 7 x 30 assorties | K6: =Ossature_bois!C10 -> Plancher bois 75 x 250 axe de 50 + plancher OSB18mm | L6: =Peintures!C9 -> MURS: Poncage des bandes, impression, patente, 2 couches de finition
A7: =F2 -> Platrerie | B7: =Maconnerie!C35 -> Bandes de dressement | C7: =Charpente!C10 -> Faux solivage | D7: =Couverture!C10 -> Raccord avec toiture existante | E7: =Menuiseries_exterieures!C10 -> Baie coulissante 200 x 215 | F7: =Platrerie!C10 -> Plafond BA13 sur F530 R+1 | G7: =Electricité!C10 -> Alimentation volet roulant avec bouton | H7: =PLOMBERIE!C10 -> radiateur pour chaudiere gaz 600 x 700 1340 watts | I7: =Menuiseries_intérieures!C11 -> Escalier 1/4 tournant sans contre marches + rampe | J7: =Sols!C10 -> Faience 25 x33 | L7: =Peintures!C10 -> PLAF: Poncage des bandes, impression, 2 couches de finition
A8: =G2 -> Electricité | B8: =Maconnerie!C13 -> Evacuations sous dallage (Ø100) | C8: =Charpente!C11 -> plancher osb 18mm | D8: =Couverture!C11 -> Couverture des chevrons de rive | E8: =Menuiseries_exterieures!C11 -> 0 | F8: =Platrerie!C11 -> Habillage velux | G8: =Electricité!C11 -> Alimentation volet roulant sans bouton | H8: =PLOMBERIE!C11 -> Seche serviette 500 watts | J8: =Sols!C11 -> Blocage du bac a douche | K8: =Ossature_bois!C11 -> 0 | L8: =Peintures!C11 -> 0
A9: =H2 -> Plomberie | B9: =Maconnerie!C25 -> Degrossi | C9: =Charpente!C12 -> Tremie | D9: =Couverture!C12 -> Chatiere | E9: =Menuiseries_exterieures!C12 -> Porte de garage sectionnelle 200 x 240 motorisation electrique | F9: =Platrerie!C12 -> Doublage placo 13mm + LDV 120mm R=3.75 | G9: =Electricité!C12 -> Spot orientable 7w LED | H9: =PLOMBERIE!C13 -> Cuvette wc | I9: =Menuiseries_intérieures!C12 -> 0 | J9: =Sols!C12 -> Sol fermacell posé sur billes polistyrene | K9: =Ossature_bois!C12 -> 0 | L9: =Peintures!C12 -> 0
A10: =I2 -> Menuiseries_intérieures | B10: =Maconnerie!C26 -> Enduit taloché sur tableau | C10: =Charpente!C13 -> Solivage porteur en 38 x 200 entraxe 50 | D10: =Couverture!C13 -> Gouttiere nantaise en zing | E10: =Menuiseries_exterieures!C13 -> Porte de service PVC blanc 150 x 200 | F10: =Platrerie!C13 -> Cloisons 78/48 en BA13 isolation avec PAR45 | G10: =Electricité!C13 -> Lampe en simple allumage | H10: =PLOMBERIE!C14 -> Cuvette wc suspendue | I10: =Menuiseries_intérieures!C13 -> 0 | J10: =Sols!C13 -> Sol stratifié sur sous couche acoustique | K10: =Ossature_bois!C13 -> 0 | L10: =Peintures!C13 -> 0
A11: =J2 -> Sols | B11: =Maconnerie!C26 -> Enduit taloché sur tableau | C11: =Charpente!C14 -> Muraillere 45 x 220 | D11: =Couverture!C14 -> Tuyau de descente zing Ø80 | E11: =Menuiseries_exterieures!C14 -> Porte de service ALU 150 x 200 | F11: =Platrerie!C14 -> Cloisons 100/48 en BA13 | G11: =Electricité!C14 -> Lampe sur 3 boutons poussoir | H11: =PLOMBERIE!C15 -> Meuble vasque equipé | I11: =Menuiseries_intérieures!C14 -> 0 | J11: =Sols!C14 -> Plinthes prête à peindre | K11: =Ossature_bois!C14 -> 0 | L11: =Peintures!C14 -> 0
A12: =L2 -> Peintures | B12: =Maconnerie!C14 -> Remblai sur 30cm | C12: =Charpente!C15 -> 0 | D12: =Couverture!C15 -> Velux 114 x 118 encastré à projection | E12: =Menuiseries_exterieures!C15 -> Fenetre 80 x 95 PVC blanc vitrage 44.2 | F12: =Platrerie!C15 -> Plus value pour BA13 hydro | G12: =Electricité!C15 -> Prise TV | H12: =PLOMBERIE!C16 -> Receveur de douche extra plat equipé | I12: =Menuiseries_intérieures!C15 -> 0 | J12: =Sols!C15 -> Faience 25x40 | K12: =Ossature_bois!C15 -> 0 | L12: =Peintures!C15 -> 0
A13: =K2 -> Ossature_bois | B13: =Maconnerie!C18 -> Enduit de sous bassement hydrofuge | C13: =Charpente!C16 -> 0 | D13: =Couverture!C16 -> Velux 78 x 98 encastré + store interieur electrique | E13: =Menuiseries_exterieures!C27 -> Volets roulants dans coffres tunnels tablier PVC motorisation electrique filaire | F13: =Platrerie!C16 -> Trape d'acces au comble | G13: =Electricité!C16 -> Prise telephonique RJ45 | H13: =PLOMBERIE!C17 -> Pare douche | I13: =Menuiseries_intérieures!C16 -> 0 | J13: =Sols!C16 -> 0 | K13: =Ossature_bois!C16 -> 0 | L13: =Peintures!C16 -> 0
B14: =Maconnerie!C23 -> Rampannage | C14: =Charpente!C17 -> 0 | D14: =Couverture!C17 -> Volet roulant electrique pour velux | E14: =Menuiseries_exterieures!C28 -> 120 x 115 | F14: =Platrerie!C17 -> Doublage placo 13mm + LDV 140mm R=4.35 | G14: =Electricité!C17 -> Alimentation convecteur electrique | H14: =PLOMBERIE!C18 -> Chauffe eau 10l sous evier (hors raccordement elec) | I14: =Menuiseries_intérieures!C17 -> 0 | J14: =Sols!C17 -> 0 | K14: =Ossature_bois!C17 -> 0 | L14: =Peintures!C17 -> 0
B15: =Maconnerie!C27 -> Enduit taloché | C15: =Charpente!C18 -> 0 | D15: =Couverture!C18 -> Sous toiture DELTA VENT y compris liteaunage | E15: =Menuiseries_exterieures!C29 -> 65 x 215 | F15: =Platrerie!C21 -> Doublage brique platriere 4cm enduit 1 face + LDV 120mm | G15: =Electricité!C18 -> VMC Hygro B avec reseau en gaine isolé Ø25mm | H15: =PLOMBERIE!C19 -> Receveur 175 x 90 equipé | I15: =Menuiseries_intérieures!C18 -> 0 | J15: =Sols!C18 -> 0 | K15: =Ossature_bois!C18 -> 0 | L15: =Peintures!C18 -> 0
B16: =Maconnerie!C17 -> Dalle beton (y compris planelles) | C16: =Charpente!C19 -> 0 | D16: =Couverture!C19 -> Velux 114 x 118 en saillie à rotation | E16: =Menuiseries_exterieures!C30 -> 200 x 215 | F16: =Platrerie!C22 -> Cloison de separation en brique platriere 5cm | G16: =Electricité!C19 -> Tableau electrique 3ch + 1sdb | I16: =Menuiseries_intérieures!C19 -> 0 | J16: =Sols!C19 -> 0 | K16: =Ossature_bois!C19 -> 0 | L16: =Peintures!C19 -> 0
B17: =Maconnerie!C36 -> Regard EP | C17: =Charpente!C20 -> 0 | D17: =Couverture!C20 -> Velux 78 x 98 en saillie à rotation | E17: =Menuiseries_exterieures!C20 -> 0 | F17: =Platrerie!C23 -> Bande de phaltex sous cloisons | G17: =Electricité!C20 -> Convecteur SOLIUS blanc 1500w | H17: =PLOMBERIE!C20 -> 0 | I17: =Menuiseries_intérieures!C20 -> 0 | J17: =Sols!C20 -> 0 | K17: =Ossature_bois!C20 -> 0 | L17: =Peintures!C20 -> 0
B18: =Maconnerie!C21 -> Maconnerie agglo creux 20 | C18: =Charpente!C21 -> 0 | D18: =Couverture!C21 -> Store d'occultation interieur 114 x 118 | E18: =Menuiseries_exterieures!C21 -> 0 | F18: =Platrerie!C24 -> Plafond en gyplaque sur rails enduit au platre | G18: =Electricité!C21 -> Convecteur SOLIUS blanc 2000w vertical | H18: =PLOMBERIE!C21 -> 0 | I18: =Menuiseries_intérieures!C21 -> 0 | J18: =Sols!C21 -> 0 | K18: =Ossature_bois!C21 -> 0 | L18: =Peintures!C21 -> 0
B19: =Maconnerie!C12 -> Fondations agglo B60 20x50x20 | C19: =Charpente!C22 -> 0 | D19: =Couverture!C22 -> Store d'occultation interieur 78 x 98 | E19: =Menuiseries_exterieures!C22 -> 0 | F19: =Platrerie!C25 -> Enduit au platre sous plancher poutrelles hourdis | G19: =Electricité!C22 -> Seche serviette 500w | H19: =PLOMBERIE!C22 -> 0 | I19: =Menuiseries_intérieures!C22 -> 0 | J19: =Sols!C22 -> 0 | K19: =Ossature_bois!C22 -> 0 | L19: =Peintures!C22 -> 0
B20: =Maconnerie!C10 -> Fouilles en rigole | C20: =Charpente!C23 -> 0 | D20: =Couverture!C23 -> Volet roulant SOLAIRE pour velux 114 x 118 | E20: =Menuiseries_exterieures!C23 -> 0 | F20: =Platrerie!C26 -> Plafond rampant en gyplaque sur rails enduit au platre | G20: =Electricité!C23 -> Bloc 6 prises de courant | H20: =PLOMBERIE!C23 -> 0 | I20: =Menuiseries_intérieures!C23 -> 0 | J20: =Sols!C23 -> 0 | K20: =Ossature_bois!C23 -> 0 | L20: =Peintures!C23 -> 0
B21: =Maconnerie!C28 -> Seuils | C21: =Charpente!C24 -> 0 | D21: =Couverture!C24 -> 0 | E21: =Menuiseries_exterieures!C24 -> 0 | G21: =Electricité!C24 -> 0 | H21: =PLOMBERIE!C24 -> 0 | I21: =Menuiseries_intérieures!C24 -> 0 | J21: =Sols!C24 -> 0 | K21: =Ossature_bois!C24 -> 0 | L21: =Peintures!C24 -> 0
B22: =Maconnerie!C29 -> Appuis | C22: =Charpente!C25 -> 0 | D22: =Couverture!C25 -> 0 | E22: =Menuiseries_exterieures!C25 -> 0 | G22: =Electricité!C25 -> 0 | H22: =PLOMBERIE!C25 -> 0 | I22: =Menuiseries_intérieures!C25 -> 0 | J22: =Sols!C25 -> 0 | K22: =Ossature_bois!C25 -> 0 | L22: =Peintures!C25 -> 0
B23: =Maconnerie!C22 -> Plancher beton poutrelles hourdis | C23: =Charpente!C26 -> 0 | D23: =Couverture!C26 -> 0 | E23: =Menuiseries_exterieures!C26 -> 0 | G23: =Electricité!C26 -> 0 | H23: =PLOMBERIE!C26 -> 0 | I23: =Menuiseries_intérieures!C26 -> 0 | J23: =Sols!C26 -> 0 | K23: =Ossature_bois!C26 -> 0 | L23: =Peintures!C26 -> 0
B24: =Maconnerie!C11 -> Semelles BA 50x30 | C24: =Charpente!C27 -> 0 | D24: =Couverture!C27 -> 0 | F24: =Platrerie!C27 -> 0 | G24: =Electricité!C27 -> 0 | H24: =PLOMBERIE!C27 -> 0 | I24: =Menuiseries_intérieures!C27 -> 0 | J24: =Sols!C27 -> 0 | K24: =Ossature_bois!C27 -> 0 | L24: =Peintures!C27 -> 0
B25: =Maconnerie!C37 -> Chainage beton armé | C25: =Charpente!C28 -> 0 | D25: =Couverture!C28 -> 0 | F25: =Platrerie!C28 -> 0 | G25: =Electricité!C28 -> 0 | H25: =PLOMBERIE!C28 -> 0 | I25: =Menuiseries_intérieures!C28 -> 0 | J25: =Sols!C28 -> 0 | K25: =Ossature_bois!C28 -> 0 | L25: =Peintures!C28 -> 0
B26: =Maconnerie!C38 -> Linteau beton armé | C26: =Charpente!C29 -> 0 | D26: =Couverture!C29 -> 0 | F26: =Platrerie!C29 -> 0 | G26: =Electricité!C29 -> 0 | H26: =PLOMBERIE!C29 -> 0 | I26: =Menuiseries_intérieures!C29 -> 0 | J26: =Sols!C29 -> 0 | K26: =Ossature_bois!C29 -> 0 | L26: =Peintures!C29 -> 0
B27: =Maconnerie!C42 -> Ouverture mur porteur | C27: =Charpente!C30 -> 0 | D27: =Couverture!C30 -> 0 | F27: =Platrerie!C30 -> 0 | G27: =Electricité!C30 -> 0 | H27: =PLOMBERIE!C30 -> 0 | I27: =Menuiseries_intérieures!C30 -> 0 | J27: =Sols!C30 -> 0 | K27: =Ossature_bois!C30 -> 0 | L27: =Peintures!C30 -> 0
B28: =Maconnerie!C7 -> Etude beton | C28: =Charpente!C31 -> 0 | D28: =Couverture!C31 -> 0 | E28: =Menuiseries_exterieures!C31 -> 0 | F28: =Platrerie!C31 -> 0 | G28: =Electricité!C31 -> 0 | H28: =PLOMBERIE!C31 -> 0 | I28: =Menuiseries_intérieures!C31 -> 0 | J28: =Sols!C31 -> 0 | K28: =Ossature_bois!C31 -> 0 | L28: =Peintures!C31 -> 0
B29: =Maconnerie!C43 -> Supression d'un mur porteur sur 2m et pose IPN | C29: =Charpente!C32 -> 0 | D29: =Couverture!C32 -> 0 | E29: =Menuiseries_exterieures!C32 -> 0 | F29: =Platrerie!C32 -> 0 | G29: =Electricité!C32 -> 0 | H29: =PLOMBERIE!C32 -> 0 | I29: =Menuiseries_intérieures!C32 -> 0 | J29: =Sols!C32 -> 0 | K29: =Ossature_bois!C32 -> 0 | L29: =Peintures!C32 -> 0
B30: =Maconnerie!C44 -> Ouverture plancher pour pose d'un escalier | C30: =Charpente!C33 -> 0 | D30: =Couverture!C33 -> 0 | E30: =Menuiseries_exterieures!C33 -> 0 | F30: =Platrerie!C33 -> 0 | G30: =Electricité!C33 -> 0 | H30: =PLOMBERIE!C33 -> 0 | I30: =Menuiseries_intérieures!C33 -> 0 | J30: =Sols!C33 -> 0 | K30: =Ossature_bois!C33 -> 0 | L30: =Peintures!C33 -> 0
B31: =Maconnerie!C8 -> Implantation | C31: =Charpente!C34 -> 0 | D31: =Couverture!C34 -> 0 | E31: =Menuiseries_exterieures!C34 -> 0 | F31: =Platrerie!C34 -> 0 | G31: =Electricité!C34 -> 0 | H31: =PLOMBERIE!C34 -> 0 | I31: =Menuiseries_intérieures!C34 -> 0 | J31: =Sols!C34 -> 0 | K31: =Ossature_bois!C34 -> 0 | L31: =Peintures!C34 -> 0
B32: =Maconnerie!C39 -> Pose coffre VR | C32: =Charpente!C35 -> 0 | D32: =Couverture!C35 -> 0 | E32: =Menuiseries_exterieures!C35 -> 0 | F32: =Platrerie!C35 -> 0 | G32: =Electricité!C35 -> 0 | H32: =PLOMBERIE!C35 -> 0 | I32: =Menuiseries_intérieures!C35 -> 0 | J32: =Sols!C35 -> 0 | K32: =Ossature_bois!C35 -> 0 | L32: =Peintures!C35 -> 0
B33: =Maconnerie!C30 -> Enduit monocouche gratté | C33: =Charpente!C36 -> 0 | D33: =Couverture!C36 -> 0 | E33: =Menuiseries_exterieures!C36 -> 0 | F33: =Platrerie!C36 -> 0 | G33: =Electricité!C36 -> 0 | H33: =PLOMBERIE!C36 -> 0 | I33: =Menuiseries_intérieures!C36 -> 0 | J33: =Sols!C36 -> 0 | K33: =Ossature_bois!C36 -> 0 | L33: =Peintures!C36 -> 0
B34: =Maconnerie!C31 -> Enduit tableau | C34: =Charpente!C37 -> 0 | D34: =Couverture!C37 -> 0 | E34: =Menuiseries_exterieures!C37 -> 0 | F34: =Platrerie!C37 -> 0 | G34: =Electricité!C37 -> 0 | H34: =PLOMBERIE!C37 -> 0 | I34: =Menuiseries_intérieures!C37 -> 0 | J34: =Sols!C37 -> 0 | K34: =Ossature_bois!C37 -> 0 | L34: =Peintures!C37 -> 0
B35: =Maconnerie!C32 -> Joint de dilatation enduit | C35: =Charpente!C38 -> 0 | D35: =Couverture!C38 -> 0 | E35: =Menuiseries_exterieures!C38 -> 0 | F35: =Platrerie!C38 -> 0 | G35: =Electricité!C38 -> 0 | H35: =PLOMBERIE!C38 -> 0 | I35: =Menuiseries_intérieures!C38 -> 0 | J35: =Sols!C38 -> 0 | K35: =Ossature_bois!C38 -> 0 | L35: =Peintures!C38 -> 0
B36: =Maconnerie!C67 -> 0 | C36: =Charpente!C39 -> 0 | D36: =Couverture!C39 -> 0 | E36: =Menuiseries_exterieures!C39 -> 0 | F36: =Platrerie!C39 -> 0 | G36: =Electricité!C39 -> 0 | H36: =PLOMBERIE!C39 -> 0 | I36: =Menuiseries_intérieures!C39 -> 0 | J36: =Sols!C39 -> 0 | K36: =Ossature_bois!C39 -> 0 | L36: =Peintures!C39 -> 0
B37: =Maconnerie!C68 -> 0 | C37: =Charpente!C40 -> 0 | D37: =Couverture!C40 -> 0 | E37: =Menuiseries_exterieures!C40 -> 0 | F37: =Platrerie!C40 -> 0 | G37: =Electricité!C40 -> 0 | H37: =PLOMBERIE!C40 -> 0 | I37: =Menuiseries_intérieures!C40 -> 0 | J37: =Sols!C40 -> 0 | K37: =Ossature_bois!C40 -> 0 | L37: =Peintures!C40 -> 0
B38: =Maconnerie!C69 -> 0 | C38: =Charpente!C41 -> 0 | D38: =Couverture!C41 -> 0 | E38: =Menuiseries_exterieures!C41 -> 0 | F38: =Platrerie!C41 -> 0 | G38: =Electricité!C41 -> 0 | H38: =PLOMBERIE!C41 -> 0 | I38: =Menuiseries_intérieures!C41 -> 0 | J38: =Sols!C41 -> 0 | K38: =Ossature_bois!C41 -> 0 | L38: =Peintures!C41 -> 0
B39: =Maconnerie!C70 -> 0 | C39: =Charpente!C42 -> 0 | D39: =Couverture!C42 -> 0 | E39: =Menuiseries_exterieures!C42 -> 0 | F39: =Platrerie!C42 -> 0 | G39: =Electricité!C42 -> 0 | H39: =PLOMBERIE!C42 -> 0 | I39: =Menuiseries_intérieures!C42 -> 0 | J39: =Sols!C42 -> 0 | K39: =Ossature_bois!C42 -> 0 | L39: =Peintures!C42 -> 0
A40: PROJET NEUF | B40: =Maconnerie!C71 -> 0 | C40: =Charpente!C43 -> 0 | D40: =Couverture!C43 -> 0 | E40: =Menuiseries_exterieures!C43 -> 0 | F40: =Platrerie!C43 -> 0 | G40: =Electricité!C43 -> 0 | H40: =PLOMBERIE!C43 -> 0 | I40: =Menuiseries_intérieures!C43 -> 0 | J40: =Sols!C43 -> 0 | K40: =Ossature_bois!C43 -> 0 | L40: =Peintures!C43 -> 0
A41: EXTENSION | B41: =Maconnerie!C72 -> 0 | C41: =Charpente!C44 -> 0 | D41: =Couverture!C44 -> 0 | E41: =Menuiseries_exterieures!C44 -> 0 | F41: =Platrerie!C44 -> 0 | G41: =Electricité!C44 -> 0 | H41: =PLOMBERIE!C44 -> 0 | I41: =Menuiseries_intérieures!C44 -> 0 | J41: =Sols!C44 -> 0 | K41: =Ossature_bois!C44 -> 0 | L41: =Peintures!C44 -> 0
A42: RENOVATION | B42: =Maconnerie!C73 -> 0 | C42: =Charpente!C45 -> 0 | D42: =Couverture!C45 -> 0 | E42: =Menuiseries_exterieures!C45 -> 0 | F42: =Platrerie!C45 -> 0 | G42: =Electricité!C45 -> 0 | H42: =PLOMBERIE!C45 -> 0 | I42: =Menuiseries_intérieures!C45 -> 0 | J42: =Sols!C45 -> 0 | K42: =Ossature_bois!C45 -> 0 | L42: =Peintures!C45 -> 0
A43: REAMENAGEMENT | B43: =Maconnerie!C74 -> 0 | C43: =Charpente!C46 -> 0 | D43: =Couverture!C46 -> 0 | E43: =Menuiseries_exterieures!C46 -> 0 | F43: =Platrerie!C46 -> 0 | G43: =Electricité!C46 -> 0 | H43: =PLOMBERIE!C46 -> 0 | I43: =Menuiseries_intérieures!C46 -> 0 | J43: =Sols!C46 -> 0 | K43: =Ossature_bois!C46 -> 0 | L43: =Peintures!C46 -> 0
A44: TRAVAUX INTERIEURS | B44: =Maconnerie!C75 -> 0 | C44: =Charpente!C47 -> 0 | D44: =Couverture!C47 -> 0 | E44: =Menuiseries_exterieures!C47 -> 0 | F44: =Platrerie!C47 -> 0 | G44: =Electricité!C47 -> 0 | H44: =PLOMBERIE!C47 -> 0 | I44: =Menuiseries_intérieures!C47 -> 0 | J44: =Sols!C47 -> 0 | K44: =Ossature_bois!C47 -> 0 | L44: =Peintures!C47 -> 0
B45: =Maconnerie!C76 -> 0 | C45: =Charpente!C48 -> 0 | D45: =Couverture!C48 -> 0 | E45: =Menuiseries_exterieures!C48 -> 0 | F45: =Platrerie!C48 -> 0 | G45: =Electricité!C48 -> 0 | H45: =PLOMBERIE!C48 -> 0 | I45: =Menuiseries_intérieures!C48 -> 0 | J45: =Sols!C48 -> 0 | K45: =Ossature_bois!C48 -> 0 | L45: =Peintures!C48 -> 0
B46: =Maconnerie!C77 -> 0 | C46: =Charpente!C49 -> 0 | D46: =Couverture!C49 -> 0 | E46: =Menuiseries_exterieures!C49 -> 0 | F46: =Platrerie!C49 -> 0 | G46: =Electricité!C49 -> 0 | H46: =PLOMBERIE!C49 -> 0 | I46: =Menuiseries_intérieures!C49 -> 0 | J46: =Sols!C49 -> 0 | K46: =Ossature_bois!C49 -> 0 | L46: =Peintures!C49 -> 0
A47: NEUF | B47: =Maconnerie!C78 -> 0 | C47: =Charpente!C50 -> 0 | D47: =Couverture!C50 -> 0 | E47: =Menuiseries_exterieures!C50 -> 0 | F47: =Platrerie!C50 -> 0 | G47: =Electricité!C50 -> 0 | H47: =PLOMBERIE!C50 -> 0 | I47: =Menuiseries_intérieures!C50 -> 0 | J47: =Sols!C50 -> 0 | K47: =Ossature_bois!C50 -> 0 | L47: =Peintures!C50 -> 0
A48: RENOVATION | B48: =Maconnerie!C79 -> 0 | C48: =Charpente!C51 -> 0 | D48: =Couverture!C51 -> 0 | E48: =Menuiseries_exterieures!C51 -> 0 | F48: =Platrerie!C51 -> 0 | G48: =Electricité!C51 -> 0 | H48: =PLOMBERIE!C51 -> 0 | I48: =Menuiseries_intérieures!C51 -> 0 | J48: =Sols!C51 -> 0 | K48: =Ossature_bois!C51 -> 0 | L48: =Peintures!C51 -> 0
A49: LES 2 | B49: =Maconnerie!C80 -> 0 | C49: =Charpente!C52 -> 0 | D49: =Couverture!C52 -> 0 | E49: =Menuiseries_exterieures!C52 -> 0 | F49: =Platrerie!C52 -> 0 | G49: =Electricité!C52 -> 0 | H49: =PLOMBERIE!C52 -> 0 | I49: =Menuiseries_intérieures!C52 -> 0 | J49: =Sols!C52 -> 0 | K49: =Ossature_bois!C52 -> 0 | L49: =Peintures!C52 -> 0
B50: =Maconnerie!C81 -> 0 | C50: =Charpente!C53 -> 0 | D50: =Couverture!C53 -> 0 | E50: =Menuiseries_exterieures!C53 -> 0 | F50: =Platrerie!C53 -> 0 | G50: =Electricité!C53 -> 0 | H50: =PLOMBERIE!C53 -> 0 | I50: =Menuiseries_intérieures!C53 -> 0 | J50: =Sols!C53 -> 0 | K50: =Ossature_bois!C53 -> 0 | L50: =Peintures!C53 -> 0
A51: Maconnerie | B51: =Maconnerie!C82 -> 0 | C51: =Charpente!C54 -> 0 | D51: =Couverture!C54 -> 0 | E51: =Menuiseries_exterieures!C54 -> 0 | F51: =Platrerie!C54 -> 0 | G51: =Electricité!C54 -> 0 | H51: =PLOMBERIE!C54 -> 0 | I51: =Menuiseries_intérieures!C54 -> 0 | J51: =Sols!C54 -> 0 | K51: =Ossature_bois!C54 -> 0 | L51: =Peintures!C54 -> 0
A52: Charpente | B52: =Maconnerie!C83 -> 0 | C52: =Charpente!C55 -> 0 | E52: =Menuiseries_exterieures!C55 -> 0 | F52: =Platrerie!C55 -> 0 | G52: =Electricité!C55 -> 0 | H52: =PLOMBERIE!C55 -> 0 | I52: =Menuiseries_intérieures!C55 -> 0 | J52: =Sols!C55 -> 0 | K52: =Ossature_bois!C55 -> 0 | L52: =Peintures!C55 -> 0
A53: Couverture | B53: =Maconnerie!C84 -> 0 | C53: =Charpente!C56 -> 0 | E53: =Menuiseries_exterieures!C56 -> 0 | F53: =Platrerie!C56 -> 0 | G53: =Electricité!C56 -> 0 | H53: =PLOMBERIE!C56 -> 0 | I53: =Menuiseries_intérieures!C56 -> 0 | J53: =Sols!C56 -> 0 | K53: =Ossature_bois!C56 -> 0 | L53: =Peintures!C56 -> 0
A54: Menuiseries exterieures | B54: =Maconnerie!C85 -> 0 | C54: =Charpente!C57 -> 0 | E54: =Menuiseries_exterieures!C57 -> 0 | F54: =Platrerie!C57 -> 0 | G54: =Electricité!C57 -> 0 | H54: =PLOMBERIE!C57 -> 0 | I54: =Menuiseries_intérieures!C57 -> 0 | J54: =Sols!C57 -> 0 | K54: =Ossature_bois!C57 -> 0 | L54: =Peintures!C57 -> 0
A55: Electricité | B55: =Maconnerie!C86 -> 0 | C55: =Charpente!C58 -> 0 | E55: =Menuiseries_exterieures!C58 -> 0 | F55: =Platrerie!C58 -> 0 | G55: =Electricité!C58 -> 0 | H55: =PLOMBERIE!C58 -> 0 | I55: =Menuiseries_intérieures!C58 -> 0 | J55: =Sols!C58 -> 0 | K55: =Ossature_bois!C58 -> 0 | L55: =Peintures!C58 -> 0
A56: Plomberie | B56: =Maconnerie!C87 -> 0 | C56: =Charpente!C59 -> 0 | E56: =Menuiseries_exterieures!C59 -> 0 | F56: =Platrerie!C59 -> 0 | G56: =Electricité!C59 -> 0 | H56: =PLOMBERIE!C59 -> 0 | I56: =Menuiseries_intérieures!C59 -> 0 | J56: =Sols!C59 -> 0 | K56: =Ossature_bois!C59 -> 0 | L56: =Peintures!C59 -> 0
A57: Platrerie | B57: =Maconnerie!C88 -> 0 | C57: =Charpente!C60 -> 0 | E57: =Menuiseries_exterieures!C60 -> 0 | F57: =Platrerie!C60 -> 0 | G57: =Electricité!C60 -> 0 | H57: =PLOMBERIE!C60 -> 0 | I57: =Menuiseries_intérieures!C60 -> 0 | J57: =Sols!C60 -> 0 | K57: =Ossature_bois!C60 -> 0 | L57: =Peintures!C60 -> 0
A58: Menuiseries interieures | B58: =Maconnerie!C89 -> 0 | C58: =Charpente!C61 -> 0 | E58: =Menuiseries_exterieures!C61 -> 0 | F58: =Platrerie!C61 -> 0 | G58: =Electricité!C61 -> 0 | H58: =PLOMBERIE!C61 -> 0 | I58: =Menuiseries_intérieures!C61 -> 0 | J58: =Sols!C61 -> 0 | K58: =Ossature_bois!C61 -> 0 | L58: =Peintures!C61 -> 0
A59: Ossature_bois | B59: =Maconnerie!C90 -> 0 | C59: =Charpente!C62 -> 0 | E59: =Menuiseries_exterieures!C62 -> 0 | F59: =Platrerie!C62 -> 0 | G59: =Electricité!C62 -> 0 | H59: =PLOMBERIE!C62 -> 0 | I59: =Menuiseries_intérieures!C62 -> 0 | J59: =Sols!C62 -> 0 | K59: =Ossature_bois!C62 -> 0 | L59: =Peintures!C62 -> 0
A60: Sols | B60: =Maconnerie!C91 -> 0 | C60: =Charpente!C63 -> 0 | E60: =Menuiseries_exterieures!C63 -> 0 | F60: =Platrerie!C63 -> 0 | G60: =Electricité!C63 -> 0 | H60: =PLOMBERIE!C63 -> 0 | I60: =Menuiseries_intérieures!C63 -> 0 | J60: =Sols!C63 -> 0 | K60: =Ossature_bois!C63 -> 0 | L60: =Peintures!C63 -> 0
A61: Peintures | B61: =Maconnerie!C92 -> 0 | C61: =Charpente!C64 -> 0 | E61: =Menuiseries_exterieures!C64 -> 0 | F61: =Platrerie!C64 -> 0 | G61: =Electricité!C64 -> 0 | H61: =PLOMBERIE!C64 -> 0 | I61: =Menuiseries_intérieures!C64 -> 0 | J61: =Sols!C64 -> 0 | K61: =Ossature_bois!C64 -> 0 | L61: =Peintures!C64 -> 0
B62: =Maconnerie!C93 -> 0 | C62: =Charpente!C65 -> 0 | E62: =Menuiseries_exterieures!C65 -> 0 | F62: =Platrerie!C65 -> 0 | G62: =Electricité!C65 -> 0 | H62: =PLOMBERIE!C65 -> 0 | I62: =Menuiseries_intérieures!C65 -> 0 | J62: =Sols!C65 -> 0 | K62: =Ossature_bois!C65 -> 0 | L62: =Peintures!C65 -> 0
B63: =Maconnerie!C94 -> 0 | C63: =Charpente!C66 -> 0 | E63: =Menuiseries_exterieures!C66 -> 0 | F63: =Platrerie!C66 -> 0 | G63: =Electricité!C66 -> 0 | H63: =PLOMBERIE!C66 -> 0 | I63: =Menuiseries_intérieures!C66 -> 0 | J63: =Sols!C66 -> 0 | K63: =Ossature_bois!C66 -> 0 | L63: =Peintures!C66 -> 0
B64: =Maconnerie!C95 -> 0 | C64: =Charpente!C67 -> 0 | E64: =Menuiseries_exterieures!C67 -> 0 | F64: =Platrerie!C67 -> 0 | G64: =Electricité!C67 -> 0 | H64: =PLOMBERIE!C67 -> 0 | I64: =Menuiseries_intérieures!C67 -> 0 | J64: =Sols!C67 -> 0 | K64: =Ossature_bois!C67 -> 0 | L64: =Peintures!C67 -> 0
B65: =Maconnerie!C96 -> 0 | C65: =Charpente!C68 -> 0 | E65: =Menuiseries_exterieures!C68 -> 0 | F65: =Platrerie!C68 -> 0 | G65: =Electricité!C68 -> 0 | H65: =PLOMBERIE!C68 -> 0 | I65: =Menuiseries_intérieures!C68 -> 0 | J65: =Sols!C68 -> 0 | K65: =Ossature_bois!C68 -> 0 | L65: =Peintures!C68 -> 0
B66: =Maconnerie!C97 -> 0 | C66: =Charpente!C69 -> 0 | E66: =Menuiseries_exterieures!C69 -> 0 | F66: =Platrerie!C69 -> 0 | G66: =Electricité!C69 -> 0 | H66: =PLOMBERIE!C69 -> 0 | I66: =Menuiseries_intérieures!C69 -> 0 | J66: =Sols!C69 -> 0 | K66: =Ossature_bois!C69 -> 0 | L66: =Peintures!C69 -> 0
B67: =Maconnerie!C98 -> 0 | C67: =Charpente!C70 -> 0 | E67: =Menuiseries_exterieures!C70 -> 0 | F67: =Platrerie!C70 -> 0 | G67: =Electricité!C70 -> 0 | H67: =PLOMBERIE!C70 -> 0 | I67: =Menuiseries_intérieures!C70 -> 0 | J67: =Sols!C70 -> 0 | K67: =Ossature_bois!C70 -> 0 | L67: =Peintures!C70 -> 0
B68: =Maconnerie!C99 -> 0 | C68: =Charpente!C71 -> 0 | E68: =Menuiseries_exterieures!C71 -> 0 | F68: =Platrerie!C71 -> 0 | G68: =Electricité!C71 -> 0 | H68: =PLOMBERIE!C71 -> 0 | I68: =Menuiseries_intérieures!C71 -> 0 | J68: =Sols!C71 -> 0 | K68: =Ossature_bois!C71 -> 0 | L68: =Peintures!C71 -> 0
B69: =Maconnerie!C100 -> 0 | C69: =Charpente!C72 -> 0 | E69: =Menuiseries_exterieures!C72 -> 0 | F69: =Platrerie!C72 -> 0 | G69: =Electricité!C72 -> 0 | H69: =PLOMBERIE!C72 -> 0 | I69: =Menuiseries_intérieures!C72 -> 0 | J69: =Sols!C72 -> 0 | K69: =Ossature_bois!C72 -> 0 | L69: =Peintures!C72 -> 0
B70: =Maconnerie!C101 -> 0 | C70: =Charpente!C73 -> 0 | E70: =Menuiseries_exterieures!C73 -> 0 | F70: =Platrerie!C73 -> 0 | G70: =Electricité!C73 -> 0 | H70: =PLOMBERIE!C73 -> 0 | I70: =Menuiseries_intérieures!C73 -> 0 | J70: =Sols!C73 -> 0 | K70: =Ossature_bois!C73 -> 0 | L70: =Peintures!C73 -> 0
B71: =Maconnerie!C102 -> 0 | C71: =Charpente!C74 -> 0 | E71: =Menuiseries_exterieures!C74 -> 0 | F71: =Platrerie!C74 -> 0 | G71: =Electricité!C74 -> 0 | H71: =PLOMBERIE!C74 -> 0 | I71: =Menuiseries_intérieures!C74 -> 0 | J71: =Sols!C74 -> 0 | K71: =Ossature_bois!C74 -> 0 | L71: =Peintures!C74 -> 0
B72: =Maconnerie!C103 -> 0 | C72: =Charpente!C75 -> 0 | E72: =Menuiseries_exterieures!C75 -> 0 | F72: =Platrerie!C75 -> 0 | G72: =Electricité!C75 -> 0 | H72: =PLOMBERIE!C75 -> 0 | I72: =Menuiseries_intérieures!C75 -> 0 | J72: =Sols!C75 -> 0 | K72: =Ossature_bois!C75 -> 0 | L72: =Peintures!C75 -> 0
B73: =Maconnerie!C104 -> 0 | C73: =Charpente!C76 -> 0 | E73: =Menuiseries_exterieures!C76 -> 0 | F73: =Platrerie!C76 -> 0 | G73: =Electricité!C76 -> 0 | H73: =PLOMBERIE!C76 -> 0 | I73: =Menuiseries_intérieures!C76 -> 0 | J73: =Sols!C76 -> 0 | K73: =Ossature_bois!C76 -> 0 | L73: =Peintures!C76 -> 0
... B501: =Maconnerie!C532 -> 0 | C501: =Charpente!C504 -> 0 | E501: =Menuiseries_exterieures!C504 -> 0 | F501: =Platrerie!C504 -> 0 | G501: =Electricité!C504 -> 0 | H501: =PLOMBERIE!C504 -> 0 | I501: =Menuiseries_intérieures!C504 -> 0 | J501: =Sols!C504 -> 0 | K501: =Ossature_bois!C504 -> 0 | L501: =Peintures!C504 -> 0
B502: =Maconnerie!C533 -> 0 | C502: =Charpente!C505 -> 0
B503: =Maconnerie!C534 -> 0 | C503: =Charpente!C506 -> 0
B504: =Maconnerie!C535 -> 0 | C504: =Charpente!C507 -> 0
B505: =Maconnerie!C536 -> 0 | C505: =Charpente!C508 -> 0
B506: =Maconnerie!C537 -> 0 | C506: =Charpente!C509 -> 0
B507: =Maconnerie!C538 -> 0 | C507: =Charpente!C510 -> 0
B508: =Maconnerie!C539 -> 0 | C508: =Charpente!C511 -> 0
B509: =Maconnerie!C540 -> 0 | C509: =Charpente!C512 -> 0
B510: =Maconnerie!C541 -> 0 | C510: =Charpente!C513 -> 0
B511: =Maconnerie!C542 -> 0 | C511: =Charpente!C514 -> 0
B512: =Maconnerie!C543 -> 0 | C512: =Charpente!C515 -> 0
B513: =Maconnerie!C544 -> 0 | C513: =Charpente!C516 -> 0
... B552: =Maconnerie!C583 -> 0 | C552: =Charpente!C555 -> 0
B553: =Maconnerie!C584 -> 0 | C553: =Charpente!C556 -> 0 | D553: =Couverture!C557 -> 0
B554: =Maconnerie!C585 -> 0 | C554: =Charpente!C557 -> 0 | D554: =Couverture!C558 -> 0
B555: =Maconnerie!C586 -> 0 | C555: =Charpente!C558 -> 0 | D555: =Couverture!C559 -> 0
B556: =Maconnerie!C587 -> 0 | C556: =Charpente!C559 -> 0 | D556: =Couverture!C560 -> 0
B557: =Maconnerie!C588 -> 0 | C557: =Charpente!C560 -> 0 | D557: =Couverture!C561 -> 0
B558: =Maconnerie!C589 -> 0 | C558: =Charpente!C561 -> 0 | D558: =Couverture!C562 -> 0
B559: =Maconnerie!C590 -> 0 | C559: =Charpente!C562 -> 0 | D559: =Couverture!C563 -> 0
B560: =Maconnerie!C591 -> 0 | C560: =Charpente!C563 -> 0 | D560: =Couverture!C564 -> 0
B561: =Maconnerie!C592 -> 0 | C561: =Charpente!C564 -> 0 | D561: =Couverture!C565 -> 0
B562: =Maconnerie!C593 -> 0 | C562: =Charpente!C565 -> 0 | D562: =Couverture!C566 -> 0
B563: =Maconnerie!C594 -> 0 | C563: =Charpente!C566 -> 0 | D563: =Couverture!C567 -> 0
B564: =Maconnerie!C595 -> 0 | C564: =Charpente!C567 -> 0 | D564: =Couverture!C568 -> 0
... B575: =Maconnerie!C606 -> 0 | C575: =Charpente!C578 -> 0 | D575: =Couverture!C579 -> 0

Sheet Maconnerie
A1: MACONNERIE
A3: Type | B3: Deoulement | C3: Intitulé | E3: U | F3: PU1 | G3: PU2 | H3: PU3 | I3: PU4 | J3: PU5 | K3: PU Moyen | L3: Quantité | M3: TARIF
F4: (€) | G4: (€) | H4: (€) | I4: (€) | J4: (€) | K4: (€)
A7: NEUF | C7: Etude beton | D7: =K7 -> 830 | E7: f | F7: 830 | K7: =IF(ISERROR(AVERAGE(F7:J7)),"0",(AVERAGE(F7:J7))) -> 830 | M7: =L7*K7 -> 0
A8: NEUF | C8: Implantation | D8: =K8 -> 550 | E8: f | G8: 550 | K8: =IF(ISERROR(AVERAGE(F8:J8)),"0",(AVERAGE(F8:J8))) -> 550 | M8: =L8*K8 -> 0
A9: NEUF | C9: Decapage terrain | D9: =K9 -> 11.3 | E9: m2 | F9: 11.3 | K9: =IF(ISERROR(AVERAGE(F9:J9)),"0",(AVERAGE(F9:J9))) -> 11.3 | M9: =L9*K9 -> 0
A10: NEUF | C10: Fouilles en rigole | D10: =K10 -> 46.77 | E10: m3 | F10: 46.77 | K10: =IF(ISERROR(AVERAGE(F10:J10)),"0",(AVERAGE(F10:J10))) -> 46.77 | M10: =L10*K10 -> 0
A11: NEUF | C11: Semelles BA 50x30 | D11: =K11 -> 376.5 | E11: m3 | F11: 280 | G11: 473 | K11: =IF(ISERROR(AVERAGE(F11:J11)),"0",(AVERAGE(F11:J11))) -> 376.5 | M11: =L11*K11 -> 0
A12: NEUF | C12: Fondations agglo B60 20x50x20 | D12: =K12 -> 70.8 | E12: m2 | F12: 48 | G12: 93.6 | K12: =IF(ISERROR(AVERAGE(F12:J12)),"0",(AVERAGE(F12:J12))) -> 70.8 | M12: =L12*K12 -> 0
A13: NEUF | C13: Evacuations sous dallage (Ø100) | D13: =K13 -> 15.53 | E13: ml | F13: 15.53 | K13: =IF(ISERROR(AVERAGE(F13:J13)),"0",(AVERAGE(F13:J13))) -> 15.53 | M13: =L13*K13 -> 0
A14: NEUF | C14: Remblai sur 30cm | D14: =K14 -> 26.15 | E14: m2 | F14: 23 | G14: 29.3 | K14: =IF(ISERROR(AVERAGE(F14:J14)),"0",(AVERAGE(F14:J14))) -> 26.15 | M14: =L14*K14 -> 0
A15: NEUF | C15: Isolation sous dallage 80 mm | D15: =K15 -> 0 | E15: m² | F15: 20.43
A16: NEUF | C16: Polyane | D16: =K16 -> 8.075 | E16: m2 | F16: 6.85 | G16: 9.3 | K16: =IF(ISERROR(AVERAGE(F16:J16)),"0",(AVERAGE(F16:J16))) -> 8.075 | M16: =L16*K16 -> 0
A17: NEUF | C17: Dalle beton (y compris planelles) | D17: =K17 -> 46.675 | E17: m2 | F17: 35.2 | G17: 58.15 | K17: =IF(ISERROR(AVERAGE(F17:J17)),"0",(AVERAGE(F17:J17))) -> 46.675 | M17: =L17*K17 -> 0
A18: NEUF | C18: Enduit de sous bassement hydrofuge | D18: =K18 -> 37.735 | E18: m2 | F18: 24.37 | G18: 51.1 | K18: =IF(ISERROR(AVERAGE(F18:J18)),"0",(AVERAGE(F18:J18))) -> 37.735 | M18: =L18*K18 -> 0
A19: NEUF | C19: Etancheité en sous bassement | D19: =K19 -> 8.72 | E19: m2 | F19: 4.09 | G19: 13.35 | K19: =IF(ISERROR(AVERAGE(F19:J19)),"0",(AVERAGE(F19:J19))) -> 8.72 | M19: =L19*K19 -> 0
A20: NEUF | C20: Arase etanche | D20: =K20 -> 2.245 | E20: ml | F20: 1.74 | G20: 2.75 | K20: =IF(ISERROR(AVERAGE(F20:J20)),"0",(AVERAGE(F20:J20))) -> 2.245 | M20: =L20*K20 -> 0
A21: LES 2 | C21: Maconnerie agglo creux 20 | D21: =K21 -> 48.535 | E21: m2 | F21: 42 | G21: 55.07 | K21: =IF(ISERROR(AVERAGE(F21:J21)),"0",(AVERAGE(F21:J21))) -> 48.535 | M21: =L21*K21 -> 0
A22: LES 2 | C22: Plancher beton poutrelles hourdis | D22: =K22 -> 88 | E22: m2 | F22: 88 | K22: =IF(ISERROR(AVERAGE(F22:J22)),"0",(AVERAGE(F22:J22))) -> 88 | M22: =L22*K22 -> 0
A23: NEUF | C23: Rampannage | D23: =K23 -> 29 | E23: ml | F23: 29 | K23: =IF(ISERROR(AVERAGE(F23:J23)),"0",(AVERAGE(F23:J23))) -> 29 | M23: =L23*K23 -> 0
D24: =K24 -> 0
A25: LES 2 | C25: Degrossi | D25: =K25 -> 16.8 | E25: m2 | F25: 16.8 | K25: =IF(ISERROR(AVERAGE(F25:J25)),"0",(AVERAGE(F25:J25))) -> 16.8 | M25: =L25*K25 -> 0
A26: LES 2 | C26: Enduit taloché sur tableau | D26: =K26 -> 22 | E26: m2 | F26: 22 | K26: =IF(ISERROR(AVERAGE(F26:J26)),"0",(AVERAGE(F26:J26))) -> 22 | M26: =L26*K26 -> 0
A27: LES 2 | C27: Enduit taloché | D27: =K27 -> 32 | E27: m2 | F27: 32 | K27: =IF(ISERROR(AVERAGE(F27:J27)),"0",(AVERAGE(F27:J27))) -> 32 | M27: =L27*K27 -> 0
A28: LES 2 | C28: Seuils | D28: =K28 -> 74.79 | E28: ml | F28: 75.08 | G28: 74.5 | K28: =IF(ISERROR(AVERAGE(F28:J28)),"0",(AVERAGE(F28:J28))) -> 74.79 | M28: =L28*K28 -> 0
A29: LES 2 | C29: Appuis | D29: =K29 -> 113.315 | E29: ml | F29: 76.63 | G29: 150 | K29: =IF(ISERROR(AVERAGE(F29:J29)),"0",(AVERAGE(F29:J29))) -> 113.315 | M29: =L29*K29 -> 0
A30: LES 2 | C30: Enduit monocouche gratté | D30: =K30 -> 26.5 | E30: m² | G30: 26.5 | K30: =IF(ISERROR(AVERAGE(F30:J30)),"0",(AVERAGE(F30:J30))) -> 26.5 | M30: =L30*K30 -> 0
A31: LES 2 | C31: Enduit tableau | D31: =K31 -> 19 | E31: ml | G31: 19 | K31: =IF(ISERROR(AVERAGE(F31:J31)),"0",(AVERAGE(F31:J31))) -> 19 | M31: =L31*K31 -> 0
A32: LES 2 | C32: Joint de dilatation enduit | D32: =K32 -> 65.5 | E32: ml | G32: 65.5 | K32: =IF(ISERROR(AVERAGE(F32:J32)),"0",(AVERAGE(F32:J32))) -> 65.5 | M32: =L32*K32 -> 0
D33: =K33 -> 0
D34: =K34 -> 0
A35: NEUF | C35: Bandes de dressement | D35: =K35 -> 16.8 | E35: ml | F35: 14.5 | G35: 19.1 | K35: =IF(ISERROR(AVERAGE(F35:J35)),"0",(AVERAGE(F35:J35))) -> 16.8 | M35: =L35*K35 -> 0
A36: NEUF | C36: Regard EP | D36: =K36 -> 37.28 | E36: u | F36: 37.28 | K36: =IF(ISERROR(AVERAGE(F36:J36)),"0",(AVERAGE(F36:J36))) -> 37.28 | M36: =L36*K36 -> 0
A37: NEUF | C37: Chainage beton armé | D37: =K37 -> 603.965 | E37: m3 | F37: 570.93 | G37: 637 | K37: =IF(ISERROR(AVERAGE(F37:J37)),"0",(AVERAGE(F37:J37))) -> 603.965 | M37: =L37*K37 -> 0
A38: NEUF | C38: Linteau beton armé | D38: =K38 -> 652.27 | E38: m3 | F38: 652.27 | K38: =IF(ISERROR(AVERAGE(F38:J38)),"0",(AVERAGE(F38:J38))) -> 652.27 | M38: =L38*K38 -> 0
A39: NEUF | C39: Pose coffre VR | D39: =K39 -> 46 | E39: u | F39: 37 | G39: 55 | K39: =IF(ISERROR(AVERAGE(F39:J39)),"0",(AVERAGE(F39:J39))) -> 46 | M39: =L39*K39 -> 0
D40: =K40 -> 0
D41: =K41 -> 0
A42: LES 2 | C42: Ouverture mur porteur | D42: =K42 -> 780 | E42: f | F42: 780 | K42: =IF(ISERROR(AVERAGE(F42:J42)),"0",(AVERAGE(F42:J42))) -> 780 | M42: =L42*K42 -> 0
A43: LES 2 | C43: Supression d'un mur porteur sur 2m et pose IPN | D43: =K43 -> 1900 | E43: f | F43: 1900 | K43: =IF(ISERROR(AVERAGE(F43:J43)),"0",(AVERAGE(F43:J43))) -> 1900 | M43: =L43*K43 -> 0
A44: RENOVATION | C44: Ouverture plancher pour pose d'un escalier | D44: =K44 -> 1810 | E44: f | F44: 1810 | K44: =IF(ISERROR(AVERAGE(F44:J44)),"0",(AVERAGE(F44:J44))) -> 1810 | M44: =L44*K44 -> 0
D45: =K45 -> 0
D46: =K46 -> 0
D47: =K47 -> 0
D48: =K48 -> 0
D49: =K49 -> 0
D50: =K50 -> 0
D51: =K51 -> 0
D52: =K52 -> 0
D53: =K53 -> 0
D54: =K54 -> 0
D55: =K55 -> 0
D56: =K56 -> 0
... D100: =K100 -> 0

Sheet Charpente
A1: CHARPENTE | G1: NEUF
B3: Poste | C3: Intitulé | D3: U | E3: PU1 | F3: PU2 | G3: PU3 | H3: PU4 | I3: PU5 | J3: PU Moyen
C4: A détailler au maxium | E4: (€) | F4: (€) | G4: (€) | H4: (€) | I4: (€) | J4: (€)
C6: Installation de chantier | J6: =IF(ISERROR(AVERAGE(E6:I6)),"0",(AVERAGE(E6:I6))) -> 0
C7: Charpente traditionnelle | D7: m² | E7: 43 | J7: =IF(ISERROR(AVERAGE(E7:I7)),"0",(AVERAGE(E7:I7))) -> 43
C8: Lincoir | D8: u | E8: 70 | J8: =IF(ISERROR(AVERAGE(E8:I8)),"0",(AVERAGE(E8:I8))) -> 70
C9: Corniche sous face PVC blanc | D9: ml | E9: 35 | J9: =IF(ISERROR(AVERAGE(E9:I9)),"0",(AVERAGE(E9:I9))) -> 35
C10: Faux solivage | D10: ml | E10: 6.8 | J10: =IF(ISERROR(AVERAGE(E10:I10)),"0",(AVERAGE(E10:I10))) -> 6.8
C11: plancher osb 18mm | D11: m² | E11: 26 | J11: =IF(ISERROR(AVERAGE(E11:I11)),"0",(AVERAGE(E11:I11))) -> 26
C12: Tremie | D12: u | E12: 50 | J12: =IF(ISERROR(AVERAGE(E12:I12)),"0",(AVERAGE(E12:I12))) -> 50
C13: Solivage porteur en 38 x 200 entraxe 50 | D13: m² | E13: 23.7 | J13: =IF(ISERROR(AVERAGE(E13:I13)),"0",(AVERAGE(E13:I13))) -> 23.7
C14: Muraillere 45 x 220 | D14: ml | E14: 8.5 | J14: =IF(ISERROR(AVERAGE(E14:I14)),"0",(AVERAGE(E14:I14))) -> 8.5
J15: =IF(ISERROR(AVERAGE(E15:I15)),"0",(AVERAGE(E15:I15))) -> 0
J16: =IF(ISERROR(AVERAGE(E16:I16)),"0",(AVERAGE(E16:I16))) -> 0
J17: =IF(ISERROR(AVERAGE(E17:I17)),"0",(AVERAGE(E17:I17))) -> 0
J18: =IF(ISERROR(AVERAGE(E18:I18)),"0",(AVERAGE(E18:I18))) -> 0
J19: =IF(ISERROR(AVERAGE(E19:I19)),"0",(AVERAGE(E19:I19))) -> 0
J20: =IF(ISERROR(AVERAGE(E20:I20)),"0",(AVERAGE(E20:I20))) -> 0
J21: =IF(ISERROR(AVERAGE(E21:I21)),"0",(AVERAGE(E21:I21))) -> 0
J22: =IF(ISERROR(AVERAGE(E22:I22)),"0",(AVERAGE(E22:I22))) -> 0
J23: =IF(ISERROR(AVERAGE(E23:I23)),"0",(AVERAGE(E23:I23))) -> 0
J24: =IF(ISERROR(AVERAGE(E24:I24)),"0",(AVERAGE(E24:I24))) -> 0
J25: =IF(ISERROR(AVERAGE(E25:I25)),"0",(AVERAGE(E25:I25))) -> 0
J26: =IF(ISERROR(AVERAGE(E26:I26)),"0",(AVERAGE(E26:I26))) -> 0
... J50: =IF(ISERROR(AVERAGE(E50:I50)),"0",(AVERAGE(E50:I50))) -> 0

Sheet Couverture
A1: COUVERTURE | G1: NEUF
B3: Poste | C3: Intitulé | D3: U | E3: PU1 | F3: PU2 | G3: PU3 | H3: PU4 | I3: PU5 | J3: PU Moyen
C4: A détailler au maxium | E4: (€) | F4: (€) | G4: (€) | H4: (€) | I4: (€) | J4: (€)
J6: =IF(ISERROR(AVERAGE(E6:I6)),"0",(AVERAGE(E6:I6))) -> 0
C7: Echaffaudage de l'ensemble | D7: f | E7: 180 | J7: =IF(ISERROR(AVERAGE(E7:I7)),"0",(AVERAGE(E7:I7))) -> 180
C8: Couverture ardoises naturelles d'Espagne sur liteaux sapin avec crochets inox | D8: m2 | E8: 48.5 | F8: 53.42 | J8: =IF(ISERROR(AVERAGE(E8:I8)),"0",(AVERAGE(E8:I8))) -> 50.96
C9: Faitage en tuile à emboitement | D9: ml | E9: 22 | F9: 26.38 | J9: =IF(ISERROR(AVERAGE(E9:I9)),"0",(AVERAGE(E9:I9))) -> 24.19
C10: Raccord avec toiture existante | D10: ml | E10: 15 | J10: =IF(ISERROR(AVERAGE(E10:I10)),"0",(AVERAGE(E10:I10))) -> 15
C11: Couverture des chevrons de rive | D11: ml | E11: 8.5 | J11: =IF(ISERROR(AVERAGE(E11:I11)),"0",(AVERAGE(E11:I11))) -> 8.5
C12: Chatiere | D12: u | E12: 22 | F12: 107.34 | J12: =IF(ISERROR(AVERAGE(E12:I12)),"0",(AVERAGE(E12:I12))) -> 64.67
C13: Gouttiere nantaise en zing | D13: ml | E13: 50 | F13: 47.19 | J13: =IF(ISERROR(AVERAGE(E13:I13)),"0",(AVERAGE(E13:I13))) -> 48.595
C14: Tuyau de descente zing Ø80 | D14: ml | E14: 10.5 | F14: 25.88 | J14: =IF(ISERROR(AVERAGE(E14:I14)),"0",(AVERAGE(E14:I14))) -> 18.19
C15: Velux 114 x 118 encastré à projection | D15: u | E15: 800 | F15: 1105 | J15: =IF(ISERROR(AVERAGE(E15:I15)),"0",(AVERAGE(E15:I15))) -> 952.5
C16: Velux 78 x 98 encastré + store interieur electrique | D16: u | F16: 793
C17: Volet roulant electrique pour velux | D17: u | E17: 580 | J17: =IF(ISERROR(AVERAGE(E17:I17)),"0",(AVERAGE(E17:I17))) -> 580
C18: Sous toiture DELTA VENT y compris liteaunage | D18: m2 | F18: 5.05 | J18: =IF(ISERROR(AVERAGE(E18:I18)),"0",(AVERAGE(E18:I18))) -> 5.05
C19: Velux 114 x 118 en saillie à rotation | D19: u | E19: 660 | J19: =IF(ISERROR(AVERAGE(E19:I19)),"0",(AVERAGE(E19:I19))) -> 660
C20: Velux 78 x 98 en saillie à rotation | E20: 530 | J20: =IF(ISERROR(AVERAGE(E20:I20)),"0",(AVERAGE(E20:I20))) -> 530
C21: Store d'occultation interieur 114 x 118 | D21: u | E21: 112 | J21: =IF(ISERROR(AVERAGE(E21:I21)),"0",(AVERAGE(E21:I21))) -> 112
C22: Store d'occultation interieur 78 x 98 | D22: u | E22: 83 | J22: =IF(ISERROR(AVERAGE(E22:I22)),"0",(AVERAGE(E22:I22))) -> 83
C23: Volet roulant SOLAIRE pour velux 114 x 118 | D23: u | E23: 686 | J23: =IF(ISERROR(AVERAGE(E23:I23)),"0",(AVERAGE(E23:I23))) -> 686
J24: =IF(ISERROR(AVERAGE(E24:I24)),"0",(AVERAGE(E24:I24))) -> 0
J25: =IF(ISERROR(AVERAGE(E25:I25)),"0",(AVERAGE(E25:I25))) -> 0
J26: =IF(ISERROR(AVERAGE(E26:I26)),"0",(AVERAGE(E26:I26))) -> 0
J27: =IF(ISERROR(AVERAGE(E27:I27)),"0",(AVERAGE(E27:I27))) -> 0
J28: =IF(ISERROR(AVERAGE(E28:I28)),"0",(AVERAGE(E28:I28))) -> 0
J29: =IF(ISERROR(AVERAGE(E29:I29)),"0",(AVERAGE(E29:I29))) -> 0
J30: =IF(ISERROR(AVERAGE(E30:I30)),"0",(AVERAGE(E30:I30))) -> 0
J31: =IF(ISERROR(AVERAGE(E31:I31)),"0",(AVERAGE(E31:I31))) -> 0
J32: =IF(ISERROR(AVERAGE(E32:I32)),"0",(AVERAGE(E32:I32))) -> 0
J33: =IF(ISERROR(AVERAGE(E33:I33)),"0",(AVERAGE(E33:I33))) -> 0
J34: =IF(ISERROR(AVERAGE(E34:I34)),"0",(AVERAGE(E34:I34))) -> 0
J35: =IF(ISERROR(AVERAGE(E35:I35)),"0",(AVERAGE(E35:I35))) -> 0
... J51: =IF(ISERROR(AVERAGE(E51:I51)),"0",(AVERAGE(E51:I51))) -> 0

Sheet Menuiseries_exterieures
A1: MENUISERIES EXTERIEURES | G1: NEUF
B3: Poste | C3: Intitulé | D3: U | E3: PU1 | F3: PU2 | G3: PU3 | H3: PU4 | I3: PU5 | J3: PU Moyen
C4: A détailler au maxium | E4: (€) | F4: (€) | G4: (€) | H4: (€) | I4: (€) | J4: (€)
J6: =IF(ISERROR(AVERAGE(E6:I6)),"0",(AVERAGE(E6:I6))) -> 0
C7: Menuiseries tapée de 140 ALU RAL9010 vitrage 4/20/4 | J7: =IF(ISERROR(AVERAGE(E7:I7)),"0",(AVERAGE(E7:I7))) -> 0
C8: 2 vtx 120 x 115 | D8: u | E8: 824 | J8: =IF(ISERROR(AVERAGE(E8:I8)),"0",(AVERAGE(E8:I8))) -> 824
C9: 1 vt 60 x 215 vitrage imprimé | D9: u | E9: 772 | J9: =IF(ISERROR(AVERAGE(E9:I9)),"0",(AVERAGE(E9:I9))) -> 772
C10: Baie coulissante 200 x 215 | D10: u | E10: 1096 | J10: =IF(ISERROR(AVERAGE(E10:I10)),"0",(AVERAGE(E10:I10))) -> 1096
J11: =IF(ISERROR(AVERAGE(E11:I11)),"0",(AVERAGE(E11:I11))) -> 0
C12: Porte de garage sectionnelle 200 x 240 motorisation electrique | D12: u | E12: 2190 | J12: =IF(ISERROR(AVERAGE(E12:I12)),"0",(AVERAGE(E12:I12))) -> 2190
C13: Porte de service PVC blanc 150 x 200 | D13: u | E13: 850 | J13: =IF(ISERROR(AVERAGE(E13:I13)),"0",(AVERAGE(E13:I13))) -> 850
C14: Porte de service ALU 150 x 200 | D14: u | E14: 1560 | J14: =IF(ISERROR(AVERAGE(E14:I14)),"0",(AVERAGE(E14:I14))) -> 1560
C15: Fenetre 80 x 95 PVC blanc vitrage 44.2 | D15: u | E15: 330 | J15: =IF(ISERROR(AVERAGE(E15:I15)),"0",(AVERAGE(E15:I15))) -> 330
J16: =IF(ISERROR(AVERAGE(E16:I16)),"0",(AVERAGE(E16:I16))) -> 0
J17: =IF(ISERROR(AVERAGE(E17:I17)),"0",(AVERAGE(E17:I17))) -> 0
J18: =IF(ISERROR(AVERAGE(E18:I18)),"0",(AVERAGE(E18:I18))) -> 0
J19: =IF(ISERROR(AVERAGE(E19:I19)),"0",(AVERAGE(E19:I19))) -> 0
J20: =IF(ISERROR(AVERAGE(E20:I20)),"0",(AVERAGE(E20:I20))) -> 0
J21: =IF(ISERROR(AVERAGE(E21:I21)),"0",(AVERAGE(E21:I21))) -> 0
J22: =IF(ISERROR(AVERAGE(E22:I22)),"0",(AVERAGE(E22:I22))) -> 0
J23: =IF(ISERROR(AVERAGE(E23:I23)),"0",(AVERAGE(E23:I23))) -> 0
J24: =IF(ISERROR(AVERAGE(E24:I24)),"0",(AVERAGE(E24:I24))) -> 0
J25: =IF(ISERROR(AVERAGE(E25:I25)),"0",(AVERAGE(E25:I25))) -> 0
B26: Volets roulants | J26: =IF(ISERROR(AVERAGE(E26:I26)),"0",(AVERAGE(E26:I26))) -> 0
C27: Volets roulants dans coffres tunnels tablier PVC motorisation electrique filaire | J27: =IF(ISERROR(AVERAGE(E27:I27)),"0",(AVERAGE(E27:I27))) -> 0
C28: 120 x 115 | D28: u | E28: 362 | J28: =IF(ISERROR(AVERAGE(E28:I28)),"0",(AVERAGE(E28:I28))) -> 362
C29: 65 x 215 | D29: u | E29: 357 | J29: =IF(ISERROR(AVERAGE(E29:I29)),"0",(AVERAGE(E29:I29))) -> 357
C30: 200 x 215 | D30: u | E30: 570 | J30: =IF(ISERROR(AVERAGE(E30:I30)),"0",(AVERAGE(E30:I30))) -> 570
J31: =IF(ISERROR(AVERAGE(E31:I31)),"0",(AVERAGE(E31:I31))) -> 0
J32: =IF(ISERROR(AVERAGE(E32:I32)),"0",(AVERAGE(E32:I32))) -> 0
J33: =IF(ISERROR(AVERAGE(E33:I33)),"0",(AVERAGE(E33:I33))) -> 0
J34: =IF(ISERROR(AVERAGE(E34:I34)),"0",(AVERAGE(E34:I34))) -> 0
J35: =IF(ISERROR(AVERAGE(E35:I35)),"0",(AVERAGE(E35:I35))) -> 0
J36: =IF(ISERROR(AVERAGE(E36:I36)),"0",(AVERAGE(E36:I36))) -> 0
J37: =IF(ISERROR(AVERAGE(E37:I37)),"0",(AVERAGE(E37:I37))) -> 0
J38: =IF(ISERROR(AVERAGE(E38:I38)),"0",(AVERAGE(E38:I38))) -> 0
J39: =IF(ISERROR(AVERAGE(E39:I39)),"0",(AVERAGE(E39:I39))) -> 0
J40: =IF(ISERROR(AVERAGE(E40:I40)),"0",(AVERAGE(E40:I40))) -> 0
J41: =IF(ISERROR(AVERAGE(E41:I41)),"0",(AVERAGE(E41:I41))) -> 0
J42: =IF(ISERROR(AVERAGE(E42:I42)),"0",(AVERAGE(E42:I42))) -> 0
... J50: =IF(ISERROR(AVERAGE(E50:I50)),"0",(AVERAGE(E50:I50))) -> 0

Sheet Electricité
A1: ELECTRICITE | C1: Electricite | G1: NEUF | O1: RENOVATION
B3: Poste | C3: Intitulé | D3: U | E3: PU1 | F3: PU2 | G3: PU3 | H3: PU4 | I3: PU5 | J3: PU Moyen | L3: U | M3: PU1 | N3: PU2 | O3: PU3 | P3: PU4 | Q3: PU5 | R3: PU Moyen
C4: A détailler au maxium | E4: (€) | F4: (€) | G4: (€) | H4: (€) | I4: (€) | J4: (€) | M4: (€) | N4: (€) | O4: (€) | P4: (€) | Q4: (€) | R4: (€)
J6: =IF(ISERROR(AVERAGE(E6:I6)),"0",(AVERAGE(E6:I6))) -> 0
C7: Lampe en va et vient | D7: u | E7: 82.07 | F7: 84.51 | J7: =IF(ISERROR(AVERAGE(E7:I7)),"0",(AVERAGE(E7:I7))) -> 83.29 | L7: u | M7: 104.49 | R7: =IF(ISERROR(AVERAGE(M7:Q7)),"0",(AVERAGE(M7:Q7))) -> 104.49
C8: Prise de courant 2P+T | D8: u | E8: 47.46 | F8: 37.66 | J8: =IF(ISERROR(AVERAGE(E8:I8)),"0",(AVERAGE(E8:I8))) -> 42.56 | L8: u | M8: 58.53 | R8: =IF(ISERROR(AVERAGE(M8:Q8)),"0",(AVERAGE(M8:Q8))) -> 58.53
C9: Prise de courant 2P sans TERRE | L9: u | M9: 62.97 | R9: =IF(ISERROR(AVERAGE(M9:Q9)),"0",(AVERAGE(M9:Q9))) -> 62.97
C10: Alimentation volet roulant avec bouton | D10: u | E10: 53.07 | J10: =IF(ISERROR(AVERAGE(E10:I10)),"0",(AVERAGE(E10:I10))) -> 53.07 | L10: u | R10: =IF(ISERROR(AVERAGE(M10:Q10)),"0",(AVERAGE(M10:Q10))) -> 0
C11: Alimentation volet roulant sans bouton | D11: u | E11: 54.82 | J11: =IF(ISERROR(AVERAGE(E11:I11)),"0",(AVERAGE(E11:I11))) -> 54.82 | L11: u | R11: =IF(ISERROR(AVERAGE(M11:Q11)),"0",(AVERAGE(M11:Q11))) -> 0
C12: Spot orientable 7w LED | D12: u | E12: 70.4 | J12: =IF(ISERROR(AVERAGE(E12:I12)),"0",(AVERAGE(E12:I12))) -> 70.4 | L12: u | M12: 80.71 | R12: =IF(ISERROR(AVERAGE(M12:Q12)),"0",(AVERAGE(M12:Q12))) -> 80.71
C13: Lampe en simple allumage | D13: u | E13: 65.84 | F13: 51 | J13: =IF(ISERROR(AVERAGE(E13:I13)),"0",(AVERAGE(E13:I13))) -> 58.42 | L13: u | R13: =IF(ISERROR(AVERAGE(M13:Q13)),"0",(AVERAGE(M13:Q13))) -> 0
C14: Lampe sur 3 boutons poussoir | D14: u | E14: 132 | F14: 126.25 | J14: =IF(ISERROR(AVERAGE(E14:I14)),"0",(AVERAGE(E14:I14))) -> 129.125 | L14: u | M14: 150.1 | R14: =IF(ISERROR(AVERAGE(M14:Q14)),"0",(AVERAGE(M14:Q14))) -> 150.1
C15: Prise TV | D15: u | E15: 94.74 | F15: 61.17 | J15: =IF(ISERROR(AVERAGE(E15:I15)),"0",(AVERAGE(E15:I15))) -> 77.955 | L15: u | R15: =IF(ISERROR(AVERAGE(M15:Q15)),"0",(AVERAGE(M15:Q15))) -> 0
C16: Prise telephonique RJ45 | D16: u | E16: 111.57 | F16: 50.15 | J16: =IF(ISERROR(AVERAGE(F16:I16)),"0",(AVERAGE(F16:I16))) -> 50.15 | L16: u | M16: 102.88 | R16: =IF(ISERROR(AVERAGE(M16:Q16)),"0",(AVERAGE(M16:Q16))) -> 102.88
C17: Alimentation convecteur electrique | D17: u | E17: 66.63 | F17: 52.62 | J17: =IF(ISERROR(AVERAGE(E17:I17)),"0",(AVERAGE(E17:I17))) -> 59.625 | L17: u | M17: 88.46 | R17: =IF(ISERROR(AVERAGE(M17:Q17)),"0",(AVERAGE(M17:Q17))) -> 88.46
C18: VMC Hygro B avec reseau en gaine isolé Ø25mm | D18: u | E18: 509.26 | F18: 508.27 | J18: =IF(ISERROR(AVERAGE(E18:I18)),"0",(AVERAGE(E18:I18))) -> 508.765 | L18: u | M18: 726.28 | R18: =IF(ISERROR(AVERAGE(M18:Q18)),"0",(AVERAGE(M18:Q18))) -> 726.28
C19: Tableau electrique 3ch + 1sdb | D19: u | E19: 426.63 | F19: 491.15 | J19: =IF(ISERROR(AVERAGE(E19:I19)),"0",(AVERAGE(E19:I19))) -> 458.89 | L19: u | M19: 792.61 | R19: =IF(ISERROR(AVERAGE(M19:Q19)),"0",(AVERAGE(M19:Q19))) -> 792.61
C20: Convecteur SOLIUS blanc 1500w | D20: u | F20: 216.05 | J20: =IF(ISERROR(AVERAGE(E20:I20)),"0",(AVERAGE(E20:I20))) -> 216.05 | L20: u | M20: 216.05 | R20: =IF(ISERROR(AVERAGE(M20:Q20)),"0",(AVERAGE(M20:Q20))) -> 216.05
C21: Convecteur SOLIUS blanc 2000w vertical | D21: u | F21: 266.75 | J21: =IF(ISERROR(AVERAGE(E21:I21)),"0",(AVERAGE(E21:I21))) -> 266.75 | L21: u | M21: 266.75 | R21: =IF(ISERROR(AVERAGE(M21:Q21)),"0",(AVERAGE(M21:Q21))) -> 266.75
C22: Seche serviette 500w | D22: u | F22: 204.35 | J22: =IF(ISERROR(AVERAGE(E22:I22)),"0",(AVERAGE(E22:I22))) -> 204.35 | L22: u | M22: 906.04 | R22: =IF(ISERROR(AVERAGE(M22:Q22)),"0",(AVERAGE(M22:Q22))) -> 906.04
C23: Bloc 6 prises de courant | D23: u | J23: =IF(ISERROR(AVERAGE(E23:I23)),"0",(AVERAGE(E23:I23))) -> 0 | L23: u | M23: 195 | R23: =IF(ISERROR(AVERAGE(M23:Q23)),"0",(AVERAGE(M23:Q23))) -> 195
J24: =IF(ISERROR(AVERAGE(E24:I24)),"0",(AVERAGE(E24:I24))) -> 0 | R24: =IF(ISERROR(AVERAGE(M24:Q24)),"0",(AVERAGE(M24:Q24))) -> 0
J25: =IF(ISERROR(AVERAGE(E25:I25)),"0",(AVERAGE(E25:I25))) -> 0 | R25: =IF(ISERROR(AVERAGE(M25:Q25)),"0",(AVERAGE(M25:Q25))) -> 0
J26: =IF(ISERROR(AVERAGE(E26:I26)),"0",(AVERAGE(E26:I26))) -> 0 | R26: =IF(ISERROR(AVERAGE(M26:Q26)),"0",(AVERAGE(M26:Q26))) -> 0
J27: =IF(ISERROR(AVERAGE(E27:I27)),"0",(AVERAGE(E27:I27))) -> 0 | R27: =IF(ISERROR(AVERAGE(M27:Q27)),"0",(AVERAGE(M27:Q27))) -> 0
J28: =IF(ISERROR(AVERAGE(E28:I28)),"0",(AVERAGE(E28:I28))) -> 0 | R28: =IF(ISERROR(AVERAGE(M28:Q28)),"0",(AVERAGE(M28:Q28))) -> 0
J29: =IF(ISERROR(AVERAGE(E29:I29)),"0",(AVERAGE(E29:I29))) -> 0 | R29: =IF(ISERROR(AVERAGE(M29:Q29)),"0",(AVERAGE(M29:Q29))) -> 0
J30: =IF(ISERROR(AVERAGE(E30:I30)),"0",(AVERAGE(E30:I30))) -> 0 | R30: =IF(ISERROR(AVERAGE(M30:Q30)),"0",(AVERAGE(M30:Q30))) -> 0
J31: =IF(ISERROR(AVERAGE(E31:I31)),"0",(AVERAGE(E31:I31))) -> 0 | R31: =IF(ISERROR(AVERAGE(M31:Q31)),"0",(AVERAGE(M31:Q31))) -> 0
J32: =IF(ISERROR(AVERAGE(E32:I32)),"0",(AVERAGE(E32:I32))) -> 0 | R32: =IF(ISERROR(AVERAGE(M32:Q32)),"0",(AVERAGE(M32:Q32))) -> 0
J33: =IF(ISERROR(AVERAGE(E33:I33)),"0",(AVERAGE(E33:I33))) -> 0 | R33: =IF(ISERROR(AVERAGE(M33:Q33)),"0",(AVERAGE(M33:Q33))) -> 0
J34: =IF(ISERROR(AVERAGE(E34:I34)),"0",(AVERAGE(E34:I34))) -> 0 | R34: =IF(ISERROR(AVERAGE(M34:Q34)),"0",(AVERAGE(M34:Q34))) -> 0
J35: =IF(ISERROR(AVERAGE(E35:I35)),"0",(AVERAGE(E35:I35))) -> 0 | R35: =IF(ISERROR(AVERAGE(M35:Q35)),"0",(AVERAGE(M35:Q35))) -> 0
... J51: =IF(ISERROR(AVERAGE(E51:I51)),"0",(AVERAGE(E51:I51))) -> 0 | R51: =IF(ISERROR(AVERAGE(M51:Q51)),"0",(AVERAGE(M51:Q51))) -> 0

Sheet PLOMBERIE
A1: PLOMBERIE | G1: NEUF | O1: RENOVATION
B3: Poste | C3: Intitulé | D3: U | E3: PU1 | F3: PU2 | G3: PU3 | H3: PU4 | I3: PU5 | J3: PU Moyen | L3: U | M3: PU1 | N3: PU2 | O3: PU3 | P3: PU4 | Q3: PU5 | R3: PU Moyen
C4: A détailler au maxium | E4: (€) | F4: (€) | G4: (€) | H4: (€) | I4: (€) | J4: (€) | M4: (€) | N4: (€) | O4: (€) | P4: (€) | Q4: (€) | R4: (€)
J6: =IF(ISERROR(AVERAGE(E6:I6)),"0",(AVERAGE(E6:I6))) -> 0
C7: Chaudiere gaz a condensation DIETRICH 40 litres (MCR24/28) | D7: u | E7: 2310.53 | J7: =IF(ISERROR(AVERAGE(E7:I7)),"0",(AVERAGE(E7:I7))) -> 2310.53 | R7: =IF(ISERROR(AVERAGE(M7:Q7)),"0",(AVERAGE(M7:Q7))) -> 0
C8: Thermostat d'ambiance | D8: u | E8: 292.26 | J8: =IF(ISERROR(AVERAGE(E8:I8)),"0",(AVERAGE(E8:I8))) -> 292.26 | R8: =IF(ISERROR(AVERAGE(M8:Q8)),"0",(AVERAGE(M8:Q8))) -> 0
C9: Radiateur pour chaudiere gaz 600 x 600 1148 watts | D9: u | E9: 171 | J9: =IF(ISERROR(AVERAGE(E9:I9)),"0",(AVERAGE(E9:I9))) -> 171 | R9: =IF(ISERROR(AVERAGE(M9:Q9)),"0",(AVERAGE(M9:Q9))) -> 0
C10: radiateur pour chaudiere gaz 600 x 700 1340 watts | D10: u | E10: 199 | J10: =IF(ISERROR(AVERAGE(E10:I10)),"0",(AVERAGE(E10:I10))) -> 199 | R10: =IF(ISERROR(AVERAGE(M10:Q10)),"0",(AVERAGE(M10:Q10))) -> 0
C11: Seche serviette 500 watts | D11: u | E11: 221.61 | J11: =IF(ISERROR(AVERAGE(E11:I11)),"0",(AVERAGE(E11:I11))) -> 221.61 | R11: =IF(ISERROR(AVERAGE(M11:Q11)),"0",(AVERAGE(M11:Q11))) -> 0
J12: =IF(ISERROR(AVERAGE(E12:I12)),"0",(AVERAGE(E12:I12))) -> 0 | R12: =IF(ISERROR(AVERAGE(M12:Q12)),"0",(AVERAGE(M12:Q12))) -> 0
C13: Cuvette wc | D13: u | E13: 324.8 | J13: =IF(ISERROR(AVERAGE(E13:I13)),"0",(AVERAGE(E13:I13))) -> 324.8 | R13: =IF(ISERROR(AVERAGE(M13:Q13)),"0",(AVERAGE(M13:Q13))) -> 0
C14: Cuvette wc suspendue | D14: u | E14: 702.21 | J14: =IF(ISERROR(AVERAGE(E14:I14)),"0",(AVERAGE(E14:I14))) -> 702.21 | L14: u | M14: 611.43 | R14: =IF(ISERROR(AVERAGE(M14:Q14)),"0",(AVERAGE(M14:Q14))) -> 611.43
C15: Meuble vasque equipé | D15: u | E15: 897.19 | J15: =IF(ISERROR(AVERAGE(E15:I15)),"0",(AVERAGE(E15:I15))) -> 897.19 | R15: =IF(ISERROR(AVERAGE(M15:Q15)),"0",(AVERAGE(M15:Q15))) -> 0
C16: Receveur de douche extra plat equipé | D16: u | E16: 1069.97 | J16: =IF(ISERROR(AVERAGE(E16:I16)),"0",(AVERAGE(E16:I16))) -> 1069.97 | R16: =IF(ISERROR(AVERAGE(M16:Q16)),"0",(AVERAGE(M16:Q16))) -> 0
C17: Pare douche | D17: u | E17: 432.29 | J17: =IF(ISERROR(AVERAGE(E17:I17)),"0",(AVERAGE(E17:I17))) -> 432.29 | M17: 726.69 | R17: =IF(ISERROR(AVERAGE(M17:Q17)),"0",(AVERAGE(M17:Q17))) -> 726.69
C18: Chauffe eau 10l sous evier (hors raccordement elec) | D18: u | E18: 381.42 | J18: =IF(ISERROR(AVERAGE(E18:I18)),"0",(AVERAGE(E18:I18))) -> 381.42 | R18: =IF(ISERROR(AVERAGE(M18:Q18)),"0",(AVERAGE(M18:Q18))) -> 0
C19: Receveur 175 x 90 equipé | J19: =IF(ISERROR(AVERAGE(E19:I19)),"0",(AVERAGE(E19:I19))) -> 0 | L19: u | M19: 1817.93 | R19: =IF(ISERROR(AVERAGE(M19:Q19)),"0",(AVERAGE(M19:Q19))) -> 1817.93
J20: =IF(ISERROR(AVERAGE(E20:I20)),"0",(AVERAGE(E20:I20))) -> 0 | R20: =IF(ISERROR(AVERAGE(M20:Q20)),"0",(AVERAGE(M20:Q20))) -> 0
J21: =IF(ISERROR(AVERAGE(E21:I21)),"0",(AVERAGE(E21:I21))) -> 0 | R21: =IF(ISERROR(AVERAGE(M21:Q21)),"0",(AVERAGE(M21:Q21))) -> 0
J22: =IF(ISERROR(AVERAGE(E22:I22)),"0",(AVERAGE(E22:I22))) -> 0 | R22: =IF(ISERROR(AVERAGE(M22:Q22)),"0",(AVERAGE(M22:Q22))) -> 0
J23: =IF(ISERROR(AVERAGE(E23:I23)),"0",(AVERAGE(E23:I23))) -> 0 | R23: =IF(ISERROR(AVERAGE(M23:Q23)),"0",(AVERAGE(M23:Q23))) -> 0
J24: =IF(ISERROR(AVERAGE(E24:I24)),"0",(AVERAGE(E24:I24))) -> 0 | R24: =IF(ISERROR(AVERAGE(M24:Q24)),"0",(AVERAGE(M24:Q24))) -> 0
J25: =IF(ISERROR(AVERAGE(E25:I25)),"0",(AVERAGE(E25:I25))) -> 0 | R25: =IF(ISERROR(AVERAGE(M25:Q25)),"0",(AVERAGE(M25:Q25))) -> 0
J26: =IF(ISERROR(AVERAGE(E26:I26)),"0",(AVERAGE(E26:I26))) -> 0 | R26: =IF(ISERROR(AVERAGE(M26:Q26)),"0",(AVERAGE(M26:Q26))) -> 0
J27: =IF(ISERROR(AVERAGE(E27:I27)),"0",(AVERAGE(E27:I27))) -> 0 | R27: =IF(ISERROR(AVERAGE(M27:Q27)),"0",(AVERAGE(M27:Q27))) -> 0
J28: =IF(ISERROR(AVERAGE(E28:I28)),"0",(AVERAGE(E28:I28))) -> 0 | R28: =IF(ISERROR(AVERAGE(M28:Q28)),"0",(AVERAGE(M28:Q28))) -> 0
J29: =IF(ISERROR(AVERAGE(E29:I29)),"0",(AVERAGE(E29:I29))) -> 0 | R29: =IF(ISERROR(AVERAGE(M29:Q29)),"0",(AVERAGE(M29:Q29))) -> 0
J30: =IF(ISERROR(AVERAGE(E30:I30)),"0",(AVERAGE(E30:I30))) -> 0 | R30: =IF(ISERROR(AVERAGE(M30:Q30)),"0",(AVERAGE(M30:Q30))) -> 0
J31: =IF(ISERROR(AVERAGE(E31:I31)),"0",(AVERAGE(E31:I31))) -> 0 | R31: =IF(ISERROR(AVERAGE(M31:Q31)),"0",(AVERAGE(M31:Q31))) -> 0
... J51: =IF(ISERROR(AVERAGE(E51:I51)),"0",(AVERAGE(E51:I51))) -> 0 | R51: =IF(ISERROR(AVERAGE(M51:Q51)),"0",(AVERAGE(M51:Q51))) -> 0
R52: =IF(ISERROR(AVERAGE(M52:Q52)),"0",(AVERAGE(M52:Q52))) -> 0
R53: =IF(ISERROR(AVERAGE(M53:Q53)),"0",(AVERAGE(M53:Q53))) -> 0
R54: =IF(ISERROR(AVERAGE(M54:Q54)),"0",(AVERAGE(M54:Q54))) -> 0
R55: =IF(ISERROR(AVERAGE(M55:Q55)),"0",(AVERAGE(M55:Q55))) -> 0
R56: =IF(ISERROR(AVERAGE(M56:Q56)),"0",(AVERAGE(M56:Q56))) -> 0
R57: =IF(ISERROR(AVERAGE(M57:Q57)),"0",(AVERAGE(M57:Q57))) -> 0

Sheet Platrerie
A1: CLOISONS DOUBLAGE | G1: NEUF | O1: RENOVATION
B3: Poste | C3: Intitulé | D3: U | E3: PU1 | F3: PU2 | G3: PU3 | H3: PU4 | I3: PU5 | J3: PU Moyen | L3: U | M3: PU1 | N3: PU2 | O3: PU3 | P3: PU4 | Q3: PU5 | R3: PU Moyen
C4: A détailler au maxium | E4: (€) | F4: (€) | G4: (€) | H4: (€) | I4: (€) | J4: (€) | M4: (€) | N4: (€) | O4: (€) | P4: (€) | Q4: (€) | R4: (€)
J6: =IF(ISERROR(AVERAGE(E6:I6)),"0",(AVERAGE(E6:I6))) -> 0
C7: Isolation plancher bois en LDV 240mm R=6 | D7: m2 | E7: 13.5 | J7: =IF(ISERROR(AVERAGE(E7:I7)),"0",(AVERAGE(E7:I7))) -> 13.5 | R7: =IF(ISERROR(AVERAGE(M7:Q7)),"0",(AVERAGE(M7:Q7))) -> 0
C8: Isolation plafond LDV 300mm R=7.50 | D8: m2 | E8: 18.5 | G8: 14.64 | J8: =IF(ISERROR(AVERAGE(E8:I8)),"0",(AVERAGE(E8:I8))) -> 16.57 | R8: =IF(ISERROR(AVERAGE(M8:Q8)),"0",(AVERAGE(M8:Q8))) -> 0
C9: Plafond BA13 sur F530 RDC | D9: m2 | E9: 23 | J9: =IF(ISERROR(AVERAGE(E9:I9)),"0",(AVERAGE(E9:I9))) -> 23 | M9: 45 | R9: =IF(ISERROR(AVERAGE(M9:Q9)),"0",(AVERAGE(M9:Q9))) -> 45
C10: Plafond BA13 sur F530 R+1 | D10: m2 | E10: 27 | J10: =IF(ISERROR(AVERAGE(E10:I10)),"0",(AVERAGE(E10:I10))) -> 27 | R10: =IF(ISERROR(AVERAGE(M10:Q10)),"0",(AVERAGE(M10:Q10))) -> 0
C11: Habillage velux | D11: u | E11: 65 | F11: 90 | G11: 75 | J11: =IF(ISERROR(AVERAGE(E11:I11)),"0",(AVERAGE(E11:I11))) -> 76.666667 | R11: =IF(ISERROR(AVERAGE(M11:Q11)),"0",(AVERAGE(M11:Q11))) -> 0
C12: Doublage placo 13mm + LDV 120mm R=3.75 | D12: m2 | E12: 38.5 | J12: =IF(ISERROR(AVERAGE(E12:I12)),"0",(AVERAGE(E12:I12))) -> 38.5 | R12: =IF(ISERROR(AVERAGE(M12:Q12)),"0",(AVERAGE(M12:Q12))) -> 0
C13: Cloisons 78/48 en BA13 isolation avec PAR45 | D13: m2 | E13: 41 | J13: =IF(ISERROR(AVERAGE(E13:I13)),"0",(AVERAGE(E13:I13))) -> 41 | M13: 49 | R13: =IF(ISERROR(AVERAGE(M13:Q13)),"0",(AVERAGE(M13:Q13))) -> 49
C14: Cloisons 100/48 en BA13 | D14: m2 | E14: 45.5 | J14: =IF(ISERROR(AVERAGE(E14:I14)),"0",(AVERAGE(E14:I14))) -> 45.5 | R14: =IF(ISERROR(AVERAGE(M14:Q14)),"0",(AVERAGE(M14:Q14))) -> 0
C15: Plus value pour BA13 hydro | D15: m2 | E15: 6 | J15: =IF(ISERROR(AVERAGE(E15:I15)),"0",(AVERAGE(E15:I15))) -> 6 | R15: =IF(ISERROR(AVERAGE(M15:Q15)),"0",(AVERAGE(M15:Q15))) -> 0
C16: Trape d'acces au comble | D16: u | E16: 95 | J16: =IF(ISERROR(AVERAGE(E16:I16)),"0",(AVERAGE(E16:I16))) -> 95 | R16: =IF(ISERROR(AVERAGE(M16:Q16)),"0",(AVERAGE(M16:Q16))) -> 0
C17: Doublage placo 13mm + LDV 140mm R=4.35 | D17: m2 | E17: 41 | J17: =IF(ISERROR(AVERAGE(E17:I17)),"0",(AVERAGE(E17:I17))) -> 41 | R17: =IF(ISERROR(AVERAGE(M17:Q17)),"0",(AVERAGE(M17:Q17))) -> 0
J18: =IF(ISERROR(AVERAGE(E18:I18)),"0",(AVERAGE(E18:I18))) -> 0 | R18: =IF(ISERROR(AVERAGE(M18:Q18)),"0",(AVERAGE(M18:Q18))) -> 0
J19: =IF(ISERROR(AVERAGE(E19:I19)),"0",(AVERAGE(E19:I19))) -> 0 | R19: =IF(ISERROR(AVERAGE(M19:Q19)),"0",(AVERAGE(M19:Q19))) -> 0
J20: =IF(ISERROR(AVERAGE(E20:I20)),"0",(AVERAGE(E20:I20))) -> 0 | R20: =IF(ISERROR(AVERAGE(M20:Q20)),"0",(AVERAGE(M20:Q20))) -> 0
C21: Doublage brique platriere 4cm enduit 1 face + LDV 120mm | D21: m2 | F21: 40 | G21: 40.07 | J21: =IF(ISERROR(AVERAGE(F21:I21)),"0",(AVERAGE(F21:I21))) -> 40.035 | R21: =IF(ISERROR(AVERAGE(M21:Q21)),"0",(AVERAGE(M21:Q21))) -> 0
C22: Cloison de separation en brique platriere 5cm | D22: m2 | F22: 35.5 | G22: 38.71 | J22: =IF(ISERROR(AVERAGE(F22:I22)),"0",(AVERAGE(F22:I22))) -> 37.105 | R22: =IF(ISERROR(AVERAGE(M22:Q22)),"0",(AVERAGE(M22:Q22))) -> 0
C23: Bande de phaltex sous cloisons | D23: ml | F23: 1.5 | G23: 1.32 | J23: =IF(ISERROR(AVERAGE(F23:I23)),"0",(AVERAGE(F23:I23))) -> 1.41 | R23: =IF(ISERROR(AVERAGE(M23:Q23)),"0",(AVERAGE(M23:Q23))) -> 0
C24: Plafond en gyplaque sur rails enduit au platre | D24: m2 | F24: 34 | G24: 38.18 | J24: =IF(ISERROR(AVERAGE(E24:I24)),"0",(AVERAGE(E24:I24))) -> 36.09 | R24: =IF(ISERROR(AVERAGE(M24:Q24)),"0",(AVERAGE(M24:Q24))) -> 0
C25: Enduit au platre sous plancher poutrelles hourdis | D25: m2 | F25: 16 | G25: 18.11 | J25: =IF(ISERROR(AVERAGE(E25:I25)),"0",(AVERAGE(E25:I25))) -> 17.055 | R25: =IF(ISERROR(AVERAGE(M25:Q25)),"0",(AVERAGE(M25:Q25))) -> 0
C26: Plafond rampant en gyplaque sur rails enduit au platre | D26: m2 | G26: 38.18 | J26: =IF(ISERROR(AVERAGE(E26:I26)),"0",(AVERAGE(E26:I26))) -> 38.18 | R26: =IF(ISERROR(AVERAGE(M26:Q26)),"0",(AVERAGE(M26:Q26))) -> 0
J27: =IF(ISERROR(AVERAGE(E27:I27)),"0",(AVERAGE(E27:I27))) -> 0 | R27: =IF(ISERROR(AVERAGE(M27:Q27)),"0",(AVERAGE(M27:Q27))) -> 0
J28: =IF(ISERROR(AVERAGE(E28:I28)),"0",(AVERAGE(E28:I28))) -> 0 | R28: =IF(ISERROR(AVERAGE(M28:Q28)),"0",(AVERAGE(M28:Q28))) -> 0
J29: =IF(ISERROR(AVERAGE(E29:I29)),"0",(AVERAGE(E29:I29))) -> 0 | R29: =IF(ISERROR(AVERAGE(M29:Q29)),"0",(AVERAGE(M29:Q29))) -> 0
J30: =IF(ISERROR(AVERAGE(E30:I30)),"0",(AVERAGE(E30:I30))) -> 0 | R30: =IF(ISERROR(AVERAGE(M30:Q30)),"0",(AVERAGE(M30:Q30))) -> 0
J31: =IF(ISERROR(AVERAGE(E31:I31)),"0",(AVERAGE(E31:I31))) -> 0 | R31: =IF(ISERROR(AVERAGE(M31:Q31)),"0",(AVERAGE(M31:Q31))) -> 0
J32: =IF(ISERROR(AVERAGE(E32:I32)),"0",(AVERAGE(E32:I32))) -> 0 | R32: =IF(ISERROR(AVERAGE(M32:Q32)),"0",(AVERAGE(M32:Q32))) -> 0
J33: =IF(ISERROR(AVERAGE(E33:I33)),"0",(AVERAGE(E33:I33))) -> 0 | R33: =IF(ISERROR(AVERAGE(M33:Q33)),"0",(AVERAGE(M33:Q33))) -> 0
J34: =IF(ISERROR(AVERAGE(E34:I34)),"0",(AVERAGE(E34:I34))) -> 0 | R34: =IF(ISERROR(AVERAGE(M34:Q34)),"0",(AVERAGE(M34:Q34))) -> 0
J35: =IF(ISERROR(AVERAGE(E35:I35)),"0",(AVERAGE(E35:I35))) -> 0 | R35: =IF(ISERROR(AVERAGE(M35:Q35)),"0",(AVERAGE(M35:Q35))) -> 0
J36: =IF(ISERROR(AVERAGE(E36:I36)),"0",(AVERAGE(E36:I36))) -> 0 | R36: =IF(ISERROR(AVERAGE(M36:Q36)),"0",(AVERAGE(M36:Q36))) -> 0
J37: =IF(ISERROR(AVERAGE(E37:I37)),"0",(AVERAGE(E37:I37))) -> 0 | R37: =IF(ISERROR(AVERAGE(M37:Q37)),"0",(AVERAGE(M37:Q37))) -> 0
J38: =IF(ISERROR(AVERAGE(E38:I38)),"0",(AVERAGE(E38:I38))) -> 0 | R38: =IF(ISERROR(AVERAGE(M38:Q38)),"0",(AVERAGE(M38:Q38))) -> 0
... J50: =IF(ISERROR(AVERAGE(E50:I50)),"0",(AVERAGE(E50:I50))) -> 0 | R50: =IF(ISERROR(AVERAGE(M50:Q50)),"0",(AVERAGE(M50:Q50))) -> 0
R51: =IF(ISERROR(AVERAGE(M51:Q51)),"0",(AVERAGE(M51:Q51))) -> 0
R52: =IF(ISERROR(AVERAGE(M52:Q52)),"0",(AVERAGE(M52:Q52))) -> 0
R53: =IF(ISERROR(AVERAGE(M53:Q53)),"0",(AVERAGE(M53:Q53))) -> 0
R54: =IF(ISERROR(AVERAGE(M54:Q54)),"0",(AVERAGE(M54:Q54))) -> 0
R55: =IF(ISERROR(AVERAGE(M55:Q55)),"0",(AVERAGE(M55:Q55))) -> 0
R56: =IF(ISERROR(AVERAGE(M56:Q56)),"0",(AVERAGE(M56:Q56))) -> 0
R57: =IF(ISERROR(AVERAGE(M57:Q57)),"0",(AVERAGE(M57:Q57))) -> 0

Sheet Menuiseries_intérieures
A1: MENUISERIES INTERIEURES | G1: NEUF | O1: RENOVATION
B3: Poste | C3: Intitulé | D3: U | E3: PU1 | F3: PU2 | G3: PU3 | H3: PU4 | I3: PU5 | J3: PU Moyen | L3: U | M3: PU1 | N3: PU2 | O3: PU3 | P3: PU4 | Q3: PU5 | R3: PU Moyen
C4: A détailler au maxium | E4: (€) | F4: (€) | G4: (€) | H4: (€) | I4: (€) | J4: (€) | M4: (€) | N4: (€) | O4: (€) | P4: (€) | Q4: (€) | R4: (€)
J6: =IF(ISERROR(AVERAGE(E6:I6)),"0",(AVERAGE(E6:I6))) -> 0
C7: Porte interieur 83cm isoplane compris bequillage | D7: u | E7: 145 | J7: =IF(ISERROR(AVERAGE(E7:I7)),"0",(AVERAGE(E7:I7))) -> 145 | R7: =IF(ISERROR(AVERAGE(M7:Q7)),"0",(AVERAGE(M7:Q7))) -> 0
C8: Porte interieur à galandage 83cm y compris bequillage | D8: u | E8: 680 | J8: =IF(ISERROR(AVERAGE(E8:I8)),"0",(AVERAGE(E8:I8))) -> 680 | R8: =IF(ISERROR(AVERAGE(M8:Q8)),"0",(AVERAGE(M8:Q8))) -> 0
C9: Porte 83 post formée fournie posée | J9: =IF(ISERROR(AVERAGE(E9:I9)),"0",(AVERAGE(E9:I9))) -> 0 | L9: u | M9: 121.38 | R9: =IF(ISERROR(AVERAGE(M9:Q9)),"0",(AVERAGE(M9:Q9))) -> 121.38
J10: =IF(ISERROR(AVERAGE(E10:I10)),"0",(AVERAGE(E10:I10))) -> 0 | R10: =IF(ISERROR(AVERAGE(M10:Q10)),"0",(AVERAGE(M10:Q10))) -> 0
C11: Escalier 1/4 tournant sans contre marches + rampe | D11: u | E11: 2400 | J11: =IF(ISERROR(AVERAGE(E11:I11)),"0",(AVERAGE(E11:I11))) -> 2400 | R11: =IF(ISERROR(AVERAGE(M11:Q11)),"0",(AVERAGE(M11:Q11))) -> 0
J12: =IF(ISERROR(AVERAGE(E12:I12)),"0",(AVERAGE(E12:I12))) -> 0 | R12: =IF(ISERROR(AVERAGE(M12:Q12)),"0",(AVERAGE(M12:Q12))) -> 0
J13: =IF(ISERROR(AVERAGE(E13:I13)),"0",(AVERAGE(E13:I13))) -> 0 | R13: =IF(ISERROR(AVERAGE(M13:Q13)),"0",(AVERAGE(M13:Q13))) -> 0
J14: =IF(ISERROR(AVERAGE(E14:I14)),"0",(AVERAGE(E14:I14))) -> 0 | R14: =IF(ISERROR(AVERAGE(M14:Q14)),"0",(AVERAGE(M14:Q14))) -> 0
J15: =IF(ISERROR(AVERAGE(E15:I15)),"0",(AVERAGE(E15:I15))) -> 0 | R15: =IF(ISERROR(AVERAGE(M15:Q15)),"0",(AVERAGE(M15:Q15))) -> 0
J16: =IF(ISERROR(AVERAGE(E16:I16)),"0",(AVERAGE(E16:I16))) -> 0 | R16: =IF(ISERROR(AVERAGE(M16:Q16)),"0",(AVERAGE(M16:Q16))) -> 0
J17: =IF(ISERROR(AVERAGE(E17:I17)),"0",(AVERAGE(E17:I17))) -> 0 | R17: =IF(ISERROR(AVERAGE(M17:Q17)),"0",(AVERAGE(M17:Q17))) -> 0
J18: =IF(ISERROR(AVERAGE(E18:I18)),"0",(AVERAGE(E18:I18))) -> 0 | R18: =IF(ISERROR(AVERAGE(M18:Q18)),"0",(AVERAGE(M18:Q18))) -> 0
J19: =IF(ISERROR(AVERAGE(E19:I19)),"0",(AVERAGE(E19:I19))) -> 0 | R19: =IF(ISERROR(AVERAGE(M19:Q19)),"0",(AVERAGE(M19:Q19))) -> 0
J20: =IF(ISERROR(AVERAGE(E20:I20)),"0",(AVERAGE(E20:I20))) -> 0 | R20: =IF(ISERROR(AVERAGE(M20:Q20)),"0",(AVERAGE(M20:Q20))) -> 0
J21: =IF(ISERROR(AVERAGE(E21:I21)),"0",(AVERAGE(E21:I21))) -> 0 | R21: =IF(ISERROR(AVERAGE(M21:Q21)),"0",(AVERAGE(M21:Q21))) -> 0
J22: =IF(ISERROR(AVERAGE(E22:I22)),"0",(AVERAGE(E22:I22))) -> 0 | R22: =IF(ISERROR(AVERAGE(M22:Q22)),"0",(AVERAGE(M22:Q22))) -> 0
J23: =IF(ISERROR(AVERAGE(E23:I23)),"0",(AVERAGE(E23:I23))) -> 0 | R23: =IF(ISERROR(AVERAGE(M23:Q23)),"0",(AVERAGE(M23:Q23))) -> 0
... J50: =IF(ISERROR(AVERAGE(E50:I50)),"0",(AVERAGE(E50:I50))) -> 0 | R50: =IF(ISERROR(AVERAGE(M50:Q50)),"0",(AVERAGE(M50:Q50))) -> 0
R51: =IF(ISERROR(AVERAGE(M51:Q51)),"0",(AVERAGE(M51:Q51))) -> 0
R52: =IF(ISERROR(AVERAGE(M52:Q52)),"0",(AVERAGE(M52:Q52))) -> 0
R53: =IF(ISERROR(AVERAGE(M53:Q53)),"0",(AVERAGE(M53:Q53))) -> 0
R54: =IF(ISERROR(AVERAGE(M54:Q54)),"0",(AVERAGE(M54:Q54))) -> 0
R55: =IF(ISERROR(AVERAGE(M55:Q55)),"0",(AVERAGE(M55:Q55))) -> 0
R56: =IF(ISERROR(AVERAGE(M56:Q56)),"0",(AVERAGE(M56:Q56))) -> 0
R57: =IF(ISERROR(AVERAGE(M57:Q57)),"0",(AVERAGE(M57:Q57))) -> 0

Sheet Ossature_bois
A1: OSSATURE BOIS | G1: NEUF
B3: Poste | C3: Intitulé | D3: U | E3: PU1 | F3: PU2 | G3: PU3 | H3: PU4 | I3: PU5 | J3: PU Moyen
C4: A détailler au maxium | E4: (€) | F4: (€) | G4: (€) | H4: (€) | I4: (€) | J4: (€)
J6: =IF(ISERROR(AVERAGE(E6:I6)),"0",(AVERAGE(E6:I6))) -> 0
C7: Mur bois 45 x 145 axe de 60 + panneau OSB12mm + parepluie et sablieres basse III | D7: m2 | E7: 79 | J7: =IF(ISERROR(AVERAGE(E7:I7)),"0",(AVERAGE(E7:I7))) -> 79
C8: Mur de refend 45 x 145 axe de 60 + sabliere | D8: m2 | E8: 60 | J8: =IF(ISERROR(AVERAGE(E8:I8)),"0",(AVERAGE(E8:I8))) -> 60
J9: =IF(ISERROR(AVERAGE(E9:I9)),"0",(AVERAGE(E9:I9))) -> 0
C10: Plancher bois 75 x 250 axe de 50 + plancher OSB18mm | D10: m2 | E10: 70.5 | J10: =IF(ISERROR(AVERAGE(E10:I10)),"0",(AVERAGE(E10:I10))) -> 70.5
J11: =IF(ISERROR(AVERAGE(E11:I11)),"0",(AVERAGE(E11:I11))) -> 0
J12: =IF(ISERROR(AVERAGE(E12:I12)),"0",(AVERAGE(E12:I12))) -> 0
J13: =IF(ISERROR(AVERAGE(E13:I13)),"0",(AVERAGE(E13:I13))) -> 0
J14: =IF(ISERROR(AVERAGE(E14:I14)),"0",(AVERAGE(E14:I14))) -> 0
J15: =IF(ISERROR(AVERAGE(E15:I15)),"0",(AVERAGE(E15:I15))) -> 0
J16: =IF(ISERROR(AVERAGE(E16:I16)),"0",(AVERAGE(E16:I16))) -> 0
J17: =IF(ISERROR(AVERAGE(E17:I17)),"0",(AVERAGE(E17:I17))) -> 0
J18: =IF(ISERROR(AVERAGE(E18:I18)),"0",(AVERAGE(E18:I18))) -> 0
J19: =IF(ISERROR(AVERAGE(E19:I19)),"0",(AVERAGE(E19:I19))) -> 0
J20: =IF(ISERROR(AVERAGE(E20:I20)),"0",(AVERAGE(E20:I20))) -> 0
J21: =IF(ISERROR(AVERAGE(E21:I21)),"0",(AVERAGE(E21:I21))) -> 0
J22: =IF(ISERROR(AVERAGE(E22:I22)),"0",(AVERAGE(E22:I22))) -> 0
... J50: =IF(ISERROR(AVERAGE(E50:I50)),"0",(AVERAGE(E50:I50))) -> 0

Sheet Sols
A1: SOLS | G1: NEUF | O1: RENOVATION
B3: Poste | C3: Intitulé | D3: U | E3: PU1 | F3: PU2 | G3: PU3 | H3: PU4 | I3: PU5 | J3: PU Moyen | L3: U | M3: PU1 | N3: PU2 | O3: PU3 | P3: PU4 | Q3: PU5 | R3: PU Moyen
C4: A détailler au maxium | E4: (€) | F4: (€) | G4: (€) | H4: (€) | I4: (€) | J4: (€) | M4: (€) | N4: (€) | O4: (€) | P4: (€) | Q4: (€) | R4: (€)
J6: =IF(ISERROR(AVERAGE(E6:I6)),"0",(AVERAGE(E6:I6))) -> 0
C7: Chape ciment talochée epaisseur 5cm | D7: m2 | E7: =1649/48.5 -> 34 | J7: =IF(ISERROR(AVERAGE(E7:I7)),"0",(AVERAGE(E7:I7))) -> 34 | R7: =IF(ISERROR(AVERAGE(M7:Q7)),"0",(AVERAGE(M7:Q7))) -> 0
C8: Carrelage 30 x 30 gres emaillé pose droite | D8: m2 | E8: =2328/48.5 -> 48 | J8: =IF(ISERROR(AVERAGE(E8:I8)),"0",(AVERAGE(E8:I8))) -> 48 | R8: =IF(ISERROR(AVERAGE(M8:Q8)),"0",(AVERAGE(M8:Q8))) -> 0
C9: Plinthe 7 x 30 assorties | D9: ml | E9: =545.28/38.4 -> 14.2 | J9: =IF(ISERROR(AVERAGE(E9:I9)),"0",(AVERAGE(E9:I9))) -> 14.2 | R9: =IF(ISERROR(AVERAGE(M9:Q9)),"0",(AVERAGE(M9:Q9))) -> 0
C10: Faience 25 x33 | D10: m2 | E10: =903.5/13.9 -> 65 | J10: =IF(ISERROR(AVERAGE(E10:I10)),"0",(AVERAGE(E10:I10))) -> 65 | R10: =IF(ISERROR(AVERAGE(M10:Q10)),"0",(AVERAGE(M10:Q10))) -> 0
C11: Blocage du bac a douche | D11: u | E11: 86 | J11: =IF(ISERROR(AVERAGE(E11:I11)),"0",(AVERAGE(E11:I11))) -> 86 | R11: =IF(ISERROR(AVERAGE(M11:Q11)),"0",(AVERAGE(M11:Q11))) -> 0
C12: Sol fermacell posé sur billes polistyrene | J12: =IF(ISERROR(AVERAGE(E12:I12)),"0",(AVERAGE(E12:I12))) -> 0 | L12: m2 | M12: =3634/46 -> 79 | R12: =IF(ISERROR(AVERAGE(M12:Q12)),"0",(AVERAGE(M12:Q12))) -> 79
C13: Sol stratifié sur sous couche acoustique | J13: =IF(ISERROR(AVERAGE(E13:I13)),"0",(AVERAGE(E13:I13))) -> 0 | L13: m2 | M13: =2944/46 -> 64 | R13: =IF(ISERROR(AVERAGE(M13:Q13)),"0",(AVERAGE(M13:Q13))) -> 64
C14: Plinthes prête à peindre | J14: =IF(ISERROR(AVERAGE(E14:I14)),"0",(AVERAGE(E14:I14))) -> 0 | L14: ml | M14: =679.8/51.5 -> 13.2 | R14: =IF(ISERROR(AVERAGE(M14:Q14)),"0",(AVERAGE(M14:Q14))) -> 13.2
C15: Faience 25x40 | J15: =IF(ISERROR(AVERAGE(E15:I15)),"0",(AVERAGE(E15:I15))) -> 0 | L15: m2 | M15: =35+9.8 -> 44.8 | R15: =IF(ISERROR(AVERAGE(M15:Q15)),"0",(AVERAGE(M15:Q15))) -> 44.8
J16: =IF(ISERROR(AVERAGE(E16:I16)),"0",(AVERAGE(E16:I16))) -> 0 | R16: =IF(ISERROR(AVERAGE(M16:Q16)),"0",(AVERAGE(M16:Q16))) -> 0
J17: =IF(ISERROR(AVERAGE(E17:I17)),"0",(AVERAGE(E17:I17))) -> 0 | R17: =IF(ISERROR(AVERAGE(M17:Q17)),"0",(AVERAGE(M17:Q17))) -> 0
J18: =IF(ISERROR(AVERAGE(E18:I18)),"0",(AVERAGE(E18:I18))) -> 0 | R18: =IF(ISERROR(AVERAGE(M18:Q18)),"0",(AVERAGE(M18:Q18))) -> 0
J19: =IF(ISERROR(AVERAGE(E19:I19)),"0",(AVERAGE(E19:I19))) -> 0 | R19: =IF(ISERROR(AVERAGE(M19:Q19)),"0",(AVERAGE(M19:Q19))) -> 0
J20: =IF(ISERROR(AVERAGE(E20:I20)),"0",(AVERAGE(E20:I20))) -> 0 | R20: =IF(ISERROR(AVERAGE(M20:Q20)),"0",(AVERAGE(M20:Q20))) -> 0
J21: =IF(ISERROR(AVERAGE(E21:I21)),"0",(AVERAGE(E21:I21))) -> 0 | R21: =IF(ISERROR(AVERAGE(M21:Q21)),"0",(AVERAGE(M21:Q21))) -> 0
J22: =IF(ISERROR(AVERAGE(E22:I22)),"0",(AVERAGE(E22:I22))) -> 0 | R22: =IF(ISERROR(AVERAGE(M22:Q22)),"0",(AVERAGE(M22:Q22))) -> 0
J23: =IF(ISERROR(AVERAGE(E23:I23)),"0",(AVERAGE(E23:I23))) -> 0 | R23: =IF(ISERROR(AVERAGE(M23:Q23)),"0",(AVERAGE(M23:Q23))) -> 0
J24: =IF(ISERROR(AVERAGE(E24:I24)),"0",(AVERAGE(E24:I24))) -> 0 | R24: =IF(ISERROR(AVERAGE(M24:Q24)),"0",(AVERAGE(M24:Q24))) -> 0
J25: =IF(ISERROR(AVERAGE(E25:I25)),"0",(AVERAGE(E25:I25))) -> 0 | R25: =IF(ISERROR(AVERAGE(M25:Q25)),"0",(AVERAGE(M25:Q25))) -> 0
J26: =IF(ISERROR(AVERAGE(E26:I26)),"0",(AVERAGE(E26:I26))) -> 0 | R26: =IF(ISERROR(AVERAGE(M26:Q26)),"0",(AVERAGE(M26:Q26))) -> 0
J27: =IF(ISERROR(AVERAGE(E27:I27)),"0",(AVERAGE(E27:I27))) -> 0 | R27: =IF(ISERROR(AVERAGE(M27:Q27)),"0",(AVERAGE(M27:Q27))) -> 0
... J50: =IF(ISERROR(AVERAGE(E50:I50)),"0",(AVERAGE(E50:I50))) -> 0 | R50: =IF(ISERROR(AVERAGE(M50:Q50)),"0",(AVERAGE(M50:Q50))) -> 0
R51: =IF(ISERROR(AVERAGE(M51:Q51)),"0",(AVERAGE(M51:Q51))) -> 0
R52: =IF(ISERROR(AVERAGE(M52:Q52)),"0",(AVERAGE(M52:Q52))) -> 0
R53: =IF(ISERROR(AVERAGE(M53:Q53)),"0",(AVERAGE(M53:Q53))) -> 0
R54: =IF(ISERROR(AVERAGE(M54:Q54)),"0",(AVERAGE(M54:Q54))) -> 0
R55: =IF(ISERROR(AVERAGE(M55:Q55)),"0",(AVERAGE(M55:Q55))) -> 0
R56: =IF(ISERROR(AVERAGE(M56:Q56)),"0",(AVERAGE(M56:Q56))) -> 0
R57: =IF(ISERROR(AVERAGE(M57:Q57)),"0",(AVERAGE(M57:Q57))) -> 0

Sheet Peintures
A1: PEINTURES | G1: NEUF
B3: Poste | C3: Intitulé | D3: U | E3: PU1 | F3: PU2 | G3: PU3 | H3: PU4 | I3: PU5 | J3: PU Moyen
C4: A détailler au maxium | E4: (€) | F4: (€) | G4: (€) | H4: (€) | I4: (€) | J4: (€)
C6: RENO PLAF: revision, egrenage, poncage, toile de verre 2x finition | D6: m² | E6: 35 | J6: =IF(ISERROR(AVERAGE(E6:I6)),"0",(AVERAGE(E6:I6))) -> 35
C7: RENO MURS: Detapissage, preparation support, impression, patente 2 couche finition | D7: m² | E7: 30 | J7: =IF(ISERROR(AVERAGE(E7:I7)),"0",(AVERAGE(E7:I7))) -> 30
C8: RENO MURS: Preparation support, impression, patente 2 couches finition | D8: m² | E8: 27 | J8: =IF(ISERROR(AVERAGE(E8:I8)),"0",(AVERAGE(E8:I8))) -> 27
C9: MURS: Poncage des bandes, impression, patente, 2 couches de finition | D9: m2 | E9: 25 | J9: =IF(ISERROR(AVERAGE(E9:I9)),"0",(AVERAGE(E9:I9))) -> 25
C10: PLAF: Poncage des bandes, impression, 2 couches de finition | D10: m2 | E10: 24 | J10: =IF(ISERROR(AVERAGE(E10:I10)),"0",(AVERAGE(E10:I10))) -> 24
J11: =IF(ISERROR(AVERAGE(E11:I11)),"0",(AVERAGE(E11:I11))) -> 0
J12: =IF(ISERROR(AVERAGE(E12:I12)),"0",(AVERAGE(E12:I12))) -> 0
J13: =IF(ISERROR(AVERAGE(E13:I13)),"0",(AVERAGE(E13:I13))) -> 0
J14: =IF(ISERROR(AVERAGE(E14:I14)),"0",(AVERAGE(E14:I14))) -> 0
J15: =IF(ISERROR(AVERAGE(E15:I15)),"0",(AVERAGE(E15:I15))) -> 0
J16: =IF(ISERROR(AVERAGE(E16:I16)),"0",(AVERAGE(E16:I16))) -> 0
J17: =IF(ISERROR(AVERAGE(E17:I17)),"0",(AVERAGE(E17:I17))) -> 0
J18: =IF(ISERROR(AVERAGE(E18:I18)),"0",(AVERAGE(E18:I18))) -> 0
J19: =IF(ISERROR(AVERAGE(E19:I19)),"0",(AVERAGE(E19:I19))) -> 0
J20: =IF(ISERROR(AVERAGE(E20:I20)),"0",(AVERAGE(E20:I20))) -> 0
J21: =IF(ISERROR(AVERAGE(E21:I21)),"0",(AVERAGE(E21:I21))) -> 0
J22: =IF(ISERROR(AVERAGE(E22:I22)),"0",(AVERAGE(E22:I22))) -> 0
... J51: =IF(ISERROR(AVERAGE(E51:I51)),"0",(AVERAGE(E51:I51))) -> 0

Sheet Modele (8)
A1: PEINTURE | G1: NEUF | O1: RENOVATION
B3: Poste | C3: Intitulé | D3: U | E3: PU1 | F3: PU2 | G3: PU3 | H3: PU4 | I3: PU5 | J3: PU Moyen | L3: U | M3: PU1 | N3: PU2 | O3: PU3 | P3: PU4 | Q3: PU5 | R3: PU Moyen
C4: A détailler au maxium | E4: (€) | F4: (€) | G4: (€) | H4: (€) | I4: (€) | J4: (€) | M4: (€) | N4: (€) | O4: (€) | P4: (€) | Q4: (€) | R4: (€)
J6: =IF(ISERROR(AVERAGE(E6:I6)),"0",(AVERAGE(E6:I6))) -> 0
J7: =IF(ISERROR(AVERAGE(E7:I7)),"0",(AVERAGE(E7:I7))) -> 0 | R7: =IF(ISERROR(AVERAGE(M7:Q7)),"0",(AVERAGE(M7:Q7))) -> 0
J8: =IF(ISERROR(AVERAGE(E8:I8)),"0",(AVERAGE(E8:I8))) -> 0 | R8: =IF(ISERROR(AVERAGE(M8:Q8)),"0",(AVERAGE(M8:Q8))) -> 0
J9: =IF(ISERROR(AVERAGE(E9:I9)),"0",(AVERAGE(E9:I9))) -> 0 | R9: =IF(ISERROR(AVERAGE(M9:Q9)),"0",(AVERAGE(M9:Q9))) -> 0
J10: =IF(ISERROR(AVERAGE(E10:I10)),"0",(AVERAGE(E10:I10))) -> 0 | R10: =IF(ISERROR(AVERAGE(M10:Q10)),"0",(AVERAGE(M10:Q10))) -> 0
J11: =IF(ISERROR(AVERAGE(E11:I11)),"0",(AVERAGE(E11:I11))) -> 0 | R11: =IF(ISERROR(AVERAGE(M11:Q11)),"0",(AVERAGE(M11:Q11))) -> 0
J12: =IF(ISERROR(AVERAGE(E12:I12)),"0",(AVERAGE(E12:I12))) -> 0 | R12: =IF(ISERROR(AVERAGE(M12:Q12)),"0",(AVERAGE(M12:Q12))) -> 0
J13: =IF(ISERROR(AVERAGE(E13:I13)),"0",(AVERAGE(E13:I13))) -> 0 | R13: =IF(ISERROR(AVERAGE(M13:Q13)),"0",(AVERAGE(M13:Q13))) -> 0
J14: =IF(ISERROR(AVERAGE(E14:I14)),"0",(AVERAGE(E14:I14))) -> 0 | R14: =IF(ISERROR(AVERAGE(M14:Q14)),"0",(AVERAGE(M14:Q14))) -> 0
J15: =IF(ISERROR(AVERAGE(E15:I15)),"0",(AVERAGE(E15:I15))) -> 0 | R15: =IF(ISERROR(AVERAGE(M15:Q15)),"0",(AVERAGE(M15:Q15))) -> 0
J16: =IF(ISERROR(AVERAGE(E16:I16)),"0",(AVERAGE(E16:I16))) -> 0 | R16: =IF(ISERROR(AVERAGE(M16:Q16)),"0",(AVERAGE(M16:Q16))) -> 0
J17: =IF(ISERROR(AVERAGE(E17:I17)),"0",(AVERAGE(E17:I17))) -> 0 | R17: =IF(ISERROR(AVERAGE(M17:Q17)),"0",(AVERAGE(M17:Q17))) -> 0
J18: =IF(ISERROR(AVERAGE(E18:I18)),"0",(AVERAGE(E18:I18))) -> 0 | R18: =IF(ISERROR(AVERAGE(M18:Q18)),"0",(AVERAGE(M18:Q18))) -> 0
... J51: =IF(ISERROR(AVERAGE(E51:I51)),"0",(AVERAGE(E51:I51))) -> 0 | R51: =IF(ISERROR(AVERAGE(M51:Q51)),"0",(AVERAGE(M51:Q51))) -> 0
R52: =IF(ISERROR(AVERAGE(M52:Q52)),"0",(AVERAGE(M52:Q52))) -> 0
R53: =IF(ISERROR(AVERAGE(M53:Q53)),"0",(AVERAGE(M53:Q53))) -> 0
R54: =IF(ISERROR(AVERAGE(M54:Q54)),"0",(AVERAGE(M54:Q54))) -> 0
R55: =IF(ISERROR(AVERAGE(M55:Q55)),"0",(AVERAGE(M55:Q55))) -> 0
R56: =IF(ISERROR(AVERAGE(M56:Q56)),"0",(AVERAGE(M56:Q56))) -> 0
R57: =IF(ISERROR(AVERAGE(M57:Q57)),"0",(AVERAGE(M57:Q57))) -> 0

Sheet Feuil2
