Workbook

Sheet Feuil1
B3: Nom &Prénom | G3: Nom &Prénom | L3: Nom &Prénom | Q3: Nom &Prénom | V3: Nom &Prénom | AA3: Nom &Prénom | AF3: Nom &Prénom | AK3: Nom &Prénom | AP3: Nom &Prénom | AU3: Nom &Prénom | AZ3: Nom &Prénom | BE3: Nom &Prénom | BJ3: Nom &Prénom
B4: Nawal | G4: Nawal | L4: marcel | Q4: marcel | V4: marcel | AA4: marcel | AF4: marcel | AK4: marcel | AP4: marcel | AU4: marcel | AZ4: marcel | BJ4: charles
B5: Nawal | G5: toto | L5: alain | Q5: alain | V5: alain | AA5: alain | AF5: alain | AK5: alain | AP5: alain | AU5: alain | AZ5: alain | BE5: momo | BJ5: charles
B6: Nawal | G6: toto | L6: Nawal | Q6: Nawal | V6: Nawal | AA6: Nawal | AF6: Nawal | AK6: Nawal | AP6: Nawal | AU6: Nawal | AZ6: Nawal | BE6: gilou | BJ6: charles
B7: Nawal | G7: toto | L7: pol | Q7: tulipe | V7: robert | AA7: Nawal | AZ7: henri | BJ7: charles
B8: Nawal | G8: toto | AA8: Nawal | BJ8: charles
B9: Nawal | G9: toto | AA9: Nawal | BJ9: charles
B10: Nawal | G10: toto | BJ10: charles
B11: Nawal | BJ11: charles
B12: nawal | BJ12: charles
B13: abjou | BJ13: manu
G15: Ici je je veux compter tous les nom prenoms unique qui sont dans cette feuille( colonne B, G,L,V,,,,)
G16: =SUMPRODUCT(1/COUNTIF(dico!A2:A140,dico!A2:A140))-1 -> 12

Sheet dico
A2: =OFFSET(Feuil1!$B$4,MOD(ROW(A11),11),INT(ABS(MOD(ROW(A1),11)-ROW(A1))/10)*5,) -> Nawal | C2: SOMMEPROD(1/NB.SI(A2:A140;A2:A140))-1
A3: =OFFSET(Feuil1!$B$4,MOD(ROW(A12),11),INT(ABS(MOD(ROW(A2),11)-ROW(A2))/10)*5,) -> Nawal
A4: =OFFSET(Feuil1!$B$4,MOD(ROW(A13),11),INT(ABS(MOD(ROW(A3),11)-ROW(A3))/10)*5,) -> Nawal
A5: =OFFSET(Feuil1!$B$4,MOD(ROW(A14),11),INT(ABS(MOD(ROW(A4),11)-ROW(A4))/10)*5,) -> Nawal
A6: =OFFSET(Feuil1!$B$4,MOD(ROW(A15),11),INT(ABS(MOD(ROW(A5),11)-ROW(A5))/10)*5,) -> Nawal
A7: =OFFSET(Feuil1!$B$4,MOD(ROW(A16),11),INT(ABS(MOD(ROW(A6),11)-ROW(A6))/10)*5,) -> Nawal
A8: =OFFSET(Feuil1!$B$4,MOD(ROW(A17),11),INT(ABS(MOD(ROW(A7),11)-ROW(A7))/10)*5,) -> Nawal
A9: =OFFSET(Feuil1!$B$4,MOD(ROW(A18),11),INT(ABS(MOD(ROW(A8),11)-ROW(A8))/10)*5,) -> Nawal
A10: =OFFSET(Feuil1!$B$4,MOD(ROW(A19),11),INT(ABS(MOD(ROW(A9),11)-ROW(A9))/10)*5,) -> nawal
A11: =OFFSET(Feuil1!$B$4,MOD(ROW(A20),11),INT(ABS(MOD(ROW(A10),11)-ROW(A10))/10)*5,) -> abjou
A12: =OFFSET(Feuil1!$B$4,MOD(ROW(A21),11),INT(ABS(MOD(ROW(A11),11)-ROW(A11))/10)*5,) -> 0
A13: =OFFSET(Feuil1!$B$4,MOD(ROW(A22),11),INT(ABS(MOD(ROW(A12),11)-ROW(A12))/10)*5,) -> Nawal
A14: =OFFSET(Feuil1!$B$4,MOD(ROW(A23),11),INT(ABS(MOD(ROW(A13),11)-ROW(A13))/10)*5,) -> toto
... A227: =OFFSET(Feuil1!$B$4,MOD(ROW(A236),11),INT(ABS(MOD(ROW(A226),11)-ROW(A226))/10)*5,) -> 0
