Workbook
Name annuler: #REF!
Name Cadenasbleu: '[1]Liste Menu déroulant '!$E$8:$E$11
Name colh: OFFSET(Rendu!$H$1,,,COUNT(Rendu!$H:$H))
Name Couleurcadenas: '[1]Liste Menu déroulant '!$D$8:$D$15
Name DATA2: #REF!
Name DATARESULTATS: #REF!
Name liste: OFFSET(Rendu!$G$1,,,COUNTIF(Rendu!$G:$G,"><"))
Name Statutbox: '[1]Liste Menu déroulant '!$F$8:$F$13
Name Travauxnecessaire: '[1]Liste Menu déroulant '!$H$8:$H$11

Sheet BDD
A1: J'ai besoin d'aide beaucoup | B1: 1
A2: Vous m'avez aidé | B2: 5
A3: Aidons nous | B3: 8
A4: J'ai besoin d'aide | B4: 9
A5: Vive les forum | B5: 3
A6: Vive Excel | B6: 4
A7: J'ai besoin d'aide un peu | B7: 10

Sheet Rendu
A1: J'ai besoin d'aide beaucoup | B1: =SUM(colh) -> 20 | C1: aide | D1: <<<mot clef a saisir | G1: {=INDEX(BDD!A$1:A$7,SMALL(IF((--ISNUMBER(SEARCH(C$1,BDD!A$1:A$7))),ROW(A$1:A$7),""),ROW(A1)))} -> J'ai besoin d'aide beaucoup | H1: =VLOOKUP(G1,BDD!A$1:B$7,2,0) -> 1
G2: {=INDEX(BDD!A$1:A$7,SMALL(IF((--ISNUMBER(SEARCH(C$1,BDD!A$1:A$7))),ROW(A$1:A$7),""),ROW(A2)))} -> J'ai besoin d'aide | H2: =VLOOKUP(G2,BDD!A$1:B$7,2,0) -> 9
A3: en A1 tu choisis du "sur" | B3: =VLOOKUP($A$1,BDD!$A$1:$B$7,2,0) -> 1 | G3: {=INDEX(BDD!A$1:A$7,SMALL(IF((--ISNUMBER(SEARCH(C$1,BDD!A$1:A$7))),ROW(A$1:A$7),""),ROW(A3)))} -> J'ai besoin d'aide un peu | H3: =VLOOKUP(G3,BDD!A$1:B$7,2,0) -> 10
B4: =VLOOKUP($A$1,BDD!$A$1:$B$7,2,0) -> 1 | G4: {=INDEX(BDD!A$1:A$7,SMALL(IF((--ISNUMBER(SEARCH(C$1,BDD!A$1:A$7))),ROW(A$1:A$7),""),ROW(A4)))} -> #NUM! | H4: =VLOOKUP(G4,BDD!A$1:B$7,2,0) -> #NUM!
B5: =VLOOKUP($A$1,BDD!$A$1:$B$7,2,0) -> 1 | G5: {=INDEX(BDD!A$1:A$7,SMALL(IF((--ISNUMBER(SEARCH(C$1,BDD!A$1:A$7))),ROW(A$1:A$7),""),ROW(A5)))} -> #NUM! | H5: =VLOOKUP(G5,BDD!A$1:B$7,2,0) -> #NUM!
B6: =VLOOKUP($A$1,BDD!$A$1:$B$7,2,0) -> 1 | G6: {=INDEX(BDD!A$1:A$7,SMALL(IF((--ISNUMBER(SEARCH(C$1,BDD!A$1:A$7))),ROW(A$1:A$7),""),ROW(A6)))} -> #NUM! | H6: =VLOOKUP(G6,BDD!A$1:B$7,2,0) -> #NUM!
B7: =VLOOKUP($A$1,BDD!$A$1:$B$7,2,0) -> 1 | G7: {=INDEX(BDD!A$1:A$7,SMALL(IF((--ISNUMBER(SEARCH(C$1,BDD!A$1:A$7))),ROW(A$1:A$7),""),ROW(A7)))} -> #NUM! | H7: =VLOOKUP(G7,BDD!A$1:B$7,2,0) -> #NUM!
B8: =VLOOKUP($A$1,BDD!$A$1:$B$7,2,0) -> 1 | G8: {=INDEX(BDD!A$1:A$7,SMALL(IF((--ISNUMBER(SEARCH(C$1,BDD!A$1:A$7))),ROW(A$1:A$7),""),ROW(A8)))} -> #NUM! | H8: =VLOOKUP(G8,BDD!A$1:B$7,2,0) -> #NUM!
B9: =VLOOKUP($A$1,BDD!$A$1:$B$7,2,0) -> 1 | G9: {=INDEX(BDD!A$1:A$7,SMALL(IF((--ISNUMBER(SEARCH(C$1,BDD!A$1:A$7))),ROW(A$1:A$7),""),ROW(A9)))} -> #NUM! | H9: =VLOOKUP(G9,BDD!A$1:B$7,2,0) -> #NUM!
B10: =VLOOKUP($A$1,BDD!$A$1:$B$7,2,0) -> 1 | G10: {=INDEX(BDD!A$1:A$7,SMALL(IF((--ISNUMBER(SEARCH(C$1,BDD!A$1:A$7))),ROW(A$1:A$7),""),ROW(A10)))} -> #NUM! | H10: =VLOOKUP(G10,BDD!A$1:B$7,2,0) -> #NUM!
B11: =VLOOKUP($A$1,BDD!$A$1:$B$7,2,0) -> 1 | H11: =VLOOKUP(G11,BDD!A$1:B$7,2,0) -> #N/A
B12: =VLOOKUP($A$1,BDD!$A$1:$B$7,2,0) -> 1 | H12: =VLOOKUP(G12,BDD!A$1:B$7,2,0) -> #N/A
B13: =VLOOKUP($A$1,BDD!$A$1:$B$7,2,0) -> 1 | H13: =VLOOKUP(G13,BDD!A$1:B$7,2,0) -> #N/A
H14: =VLOOKUP(G14,BDD!A$1:B$7,2,0) -> #N/A
H15: =VLOOKUP(G15,BDD!A$1:B$7,2,0) -> #N/A
H16: =VLOOKUP(G16,BDD!A$1:B$7,2,0) -> #N/A
H17: =VLOOKUP(G17,BDD!A$1:B$7,2,0) -> #N/A
H18: =VLOOKUP(G18,BDD!A$1:B$7,2,0) -> #N/A
