Workbook
Name LISTE: '[1]liste com'!$B$3:$B$18
Name MatriceVilla: #REF!
Name Pa: '[1]ESCBETON 2014'!$T$17
Name Pb: '[1]ESCBETON 2014'!$T$18
Name Pc: '[1]ESCBETON 2014'!$T$19
Name Pd: '[1]ESCBETON 2014'!$T$20
Name Pe: '[1]ESCBETON 2014'!$T$21
Name Pf: '[1]ESCBETON 2014'!$T$22
Name Pg: '[1]ESCBETON 2014'!$T$23
Name Ph: '[1]ESCBETON 2014'!$T$24
Name Pi: '[1]ESCBETON 2014'!$T$25
Name Pj: '[1]ESCBETON 2014'!$T$26
Name Pk: '[1]ESCBETON 2014'!$T$27
Name Pl: '[1]ESCBETON 2014'!$T$28
Name Pm: '[1]ESCBETON 2014'!$T$29
Name Pn: '[1]ESCBETON 2014'!$T$30
Name Po: '[1]ESCBETON 2014'!$T$31
Name Pp: '[1]ESCBETON 2014'!$T$32
Name Pq: '[1]ESCBETON 2014'!$T$33
Name Pr: '[1]ESCBETON 2014'!$T$34
Name Ps: '[1]ESCBETON 2014'!$T$35
Name Pt: '[1]ESCBETON 2014'!$T$36
Name TypeVilla: #REF!

Sheet SAISIE
B2: Date : | C2: =TODAY() -> 42650 | F2: CLIENT
B3: commercial | C3: G LAVEAU | F3: TERRAIN
B6: Type de villa | C6: 1 | F6: =INDEX('[1]TARIF DE VENTE 2015'!D6:P64,C6,3) -> 86.66 | H6: Prix | I6: =INDEX('[1]TARIF DE VENTE 2015'!J6:P64,C6,(C7+(IF(C7=1,0,0)))+IF(C7=2,2,0)+IF(C7=3,4,0)) -> 101500
B7: Type de chauffage | C7: 1 | F7: =INDEX('[1]TARIF DE VENTE 2015'!D6:P64,C6,4) -> 19.15
F10: Base | G10: Agrandissement | H10: Total
E11: surface habitable totale du projet: | F11: =F6 -> 86.66 | G11: =I57 -> 0 | H11: =F11+G11 -> 86.66
E12: surface annexe totale du projet: | F12: =F7 -> 19.15 | G12: =I48 -> 0 | H12: =F12+G12 -> 19.15
E14: surface totale du projet: | G14: =H11+H12 -> 105.81
D16: HORS D'EAU / HORS D'AIR (terrassement/maçonnerie/charpente-couverture/zinguerie/menuiseries extérieures & façades)
D17: FALSE | E17: 70% sur les modèles de plein pied
D18: FALSE | E18: 75% sur les modèles en sous-sol | H18: Prix avant options | I18: =I6-I6*(IF(D17=TRUE,0.3,0))-I6*(IF(D18=TRUE,0.25,0)) -> 101500
H19: Prix après options | I19: =I18+L44+L54+L65+L28+L659+L392+L435+L550+L253+L215+L619+L495+L690+L271+L289+L730 -> 217223.33
B28: PV COMMERCIALES | K28: Prix | L28: =SUM(L29:L42) -> 1700
B30: Incidence sur projet | I30: Quantité | K30: PU | L30: Total
C31: Déplacement de la cellule sanitaire (WC ou Bains) par rapport au projet de base; ce qui a pour incidente la création de caissons,de plafond plus important ou de placard suite aux évacuations | I31: 2 | K31: ='[1]PV COM 2014'!F10 -> 850 | L31: =K31*I31 -> 1700
C32: Modification de plans à la demande du client après dépôt PC; ce qui engendre de nouveaux plans et une instruction supplémentaire | I32: 0 | K32: ='[1]PV COM 2014'!F11 -> 790 | L32: =K32*I32 -> 0
C33: Implantation par géomètre (suivant conception du projet ou terrain difficile) | I33: 0 | K33: ='[1]PV COM 2014'!F12 -> 1320 | L33: =K33*I33 -> 0
C34: Décalé de niveau sur TP ou S/SOL (incidence sur marches intérieures, structure plancher, poutres et poteaux) hors rehausse supplémentaire | I34: 0 | K34: ='[1]PV COM 2014'!F13 -> 1300 | L34: =K34*I34 -> 0
C35: Pour SHON > 170m² (incidence signature architecte) | I35: 0 | K35: ='[1]PV COM 2014'!F14 -> 1500 | L35: =K35*I35 -> 0
B37: Modèles personnalisés
C38: Toitures à pans multiples (au delà de 3 croupes) par croupe supplémentaire suivant schéma 1 (CHARPENTE COUVERTURE) | I38: 0 | K38: ='[1]PV COM 2014'!F18 -> 1850 | L38: =K38*I38 -> 0
C39: Volumes décalés ou biais par volume | I39: 0 | K39: ='[1]PV COM 2014'!F19 -> 2500 | L39: =K39*I39 -> 0
I40: 0
I41: 0
B44: GARAGE | K44: Prix | L44: =SUM(L45:L52) -> 2702
K46: PU | L46: Total
D47: 1 | L47: =INDEX('[1]MAC 2014'!B8:D15,D47,3) -> 0
D48: 2 | I48: 0 | K48: =IF(D48=1,'[1]MAC 2014'!D16,'[1]MAC 2014'!D17) -> 276 | L48: =I48*K48 -> 0
C49: dallage béton | I49: 1 | K49: ='[1]MAC 2014'!D18 -> 52 | L49: =I49*K49 -> 52
C50: Réalisation de mur supplémentaire en annexe (décroché ou décalé) | I50: 5 | K50: ='[1]MAC 2014'!D19 -> 350 | L50: =I50*K50 -> 1750
C51: Réalisation d'un biais à la place d'un angle droit sur modèle de base | I51: 2 | K51: ='[1]MAC 2014'!D20 -> 450 | L51: =I51*K51 -> 900
B54: SURFACE HABITABLE SUPPLEMENTAIRE (sans création de pièce) | K54: Prix | L54: =SUM(L55:L63) -> 4306
K56: PU | L56: Total
D57: 1 | K57: =IF(D57=1,G62,INDEX('[1]MAC 2014'!D24:D36,D57,1)) -> 0 | L57: =I57*K57 -> 0
C58: PV pour porche rentrant sur plain pied | I58: 1 | K58: ='[1]MAC 2014'!D40 -> 1300 | L58: =I58*K58 -> 1300
C59: PV pour porche rentrant sur Bastide | I59: 1 | K59: ='[1]MAC 2014'!D41 -> 1460 | L59: =I59*K59 -> 1460
C60: PV pour vide étage Bastide | I60: 1 | K60: ='[1]MAC 2014'!D42 -> 1546 | L60: =I60*K60 -> 1546
F62: Pour du type "autre", renseigner le prix ici
B65: MACONNERIE | K65: Prix | L65: =SUM(L66:L213) -> 81888
B67: Création de pièce | K67: PU | L67: Total
C68: Pièce habitable supplémentaire | I68: 0 | K68: ='[1]MAC 2014'!D44 -> 700 | L68: =I68*K68 -> 0
C69: Chambre supplémentaire | I69: 0 | K69: ='[1]MAC 2014'!D45 -> 1556 | L69: =I69*K69 -> 0
B71: Pour la transformation d'un garage accolé ou d'un sous-sol en habitable | K71: PU | L71: Total
C72: Rehausse de 20cms (le ml de mur extérieur et intérieur) pour conservation hsp à 2,20ml | I72: 1 | K72: ='[1]MAC 2014'!D53 -> 23 | L72: =I72*K72 -> 23
C73: Incidence escalier et poteaux uniquement dans le cas d'un S/SOL | I73: 2 | K73: ='[1]MAC 2014'!D55 -> 590 | L73: =I73*K73 -> 1180
C74: Pièce habitable créée comprenant 1 convecteur, 1LSA, 3PC, 1PTT et 1BP73 ( hors ouverture ) | I74: 1 | K74: ='[1]MAC 2014'!D56 -> 700 | L74: =I74*K74 -> 700
C75: + prix au m² (chape au sol) | I75: 1 | K75: ='[1]MAC 2014'!D57 -> 283 | L75: =I75*K75 -> 283
B77: Pour la transformation d'un garage accolé ou d'un sous-sol en buanderie | K77: PU | L77: Total
C78: Rehausse de 20cms (le ml de mur extérieur et intérieur) pour conservation hsp à 2,20ml | I78: 12 | K78: ='[1]MAC 2014'!D59 -> 23 | L78: =I78*K78 -> 276
C79: Incidence escalier et poteaux uniquement dans le cas d'un S/SOL | I79: 22 | K79: ='[1]MAC 2014'!D60 -> 585 | L79: =I79*K79 -> 12870
C80: Création buanderie de 6m² isolée et non chauffée | I80: 0 | K80: ='[1]MAC 2014'!D61 -> 2982 | L80: =I80*K80 -> 0
C81: M² supplémentaire pour buanderie (hors refend et structure suppl.) chape au sol | I81: 0 | K81: ='[1]MAC 2014'!D62 -> 280 | L81: =I81*K81 -> 0
B83: Pour la transformation d'un garage intégré en habitable | K83: PU | L83: Total
C84: Rehausse de 20cms (le ml de mur extérieur et intérieur) pour conservation hsp à 2,20ml | I84: 0 | K84: ='[1]MAC 2014'!D64 -> 23 | L84: =I84*K84 -> 0
C85: Pièce habitable créée comprenant 1 convecteur, 1LSA, 3PC, 1PTT et 1BP73 ( hors ouverture ) | I85: 37 | K85: ='[1]MAC 2014'!D65 -> 700 | L85: =I85*K85 -> 25900
C86: + prix au m² (chape au sol) | I86: 0 | K86: ='[1]MAC 2014'!D66 -> 138 | L86: =I86*K86 -> 0
B88: Variantes | K88: PU | L88: Total
B89: Pour le remplacement de la cloison isolante entre habitable et garage par un mur avec doublage
C90: le ml de mur extérieur et intérieur (conservation de la surface habitable initiale) | I90: 0 | K90: ='[1]MAC 2014'!D69 -> 233 | L90: =I90*K90 -> 0
B92: Pour la réalisation de mur supplémentaire en habitable (décroché ou en décalé)
C93: le ml de mur extérieur | I93: 0 | K93: ='[1]MAC 2014'!D72 -> 380 | L93: =I93*K93 -> 0
C94: Mur en biais avec toiture | I94: 0 | K94: ='[1]MAC 2014'!D73 -> 300 | L94: =I94*K94 -> 0
B96: Pour la réalisation d' un biais à la place d'un angle droit sur modèle de base
C97: Incidence toiture, zinguerie et maçonnerie (sans diminution de surface) | I97: 0 | K97: ='[1]MAC 2014'!D76 -> 450 | L97: =I97*K97 -> 0
B99: Pignon supplémentaire
C100: Pignon 1 niveau supplémentaire en habitable pour maxi 4,50ml | I100: 0 | K100: ='[1]MAC 2014'!D79 -> 1630 | L100: =I100*K100 -> 0
C101: Pignon 1 niveau supplémentaire en habitable pour maxi 7,00ml | I101: 0 | K101: ='[1]MAC 2014'!D80 -> 2700 | L101: =I101*K101 -> 0
C103: Courette anglaise pour châssis 120/45 ou 120/60 (hors châssis et grille) | I103: 0 | K103: ='[1]MAC 2014'!D82 -> 703 | L103: =I103*K103 -> 0
C104: Balcon droit en dalle BA brut (largeur maxi=1,20ml) ou dallette de protection hors garde corps | I104: 0 | K104: ='[1]MAC 2014'!D83 -> 263 | L104: =I104*K104 -> 0
I105: 0 | L105: =I105*K105 -> 0
C106: Plancher béton+chape+plafond placo dans le cas d'un vide | I106: 0 | K106: ='[1]MAC 2014'!D85 -> 27 | L106: =I106*K106 -> 0
C107: Plancher béton brut dans le cas d'un garage | I107: 0 | K107: ='[1]MAC 2014'!D86 -> 104 | L107: =I107*K107 -> 0
C108: Siphon de sol en pvc avec forme de pente et évacuation | I108: 0 | K108: ='[1]MAC 2014'!D87 -> 222 | L108: =I108*K108 -> 0
C109: Cintre (flèche de 10) en maconnerie sur chassis, fenêtre et porte fenêtre | I109: 0 | K109: ='[1]MAC 2014'!D88 -> 140 | L109: =I109*K109 -> 0
B111: Poteaux et poutres | K111: PU | L111: Total
C112: a | D112: 1 | I112: 0 | K112: =INDEX('[1]MAC 2014'!B95:D98,D112,3) -> 233 | L112: =I112*K112 -> 0
C113: collerette carrée supplémentaire | I113: 0 | K113: ='[1]MAC 2014'!D99 -> 117 | L113: =I113*K113 -> 0
C114: collerette ronde supplémentaire | I114: 0 | K114: ='[1]MAC 2014'!D100 -> 290 | L114: =I114*K114 -> 0
C116: Pour le remplacement du poteau bois par un poteau B.A. 20 X 20 sans collerette | I116: 0 | K116: ='[1]MAC 2014'!D102 -> 54 | L116: =I116*K116 -> 0
C117: Pour le remplacement du poteau bois par un poteau B.A. 28 X 28 avec embase et collerette carrée | I117: 0 | K117: ='[1]MAC 2014'!D103 -> 406 | L117: =I117*K117 -> 0
C118: Pour le remplacement du poteau bois par un poteau B.A. circulaire diam.25 avec collerette ronde | I118: 44 | K118: ='[1]MAC 2014'!D104 -> 581 | L118: =I118*K118 -> 25564
C120: Poutre B.A. droite 20 x 20 | I120: 0 | K120: ='[1]MAC 2014'!D107 -> 95 | L120: =I120*K120 -> 0
C121: Poutre B.A. cintrée 20 x 20 (cintre de 15) | I121: 0 | K121: ='[1]MAC 2014'!D108 -> 137 | L121: =I121*K121 -> 0
C122: Pour le remplacement de la poutre bois par une poutre B.A. 20 X 20 | I122: 0 | K122: ='[1]MAC 2014'!D109 -> 76.75 | L122: =I122*K122 -> 0
B124: Pour la réalisation de terrasse extérieure | K124: PU | L124: Total
B125: Terrasse sur terre plain finition brut il faut compter:
C126: le ml de mur extérieur et intérieur (y/c garage et refends) | I126: 0 | K126: ='[1]MAC 2014'!D112 -> 85 | L126: =I126*K126 -> 0
C127: 1 | I127: 0 | K127: =INDEX('[1]MAC 2014'!D113:D114,C127,1) -> 55 | L127: =I127*K127 -> 0
C128: Terrasse sur terre plain avec dalle 50/50 maxi sur un lit de sable (four=18€/m²) | I128: 0 | K128: ='[1]MAC 2014'!D120 -> 60 | L128: =I128*K128 -> 0
C129: 1 | I129: 72 | K129: =INDEX('[1]MAC 2014'!B121:D122,C129,3) -> 155 | L129: =I129*K129 -> 11160
B130: Terrasse sur vide sanitaire avec plancher finition brut il faut compter:
C131: 2 | I131: 0 | K131: =INDEX('[1]MAC 2014'!B116:D117,C131,3) -> 153 | L131: =I131*K131 -> 0
C132: + prix au m² (sol brut ) hors structure supplémentaire | I132: 0 | K132: ='[1]MAC 2014'!D118 -> 97 | L132: =I132*K132 -> 0
B135: Rehausse de terre plain et terrasse de 20 cms il faut compter:
C136: le ml de mur extérieur et intérieur (y/c garage et refends) | I136: 0 | K136: ='[1]MAC 2014'!D153 -> 23 | L136: =I136*K136 -> 0
C137: le m² (habitable + annexe) | I137: 0 | K137: ='[1]MAC 2014'!D154 -> 15 | L137: =I137*K137 -> 0
C138: 2 | D138: 1 | I138: 0 | K138: =INDEX('[1]MAC 2014'!B124:D125,C138,3) -> 589 | L138: =I138*K138 -> 0
C140: 1 | I140: 0 | K140: =INDEX('[1]MAC 2014'!B129:D134,C140,3) -> 175 | L140: =I140*K140 -> 0
C142: 1 | I142: 0 | K142: =INDEX('[1]MAC 2014'!B136:D139,C142,3) -> 23 | L142: =I142*K142 -> 0
B146: Adaptation terrain et réhausse | K146: PU | L146: Total
...

Sheet recap
B2: {=INDEX(SAISIE!C$31:C$742,SMALL(IF(SAISIE!$I$31:$I$742>0,ROW($I$31:$I$732)-30,""),ROW($A1)))} -> Déplacement de la cellule sanitaire (WC ou Bains) par rapport au projet de base; ce qui a pour incidente la création de caissons,de plafond plus important ou de placard suite aux évacuations | M2: {=INDEX(SAISIE!I$31:I$742,SMALL(IF(SAISIE!$I$31:$I$742>0,ROW($I$31:$I$732)-30,""),ROW($A1)))} -> 2 | N2: {=INDEX(SAISIE!L$31:L$742,SMALL(IF(SAISIE!$I$31:$I$742>0,ROW($I$31:$I$732)-30,""),ROW($A1)))} -> 1700
B3: {=INDEX(SAISIE!C$31:C$742,SMALL(IF(SAISIE!$I$31:$I$742>0,ROW($I$31:$I$732)-30,""),ROW($A2)))} -> dallage béton | M3: {=INDEX(SAISIE!I$31:I$742,SMALL(IF(SAISIE!$I$31:$I$742>0,ROW($I$31:$I$732)-30,""),ROW($A2)))} -> 1 | N3: {=INDEX(SAISIE!L$31:L$742,SMALL(IF(SAISIE!$I$31:$I$742>0,ROW($I$31:$I$732)-30,""),ROW($A2)))} -> 52
B4: {=INDEX(SAISIE!C$31:C$742,SMALL(IF(SAISIE!$I$31:$I$742>0,ROW($I$31:$I$732)-30,""),ROW($A3)))} -> Réalisation de mur supplémentaire en annexe (décroché ou décalé) | M4: {=INDEX(SAISIE!I$31:I$742,SMALL(IF(SAISIE!$I$31:$I$742>0,ROW($I$31:$I$732)-30,""),ROW($A3)))} -> 5 | N4: {=INDEX(SAISIE!L$31:L$742,SMALL(IF(SAISIE!$I$31:$I$742>0,ROW($I$31:$I$732)-30,""),ROW($A3)))} -> 1750
B5: {=INDEX(SAISIE!C$31:C$742,SMALL(IF(SAISIE!$I$31:$I$742>0,ROW($I$31:$I$732)-30,""),ROW($A4)))} -> Réalisation d'un biais à la place d'un angle droit sur modèle de base | M5: {=INDEX(SAISIE!I$31:I$742,SMALL(IF(SAISIE!$I$31:$I$742>0,ROW($I$31:$I$732)-30,""),ROW($A4)))} -> 2 | N5: {=INDEX(SAISIE!L$31:L$742,SMALL(IF(SAISIE!$I$31:$I$742>0,ROW($I$31:$I$732)-30,""),ROW($A4)))} -> 900
B6: {=INDEX(SAISIE!C$31:C$742,SMALL(IF(SAISIE!$I$31:$I$742>0,ROW($I$31:$I$732)-30,""),ROW($A5)))} -> PV pour porche rentrant sur plain pied | M6: {=INDEX(SAISIE!I$31:I$742,SMALL(IF(SAISIE!$I$31:$I$742>0,ROW($I$31:$I$732)-30,""),ROW($A5)))} -> 1 | N6: {=INDEX(SAISIE!L$31:L$742,SMALL(IF(SAISIE!$I$31:$I$742>0,ROW($I$31:$I$732)-30,""),ROW($A5)))} -> 1300
B7: {=INDEX(SAISIE!C$31:C$742,SMALL(IF(SAISIE!$I$31:$I$742>0,ROW($I$31:$I$732)-30,""),ROW($A6)))} -> PV pour porche rentrant sur Bastide | M7: {=INDEX(SAISIE!I$31:I$742,SMALL(IF(SAISIE!$I$31:$I$742>0,ROW($I$31:$I$732)-30,""),ROW($A6)))} -> 1 | N7: {=INDEX(SAISIE!L$31:L$742,SMALL(IF(SAISIE!$I$31:$I$742>0,ROW($I$31:$I$732)-30,""),ROW($A6)))} -> 1460
B8: {=INDEX(SAISIE!C$31:C$742,SMALL(IF(SAISIE!$I$31:$I$742>0,ROW($I$31:$I$732)-30,""),ROW($A7)))} -> PV pour vide étage Bastide | M8: {=INDEX(SAISIE!I$31:I$742,SMALL(IF(SAISIE!$I$31:$I$742>0,ROW($I$31:$I$732)-30,""),ROW($A7)))} -> 1 | N8: {=INDEX(SAISIE!L$31:L$742,SMALL(IF(SAISIE!$I$31:$I$742>0,ROW($I$31:$I$732)-30,""),ROW($A7)))} -> 1546
B9: {=INDEX(SAISIE!C$31:C$742,SMALL(IF(SAISIE!$I$31:$I$742>0,ROW($I$31:$I$732)-30,""),ROW($A8)))} -> Rehausse de 20cms (le ml de mur extérieur et intérieur) pour conservation hsp à 2,20ml | M9: {=INDEX(SAISIE!I$31:I$742,SMALL(IF(SAISIE!$I$31:$I$742>0,ROW($I$31:$I$732)-30,""),ROW($A8)))} -> 1 | N9: {=INDEX(SAISIE!L$31:L$742,SMALL(IF(SAISIE!$I$31:$I$742>0,ROW($I$31:$I$732)-30,""),ROW($A8)))} -> 23
B10: {=INDEX(SAISIE!C$31:C$742,SMALL(IF(SAISIE!$I$31:$I$742>0,ROW($I$31:$I$732)-30,""),ROW($A9)))} -> Incidence escalier et poteaux uniquement dans le cas d'un S/SOL | M10: {=INDEX(SAISIE!I$31:I$742,SMALL(IF(SAISIE!$I$31:$I$742>0,ROW($I$31:$I$732)-30,""),ROW($A9)))} -> 2 | N10: {=INDEX(SAISIE!L$31:L$742,SMALL(IF(SAISIE!$I$31:$I$742>0,ROW($I$31:$I$732)-30,""),ROW($A9)))} -> 1180
B11: {=INDEX(SAISIE!C$31:C$742,SMALL(IF(SAISIE!$I$31:$I$742>0,ROW($I$31:$I$732)-30,""),ROW($A10)))} -> Pièce habitable créée comprenant 1 convecteur, 1LSA, 3PC, 1PTT et 1BP73 ( hors ouverture ) | M11: {=INDEX(SAISIE!I$31:I$742,SMALL(IF(SAISIE!$I$31:$I$742>0,ROW($I$31:$I$732)-30,""),ROW($A10)))} -> 1 | N11: {=INDEX(SAISIE!L$31:L$742,SMALL(IF(SAISIE!$I$31:$I$742>0,ROW($I$31:$I$732)-30,""),ROW($A10)))} -> 700
B12: {=INDEX(SAISIE!C$31:C$742,SMALL(IF(SAISIE!$I$31:$I$742>0,ROW($I$31:$I$732)-30,""),ROW($A11)))} -> + prix au m² (chape au sol) | M12: {=INDEX(SAISIE!I$31:I$742,SMALL(IF(SAISIE!$I$31:$I$742>0,ROW($I$31:$I$732)-30,""),ROW($A11)))} -> 1 | N12: {=INDEX(SAISIE!L$31:L$742,SMALL(IF(SAISIE!$I$31:$I$742>0,ROW($I$31:$I$732)-30,""),ROW($A11)))} -> 283
B13: {=INDEX(SAISIE!C$31:C$742,SMALL(IF(SAISIE!$I$31:$I$742>0,ROW($I$31:$I$732)-30,""),ROW($A12)))} -> Rehausse de 20cms (le ml de mur extérieur et intérieur) pour conservation hsp à 2,20ml | M13: {=INDEX(SAISIE!I$31:I$742,SMALL(IF(SAISIE!$I$31:$I$742>0,ROW($I$31:$I$732)-30,""),ROW($A12)))} -> 12 | N13: {=INDEX(SAISIE!L$31:L$742,SMALL(IF(SAISIE!$I$31:$I$742>0,ROW($I$31:$I$732)-30,""),ROW($A12)))} -> 276
... B34: {=INDEX(SAISIE!C$31:C$742,SMALL(IF(SAISIE!$I$31:$I$742>0,ROW($I$31:$I$732)-30,""),ROW($A33)))} -> a | M34: {=INDEX(SAISIE!I$31:I$742,SMALL(IF(SAISIE!$I$31:$I$742>0,ROW($I$31:$I$732)-30,""),ROW($A33)))} -> 10 | N34: {=INDEX(SAISIE!L$31:L$742,SMALL(IF(SAISIE!$I$31:$I$742>0,ROW($I$31:$I$732)-30,""),ROW($A33)))} -> 17532.18
B35: {=INDEX(SAISIE!C$31:C$742,SMALL(IF(SAISIE!$I$31:$I$742>0,ROW($I$31:$I$732)-30,""),ROW($A34)))} -> a
B36: {=INDEX(SAISIE!C$31:C$742,SMALL(IF(SAISIE!$I$31:$I$742>0,ROW($I$31:$I$732)-30,""),ROW($A35)))} -> PV de pose en diagonal pour un carrelage standard (format 33 maxi.)
B37: {=INDEX(SAISIE!C$31:C$742,SMALL(IF(SAISIE!$I$31:$I$742>0,ROW($I$31:$I$732)-30,""),ROW($A36)))} -> #NUM!
B38: {=INDEX(SAISIE!C$31:C$742,SMALL(IF(SAISIE!$I$31:$I$742>0,ROW($I$31:$I$732)-30,""),ROW($A37)))} -> #NUM!
