Workbook
Name LISTE: '[1]liste com'!$B$3:$B$18
Name MatriceVilla: #REF!
Name Pa: '[1]ESCBETON 2014'!$T$17
Name Pb: '[1]ESCBETON 2014'!$T$18
Name Pc: '[1]ESCBETON 2014'!$T$19
Name Pd: '[1]ESCBETON 2014'!$T$20
Name Pe: '[1]ESCBETON 2014'!$T$21
Name Pf: '[1]ESCBETON 2014'!$T$22
Name Pg: '[1]ESCBETON 2014'!$T$23
Name Ph: '[1]ESCBETON 2014'!$T$24
Name Pi: '[1]ESCBETON 2014'!$T$25
Name Pj: '[1]ESCBETON 2014'!$T$26
Name Pk: '[1]ESCBETON 2014'!$T$27
Name Pl: '[1]ESCBETON 2014'!$T$28
Name Pm: '[1]ESCBETON 2014'!$T$29
Name Pn: '[1]ESCBETON 2014'!$T$30
Name Po: '[1]ESCBETON 2014'!$T$31
Name Pp: '[1]ESCBETON 2014'!$T$32
Name Pq: '[1]ESCBETON 2014'!$T$33
Name Pr: '[1]ESCBETON 2014'!$T$34
Name Ps: '[1]ESCBETON 2014'!$T$35
Name Pt: '[1]ESCBETON 2014'!$T$36
Name TypeVilla: #REF!

Sheet SAISIE
B2: Date : | C2: =TODAY() -> 42650 | F2: CLIENT
B3: commercial | C3: G LAVEAU | F3: TERRAIN
B6: Type de villa | C6: 1 | F6: =INDEX('[1]TARIF DE VENTE 2015'!D6:P64,C6,3) -> 86.66 | H6: Prix | I6: =INDEX('[1]TARIF DE VENTE 2015'!J6:P64,C6,(C7+(IF(C7=1,0,0)))+IF(C7=2,2,0)+IF(C7=3,4,0)) -> 101500
B7: Type de chauffage | C7: 1 | F7: =INDEX('[1]TARIF DE VENTE 2015'!D6:P64,C6,4) -> 19.15
F10: Base | G10: Agrandissement | H10: Total
E11: surface habitable totale du projet: | F11: =F6 -> 86.66 | G11: =I57 -> 0 | H11: =F11+G11 -> 86.66
E12: surface annexe totale du projet: | F12: =F7 -> 19.15 | G12: =I48 -> 0 | H12: =F12+G12 -> 19.15
E14: surface totale du projet: | G14: =H11+H12 -> 105.81
D16: HORS D'EAU / HORS D'AIR (terrassement/maçonnerie/charpente-couverture/zinguerie/menuiseries extérieures & façades)
D17: FALSE | E17: 70% sur les modèles de plein pied
D18: FALSE | E18: 75% sur les modèles en sous-sol | H18: Prix avant options | I18: =I6-I6*(IF(D17=TRUE,0.3,0))-I6*(IF(D18=TRUE,0.25,0)) -> 101500
H19: Prix après options | I19: =I18+L44+L54+L65+L28+L659+L392+L435+L550+L253+L215+L619+L495+L690+L271+L289+L730 -> 217223.33
B28: PV COMMERCIALES | K28: Prix | L28: =SUM(L29:L42) -> 1700
B30: Incidence sur projet | I30: Quantité | K30: PU | L30: Total
C31: Déplacement de la cellule sanitaire (WC ou Bains) par rapport au projet de base; ce qui a pour incidente la création de caissons,de plafond plus important ou de placard suite aux évacuations | I31: 2 | K31: ='[1]PV COM 2014'!F10 -> 850 | L31: =K31*I31 -> 1700
C32: Modification de plans à la demande du client après dépôt PC; ce qui engendre de nouveaux plans et une instruction supplémentaire | I32: 0 | K32: ='[1]PV COM 2014'!F11 -> 790 | L32: =K32*I32 -> 0
C33: Implantation par géomètre (suivant conception du projet ou terrain difficile) | I33: 0 | K33: ='[1]PV COM 2014'!F12 -> 1320 | L33: =K33*I33 -> 0
C34: Décalé de niveau sur TP ou S/SOL (incidence sur marches intérieures, structure plancher, poutres et poteaux) hors rehausse supplémentaire | I34: 0 | K34: ='[1]PV COM 2014'!F13 -> 1300 | L34: =K34*I34 -> 0
C35: Pour SHON > 170m² (incidence signature architecte) | I35: 0 | K35: ='[1]PV COM 2014'!F14 -> 1500 | L35: =K35*I35 -> 0
B37: Modèles personnalisés
C38: Toitures à pans multiples (au delà de 3 croupes) par croupe supplémentaire suivant schéma 1 (CHARPENTE COUVERTURE) | I38: 0 | K38: ='[1]PV COM 2014'!F18 -> 1850 | L38: =K38*I38 -> 0
C39: Volumes décalés ou biais par volume | I39: 0 | K39: ='[1]PV COM 2014'!F19 -> 2500 | L39: =K39*I39 -> 0
I40: 0
I41: 0
B44: GARAGE | K44: Prix | L44: =SUM(L45:L52) -> 2702
K46: PU | L46: Total
D47: 1 | L47: =INDEX('[1]MAC 2014'!B8:D15,D47,3) -> 0
D48: 2 | I48: 0 | K48: =IF(D48=1,'[1]MAC 2014'!D16,'[1]MAC 2014'!D17) -> 276 | L48: =I48*K48 -> 0
C49: dallage béton | I49: 1 | K49: ='[1]MAC 2014'!D18 -> 52 | L49: =I49*K49 -> 52
C50: Réalisation de mur supplémentaire en annexe (décroché ou décalé) | I50: 5 | K50: ='[1]MAC 2014'!D19 -> 350 | L50: =I50*K50 -> 1750
C51: Réalisation d'un biais à la place d'un angle droit sur modèle de base | I51: 2 | K51: ='[1]MAC 2014'!D20 -> 450 | L51: =I51*K51 -> 900
B54: SURFACE HABITABLE SUPPLEMENTAIRE (sans création de pièce) | K54: Prix | L54: =SUM(L55:L63) -> 4306
K56: PU | L56: Total
D57: 1 | K57: =IF(D57=1,G62,INDEX('[1]MAC 2014'!D24:D36,D57,1)) -> 0 | L57: =I57*K57 -> 0
C58: PV pour porche rentrant sur plain pied | I58: 1 | K58: ='[1]MAC 2014'!D40 -> 1300 | L58: =I58*K58 -> 1300
C59: PV pour porche rentrant sur Bastide | I59: 1 | K59: ='[1]MAC 2014'!D41 -> 1460 | L59: =I59*K59 -> 1460
C60: PV pour vide étage Bastide | I60: 1 | K60: ='[1]MAC 2014'!D42 -> 1546 | L60: =I60*K60 -> 1546
F62: Pour du type "autre", renseigner le prix ici
B65: MACONNERIE | K65: Prix | L65: =SUM(L66:L213) -> 81888
B67: Création de pièce | K67: PU | L67: Total
...

Sheet recap
B2: {=INDEX(SAISIE!C$31:C$742,SMALL(IF(SAISIE!$I$31:$I$742>0,ROW($I$31:$I$732)-30,""),ROW($A1)))} -> Déplacement de la cellule sanitaire (WC ou Bains) par rapport au projet de base; ce qui a pour incidente la création de caissons,de plafond plus important ou de placard suite aux évacuations | M2: {=INDEX(SAISIE!I$31:I$742,SMALL(IF(SAISIE!$I$31:$I$742>0,ROW($I$31:$I$732)-30,""),ROW($A1)))} -> 2 | N2: {=INDEX(SAISIE!L$31:L$742,SMALL(IF(SAISIE!$I$31:$I$742>0,ROW($I$31:$I$732)-30,""),ROW($A1)))} -> 1700
B3: {=INDEX(SAISIE!C$31:C$742,SMALL(IF(SAISIE!$I$31:$I$742>0,ROW($I$31:$I$732)-30,""),ROW($A2)))} -> dallage béton | M3: {=INDEX(SAISIE!I$31:I$742,SMALL(IF(SAISIE!$I$31:$I$742>0,ROW($I$31:$I$732)-30,""),ROW($A2)))} -> 1 | N3: {=INDEX(SAISIE!L$31:L$742,SMALL(IF(SAISIE!$I$31:$I$742>0,ROW($I$31:$I$732)-30,""),ROW($A2)))} -> 52
B4: {=INDEX(SAISIE!C$31:C$742,SMALL(IF(SAISIE!$I$31:$I$742>0,ROW($I$31:$I$732)-30,""),ROW($A3)))} -> Réalisation de mur supplémentaire en annexe (décroché ou décalé) | M4: {=INDEX(SAISIE!I$31:I$742,SMALL(IF(SAISIE!$I$31:$I$742>0,ROW($I$31:$I$732)-30,""),ROW($A3)))} -> 5 | N4: {=INDEX(SAISIE!L$31:L$742,SMALL(IF(SAISIE!$I$31:$I$742>0,ROW($I$31:$I$732)-30,""),ROW($A3)))} -> 1750
B5: {=INDEX(SAISIE!C$31:C$742,SMALL(IF(SAISIE!$I$31:$I$742>0,ROW($I$31:$I$732)-30,""),ROW($A4)))} -> Réalisation d'un biais à la place d'un angle droit sur modèle de base | M5: {=INDEX(SAISIE!I$31:I$742,SMALL(IF(SAISIE!$I$31:$I$742>0,ROW($I$31:$I$732)-30,""),ROW($A4)))} -> 2 | N5: {=INDEX(SAISIE!L$31:L$742,SMALL(IF(SAISIE!$I$31:$I$742>0,ROW($I$31:$I$732)-30,""),ROW($A4)))} -> 900
B6: {=INDEX(SAISIE!C$31:C$742,SMALL(IF(SAISIE!$I$31:$I$742>0,ROW($I$31:$I$732)-30,""),ROW($A5)))} -> PV pour porche rentrant sur plain pied | M6: {=INDEX(SAISIE!I$31:I$742,SMALL(IF(SAISIE!$I$31:$I$742>0,ROW($I$31:$I$732)-30,""),ROW($A5)))} -> 1 | N6: {=INDEX(SAISIE!L$31:L$742,SMALL(IF(SAISIE!$I$31:$I$742>0,ROW($I$31:$I$732)-30,""),ROW($A5)))} -> 1300
B7: {=INDEX(SAISIE!C$31:C$742,SMALL(IF(SAISIE!$I$31:$I$742>0,ROW($I$31:$I$732)-30,""),ROW($A6)))} -> PV pour porche rentrant sur Bastide | M7: {=INDEX(SAISIE!I$31:I$742,SMALL(IF(SAISIE!$I$31:$I$742>0,ROW($I$31:$I$732)-30,""),ROW($A6)))} -> 1 | N7: {=INDEX(SAISIE!L$31:L$742,SMALL(IF(SAISIE!$I$31:$I$742>0,ROW($I$31:$I$732)-30,""),ROW($A6)))} -> 1460
B8: {=INDEX(SAISIE!C$31:C$742,SMALL(IF(SAISIE!$I$31:$I$742>0,ROW($I$31:$I$732)-30,""),ROW($A7)))} -> PV pour vide étage Bastide | M8: {=INDEX(SAISIE!I$31:I$742,SMALL(IF(SAISIE!$I$31:$I$742>0,ROW($I$31:$I$732)-30,""),ROW($A7)))} -> 1 | N8: {=INDEX(SAISIE!L$31:L$742,SMALL(IF(SAISIE!$I$31:$I$742>0,ROW($I$31:$I$732)-30,""),ROW($A7)))} -> 1546
B9: {=INDEX(SAISIE!C$31:C$742,SMALL(IF(SAISIE!$I$31:$I$742>0,ROW($I$31:$I$732)-30,""),ROW($A8)))} -> Rehausse de 20cms (le ml de mur extérieur et intérieur) pour conservation hsp à 2,20ml | M9: {=INDEX(SAISIE!I$31:I$742,SMALL(IF(SAISIE!$I$31:$I$742>0,ROW($I$31:$I$732)-30,""),ROW($A8)))} -> 1 | N9: {=INDEX(SAISIE!L$31:L$742,SMALL(IF(SAISIE!$I$31:$I$742>0,ROW($I$31:$I$732)-30,""),ROW($A8)))} -> 23
B10: {=INDEX(SAISIE!C$31:C$742,SMALL(IF(SAISIE!$I$31:$I$742>0,ROW($I$31:$I$732)-30,""),ROW($A9)))} -> Incidence escalier et poteaux uniquement dans le cas d'un S/SOL | M10: {=INDEX(SAISIE!I$31:I$742,SMALL(IF(SAISIE!$I$31:$I$742>0,ROW($I$31:$I$732)-30,""),ROW($A9)))} -> 2 | N10: {=INDEX(SAISIE!L$31:L$742,SMALL(IF(SAISIE!$I$31:$I$742>0,ROW($I$31:$I$732)-30,""),ROW($A9)))} -> 1180
B11: {=INDEX(SAISIE!C$31:C$742,SMALL(IF(SAISIE!$I$31:$I$742>0,ROW($I$31:$I$732)-30,""),ROW($A10)))} -> Pièce habitable créée comprenant 1 convecteur, 1LSA, 3PC, 1PTT et 1BP73 ( hors ouverture ) | M11: {=INDEX(SAISIE!I$31:I$742,SMALL(IF(SAISIE!$I$31:$I$742>0,ROW($I$31:$I$732)-30,""),ROW($A10)))} -> 1 | N11: {=INDEX(SAISIE!L$31:L$742,SMALL(IF(SAISIE!$I$31:$I$742>0,ROW($I$31:$I$732)-30,""),ROW($A10)))} -> 700
B12: {=INDEX(SAISIE!C$31:C$742,SMALL(IF(SAISIE!$I$31:$I$742>0,ROW($I$31:$I$732)-30,""),ROW($A11)))} -> + prix au m² (chape au sol) | M12: {=INDEX(SAISIE!I$31:I$742,SMALL(IF(SAISIE!$I$31:$I$742>0,ROW($I$31:$I$732)-30,""),ROW($A11)))} -> 1 | N12: {=INDEX(SAISIE!L$31:L$742,SMALL(IF(SAISIE!$I$31:$I$742>0,ROW($I$31:$I$732)-30,""),ROW($A11)))} -> 283
B13: {=INDEX(SAISIE!C$31:C$742,SMALL(IF(SAISIE!$I$31:$I$742>0,ROW($I$31:$I$732)-30,""),ROW($A12)))} -> Rehausse de 20cms (le ml de mur extérieur et intérieur) pour conservation hsp à 2,20ml | M13: {=INDEX(SAISIE!I$31:I$742,SMALL(IF(SAISIE!$I$31:$I$742>0,ROW($I$31:$I$732)-30,""),ROW($A12)))} -> 12 | N13: {=INDEX(SAISIE!L$31:L$742,SMALL(IF(SAISIE!$I$31:$I$742>0,ROW($I$31:$I$732)-30,""),ROW($A12)))} -> 276
... B34: {=INDEX(SAISIE!C$31:C$742,SMALL(IF(SAISIE!$I$31:$I$742>0,ROW($I$31:$I$732)-30,""),ROW($A33)))} -> a | M34: {=INDEX(SAISIE!I$31:I$742,SMALL(IF(SAISIE!$I$31:$I$742>0,ROW($I$31:$I$732)-30,""),ROW($A33)))} -> 10 | N34: {=INDEX(SAISIE!L$31:L$742,SMALL(IF(SAISIE!$I$31:$I$742>0,ROW($I$31:$I$732)-30,""),ROW($A33)))} -> 17532.18
B35: {=INDEX(SAISIE!C$31:C$742,SMALL(IF(SAISIE!$I$31:$I$742>0,ROW($I$31:$I$732)-30,""),ROW($A34)))} -> a
B36: {=INDEX(SAISIE!C$31:C$742,SMALL(IF(SAISIE!$I$31:$I$742>0,ROW($I$31:$I$732)-30,""),ROW($A35)))} -> PV de pose en diagonal pour un carrelage standard (format 33 maxi.)
B37: {=INDEX(SAISIE!C$31:C$742,SMALL(IF(SAISIE!$I$31:$I$742>0,ROW($I$31:$I$732)-30,""),ROW($A36)))} -> #NUM!
B38: {=INDEX(SAISIE!C$31:C$742,SMALL(IF(SAISIE!$I$31:$I$742>0,ROW($I$31:$I$732)-30,""),ROW($A37)))} -> #NUM!
