Workbook

Sheet Autre
A1: Reste à faire: | F1: Lyon | I1: Paris
A2: Trouver comment faire calcul CA automatique | F2: semaine | G2: CA commandé jour | I2: semaine | J2: CA commandé jour
A3: RechercheV avec cellule fusionnée | F3: 01_17 | G3: 53080.031 | I3: 52_16 | J3: 5010.7111
F4: 01_17 | G4: 55373.283 | I4: 52_16 | J4: 5097.7209
F5: 01_17 | G5: 50579.302 | I5: 52_16 | J5: 2512.1111
F6: 01_17 | G6: 50298.574 | I6: 52_16 | J6: 2972.5931
F7: 01_17 | G7: 50853.526 | I7: 52_16 | J7: 2220.9199
F8: 01_17 | G8: 5388.0394 | I8: 52_16 | J8: 500.31194
F9: 01_17 | G9: 0 | I9: 52_16 | J9: 0
F10: 02_17 | G10: 50732.385 | I10: 01_17 | J10: 5920.9751
F11: 02_17 | G11: 9309.583 | I11: 01_17 | J11: 5229.5152
F12: 02_17 | G12: 8703.8357 | I12: 01_17 | J12: 5019.9299
F13: 02_17 | G13: 8275.5839 | I13: 01_17 | J13: 5072.9292
F14: 02_17 | G14: 8899.0375 | I14: 01_17 | J14: 2531.3925
F15: 02_17 | G15: 2232.2809 | I15: 01_17 | J15: 292.1314
... F310: 52_17 | G310: 0 | I310: 43_17 | J310: 0
F311: 01_18 | G311: #DIV/0! | I311: 44_17 | J311: 1901.791
F312: 01_18 | G312: #DIV/0! | I312: 44_17 | J312: 3991.511
F313: 01_18 | G313: #DIV/0! | I313: 44_17 | J313: 0
F314: 01_18 | G314: #DIV/0! | I314: 44_17 | J314: 3917.1222
F315: 01_18 | G315: #DIV/0! | I315: 44_17 | J315: 3393.335
F316: 01_18 | G316: #DIV/0! | I316: 44_17 | J316: 0
F317: 01_18 | G317: #DIV/0! | I317: 44_17 | J317: 0
F318: 02_18 | G318: #DIV/0! | I318: 45_17 | J318: 2175.0999
F319: 02_18 | G319: #DIV/0! | I319: 45_17 | J319: 2529.1913
F320: 02_18 | G320: #DIV/0! | I320: 45_17 | J320: 2222.7718
F321: 02_18 | G321: #DIV/0! | I321: 45_17 | J321: 2929.9224
F322: 02_18 | G322: #DIV/0! | I322: 45_17 | J322: 1937.012
... F380: 10_18 | G380: #DIV/0! | I380: 01_18 | J380: 0
F381: 11_18 | G381: 0 | I381: 02_18 | J381: 0
F382: 11_18 | G382: 0 | I382: 02_18 | J382: 0
F383: 11_18 | G383: 0 | I383: 02_18 | J383: 0
F384: 11_18 | G384: 0 | I384: 02_18 | J384: 0
F385: 11_18 | G385: 0 | I385: 02_18 | J385: 0
F386: 11_18 | G386: 0 | I386: 02_18 | J386: 0
F387: 11_18 | G387: 0 | I387: 02_18 | J387: 0
F388: 12_18 | G388: 0 | I388: 03_18 | J388: 0
F389: 12_18 | G389: 0 | I389: 03_18 | J389: 0
F390: 12_18 | G390: 0 | I390: 03_18 | J390: 0
F391: 12_18 | G391: 0 | I391: 03_18 | J391: 0
F392: 12_18 | G392: 0 | I392: 03_18 | J392: 0
... F399: 13_18 | G399: 0 | I399: 04_18 | J399: 0

Sheet Lyon
B1: DATE | C1: Sem | D1: Prod | E1: %CP | F1: H CP | G1: %ABS | H1: H ABS | I1: Heures | J1: Volume | K1: Temps | L1: CA
A2: Prévu | B2: 42736 | C2: =TEXT(WEEKNUM(B2,1),"00")&"_"&RIGHT(YEAR(B2),2) -> 01_17 | D2: 67.12 | E2: 0.13772495 | F2: 342 | G2: 0.06 | H2: 148.99262 | I2: 2483.2103 | J2: 10308.549 | K2: 580 | L2: =SUMIF(Autre!F:G,$C2,Autre!G:G) -> 265572.75
A3: Planifié | D3: 39.936545 | E3: 0.23146966 | F3: 342 | G3: 0.06 | H3: 88.650929 | I3: 1477.5155 | J3: 9170.7857 | K3: 580 | L3: 55011.002
A4: Réalisé | D4: 35.50625 | E4: 0.2603513 | F4: 342 | G4: 0.0919 | H4: 120.72073 | I4: 1313.6097 | J4: 7933 | K4: 596.11685 | L4: 47586.138 | N4: =SUM(I2:I4) -> 5274.3355
A5: R/O | B5: =TEXT(WEEKNUM(B2,1),"00")&"_"&RIGHT(YEAR(B2),4) -> 01_2017 | D5: 0.88906664 | E5: 0.2603513 | F5: 342 | G5: 0.0919 | H5: 120.72073 | I5: 0.88906664 | J5: 0.86502948 | K5: 1.0277877 | L5: 0.86502948
A7: Prévu | B7: =$B2+7 -> 42743 | C7: =TEXT(WEEKNUM(B7,1),"00")&"_"&RIGHT(YEAR(B7),2) -> 02_17 | D7: 65.12 | E7: 0.20555032 | F7: 496 | G7: 0.06 | H7: 144.78206 | I7: 2413.0344 | J7: 8480.3567 | K7: 580 | L7: =SUMIF(Autre!F:G,$C7,Autre!G:G) -> 88152.706
A8: Planifié | D8: 33.668258 | E8: 0.39756844 | F8: 496 | G8: 0.06 | H8: 74.855036 | I8: 1247.5839 | J8: 7743.6245 | K8: 580 | L8: 46468.98
A9: Réalisé | D9: 0 | E9: 0 | F9: 496 | G9: 0.0919 | H9: 0 | I9: 0 | J9: 0 | K9: 0 | L9: 0
A10: R/O | B10: =TEXT(WEEKNUM(B7,1),"00")&"_"&RIGHT(YEAR(B7),4) -> 02_2017 | E10: 0 | F10: 496 | G10: 0.0919 | H10: 0
A12: Prévu | B12: =$B7+7 -> 42750 | C12: =TEXT(WEEKNUM(B12,1),"00")&"_"&RIGHT(YEAR(B12),2) -> 03_17 | D12: 63.12 | E12: 0.23186602 | F12: 385 | G12: 0.06 | H12: 99.6265 | I12: 1660.4417 | J12: 5665.4272 | K12: 580 | L12: =SUMIF(Autre!F:G,$C12,Autre!G:G) -> 64365.626
A13: Planifié | D13: 35.194553 | E13: 0.41584228 | F13: 385 | G13: 0.06 | H13: 55.549907 | I13: 925.83179 | J13: 5746.5422 | K13: 580 | L13: 34612.354
A14: Réalisé | D14: 0 | E14: 0 | F14: 385 | G14: 0.0919 | H14: 0 | I14: 0 | J14: 0 | K14: 0 | L14: 0
A15: R/O | B15: =TEXT(WEEKNUM(B12,1),"00")&"_"&RIGHT(YEAR(B12),4) -> 03_2017 | E15: 0 | F15: 385 | G15: 0.0919 | H15: 0
A17: Prévu | B17: =$B12+7 -> 42757 | C17: =TEXT(WEEKNUM(B17,1),"00")&"_"&RIGHT(YEAR(B17),2) -> 04_17 | D17: 62.12 | E17: 0.14120136 | F17: 307 | G17: 0.06 | H17: 130.452 | I17: 2174.2 | J17: 6078.5974 | K17: 580 | L17: =SUMIF(Autre!F:G,$C17,Autre!G:G) -> 25359.571
A18: Planifié | D18: 36.760996 | E18: 0.23860693 | F18: 307 | G18: 0.06 | H18: 77.198092 | I18: 1286.6349 | J18: 7986.0095 | K18: 580 | L18: 48226.724
A19: Réalisé | D19: 0 | E19: 0 | F19: 307 | G19: 0.0919 | H19: 0 | I19: 0 | J19: 0 | K19: 0 | L19: 0
A20: R/O | B20: =TEXT(WEEKNUM(B17,1),"00")&"_"&RIGHT(YEAR(B17),4) -> 04_2017 | E20: 0 | F20: 307 | G20: 0.0919 | H20: 0
A22: Prévu | B22: =$B17+7 -> 42764 | C22: =TEXT(WEEKNUM(B22,1),"00")&"_"&RIGHT(YEAR(B22),2) -> 05_17 | D22: 61.12 | E22: 0.11074781 | F22: 231 | G22: 0.06 | H22: 125.14921 | I22: 2085.8201 | J22: 4836.2257 | K22: 570 | L22: =SUMIF(Autre!F:G,$C22,Autre!G:G) -> 22993.871
A23: Planifié | D23: 37.897667 | E23: 0.1786101 | F23: 231 | G23: 0.06 | H23: 77.599197 | I23: 1293.32 | J23: 8168.3365 | K23: 570 | L23: 49330.727
A24: Réalisé | D24: 0 | E24: 0 | F24: 231 | G24: 0.0919 | H24: 0 | I24: 0 | J24: 0 | K24: 0 | L24: 0
A25: R/O | B25: =TEXT(WEEKNUM(B22,1),"00")&"_"&RIGHT(YEAR(B22),4) -> 05_2017 | E25: 0 | F25: 231 | G25: 0.0919 | H25: 0
A27: Prévu | B27: =$B22+7 -> 42771 | C27: =TEXT(WEEKNUM(B27,1),"00")&"_"&RIGHT(YEAR(B27),2) -> 06_17 | D27: 61.12 | E27: 0.15314317 | F27: 309 | G27: 0.06 | H27: 125.14921 | I27: 2085.8201 | J27: 6441.8488 | K27: 570 | L27: =SUMIF(Autre!F:G,$C27,Autre!G:G) -> 29377.188
A28: Planifié | D28: 35.491444 | E28: 0.25511812 | F28: 309 | G28: 0.06 | H28: 72.672218 | I28: 1211.2036 | J28: 7649.7072 | K28: 570 | L28: 46189.997
A29: Réalisé | D29: 0 | E29: 0 | F29: 309 | G29: 0.0919 | H29: 0 | I29: 0 | J29: 0 | K29: 0 | L29: 0
A30: R/O | B30: =TEXT(WEEKNUM(B27,1),"00")&"_"&RIGHT(YEAR(B27),4) -> 06_2017 | E30: 0 | F30: 309 | G30: 0.0919 | H30: 0

Sheet Bourges
B1: DATE | C1: Sem | D1: Prod | E1: %CP | F1: H CP | G1: %ABS | H1: H ABS | I1: Heures | J1: Volume | K1: Temps | L1: CA
A2: Prévu | B2: 42736 | C2: =TEXT(WEEKNUM(B2,1),"00")&"_"&RIGHT(YEAR(B2),2) -> 01_17 | D2: 40.6 | E2: 0.16185785 | F2: 230 | G2: 0.07 | H2: 99.47 | I2: 1421 | J2: 4782.4817 | K2: 493.61341
A3: Planifié | D3: 0 | E3: 0 | F3: 230 | G3: 0.07 | H3: 0 | J3: 5216.0493 | K3: 493.61341
A4: Réalisé | D4: 0 | H4: 0
A5: R/O | B5: =TEXT(WEEKNUM(B2,1),"00")&"_"&RIGHT(YEAR(B2),4) -> 01_2017
A7: Prévu | B7: =$B2+7 -> 42743 | C7: =TEXT(WEEKNUM(B7,1),"00")&"_"&RIGHT(YEAR(B7),2) -> 02_17 | D7: 38.6 | E7: 0.18208734 | F7: 246 | G7: 0.07 | H7: 94.57 | I7: 1351 | J7: 4560.9231 | K7: 493.61341
A8: Planifié | D8: 0 | E8: 0 | F8: 246 | G8: 0.07 | H8: 0 | J8: 4774.008 | K8: 493.61341
A9: Réalisé | D9: 0 | H9: 0
A10: R/O | B10: =TEXT(WEEKNUM(B7,1),"00")&"_"&RIGHT(YEAR(B7),4) -> 02_2017
A12: Prévu | B12: =$B7+7 -> 42750 | C12: =TEXT(WEEKNUM(B12,1),"00")&"_"&RIGHT(YEAR(B12),2) -> 03_17 | D12: 38.6 | E12: 0.20725389 | F12: 224 | G12: 0.07 | H12: 75.656 | I12: 1080.8 | J12: 3800.7692 | K12: 493.61341
A13: Planifié | D13: 0 | E13: 0 | F13: 224 | G13: 0.07 | H13: 0 | J13: 3634.9941 | K13: 493.61341
A14: Réalisé | D14: 0 | H14: 0
A15: R/O | B15: =TEXT(WEEKNUM(B12,1),"00")&"_"&RIGHT(YEAR(B12),4) -> 03_2017
A17: Prévu | B17: =$B12+7 -> 42757 | C17: =TEXT(WEEKNUM(B17,1),"00")&"_"&RIGHT(YEAR(B17),2) -> 04_17 | D17: 38.6 | E17: 0.14865387 | F17: 246 | G17: 0.057147139 | H17: 77.205785 | I17: 1351 | J17: 5995.8852 | K17: 402.97991
A18: Planifié | D18: 0 | E18: 0 | F18: 246 | G18: 0.057147139 | H18: 0 | J18: 5847.7216 | K18: 402.97991
A19: Réalisé | D19: 0 | H19: 0
A20: R/O | B20: =TEXT(WEEKNUM(B17,1),"00")&"_"&RIGHT(YEAR(B17),4) -> 04_2017
A22: Prévu | B22: =$B17+7 -> 42764 | C22: =TEXT(WEEKNUM(B22,1),"00")&"_"&RIGHT(YEAR(B22),2) -> 05_17 | D22: 37.6 | E22: 0.16911807 | F22: 251 | G22: 0.059290718 | H22: 78.026584 | I22: 1316 | J22: 5627.5484 | K22: 460.51813
A23: Planifié | D23: 0 | E23: 0 | F23: 251 | G23: 0.059290718 | H23: 0 | J23: 5106.1938 | K23: 460.51813
A24: Réalisé | D24: 0 | H24: 0
A25: R/O | B25: =TEXT(WEEKNUM(B22,1),"00")&"_"&RIGHT(YEAR(B22),4) -> 05_2017
A27: Prévu | B27: =$B22+7 -> 42771 | C27: =TEXT(WEEKNUM(B27,1),"00")&"_"&RIGHT(YEAR(B27),2) -> 06_17 | D27: 45.6 | E27: 0.16669792 | F27: 287 | G27: 0.061795677 | H27: 98.625901 | I27: 1596 | J27: 7576.1468 | K27: 433.59135
A28: Planifié | D28: 0 | E28: 0 | F28: 287 | G28: 0.061795677 | H28: 0 | J28: 6665.2268 | K28: 433.59135
A29: Réalisé | D29: 0 | H29: 0
A30: R/O | B30: =TEXT(WEEKNUM(B27,1),"00")&"_"&RIGHT(YEAR(B27),4) -> 06_2017
A32: Prévu | B32: =$B27+7 -> 42778 | C32: =TEXT(WEEKNUM(B32,1),"00")&"_"&RIGHT(YEAR(B32),2) -> 07_17 | D32: 45.6 | E32: 0.10616674 | F32: 175 | G32: 0.062706182 | H32: 100.07907 | I32: 1596 | J32: 7576.1468 | K32: 435.41236
A33: Planifié | D33: 0 | E33: 0 | F33: 175 | G33: 0.062706182 | H33: 0 | J33: 7497.263 | K33: 435.41236
A34: Réalisé | D34: 0 | H34: 0
A35: R/O | B35: =TEXT(WEEKNUM(B32,1),"00")&"_"&RIGHT(YEAR(B32),4) -> 07_2017
A37: Prévu | B37: =$B32+7 -> 42785 | C37: =TEXT(WEEKNUM(B37,1),"00")&"_"&RIGHT(YEAR(B37),2) -> 08_17 | D37: 45.6 | E37: 0.090416869 | F37: 147 | G37: 0.062903084 | H37: 100.39332 | I37: 1596 | J37: 7576.1468 | K37: 435.80617
A38: Planifié | D38: 0 | E38: 0 | F38: 147 | G38: 0.062903084 | H38: 0 | J38: 7705.2721 | K38: 435.80617
A39: Réalisé | D39: 0 | H39: 0
A40: R/O | B40: =TEXT(WEEKNUM(B37,1),"00")&"_"&RIGHT(YEAR(B37),4) -> 08_2017
A42: Prévu | B42: =$B37+7 -> 42792 | C42: =TEXT(WEEKNUM(B42,1),"00")&"_"&RIGHT(YEAR(B42),2) -> 09_17 | D42: 39.6 | E42: 0.051172754 | F42: 70 | G42: 0.060795503 | H42: 84.262567 | I42: 1386 | J42: 7752.9162 | K42: 423.70188
A43: Planifié | D43: 0 | E43: 0 | F43: 70 | G43: 0.060795503 | H43: 0 | J43: 7366.7076 | K43: 423.70188
A44: Réalisé | D44: 0 | H44: 0
A45: R/O | B45: =TEXT(WEEKNUM(B42,1),"00")&"_"&RIGHT(YEAR(B42),4) -> 09_2017
A47: Prévu | B47: =$B42+7 -> 42799 | C47: =TEXT(WEEKNUM(B47,1),"00")&"_"&RIGHT(YEAR(B47),2) -> 10_17 | D47: 53.6 | E47: 0.021585527 | F47: 0 | G47: 0.063657894 | H47: 119.42221 | I47: 1876 | J47: 8192.2154 | K47: 447.84013
A48: Planifié | D48: 0 | E48: 0 | F48: 0 | G48: 0.063657894 | H48: 0 | J48: 10127.805 | K48: 447.84013
A49: Réalisé | D49: 0 | H49: 0
A50: R/O | B50: =TEXT(WEEKNUM(B47,1),"00")&"_"&RIGHT(YEAR(B47),4) -> 10_2017
A52: Prévu | B52: =$B47+7 -> 42806 | C52: =TEXT(WEEKNUM(B52,1),"00")&"_"&RIGHT(YEAR(B52),2) -> 11_17 | D52: 53.6 | E52: 0.021585527 | F52: 0 | G52: 0.063657894 | H52: 119.42221 | I52: 1876 | J52: 8192.2154 | K52: 447.84013
A53: Planifié | D53: 0 | E53: 0 | F53: 0 | G53: 0.063657894 | H53: 0 | J53: 10127.805 | K53: 447.84013
A54: Réalisé | D54: 0 | H54: 0
A55: R/O | B55: =TEXT(WEEKNUM(B52,1),"00")&"_"&RIGHT(YEAR(B52),4) -> 11_2017
A57: Prévu | B57: =$B52+7 -> 42813 | C57: =TEXT(WEEKNUM(B57,1),"00")&"_"&RIGHT(YEAR(B57),2) -> 12_17 | D57: 53.6 | E57: 0.021585527 | F57: 0 | G57: 0.063657894 | H57: 119.42221 | I57: 1876 | J57: 8192.2154 | K57: 447.84013
A58: Planifié | D58: 0 | E58: 0 | F58: 0 | G58: 0.063657894 | H58: 0 | J58: 10127.805 | K58: 447.84013
A59: Réalisé | D59: 0 | H59: 0
A60: R/O | B60: =TEXT(WEEKNUM(B57,1),"00")&"_"&RIGHT(YEAR(B57),4) -> 12_2017
A62: Prévu | B62: =$B57+7 -> 42820 | C62: =TEXT(WEEKNUM(B62,1),"00")&"_"&RIGHT(YEAR(B62),2) -> 13_17 | D62: 47.6 | E62: 0.086456804 | F62: 140 | G62: 0.064643776 | H62: 107.69653 | I62: 1666 | J62: 8239.6894 | K62: 463.38598
A63: Planifié | D63: 0 | E63: 0 | F63: 140 | G63: 0.064643776 | H63: 0 | J63: 7693.21 | K63: 463.38598
A64: Réalisé | D64: 0 | H64: 0
A65: R/O | B65: =TEXT(WEEKNUM(B62,1),"00")&"_"&RIGHT(YEAR(B62),4) -> 13_2017
A67: Prévu | B67: =$B62+7 -> 42827 | C67: =TEXT(WEEKNUM(B67,1),"00")&"_"&RIGHT(YEAR(B67),2) -> 14_17 | D67: 65.6 | E67: 0.057252335 | F67: 112 | G67: 0.05953472 | H67: 109.35337 | I67: 1836.8 | J67: 8606.2439 | K67: 447.69436
A68: Planifié | D68: 0 | E68: 0 | F68: 112 | G68: 0.05953472 | H68: 0 | J68: 9019.2085 | K68: 447.69436
A69: Réalisé | D69: 0 | H69: 0
A70: R/O | B70: =TEXT(WEEKNUM(B67,1),"00")&"_"&RIGHT(YEAR(B67),4) -> 14_2017
A72: Prévu | B72: =$B67+7 -> 42834 | C72: =TEXT(WEEKNUM(B72,1),"00")&"_"&RIGHT(YEAR(B72),2) -> 15_17 | D72: 62.6 | E72: 0.021416917 | F72: 0 | G72: 0.059736265 | H72: 104.70573 | I72: 1752.8 | J72: 9443.2744 | K72: 460.2111
A73: Planifié | D73: 0 | E73: 0 | F73: 0 | G73: 0.059736265 | H73: 0 | J73: 9272.8574 | K73: 460.2111
A74: Réalisé | D74: 0 | H74: 0
A75: R/O | B75: =TEXT(WEEKNUM(B72,1),"00")&"_"&RIGHT(YEAR(B72),4) -> 15_2017
A77: Prévu | B77: =$B72+7 -> 42841 | C77: =TEXT(WEEKNUM(B77,1),"00")&"_"&RIGHT(YEAR(B77),2) -> 16_17 | D77: 62.6 | E77: 0.022093883 | F77: 0 | G77: 0.061624467 | H77: 135.01921 | I77: 2191 | J77: 11108.7 | K77: 474.7579
A78: Planifié | D78: 0 | E78: 0 | F78: 0 | G78: 0.061624467 | H78: 0 | J78: 11235.916 | K78: 474.7579
A79: Réalisé | D79: 0 | H79: 0
A80: R/O | B80: =TEXT(WEEKNUM(B77,1),"00")&"_"&RIGHT(YEAR(B77),4) -> 16_2017
A82: Prévu | B82: =$B77+7 -> 42848 | C82: =TEXT(WEEKNUM(B82,1),"00")&"_"&RIGHT(YEAR(B82),2) -> 17_17 | D82: 55.4 | E82: 0.022342679 | F82: 0 | G82: 0.060629282 | H82: 117.56018 | I82: 1939 | J82: 10911.21 | K82: 471.99626
A83: Planifié | D83: 0 | E83: 0 | F83: 0 | G83: 0.060629282 | H83: 0 | J83: 10042.644 | K83: 471.99626
A84: Réalisé | D84: 0 | H84: 0
A85: R/O | B85: =TEXT(WEEKNUM(B82,1),"00")&"_"&RIGHT(YEAR(B82),4) -> 17_2017
A87: Prévu | B87: =$B82+7 -> 42855 | C87: =TEXT(WEEKNUM(B87,1),"00")&"_"&RIGHT(YEAR(B87),2) -> 18_17 | D87: 62.6 | E87: 0.022075024 | F87: 0 | G87: 0.061571866 | H87: 134.90396 | I87: 2191 | J87: 9740.5006 | K87: 474.35265
A88: Planifié | D88: 0 | E88: 0 | F88: 0 | G88: 0.061571866 | H88: 0 | J88: 11245.515 | K88: 474.35265
A89: Réalisé | D89: 0 | H89: 0
A90: R/O | B90: =TEXT(WEEKNUM(B87,1),"00")&"_"&RIGHT(YEAR(B87),4) -> 18_2017
A92: Prévu | B92: =$B87+7 -> 42862 | C92: =TEXT(WEEKNUM(B92,1),"00")&"_"&RIGHT(YEAR(B92),2) -> 19_17 | D92: 62.6 | E92: 0.022112464 | F92: 0 | G92: 0.061550146 | H92: 134.85637 | I92: 2191 | J92: 9727.441 | K92: 476.49542
A93: Planifié | D93: 0 | E93: 0 | F93: 0 | G93: 0.061550146 | H93: 0 | J93: 11194.945 | K93: 476.49542
A94: Réalisé | D94: 0 | H94: 0
A95: R/O | B95: =TEXT(WEEKNUM(B92,1),"00")&"_"&RIGHT(YEAR(B92),4) -> 19_2017
A97: Prévu | B97: =$B92+7 -> 42869 | C97: =TEXT(WEEKNUM(B97,1),"00")&"_"&RIGHT(YEAR(B97),2) -> 20_17 | D97: 62.6 | E97: 0.022112464 | F97: 0 | G97: 0.061550146 | H97: 134.85637 | I97: 2191 | J97: 9727.441 | K97: 476.49542
A98: Planifié | D98: 0 | E98: 0 | F98: 0 | G98: 0.061550146 | H98: 0 | J98: 11194.945 | K98: 476.49542
A99: Réalisé | D99: 0 | H99: 0
A100: R/O | B100: =TEXT(WEEKNUM(B97,1),"00")&"_"&RIGHT(YEAR(B97),4) -> 20_2017
A102: Prévu | B102: =$B97+7 -> 42876 | C102: =TEXT(WEEKNUM(B102,1),"00")&"_"&RIGHT(YEAR(B102),2) -> 21_17 | D102: 62.6 | E102: 0.023143132 | F102: 0 | G102: 0.064419017 | H102: 141.14207 | I102: 2191 | J102: 9407.0344 | K102: 498.70502
A103: Planifié | D103: 0 | E103: 0 | F103: 0 | G103: 0.064419017 | H103: 0 | J103: 10696.383 | K103: 498.70502
A104: Réalisé | D104: 0 | H104: 0
A105: R/O | B105: =TEXT(WEEKNUM(B102,1),"00")&"_"&RIGHT(YEAR(B102),4) -> 21_2017
A107: Prévu | B107: =$B102+7 -> 42883 | C107: =TEXT(WEEKNUM(B107,1),"00")&"_"&RIGHT(YEAR(B107),2) -> 22_17 | D107: 62.6 | E107: 0.14550673 | F107: 224 | G107: 0.073193845 | H107: 128.29417 | I107: 1752.8 | J107: 7071.6144 | K107: 576.78515
A108: Planifié | D108: 0 | E108: 0 | F108: 224 | G108: 0.073193845 | H108: 0 | J108: 6087.059 | K108: 576.78515
A109: Réalisé | D109: 0 | H109: 0
A110: R/O | B110: =TEXT(WEEKNUM(B107,1),"00")&"_"&RIGHT(YEAR(B107),4) -> 22_2017

Sheet Aix
B1: DATE | C1: Sem | D1: Prod | E1: %CP | F1: H CP | G1: %ABS | H1: H ABS | I1: Heures | J1: Volume | K1: Temps | L1: CA
A2: Prévu | B2: 42736 | C2: =TEXT(WEEKNUM(B2,1),"00")&"_"&RIGHT(YEAR(B2),2) -> 01_17 | D2: 15.22 | E2: 3,0% | F2: 15.981 | G2: 0.075578187 | H2: 40.2605 | I2: 532.7 | J2: 0 | K2: 330
A3: Planifié | D3: 7.2856556 | E3: 0.062671093 | F3: 15.981 | G3: 0.075578187 | H3: 19.272282 | I3: 254.99795 | J3: 0 | K3: 330 | L3: 0
A4: Réalisé | D4: 9.5360873 | H4: 0 | I4: 333.76306 | J4: 3740 | K4: 321.26925 | L4: 14131.17
A5: R/O | B5: =TEXT(WEEKNUM(B2,1),"00")&"_"&RIGHT(YEAR(B2),4) -> 01_2017 | D5: 1.3088853 | I5: 1.3088853 | K5: 0.97354319
A7: Prévu | B7: =$B2+7 -> 42743 | C7: =TEXT(WEEKNUM(B7,1),"00")&"_"&RIGHT(YEAR(B7),2) -> 02_17 | D7: 15.22 | E7: 3,0% | F7: 15.981 | G7: 0.075578187 | H7: 40.2605 | I7: 532.7 | J7: 0 | K7: 330
A8: Planifié | D8: 7.2856556 | E8: 0.062671093 | F8: 15.981 | G8: 0.075578187 | H8: 19.272282 | I8: 254.99795 | J8: 0 | K8: 330 | L8: 0
A9: Réalisé | D9: 0 | H9: 0 | I9: 0 | J9: 0 | K9: 0 | L9: 0
A10: R/O | B10: =TEXT(WEEKNUM(B7,1),"00")&"_"&RIGHT(YEAR(B7),4) -> 02_2017
A12: Prévu | B12: =$B7+7 -> 42750 | C12: =TEXT(WEEKNUM(B12,1),"00")&"_"&RIGHT(YEAR(B12),2) -> 03_17 | D12: 15.22 | E12: 3,0% | F12: 15.981 | G12: 0.075578187 | H12: 40.2605 | I12: 532.7 | J12: 0 | K12: 330
A13: Planifié | D13: 7.2856556 | E13: 0.062671093 | F13: 15.981 | G13: 0.075578187 | H13: 19.272282 | I13: 254.99795 | J13: 0 | K13: 330 | L13: 0
A14: Réalisé | D14: 0 | H14: 0 | I14: 0 | J14: 0 | K14: 0 | L14: 0
A15: R/O | B15: =TEXT(WEEKNUM(B12,1),"00")&"_"&RIGHT(YEAR(B12),4) -> 03_2017
A17: Prévu | B17: =$B12+7 -> 42757 | C17: =TEXT(WEEKNUM(B17,1),"00")&"_"&RIGHT(YEAR(B17),2) -> 04_17 | D17: 15.22 | E17: 3,0% | F17: 15.981 | G17: 0.075578187 | H17: 40.2605 | I17: 532.7 | J17: 0 | K17: 330
A18: Planifié | D18: 3.0743533 | E18: 0.14851904 | F18: 15.981 | G18: 0.075578187 | H18: 8.1323917 | I18: 107.60237 | J18: 0 | K18: 330 | L18: 0
A19: Réalisé | D19: 0 | H19: 0 | I19: 0 | J19: 0 | K19: 0 | L19: 0
A20: R/O | B20: =TEXT(WEEKNUM(B17,1),"00")&"_"&RIGHT(YEAR(B17),4) -> 04_2017
A22: Prévu | B22: =$B17+7 -> 42764 | C22: =TEXT(WEEKNUM(B22,1),"00")&"_"&RIGHT(YEAR(B22),2) -> 05_17 | D22: 15.22 | E22: 3,0% | F22: 15.981 | G22: 0.075578187 | H22: 40.2605 | I22: 532.7 | J22: 0 | K22: 330
A23: Planifié | D23: 3.0743533 | E23: 0.14851904 | F23: 15.981 | G23: 0.075578187 | H23: 8.1323917 | I23: 107.60237 | J23: 0 | K23: 330 | L23: 0
A24: Réalisé | D24: 0 | H24: 0 | I24: 0 | J24: 0 | K24: 0 | L24: 0
A25: R/O | B25: =TEXT(WEEKNUM(B22,1),"00")&"_"&RIGHT(YEAR(B22),4) -> 05_2017
A27: Prévu | B27: =$B22+7 -> 42771 | C27: =TEXT(WEEKNUM(B27,1),"00")&"_"&RIGHT(YEAR(B27),2) -> 06_17 | D27: 15.22 | E27: 3,0% | F27: 15.981 | G27: 0.075578187 | H27: 40.2605 | I27: 532.7 | J27: 0 | K27: 330
A28: Planifié | D28: 3.0743533 | E28: 0.14851904 | F28: 15.981 | G28: 0.075578187 | H28: 8.1323917 | I28: 107.60237 | J28: 0 | K28: 330 | L28: 0
A29: Réalisé | D29: 0 | H29: 0 | I29: 0 | J29: 0 | K29: 0 | L29: 0
A30: R/O | B30: =TEXT(WEEKNUM(B27,1),"00")&"_"&RIGHT(YEAR(B27),4) -> 06_2017
A32: Prévu | B32: =$B27+7 -> 42778 | C32: =TEXT(WEEKNUM(B32,1),"00")&"_"&RIGHT(YEAR(B32),2) -> 07_17 | D32: 15.22 | E32: 3,0% | F32: 15.981 | G32: 0.075578187 | H32: 40.2605 | I32: 532.7 | J32: 0 | K32: 330
A33: Planifié | D33: 3.0743533 | E33: 0.14851904 | F33: 15.981 | G33: 0.075578187 | H33: 8.1323917 | I33: 107.60237 | J33: 0 | K33: 330 | L33: 0
A34: Réalisé | D34: 0 | H34: 0 | I34: 0 | J34: 0 | K34: 0 | L34: 0
A35: R/O | B35: =TEXT(WEEKNUM(B32,1),"00")&"_"&RIGHT(YEAR(B32),4) -> 07_2017
A37: Prévu | B37: =$B32+7 -> 42785 | C37: =TEXT(WEEKNUM(B37,1),"00")&"_"&RIGHT(YEAR(B37),2) -> 08_17 | D37: 15.22 | E37: 3,0% | F37: 15.981 | G37: 0.075578187 | H37: 40.2605 | I37: 532.7 | J37: 0 | K37: 330
A38: Planifié | D38: 3.0743533 | E38: 0.14851904 | F38: 15.981 | G38: 0.075578187 | H38: 8.1323917 | I38: 107.60237 | J38: 0 | K38: 330 | L38: 0
A39: Réalisé | D39: 0 | H39: 0 | I39: 0 | J39: 0 | K39: 0 | L39: 0
A40: R/O | B40: =TEXT(WEEKNUM(B37,1),"00")&"_"&RIGHT(YEAR(B37),4) -> 08_2017
A42: Prévu | B42: =$B37+7 -> 42792 | C42: =TEXT(WEEKNUM(B42,1),"00")&"_"&RIGHT(YEAR(B42),2) -> 09_17 | D42: 15.22 | E42: 3,0% | F42: 15.981 | G42: 0.075578187 | H42: 40.2605 | I42: 532.7 | J42: 0 | K42: 330
A43: Planifié | D43: 3.0743533 | E43: 0.14851904 | F43: 15.981 | G43: 0.075578187 | H43: 8.1323917 | I43: 107.60237 | J43: 0 | K43: 330 | L43: 0
A44: Réalisé | D44: 0 | H44: 0 | I44: 0 | J44: 0 | K44: 0 | L44: 0
A45: R/O | B45: =TEXT(WEEKNUM(B42,1),"00")&"_"&RIGHT(YEAR(B42),4) -> 09_2017
A47: Prévu | B47: =$B42+7 -> 42799 | C47: =TEXT(WEEKNUM(B47,1),"00")&"_"&RIGHT(YEAR(B47),2) -> 10_17 | D47: 15.22 | E47: 3,0% | F47: 15.981 | G47: 0.075578187 | H47: 40.2605 | I47: 532.7 | J47: 0 | K47: 330
A48: Planifié | D48: 3.0743533 | E48: 0.14851904 | F48: 15.981 | G48: 0.075578187 | H48: 8.1323917 | I48: 107.60237 | J48: 0 | K48: 330 | L48: 0
A49: Réalisé | D49: 0 | H49: 0 | I49: 0 | J49: 0 | K49: 0 | L49: 0
A50: R/O | B50: =TEXT(WEEKNUM(B47,1),"00")&"_"&RIGHT(YEAR(B47),4) -> 10_2017
A52: Prévu | B52: =$B47+7 -> 42806 | C52: =TEXT(WEEKNUM(B52,1),"00")&"_"&RIGHT(YEAR(B52),2) -> 11_17 | D52: 15.22 | E52: 3,0% | F52: 15.981 | G52: 0.075578187 | H52: 40.2605 | I52: 532.7 | J52: 0 | K52: 330
A53: Planifié | D53: 3.0743533 | E53: 0.14851904 | F53: 15.981 | G53: 0.075578187 | H53: 8.1323917 | I53: 107.60237 | J53: 0 | K53: 330 | L53: 0
A54: Réalisé | D54: 0 | H54: 0 | I54: 0 | J54: 0 | K54: 0 | L54: 0
A55: R/O | B55: =TEXT(WEEKNUM(B52,1),"00")&"_"&RIGHT(YEAR(B52),4) -> 11_2017
A57: Prévu | B57: =$B52+7 -> 42813 | C57: =TEXT(WEEKNUM(B57,1),"00")&"_"&RIGHT(YEAR(B57),2) -> 12_17 | D57: 15.22 | E57: 3,0% | F57: 15.981 | G57: 0.075578187 | H57: 40.2605 | I57: 532.7 | J57: 0 | K57: 330
A58: Planifié | D58: 3.0743533 | E58: 0.14851904 | F58: 15.981 | G58: 0.075578187 | H58: 8.1323917 | I58: 107.60237 | J58: 0 | K58: 330 | L58: 0
A59: Réalisé | D59: 0 | H59: 0 | I59: 0 | J59: 0 | K59: 0 | L59: 0
A60: R/O | B60: =TEXT(WEEKNUM(B57,1),"00")&"_"&RIGHT(YEAR(B57),4) -> 12_2017
A62: Prévu | B62: =$B57+7 -> 42820 | C62: =TEXT(WEEKNUM(B62,1),"00")&"_"&RIGHT(YEAR(B62),2) -> 13_17 | D62: 15.22 | E62: 3,0% | F62: 15.981 | G62: 0.075578187 | H62: 40.2605 | I62: 532.7 | J62: 0 | K62: 330
A63: Planifié | D63: 3.0743533 | E63: 0.14851904 | F63: 15.981 | G63: 0.075578187 | H63: 8.1323917 | I63: 107.60237 | J63: 0 | K63: 330 | L63: 0
A64: Réalisé | D64: 0 | H64: 0 | I64: 0 | J64: 0 | K64: 0 | L64: 0
A65: R/O | B65: =TEXT(WEEKNUM(B62,1),"00")&"_"&RIGHT(YEAR(B62),4) -> 13_2017
A67: Prévu | B67: =$B62+7 -> 42827 | C67: =TEXT(WEEKNUM(B67,1),"00")&"_"&RIGHT(YEAR(B67),2) -> 14_17 | D67: 15.22 | E67: 3,0% | F67: 15.981 | G67: 0.075578187 | H67: 40.2605 | I67: 532.7 | J67: 0 | K67: 330
A68: Planifié | D68: 3.0743533 | E68: 0.14851904 | F68: 15.981 | G68: 0.075578187 | H68: 8.1323917 | I68: 107.60237 | J68: 0 | K68: 330 | L68: 0
A69: Réalisé | D69: 0 | H69: 0 | I69: 0 | J69: 0 | K69: 0 | L69: 0
A70: R/O | B70: =TEXT(WEEKNUM(B67,1),"00")&"_"&RIGHT(YEAR(B67),4) -> 14_2017
A72: Prévu | B72: =$B67+7 -> 42834 | C72: =TEXT(WEEKNUM(B72,1),"00")&"_"&RIGHT(YEAR(B72),2) -> 15_17 | D72: 15.22 | E72: 3,0% | F72: 15.981 | G72: 0.075578187 | H72: 40.2605 | I72: 532.7 | J72: 0 | K72: 330
A73: Planifié | D73: 3.0743533 | E73: 0.14851904 | F73: 15.981 | G73: 0.075578187 | H73: 8.1323917 | I73: 107.60237 | J73: 0 | K73: 330 | L73: 0
A74: Réalisé | D74: 0 | H74: 0 | I74: 0 | J74: 0 | K74: 0 | L74: 0
A75: R/O | B75: =TEXT(WEEKNUM(B72,1),"00")&"_"&RIGHT(YEAR(B72),4) -> 15_2017
A77: Prévu | B77: =$B72+7 -> 42841 | C77: =TEXT(WEEKNUM(B77,1),"00")&"_"&RIGHT(YEAR(B77),2) -> 16_17 | D77: 15.22 | E77: 3,0% | F77: 15.981 | G77: 0.075578187 | H77: 40.2605 | I77: 532.7 | J77: 0 | K77: 330
A78: Planifié | D78: 3.0743533 | E78: 0.14851904 | F78: 15.981 | G78: 0.075578187 | H78: 8.1323917 | I78: 107.60237 | J78: 0 | K78: 330 | L78: 0
A79: Réalisé | D79: 0 | H79: 0 | I79: 0 | J79: 0 | K79: 0 | L79: 0
A80: R/O | B80: =TEXT(WEEKNUM(B77,1),"00")&"_"&RIGHT(YEAR(B77),4) -> 16_2017
A82: Prévu | B82: =$B77+7 -> 42848 | C82: =TEXT(WEEKNUM(B82,1),"00")&"_"&RIGHT(YEAR(B82),2) -> 17_17 | D82: 15.22 | E82: 3,0% | F82: 15.981 | G82: 0.075578187 | H82: 40.2605 | I82: 532.7 | J82: 0 | K82: 330
A83: Planifié | D83: 3.0743533 | E83: 0.14851904 | F83: 15.981 | G83: 0.075578187 | H83: 8.1323917 | I83: 107.60237 | J83: 0 | K83: 330 | L83: 0
A84: Réalisé | D84: 0 | H84: 0 | I84: 0 | J84: 0 | K84: 0 | L84: 0
A85: R/O | B85: =TEXT(WEEKNUM(B82,1),"00")&"_"&RIGHT(YEAR(B82),4) -> 17_2017
A87: Prévu | B87: =$B82+7 -> 42855 | C87: =TEXT(WEEKNUM(B87,1),"00")&"_"&RIGHT(YEAR(B87),2) -> 18_17 | D87: 15.22 | E87: 3,0% | F87: 15.981 | G87: 0.075578187 | H87: 40.2605 | I87: 532.7 | J87: 0 | K87: 330
A88: Planifié | D88: 3.0743533 | E88: 0.14851904 | F88: 15.981 | G88: 0.075578187 | H88: 8.1323917 | I88: 107.60237 | J88: 0 | K88: 330 | L88: 0
A89: Réalisé | D89: 0 | H89: 0 | I89: 0 | J89: 0 | K89: 0 | L89: 0
A90: R/O | B90: =TEXT(WEEKNUM(B87,1),"00")&"_"&RIGHT(YEAR(B87),4) -> 18_2017
A92: Prévu | B92: =$B87+7 -> 42862 | C92: =TEXT(WEEKNUM(B92,1),"00")&"_"&RIGHT(YEAR(B92),2) -> 19_17 | D92: 15.22 | E92: 3,0% | F92: 15.981 | G92: 0.075578187 | H92: 40.2605 | I92: 532.7 | J92: 0 | K92: 330
A93: Planifié | D93: 3.0743533 | E93: 0.14851904 | F93: 15.981 | G93: 0.075578187 | H93: 8.1323917 | I93: 107.60237 | J93: 0 | K93: 330 | L93: 0
A94: Réalisé | D94: 0 | H94: 0 | I94: 0 | J94: 0 | K94: 0 | L94: 0
A95: R/O | B95: =TEXT(WEEKNUM(B92,1),"00")&"_"&RIGHT(YEAR(B92),4) -> 19_2017
A97: Prévu | B97: =$B92+7 -> 42869 | C97: =TEXT(WEEKNUM(B97,1),"00")&"_"&RIGHT(YEAR(B97),2) -> 20_17 | D97: 15.22 | E97: 3,0% | F97: 15.981 | G97: 0.075578187 | H97: 40.2605 | I97: 532.7 | J97: 0 | K97: 330
A98: Planifié | D98: 3.0743533 | E98: 0.14851904 | F98: 15.981 | G98: 0.075578187 | H98: 8.1323917 | I98: 107.60237 | J98: 0 | K98: 330 | L98: 0
A99: Réalisé | D99: 0 | H99: 0 | I99: 0 | J99: 0 | K99: 0 | L99: 0
A100: R/O | B100: =TEXT(WEEKNUM(B97,1),"00")&"_"&RIGHT(YEAR(B97),4) -> 20_2017
A102: Prévu | B102: =$B97+7 -> 42876 | C102: =TEXT(WEEKNUM(B102,1),"00")&"_"&RIGHT(YEAR(B102),2) -> 21_17 | D102: 15.22 | E102: 3,0% | F102: 15.981 | G102: 0.075578187 | H102: 40.2605 | I102: 532.7 | J102: 0 | K102: 330
A103: Planifié | D103: 3.0743533 | E103: 0.14851904 | F103: 15.981 | G103: 0.075578187 | H103: 8.1323917 | I103: 107.60237 | J103: 0 | K103: 330 | L103: 0
A104: Réalisé | D104: 0 | H104: 0 | I104: 0 | J104: 0 | K104: 0 | L104: 0
A105: R/O | B105: =TEXT(WEEKNUM(B102,1),"00")&"_"&RIGHT(YEAR(B102),4) -> 21_2017
A107: Prévu | B107: =$B102+7 -> 42883 | C107: =TEXT(WEEKNUM(B107,1),"00")&"_"&RIGHT(YEAR(B107),2) -> 22_17 | D107: 15.22 | E107: 3,0% | F107: 15.981 | G107: 0.075578187 | H107: 40.2605 | I107: 532.7 | J107: 0 | K107: 330
A108: Planifié | D108: 3.0743533 | E108: 0.14851904 | F108: 15.981 | G108: 0.075578187 | H108: 8.1323917 | I108: 107.60237 | J108: 0 | K108: 330 | L108: 0
A109: Réalisé | D109: 0 | H109: 0 | I109: 0 | J109: 0 | K109: 0 | L109: 0
A110: R/O | B110: =TEXT(WEEKNUM(B107,1),"00")&"_"&RIGHT(YEAR(B107),4) -> 22_2017

Sheet Paris
B1: DATE | C1: Sem | D1: Prod | E1: %CP | F1: H CP | G1: %ABS | H1: H ABS | I1: Heures | J1: Volume | K1: Temps | L1: CA
A2: Prévu | B2: 42736 | C2: =TEXT(WEEKNUM(B2,1),"00")&"_"&RIGHT(YEAR(B2),2) -> 01_17 | D2: 21.41 | E2: 0.22686328 | F2: 170 | G2: 0.039065857 | H2: 29.274 | I2: 749.35 | J2: 2640.0779 | K2: 456.58634 | L2: =SUMIF(Autre!I:J,$C2,Autre!J:J) -> 24066.873
A3: Planifié | D3: 10.833453 | E3: 0.4483467 | F3: 170 | G3: 0.039065857 | H3: 14.812634 | I3: 379.17086 | J3: 3243.1543 | K3: 456.58634 | L3: 13886.007
A4: Réalisé | D4: 8.3646587 | H4: 0 | I4: 292.76306 | J4: 3298 | K4: 430.53391 | L4: 11484.726
A5: R/O | B5: =TEXT(WEEKNUM(B2,1),"00")&"_"&RIGHT(YEAR(B2),4) -> 01_2017 | D5: 0.77211381 | I5: 0.77211381 | J5: 1.0169112 | K5: 0.94294084 | L5: 0.82707184
A7: Prévu | B7: =$B2+7 -> 42743 | C7: =TEXT(WEEKNUM(B7,1),"00")&"_"&RIGHT(YEAR(B7),2) -> 02_17 | D7: 21.38 | E7: 0.2739543 | F7: 205 | G7: 0.04 | H7: 29.932 | I7: 748.3 | J7: 2248.9776 | K7: 477.51935 | L7: =SUMIF(Autre!I:J,$C7,Autre!J:J) -> 12999.637
A8: Planifié | D8: 9.879061 | E8: 0.59288457 | F8: 205 | G8: 0.04 | H8: 13.830685 | I8: 345.76713 | J8: 2606.7251 | K8: 477.51935 | L8: 12757.09
A9: Réalisé | D9: 3.5615238 | H9: 0 | I9: 124.65333 | J9: 1026 | K9: 437.38012 | L9: 5021.1563
A10: R/O | B10: =TEXT(WEEKNUM(B7,1),"00")&"_"&RIGHT(YEAR(B7),4) -> 02_2017 | D10: 0.36051238 | I10: 0.36051238 | J10: 0.39359731 | K10: 0.91594218 | L10: 0.39359731
A12: Prévu | B12: =$B7+7 -> 42750 | C12: =TEXT(WEEKNUM(B12,1),"00")&"_"&RIGHT(YEAR(B12),2) -> 03_17 | D12: 18.38 | E12: 0.27203482 | F12: 140 | G12: 0.04 | H12: 25.684836 | I12: 642.12091 | J12: 1584.1539 | K12: 475.71593 | L12: =SUMIF(Autre!I:J,$C12,Autre!J:J) -> 13975.231
A13: Planifié | D13: 6.8330135 | E13: 0.58646818 | F13: 140 | G13: 0.04 | H13: 9.5486852 | I13: 238.71713 | J13: 1806.5017 | K13: 475.71593 | L13: 8813.1731
A14: Réalisé | D14: 0 | H14: 0 | I14: 0 | J14: 0 | K14: 0 | L14: 0
A15: R/O | B15: =TEXT(WEEKNUM(B12,1),"00")&"_"&RIGHT(YEAR(B12),4) -> 03_2017
A17: Prévu | B17: =$B12+7 -> 42757 | C17: =TEXT(WEEKNUM(B17,1),"00")&"_"&RIGHT(YEAR(B17),2) -> 04_17 | D17: 18.38 | E17: 0.17410229 | F17: 112 | G17: 0.04 | H17: 25.732 | I17: 643.3 | J17: 2366.1402 | K17: 470.28674 | L17: 11434.224
A18: Planifié | D18: 10.197113 | E18: 0.31381431 | F18: 112 | G18: 0.04 | H18: 14.275958 | I18: 356.89896 | J18: 2732.0274 | K18: 470.28674 | L18: 13202.351
A19: Réalisé | D19: 0 | H19: 0 | I19: 0 | J19: 0 | K19: 0 | L19: 0
A20: R/O | B20: =TEXT(WEEKNUM(B17,1),"00")&"_"&RIGHT(YEAR(B17),4) -> 04_2017
A22: Prévu | B22: =$B17+7 -> 42764 | C22: =TEXT(WEEKNUM(B22,1),"00")&"_"&RIGHT(YEAR(B22),2) -> 05_17 | D22: 18.38 | E22: 0.10881393 | F22: 70 | G22: 0.04 | H22: 25.732 | I22: 643.3 | J22: 2685.0978 | K22: 470.74325 | L22: 12985.986
A23: Planifié | D23: 11.311447 | E23: 0.17681203 | F23: 70 | G23: 0.04 | H23: 15.836026 | I23: 395.90066 | J23: 3027.6427 | K23: 470.74325 | L23: 14642.642
A24: Réalisé | D24: 0 | H24: 0 | I24: 0 | J24: 0 | K24: 0 | L24: 0
A25: R/O | B25: =TEXT(WEEKNUM(B22,1),"00")&"_"&RIGHT(YEAR(B22),4) -> 05_2017
A27: Prévu | B27: =$B22+7 -> 42771 | C27: =TEXT(WEEKNUM(B27,1),"00")&"_"&RIGHT(YEAR(B27),2) -> 06_17 | D27: 18.38 | E27: 0.16322089 | F27: 105 | G27: 0.04 | H27: 25.732 | I27: 643.3 | J27: 2950.4674 | K27: 472.34932 | L27: 14309.676
A28: Planifié | D28: 10.382836 | E28: 0.28893841 | F28: 105 | G28: 0.04 | H28: 14.53597 | I28: 363.39924 | J28: 2769.6394 | K28: 472.34932 | L28: 13432.666
A29: Réalisé | D29: 0 | H29: 0 | I29: 0 | J29: 0 | K29: 0 | L29: 0
A30: R/O | B30: =TEXT(WEEKNUM(B27,1),"00")&"_"&RIGHT(YEAR(B27),4) -> 06_2017
A32: Prévu | B32: =$B27+7 -> 42778 | C32: =TEXT(WEEKNUM(B32,1),"00")&"_"&RIGHT(YEAR(B32),2) -> 07_17 | D32: 18.38 | E32: 0.11969532 | F32: 77 | G32: 0.04 | H32: 25.732 | I32: 643.3 | J32: 2971.654 | K32: 472.95852 | L32: 14427.818
A33: Planifié | D33: 11.125725 | E33: 0.19773992 | F33: 77 | G33: 0.04 | H33: 15.576015 | I33: 389.40038 | J33: 2963.9837 | K33: 472.95852 | L33: 14390.578
A34: Réalisé | D34: 0 | H34: 0 | I34: 0 | J34: 0 | K34: 0 | L34: 0
A35: R/O | B35: =TEXT(WEEKNUM(B32,1),"00")&"_"&RIGHT(YEAR(B32),4) -> 07_2017
A37: Prévu | B37: =$B32+7 -> 42785 | C37: =TEXT(WEEKNUM(B37,1),"00")&"_"&RIGHT(YEAR(B37),2) -> 08_17 | D37: 18.38 | E37: 0.095212187 | F37: 61.25 | G37: 0.04 | H37: 25.732 | I37: 643.3 | J37: 3001.9024 | K37: 473.85876 | L37: 14597.649
A38: Planifié | D38: 11.5436 | E38: 0.15159915 | F38: 61.25 | G38: 0.04 | H38: 16.161041 | I38: 404.02601 | J38: 3069.4666 | K38: 473.85876 | L38: 14926.201
A39: Réalisé | D39: 0 | H39: 0 | I39: 0 | J39: 0 | K39: 0 | L39: 0
A40: R/O | B40: =TEXT(WEEKNUM(B37,1),"00")&"_"&RIGHT(YEAR(B37),4) -> 08_2017
A42: Prévu | B42: =$B37+7 -> 42792 | C42: =TEXT(WEEKNUM(B42,1),"00")&"_"&RIGHT(YEAR(B42),2) -> 09_17 | D42: 18.38 | E42: 0.095212187 | F42: 61.25 | G42: 0.04 | H42: 25.732 | I42: 643.3 | J42: 3151.3732 | K42: 473.57882 | L42: 15316.997
A43: Planifié | D43: 11.5436 | E43: 0.15159915 | F43: 61.25 | G43: 0.04 | H43: 16.161041 | I43: 404.02601 | J43: 3071.2811 | K43: 473.57882 | L43: 14927.716
A44: Réalisé | D44: 0 | H44: 0 | I44: 0 | J44: 0 | K44: 0 | L44: 0
A45: R/O | B45: =TEXT(WEEKNUM(B42,1),"00")&"_"&RIGHT(YEAR(B42),4) -> 09_2017
A47: Prévu | B47: =$B42+7 -> 42799 | C47: =TEXT(WEEKNUM(B47,1),"00")&"_"&RIGHT(YEAR(B47),2) -> 10_17 | D47: 18.38 | E47: 0.054406964 | F47: 35 | G47: 0.04 | H47: 25.732 | I47: 643.3 | J47: 2917.0979 | K47: 471.13844 | L47: 14117.811
A48: Planifié | D48: 12.240059 | E48: 0.08169895 | F48: 35 | G48: 0.04 | H48: 17.136083 | I48: 428.40208 | J48: 3273.4487 | K48: 471.13844 | L48: 15842.433
A49: Réalisé | D49: 0 | H49: 0 | I49: 0 | J49: 0 | K49: 0 | L49: 0
A50: R/O | B50: =TEXT(WEEKNUM(B47,1),"00")&"_"&RIGHT(YEAR(B47),4) -> 10_2017
A52: Prévu | B52: =$B47+7 -> 42806 | C52: =TEXT(WEEKNUM(B52,1),"00")&"_"&RIGHT(YEAR(B52),2) -> 11_17 | D52: 18.38 | E52: 0.054406964 | F52: 35 | G52: 0.04 | H52: 25.732 | I52: 643.3 | J52: 2913.0725 | K52: 471.09168 | L52: 14097.172
A53: Planifié | D53: 12.240059 | E53: 0.08169895 | F53: 35 | G53: 0.04 | H53: 17.136083 | I53: 428.40208 | J53: 3273.7735 | K53: 471.09168 | L53: 15842.704
A54: Réalisé | D54: 0 | H54: 0 | I54: 0 | J54: 0 | K54: 0 | L54: 0
A55: R/O | B55: =TEXT(WEEKNUM(B52,1),"00")&"_"&RIGHT(YEAR(B52),4) -> 11_2017
A57: Prévu | B57: =$B52+7 -> 42813 | C57: =TEXT(WEEKNUM(B57,1),"00")&"_"&RIGHT(YEAR(B57),2) -> 12_17 | D57: 18.38 | E57: 0.054406964 | F57: 35 | G57: 0.04 | H57: 25.732 | I57: 643.3 | J57: 2875.0138 | K57: 471.21868 | L57: 13916.098
A58: Planifié | D58: 12.240059 | E58: 0.08169895 | F58: 35 | G58: 0.04 | H58: 17.136083 | I58: 428.40208 | J58: 3272.8912 | K58: 471.21868 | L58: 15841.968
A59: Réalisé | D59: 0 | H59: 0 | I59: 0 | J59: 0 | K59: 0 | L59: 0
A60: R/O | B60: =TEXT(WEEKNUM(B57,1),"00")&"_"&RIGHT(YEAR(B57),4) -> 12_2017
A62: Prévu | B62: =$B57+7 -> 42820 | C62: =TEXT(WEEKNUM(B62,1),"00")&"_"&RIGHT(YEAR(B62),2) -> 13_17 | D62: 18.38 | E62: 0.05 | F62: 0 | G62: 0.04 | H62: 25.732 | I62: 643.3 | J62: 2887.8033 | K62: 471.3436 | L62: 13981.071
A63: Planifié | D63: 11.461883 | E63: 0 | F63: 0 | G63: 0.04 | H63: 16.046636 | I63: 401.16589 | J63: 3064.0009 | K63: 471.3436 | L63: 14834.117
A64: Réalisé | D64: 0 | H64: 0 | I64: 0 | J64: 0 | K64: 0 | L64: 0
A65: R/O | B65: =TEXT(WEEKNUM(B62,1),"00")&"_"&RIGHT(YEAR(B62),4) -> 13_2017
A67: Prévu | B67: =$B62+7 -> 42827 | C67: =TEXT(WEEKNUM(B67,1),"00")&"_"&RIGHT(YEAR(B67),2) -> 14_17 | D67: 18.38 | E67: 0.05 | F67: 0 | G67: 0.04 | H67: 25.684836 | I67: 642.12091 | J67: 2614.7633 | K67: 470.9649 | L67: 12650.752
A68: Planifié | D68: 9.1863436 | E68: 0 | F68: 0 | G68: 0.04 | H68: 12.837308 | I68: 320.93271 | J68: 2453.1717 | K68: 470.9649 | L68: 11868.939
A69: Réalisé | D69: 0 | H69: 0 | I69: 0 | J69: 0 | K69: 0 | L69: 0
A70: R/O | B70: =TEXT(WEEKNUM(B67,1),"00")&"_"&RIGHT(YEAR(B67),4) -> 14_2017
A72: Prévu | B72: =$B67+7 -> 42834 | C72: =TEXT(WEEKNUM(B72,1),"00")&"_"&RIGHT(YEAR(B72),2) -> 15_17 | D72: 18.38 | E72: 0.05 | F72: 0 | G72: 0.04 | H72: 25.684836 | I72: 642.12091 | J72: 2439.6625 | K72: 472.17647 | L72: 11828.703
A73: Planifié | D73: 10.417488 | E73: 0 | F73: 0 | G73: 0.04 | H73: 14.557751 | I73: 363.94379 | J73: 2774.805 | K73: 472.17647 | L73: 13453.642
A74: Réalisé | D74: 0 | H74: 0 | I74: 0 | J74: 0 | K74: 0 | L74: 0
A75: R/O | B75: =TEXT(WEEKNUM(B72,1),"00")&"_"&RIGHT(YEAR(B72),4) -> 15_2017
A77: Prévu | B77: =$B72+7 -> 42841 | C77: =TEXT(WEEKNUM(B77,1),"00")&"_"&RIGHT(YEAR(B77),2) -> 16_17 | D77: 18.38 | E77: 0.05 | F77: 0 | G77: 0.04 | H77: 25.732 | I77: 643.3 | J77: 2733.4269 | K77: 470.84111 | L77: 13221.995
A78: Planifié | D78: 12.997992 | E78: 0 | F78: 0 | G78: 0.04 | H78: 18.197189 | I78: 454.92973 | J78: 3478.3433 | K78: 470.84111 | L78: 16825.267
A79: Réalisé | D79: 0 | H79: 0 | I79: 0 | J79: 0 | K79: 0 | L79: 0
A80: R/O | B80: =TEXT(WEEKNUM(B77,1),"00")&"_"&RIGHT(YEAR(B77),4) -> 16_2017
A82: Prévu | B82: =$B77+7 -> 42848 | C82: =TEXT(WEEKNUM(B82,1),"00")&"_"&RIGHT(YEAR(B82),2) -> 17_17 | D82: 18.38 | E82: 0.05 | F82: 0 | G82: 0.04 | H82: 25.732 | I82: 643.3 | J82: 2800.1938 | K82: 471.17494 | L82: 13552.901
A83: Planifié | D83: 12.997992 | E83: 0 | F83: 0 | G83: 0.04 | H83: 18.197189 | I83: 454.92973 | J83: 3475.8789 | K83: 471.17494 | L83: 16823.209
A84: Réalisé | D84: 0 | H84: 0 | I84: 0 | J84: 0 | K84: 0 | L84: 0
A85: R/O | B85: =TEXT(WEEKNUM(B82,1),"00")&"_"&RIGHT(YEAR(B82),4) -> 17_2017
A87: Prévu | B87: =$B82+7 -> 42855 | C87: =TEXT(WEEKNUM(B87,1),"00")&"_"&RIGHT(YEAR(B87),2) -> 18_17 | D87: 18.38 | E87: 0.05 | F87: 0 | G87: 0.04 | H87: 25.732 | I87: 643.3 | J87: 2741.3496 | K87: 471.09433 | L87: 13266.218
A88: Planifié | D88: 12.997992 | E88: 0 | F88: 0 | G88: 0.04 | H88: 18.197189 | I88: 454.92973 | J88: 3476.4737 | K88: 471.09433 | L88: 16823.705
A89: Réalisé | D89: 0 | H89: 0 | I89: 0 | J89: 0 | K89: 0 | L89: 0
A90: R/O | B90: =TEXT(WEEKNUM(B87,1),"00")&"_"&RIGHT(YEAR(B87),4) -> 18_2017
A92: Prévu | B92: =$B87+7 -> 42862 | C92: =TEXT(WEEKNUM(B92,1),"00")&"_"&RIGHT(YEAR(B92),2) -> 19_17 | D92: 17.41 | E92: 0.05 | F92: 0 | G92: 0.04 | H92: 24.374 | I92: 609.35 | J92: 2734.3732 | K92: 471.46485 | L92: 13241.069
A93: Planifié | D93: 12.312027 | E93: 0 | F93: 0 | G93: 0.04 | H93: 17.236837 | I93: 430.92093 | J93: 3290.4157 | K93: 471.46485 | L93: 15933.678
A94: Réalisé | D94: 0 | H94: 0 | I94: 0 | J94: 0 | K94: 0 | L94: 0
A95: R/O | B95: =TEXT(WEEKNUM(B92,1),"00")&"_"&RIGHT(YEAR(B92),4) -> 19_2017
A97: Prévu | B97: =$B92+7 -> 42869 | C97: =TEXT(WEEKNUM(B97,1),"00")&"_"&RIGHT(YEAR(B97),2) -> 20_17 | D97: 17.41 | E97: 0.05 | F97: 0 | G97: 0.04 | H97: 24.374 | I97: 609.35 | J97: 2822.1968 | K97: 470.71772 | L97: 13648.428
A98: Planifié | D98: 12.312027 | E98: 0 | F98: 0 | G98: 0.04 | H98: 17.236837 | I98: 430.92093 | J98: 3295.6383 | K98: 470.71772 | L98: 15938.038
A99: Réalisé | D99: 0 | H99: 0 | I99: 0 | J99: 0 | K99: 0 | L99: 0
A100: R/O | B100: =TEXT(WEEKNUM(B97,1),"00")&"_"&RIGHT(YEAR(B97),4) -> 20_2017
A102: Prévu | B102: =$B97+7 -> 42876 | C102: =TEXT(WEEKNUM(B102,1),"00")&"_"&RIGHT(YEAR(B102),2) -> 21_17 | D102: 17.41 | E102: 0.05 | F102: 0 | G102: 0.04 | H102: 24.374 | I102: 609.35 | J102: 2693.0164 | K102: 471.60538 | L102: 13044.017
A103: Planifié | D103: 12.312027 | E103: 0 | F103: 0 | G103: 0.04 | H103: 17.236837 | I103: 430.92093 | J103: 3289.4352 | K103: 471.60538 | L103: 15932.859
A104: Réalisé | D104: 0 | H104: 0 | I104: 0 | J104: 0 | K104: 0 | L104: 0
A105: R/O | B105: =TEXT(WEEKNUM(B102,1),"00")&"_"&RIGHT(YEAR(B102),4) -> 21_2017
A107: Prévu | B107: =$B102+7 -> 42883 | C107: =TEXT(WEEKNUM(B107,1),"00")&"_"&RIGHT(YEAR(B107),2) -> 22_17 | D107: 17.41 | E107: 0.05 | F107: 0 | G107: 0.04 | H107: 24.335113 | I107: 608.37782 | J107: 2300.4072 | K107: 472.22732 | L107: 11154.518
A108: Planifié | D108: 8.0517484 | E108: 0 | F108: 0 | G108: 0.04 | H108: 11.254463 | I108: 281.36158 | J108: 2144.9451 | K108: 472.22732 | L108: 10400.694
A109: Réalisé | D109: 0 | H109: 0 | I109: 0 | J109: 0 | K109: 0 | L109: 0
A110: R/O | B110: =TEXT(WEEKNUM(B107,1),"00")&"_"&RIGHT(YEAR(B107),4) -> 22_2017

Sheet GLOBAL
D1: R/O | I1: Total fait
B2: DATE | C2: Sem | D2: Prod | E2: Heures | F2: Volume | G2: Temps | H2: CA | I2: Heures | J2: CA | K2: %CP | L2: H CP | M2: %ABS | N2: H ABS
A3: Lyon | B3: 42736 | C3: =TEXT(WEEKNUM(B3,1),"00")&"_"&RIGHT(YEAR(B3),2) -> 01_17 | D3: =VLOOKUP($B7,INDIRECT("'"&$A3&"'!B:M"),3,FALSE) -> 0.88906664 | E3: =VLOOKUP($B7,INDIRECT("'"&$A3&"'!B:M"),8,FALSE) -> 0.88906664 | F3: =VLOOKUP($B7,INDIRECT("'"&$A3&"'!B:M"),9,FALSE) -> 0.86502948 | G3: =VLOOKUP($B7,INDIRECT("'"&$A3&"'!B:M"),10,FALSE) -> 1.0277877 | H3: =VLOOKUP($B7,INDIRECT("'"&$A3&"'!B:M"),11,FALSE) -> 0.86502948 | I3: =SUM(OFFSET(INDIRECT($A3&"!I2"),MATCH($P3,INDIRECT($A3&"!B2:B30"),0)-1+2,,)) -> 1313.6097 | J3: =SUM(OFFSET(INDIRECT($A3&"!l2"),MATCH($P3,INDIRECT($A3&"!B2:B30"),0)-1+2,,)) -> 47586.138 | K3: =VLOOKUP($B7,INDIRECT("'"&$A3&"'!B:M"),4,FALSE) -> 0.2603513 | L3: =VLOOKUP($B7,INDIRECT("'"&$A3&"'!B:M"),5,FALSE) -> 342 | M3: =VLOOKUP($B7,INDIRECT("'"&$A3&"'!B:M"),6,FALSE) -> 0.0919 | N3: =VLOOKUP($B7,INDIRECT("'"&$A3&"'!B:M"),7,FALSE) -> 120.72073 | P3: {=IF(OR(A3="total",ISBLANK(A3)),"",INDEX(B$3:B$200,SMALL(IF(A$3:A$200="lyon",ROW(A$3:A$200)-2,""),COUNTIF(A$3:A3,"lyon"))))} -> 42736
A4: Bourges | D4: =VLOOKUP($B7,INDIRECT("'"&$A4&"'!B:M"),3,FALSE) | E4: =VLOOKUP($B7,INDIRECT("'"&$A4&"'!B:M"),8,FALSE) | F4: =VLOOKUP($B7,INDIRECT("'"&$A4&"'!B:M"),9,FALSE) | G4: =VLOOKUP($B7,INDIRECT("'"&$A4&"'!B:M"),10,FALSE) | H4: =VLOOKUP($B7,INDIRECT("'"&$A4&"'!B:M"),11,FALSE) | I4: =SUM(OFFSET(INDIRECT($A4&"!I2"),MATCH($P4,INDIRECT($A4&"!B2:B30"),0)-1+2,,)) -> 0 | J4: =SUM(OFFSET(INDIRECT($A4&"!l2"),MATCH($P4,INDIRECT($A4&"!B2:B30"),0)-1+2,,)) -> 0 | K4: =VLOOKUP($B7,INDIRECT("'"&$A4&"'!B:M"),4,FALSE) | L4: =VLOOKUP($B7,INDIRECT("'"&$A4&"'!B:M"),5,FALSE) | M4: =VLOOKUP($B7,INDIRECT("'"&$A4&"'!B:M"),6,FALSE) | N4: =VLOOKUP($B7,INDIRECT("'"&$A4&"'!B:M"),7,FALSE) | P4: {=IF(OR(A4="total",ISBLANK(A4)),"",INDEX(B$3:B$200,SMALL(IF(A$3:A$200="lyon",ROW(A$3:A$200)-2,""),COUNTIF(A$3:A4,"lyon"))))} -> 42736
A5: Aix | D5: =VLOOKUP($B7,INDIRECT("'"&$A5&"'!B:M"),3,FALSE) -> 1.3088853 | E5: =VLOOKUP($B7,INDIRECT("'"&$A5&"'!B:M"),8,FALSE) -> 1.3088853 | F5: =VLOOKUP($B7,INDIRECT("'"&$A5&"'!B:M"),9,FALSE) | G5: =VLOOKUP($B7,INDIRECT("'"&$A5&"'!B:M"),10,FALSE) -> 0.97354319 | H5: =VLOOKUP($B7,INDIRECT("'"&$A5&"'!B:M"),11,FALSE) | I5: =SUM(OFFSET(INDIRECT($A5&"!I2"),MATCH($P5,INDIRECT($A5&"!B2:B30"),0)-1+2,,)) -> 333.76306 | J5: =SUM(OFFSET(INDIRECT($A5&"!l2"),MATCH($P5,INDIRECT($A5&"!B2:B30"),0)-1+2,,)) -> 14131.17 | K5: =VLOOKUP($B7,INDIRECT("'"&$A5&"'!B:M"),4,FALSE) | L5: =VLOOKUP($B7,INDIRECT("'"&$A5&"'!B:M"),5,FALSE) | M5: =VLOOKUP($B7,INDIRECT("'"&$A5&"'!B:M"),6,FALSE) | N5: =VLOOKUP($B7,INDIRECT("'"&$A5&"'!B:M"),7,FALSE) | P5: {=IF(OR(A5="total",ISBLANK(A5)),"",INDEX(B$3:B$200,SMALL(IF(A$3:A$200="lyon",ROW(A$3:A$200)-2,""),COUNTIF(A$3:A5,"lyon"))))} -> 42736
A6: Paris | D6: =VLOOKUP($B7,INDIRECT("'"&$A6&"'!B:M"),3,FALSE) -> 0.77211381 | E6: =VLOOKUP($B7,INDIRECT("'"&$A6&"'!B:M"),8,FALSE) -> 0.77211381 | F6: =VLOOKUP($B7,INDIRECT("'"&$A6&"'!B:M"),9,FALSE) -> 1.0169112 | G6: =VLOOKUP($B7,INDIRECT("'"&$A6&"'!B:M"),10,FALSE) -> 0.94294084 | H6: =VLOOKUP($B7,INDIRECT("'"&$A6&"'!B:M"),11,FALSE) -> 0.82707184 | I6: =SUM(OFFSET(INDIRECT($A6&"!I2"),MATCH($P6,INDIRECT($A6&"!B2:B30"),0)-1+2,,)) -> 292.76306 | J6: =SUM(OFFSET(INDIRECT($A6&"!l2"),MATCH($P6,INDIRECT($A6&"!B2:B30"),0)-1+2,,)) -> 11484.726 | K6: =VLOOKUP($B7,INDIRECT("'"&$A6&"'!B:M"),4,FALSE) | L6: =VLOOKUP($B7,INDIRECT("'"&$A6&"'!B:M"),5,FALSE) | M6: =VLOOKUP($B7,INDIRECT("'"&$A6&"'!B:M"),6,FALSE) | N6: =VLOOKUP($B7,INDIRECT("'"&$A6&"'!B:M"),7,FALSE) | P6: {=IF(OR(A6="total",ISBLANK(A6)),"",INDEX(B$3:B$200,SMALL(IF(A$3:A$200="lyon",ROW(A$3:A$200)-2,""),COUNTIF(A$3:A6,"lyon"))))} -> 42736
A7: Total | B7: =TEXT(WEEKNUM(B3,1),"00")&"_"&RIGHT(YEAR(B3),4) -> 01_2017 | D7: =IFERROR(AVERAGE(D3:D6),0) -> 0.99002191 | E7: =IFERROR(AVERAGE(E3:E6),0) -> 0.99002191 | F7: =IFERROR(AVERAGE(F3:F6),0) -> 0.94097035 | G7: =IFERROR(AVERAGE(G3:G6),0) -> 0.9814239 | H7: =IFERROR(AVERAGE(H3:H6),0) -> 0.84605066 | I7: =IFERROR(SUM(I3:I6),0) -> 1940.1358 | J7: =IFERROR(SUM(J3:J6),0) -> 73202.034 | K7: =IFERROR(AVERAGE(K3:K6),0) -> 0.2603513 | L7: =IFERROR(AVERAGE(L3:L6),0) -> 342 | M7: =IFERROR(AVERAGE(M3:M6),0) -> 0.0919 | N7: =IFERROR(SUM(N3:N6),0) -> 120.72073 | P7: {=IF(OR(A7="total",ISBLANK(A7)),"",INDEX(B$3:B$200,SMALL(IF(A$3:A$200="lyon",ROW(A$3:A$200)-2,""),COUNTIF(A$3:A7,"lyon"))))}
P8: {=IF(OR(A8="total",ISBLANK(A8)),"",INDEX(B$3:B$200,SMALL(IF(A$3:A$200="lyon",ROW(A$3:A$200)-2,""),COUNTIF(A$3:A8,"lyon"))))}
A9: Lyon | B9: =$B3+7 -> 42743 | C9: =TEXT(WEEKNUM(B9,1),"00")&"_"&RIGHT(YEAR(B9),2) -> 02_17 | D9: =VLOOKUP($B13,INDIRECT("'"&$A9&"'!B:M"),3,FALSE) | E9: =VLOOKUP($B13,INDIRECT("'"&$A9&"'!B:M"),8,FALSE) | F9: =VLOOKUP($B13,INDIRECT("'"&$A9&"'!B:M"),9,FALSE) | G9: =VLOOKUP($B13,INDIRECT("'"&$A9&"'!B:M"),10,FALSE) | H9: =VLOOKUP($B13,INDIRECT("'"&$A9&"'!B:M"),11,FALSE) | I9: =SUM(OFFSET(INDIRECT($A9&"!I2"),MATCH($P9,INDIRECT($A9&"!B2:B30"),0)-1+2,,)) -> 0 | J9: =SUM(OFFSET(INDIRECT($A9&"!l2"),MATCH($P9,INDIRECT($A9&"!B2:B30"),0)-1+2,,)) -> 0 | K9: =VLOOKUP($B13,INDIRECT("'"&$A9&"'!B:M"),4,FALSE) -> 0 | L9: =VLOOKUP($B13,INDIRECT("'"&$A9&"'!B:M"),5,FALSE) -> 496 | M9: =VLOOKUP($B13,INDIRECT("'"&$A9&"'!B:M"),6,FALSE) -> 0.0919 | N9: =VLOOKUP($B13,INDIRECT("'"&$A9&"'!B:M"),7,FALSE) -> 0 | P9: {=IF(OR(A9="total",ISBLANK(A9)),"",INDEX(B$3:B$200,SMALL(IF(A$3:A$200="lyon",ROW(A$3:A$200)-2,""),COUNTIF(A$3:A9,"lyon"))))} -> 42743
A10: Bourges | D10: =VLOOKUP($B13,INDIRECT("'"&$A10&"'!B:M"),3,FALSE) | E10: =VLOOKUP($B13,INDIRECT("'"&$A10&"'!B:M"),8,FALSE) | F10: =VLOOKUP($B13,INDIRECT("'"&$A10&"'!B:M"),9,FALSE) | G10: =VLOOKUP($B13,INDIRECT("'"&$A10&"'!B:M"),10,FALSE) | H10: =VLOOKUP($B13,INDIRECT("'"&$A10&"'!B:M"),11,FALSE) | I10: =SUM(OFFSET(INDIRECT($A10&"!I2"),MATCH($P10,INDIRECT($A10&"!B2:B30"),0)-1+2,,)) -> 0 | J10: =SUM(OFFSET(INDIRECT($A10&"!l2"),MATCH($P10,INDIRECT($A10&"!B2:B30"),0)-1+2,,)) -> 0 | K10: =VLOOKUP($B13,INDIRECT("'"&$A10&"'!B:M"),4,FALSE) | L10: =VLOOKUP($B13,INDIRECT("'"&$A10&"'!B:M"),5,FALSE) | M10: =VLOOKUP($B13,INDIRECT("'"&$A10&"'!B:M"),6,FALSE) | N10: =VLOOKUP($B13,INDIRECT("'"&$A10&"'!B:M"),7,FALSE) | P10: {=IF(OR(A10="total",ISBLANK(A10)),"",INDEX(B$3:B$200,SMALL(IF(A$3:A$200="lyon",ROW(A$3:A$200)-2,""),COUNTIF(A$3:A10,"lyon"))))} -> 42743
A11: Aix | D11: =VLOOKUP($B13,INDIRECT("'"&$A11&"'!B:M"),3,FALSE) | E11: =VLOOKUP($B13,INDIRECT("'"&$A11&"'!B:M"),8,FALSE) | F11: =VLOOKUP($B13,INDIRECT("'"&$A11&"'!B:M"),9,FALSE) | G11: =VLOOKUP($B13,INDIRECT("'"&$A11&"'!B:M"),10,FALSE) | H11: =VLOOKUP($B13,INDIRECT("'"&$A11&"'!B:M"),11,FALSE) | I11: =SUM(OFFSET(INDIRECT($A11&"!I2"),MATCH($P11,INDIRECT($A11&"!B2:B30"),0)-1+2,,)) -> 0 | J11: =SUM(OFFSET(INDIRECT($A11&"!l2"),MATCH($P11,INDIRECT($A11&"!B2:B30"),0)-1+2,,)) -> 0 | K11: =VLOOKUP($B13,INDIRECT("'"&$A11&"'!B:M"),4,FALSE) | L11: =VLOOKUP($B13,INDIRECT("'"&$A11&"'!B:M"),5,FALSE) | M11: =VLOOKUP($B13,INDIRECT("'"&$A11&"'!B:M"),6,FALSE) | N11: =VLOOKUP($B13,INDIRECT("'"&$A11&"'!B:M"),7,FALSE) | P11: {=IF(OR(A11="total",ISBLANK(A11)),"",INDEX(B$3:B$200,SMALL(IF(A$3:A$200="lyon",ROW(A$3:A$200)-2,""),COUNTIF(A$3:A11,"lyon"))))} -> 42743
A12: Paris | D12: =VLOOKUP($B13,INDIRECT("'"&$A12&"'!B:M"),3,FALSE) -> 0.36051238 | E12: =VLOOKUP($B13,INDIRECT("'"&$A12&"'!B:M"),8,FALSE) -> 0.36051238 | F12: =VLOOKUP($B13,INDIRECT("'"&$A12&"'!B:M"),9,FALSE) -> 0.39359731 | G12: =VLOOKUP($B13,INDIRECT("'"&$A12&"'!B:M"),10,FALSE) -> 0.91594218 | H12: =VLOOKUP($B13,INDIRECT("'"&$A12&"'!B:M"),11,FALSE) -> 0.39359731 | I12: =SUM(OFFSET(INDIRECT($A12&"!I2"),MATCH($P12,INDIRECT($A12&"!B2:B30"),0)-1+2,,)) -> 124.65333 | J12: =SUM(OFFSET(INDIRECT($A12&"!l2"),MATCH($P12,INDIRECT($A12&"!B2:B30"),0)-1+2,,)) -> 5021.1563 | K12: =VLOOKUP($B13,INDIRECT("'"&$A12&"'!B:M"),4,FALSE) | L12: =VLOOKUP($B13,INDIRECT("'"&$A12&"'!B:M"),5,FALSE) | M12: =VLOOKUP($B13,INDIRECT("'"&$A12&"'!B:M"),6,FALSE) | N12: =VLOOKUP($B13,INDIRECT("'"&$A12&"'!B:M"),7,FALSE) | P12: {=IF(OR(A12="total",ISBLANK(A12)),"",INDEX(B$3:B$200,SMALL(IF(A$3:A$200="lyon",ROW(A$3:A$200)-2,""),COUNTIF(A$3:A12,"lyon"))))} -> 42743
A13: Total | B13: =TEXT(WEEKNUM(B9,1),"00")&"_"&RIGHT(YEAR(B9),4) -> 02_2017 | D13: =IFERROR(AVERAGE(D9:D12),0) -> 0.36051238 | E13: =IFERROR(AVERAGE(E9:E12),0) -> 0.36051238 | F13: =IFERROR(AVERAGE(F9:F12),0) -> 0.39359731 | G13: =IFERROR(AVERAGE(G9:G12),0) -> 0.91594218 | H13: =IFERROR(AVERAGE(H9:H12),0) -> 0.39359731 | I13: =IFERROR(AVERAGE(I9:I12),0) -> 31.163333 | J13: =SUM(J9:J12) -> 5021.1563 | K13: =IFERROR(AVERAGE(K9:K12),0) -> 0 | L13: =IFERROR(AVERAGE(L9:L12),0) -> 496 | M13: =IFERROR(AVERAGE(M9:M12),0) -> 0.0919 | N13: =IFERROR(SUM(N9:N12),0) -> 0 | P13: {=IF(OR(A13="total",ISBLANK(A13)),"",INDEX(B$3:B$200,SMALL(IF(A$3:A$200="lyon",ROW(A$3:A$200)-2,""),COUNTIF(A$3:A13,"lyon"))))}
P14: {=IF(OR(A14="total",ISBLANK(A14)),"",INDEX(B$3:B$200,SMALL(IF(A$3:A$200="lyon",ROW(A$3:A$200)-2,""),COUNTIF(A$3:A14,"lyon"))))}
A15: Lyon | B15: =$B9+7 -> 42750 | C15: =TEXT(WEEKNUM(B15,1),"00")&"_"&RIGHT(YEAR(B15),2) -> 03_17 | D15: =VLOOKUP($B19,INDIRECT("'"&$A15&"'!B:M"),3,FALSE) | E15: =VLOOKUP($B19,INDIRECT("'"&$A15&"'!B:M"),8,FALSE) | F15: =VLOOKUP($B19,INDIRECT("'"&$A15&"'!B:M"),9,FALSE) | G15: =VLOOKUP($B19,INDIRECT("'"&$A15&"'!B:M"),10,FALSE) | H15: =VLOOKUP($B19,INDIRECT("'"&$A15&"'!B:M"),11,FALSE) | I15: =SUM(OFFSET(INDIRECT($A15&"!I2"),MATCH($P15,INDIRECT($A15&"!B2:B30"),0)-1+2,,)) -> 0 | J15: =SUM(OFFSET(INDIRECT($A15&"!l2"),MATCH($P15,INDIRECT($A15&"!B2:B30"),0)-1+2,,)) -> 0 | K15: =VLOOKUP($B19,INDIRECT("'"&$A15&"'!B:M"),4,FALSE) -> 0 | L15: =VLOOKUP($B19,INDIRECT("'"&$A15&"'!B:M"),5,FALSE) -> 385 | M15: =VLOOKUP($B19,INDIRECT("'"&$A15&"'!B:M"),6,FALSE) -> 0.0919 | N15: =VLOOKUP($B19,INDIRECT("'"&$A15&"'!B:M"),7,FALSE) -> 0 | P15: {=IF(OR(A15="total",ISBLANK(A15)),"",INDEX(B$3:B$200,SMALL(IF(A$3:A$200="lyon",ROW(A$3:A$200)-2,""),COUNTIF(A$3:A15,"lyon"))))} -> 42750
A16: Bourges | D16: =VLOOKUP($B19,INDIRECT("'"&$A16&"'!B:M"),3,FALSE) | E16: =VLOOKUP($B19,INDIRECT("'"&$A16&"'!B:M"),8,FALSE) | F16: =VLOOKUP($B19,INDIRECT("'"&$A16&"'!B:M"),9,FALSE) | G16: =VLOOKUP($B19,INDIRECT("'"&$A16&"'!B:M"),10,FALSE) | H16: =VLOOKUP($B19,INDIRECT("'"&$A16&"'!B:M"),11,FALSE) | I16: =SUM(OFFSET(INDIRECT($A16&"!I2"),MATCH($P16,INDIRECT($A16&"!B2:B30"),0)-1+2,,)) -> 0 | J16: =SUM(OFFSET(INDIRECT($A16&"!l2"),MATCH($P16,INDIRECT($A16&"!B2:B30"),0)-1+2,,)) -> 0 | K16: =VLOOKUP($B19,INDIRECT("'"&$A16&"'!B:M"),4,FALSE) | L16: =VLOOKUP($B19,INDIRECT("'"&$A16&"'!B:M"),5,FALSE) | M16: =VLOOKUP($B19,INDIRECT("'"&$A16&"'!B:M"),6,FALSE) | N16: =VLOOKUP($B19,INDIRECT("'"&$A16&"'!B:M"),7,FALSE) | P16: {=IF(OR(A16="total",ISBLANK(A16)),"",INDEX(B$3:B$200,SMALL(IF(A$3:A$200="lyon",ROW(A$3:A$200)-2,""),COUNTIF(A$3:A16,"lyon"))))} -> 42750
A17: Aix | D17: =VLOOKUP($B19,INDIRECT("'"&$A17&"'!B:M"),3,FALSE) | E17: =VLOOKUP($B19,INDIRECT("'"&$A17&"'!B:M"),8,FALSE) | F17: =VLOOKUP($B19,INDIRECT("'"&$A17&"'!B:M"),9,FALSE) | G17: =VLOOKUP($B19,INDIRECT("'"&$A17&"'!B:M"),10,FALSE) | H17: =VLOOKUP($B19,INDIRECT("'"&$A17&"'!B:M"),11,FALSE) | I17: =SUM(OFFSET(INDIRECT($A17&"!I2"),MATCH($P17,INDIRECT($A17&"!B2:B30"),0)-1+2,,)) -> 0 | J17: =SUM(OFFSET(INDIRECT($A17&"!l2"),MATCH($P17,INDIRECT($A17&"!B2:B30"),0)-1+2,,)) -> 0 | K17: =VLOOKUP($B19,INDIRECT("'"&$A17&"'!B:M"),4,FALSE) | L17: =VLOOKUP($B19,INDIRECT("'"&$A17&"'!B:M"),5,FALSE) | M17: =VLOOKUP($B19,INDIRECT("'"&$A17&"'!B:M"),6,FALSE) | N17: =VLOOKUP($B19,INDIRECT("'"&$A17&"'!B:M"),7,FALSE) | P17: {=IF(OR(A17="total",ISBLANK(A17)),"",INDEX(B$3:B$200,SMALL(IF(A$3:A$200="lyon",ROW(A$3:A$200)-2,""),COUNTIF(A$3:A17,"lyon"))))} -> 42750
A18: Paris | D18: =VLOOKUP($B19,INDIRECT("'"&$A18&"'!B:M"),3,FALSE) | E18: =VLOOKUP($B19,INDIRECT("'"&$A18&"'!B:M"),8,FALSE) | F18: =VLOOKUP($B19,INDIRECT("'"&$A18&"'!B:M"),9,FALSE) | G18: =VLOOKUP($B19,INDIRECT("'"&$A18&"'!B:M"),10,FALSE) | H18: =VLOOKUP($B19,INDIRECT("'"&$A18&"'!B:M"),11,FALSE) | I18: =SUM(OFFSET(INDIRECT($A18&"!I2"),MATCH($P18,INDIRECT($A18&"!B2:B30"),0)-1+2,,)) -> 0 | J18: =SUM(OFFSET(INDIRECT($A18&"!l2"),MATCH($P18,INDIRECT($A18&"!B2:B30"),0)-1+2,,)) -> 0 | K18: =VLOOKUP($B19,INDIRECT("'"&$A18&"'!B:M"),4,FALSE) | L18: =VLOOKUP($B19,INDIRECT("'"&$A18&"'!B:M"),5,FALSE) | M18: =VLOOKUP($B19,INDIRECT("'"&$A18&"'!B:M"),6,FALSE) | N18: =VLOOKUP($B19,INDIRECT("'"&$A18&"'!B:M"),7,FALSE) | P18: {=IF(OR(A18="total",ISBLANK(A18)),"",INDEX(B$3:B$200,SMALL(IF(A$3:A$200="lyon",ROW(A$3:A$200)-2,""),COUNTIF(A$3:A18,"lyon"))))} -> 42750
A19: Total | B19: =TEXT(WEEKNUM(B15,1),"00")&"_"&RIGHT(YEAR(B15),4) -> 03_2017 | D19: =IFERROR(AVERAGE(D15:D18),0) -> 0 | E19: =IFERROR(AVERAGE(E15:E18),0) -> 0 | F19: =IFERROR(AVERAGE(F15:F18),0) -> 0 | G19: =IFERROR(AVERAGE(G15:G18),0) -> 0 | H19: =IFERROR(AVERAGE(H15:H18),0) -> 0 | I19: =IFERROR(AVERAGE(I15:I18),0) -> 0 | J19: =SUM(J15:J18) -> 0 | K19: =IFERROR(AVERAGE(K15:K18),0) -> 0 | L19: =IFERROR(AVERAGE(L15:L18),0) -> 385 | M19: =IFERROR(AVERAGE(M15:M18),0) -> 0.0919 | N19: =IFERROR(SUM(N15:N18),0) -> 0 | P19: {=IF(OR(A19="total",ISBLANK(A19)),"",INDEX(B$3:B$200,SMALL(IF(A$3:A$200="lyon",ROW(A$3:A$200)-2,""),COUNTIF(A$3:A19,"lyon"))))}
P20: {=IF(OR(A20="total",ISBLANK(A20)),"",INDEX(B$3:B$200,SMALL(IF(A$3:A$200="lyon",ROW(A$3:A$200)-2,""),COUNTIF(A$3:A20,"lyon"))))}
A21: Lyon | B21: =$B15+7 -> 42757 | C21: =TEXT(WEEKNUM(B21,1),"00")&"_"&RIGHT(YEAR(B21),2) -> 04_17 | D21: =VLOOKUP($B25,INDIRECT("'"&$A21&"'!B:M"),3,FALSE) | E21: =VLOOKUP($B25,INDIRECT("'"&$A21&"'!B:M"),8,FALSE) | F21: =VLOOKUP($B25,INDIRECT("'"&$A21&"'!B:M"),9,FALSE) | G21: =VLOOKUP($B25,INDIRECT("'"&$A21&"'!B:M"),10,FALSE) | H21: =VLOOKUP($B25,INDIRECT("'"&$A21&"'!B:M"),11,FALSE) | I21: =SUM(OFFSET(INDIRECT($A21&"!I2"),MATCH($P21,INDIRECT($A21&"!B2:B30"),0)-1+2,,)) -> 0 | J21: =SUM(OFFSET(INDIRECT($A21&"!l2"),MATCH($P21,INDIRECT($A21&"!B2:B30"),0)-1+2,,)) -> 0 | K21: =VLOOKUP($B25,INDIRECT("'"&$A21&"'!B:M"),4,FALSE) -> 0 | L21: =VLOOKUP($B25,INDIRECT("'"&$A21&"'!B:M"),5,FALSE) -> 307 | M21: =VLOOKUP($B25,INDIRECT("'"&$A21&"'!B:M"),6,FALSE) -> 0.0919 | N21: =VLOOKUP($B25,INDIRECT("'"&$A21&"'!B:M"),7,FALSE) -> 0 | P21: {=IF(OR(A21="total",ISBLANK(A21)),"",INDEX(B$3:B$200,SMALL(IF(A$3:A$200="lyon",ROW(A$3:A$200)-2,""),COUNTIF(A$3:A21,"lyon"))))} -> 42757
A22: Bourges | D22: =VLOOKUP($B25,INDIRECT("'"&$A22&"'!B:M"),3,FALSE) | E22: =VLOOKUP($B25,INDIRECT("'"&$A22&"'!B:M"),8,FALSE) | F22: =VLOOKUP($B25,INDIRECT("'"&$A22&"'!B:M"),9,FALSE) | G22: =VLOOKUP($B25,INDIRECT("'"&$A22&"'!B:M"),10,FALSE) | H22: =VLOOKUP($B25,INDIRECT("'"&$A22&"'!B:M"),11,FALSE) | I22: =SUM(OFFSET(INDIRECT($A22&"!I2"),MATCH($P22,INDIRECT($A22&"!B2:B30"),0)-1+2,,)) -> 0 | J22: =SUM(OFFSET(INDIRECT($A22&"!l2"),MATCH($P22,INDIRECT($A22&"!B2:B30"),0)-1+2,,)) -> 0 | K22: =VLOOKUP($B25,INDIRECT("'"&$A22&"'!B:M"),4,FALSE) | L22: =VLOOKUP($B25,INDIRECT("'"&$A22&"'!B:M"),5,FALSE) | M22: =VLOOKUP($B25,INDIRECT("'"&$A22&"'!B:M"),6,FALSE) | N22: =VLOOKUP($B25,INDIRECT("'"&$A22&"'!B:M"),7,FALSE) | P22: {=IF(OR(A22="total",ISBLANK(A22)),"",INDEX(B$3:B$200,SMALL(IF(A$3:A$200="lyon",ROW(A$3:A$200)-2,""),COUNTIF(A$3:A22,"lyon"))))} -> 42757
A23: Aix | D23: =VLOOKUP($B25,INDIRECT("'"&$A23&"'!B:M"),3,FALSE) | E23: =VLOOKUP($B25,INDIRECT("'"&$A23&"'!B:M"),8,FALSE) | F23: =VLOOKUP($B25,INDIRECT("'"&$A23&"'!B:M"),9,FALSE) | G23: =VLOOKUP($B25,INDIRECT("'"&$A23&"'!B:M"),10,FALSE) | H23: =VLOOKUP($B25,INDIRECT("'"&$A23&"'!B:M"),11,FALSE) | I23: =SUM(OFFSET(INDIRECT($A23&"!I2"),MATCH($P23,INDIRECT($A23&"!B2:B30"),0)-1+2,,)) -> 0 | J23: =SUM(OFFSET(INDIRECT($A23&"!l2"),MATCH($P23,INDIRECT($A23&"!B2:B30"),0)-1+2,,)) -> 0 | K23: =VLOOKUP($B25,INDIRECT("'"&$A23&"'!B:M"),4,FALSE) | L23: =VLOOKUP($B25,INDIRECT("'"&$A23&"'!B:M"),5,FALSE) | M23: =VLOOKUP($B25,INDIRECT("'"&$A23&"'!B:M"),6,FALSE) | N23: =VLOOKUP($B25,INDIRECT("'"&$A23&"'!B:M"),7,FALSE) | P23: {=IF(OR(A23="total",ISBLANK(A23)),"",INDEX(B$3:B$200,SMALL(IF(A$3:A$200="lyon",ROW(A$3:A$200)-2,""),COUNTIF(A$3:A23,"lyon"))))} -> 42757
A24: Paris | D24: =VLOOKUP($B25,INDIRECT("'"&$A24&"'!B:M"),3,FALSE) | E24: =VLOOKUP($B25,INDIRECT("'"&$A24&"'!B:M"),8,FALSE) | F24: =VLOOKUP($B25,INDIRECT("'"&$A24&"'!B:M"),9,FALSE) | G24: =VLOOKUP($B25,INDIRECT("'"&$A24&"'!B:M"),10,FALSE) | H24: =VLOOKUP($B25,INDIRECT("'"&$A24&"'!B:M"),11,FALSE) | I24: =SUM(OFFSET(INDIRECT($A24&"!I2"),MATCH($P24,INDIRECT($A24&"!B2:B30"),0)-1+2,,)) -> 0 | J24: =SUM(OFFSET(INDIRECT($A24&"!l2"),MATCH($P24,INDIRECT($A24&"!B2:B30"),0)-1+2,,)) -> 0 | K24: =VLOOKUP($B25,INDIRECT("'"&$A24&"'!B:M"),4,FALSE) | L24: =VLOOKUP($B25,INDIRECT("'"&$A24&"'!B:M"),5,FALSE) | M24: =VLOOKUP($B25,INDIRECT("'"&$A24&"'!B:M"),6,FALSE) | N24: =VLOOKUP($B25,INDIRECT("'"&$A24&"'!B:M"),7,FALSE) | P24: {=IF(OR(A24="total",ISBLANK(A24)),"",INDEX(B$3:B$200,SMALL(IF(A$3:A$200="lyon",ROW(A$3:A$200)-2,""),COUNTIF(A$3:A24,"lyon"))))} -> 42757
A25: Total | B25: =TEXT(WEEKNUM(B21,1),"00")&"_"&RIGHT(YEAR(B21),4) -> 04_2017 | D25: =IFERROR(AVERAGE(D21:D24),0) -> 0 | E25: =IFERROR(AVERAGE(E21:E24),0) -> 0 | F25: =IFERROR(AVERAGE(F21:F24),0) -> 0 | G25: =IFERROR(AVERAGE(G21:G24),0) -> 0 | H25: =IFERROR(AVERAGE(H21:H24),0) -> 0 | I25: =IFERROR(AVERAGE(I21:I24),0) -> 0 | J25: =SUM(J21:J24) -> 0 | K25: =IFERROR(AVERAGE(K21:K24),0) -> 0 | L25: =IFERROR(AVERAGE(L21:L24),0) -> 307 | M25: =IFERROR(AVERAGE(M21:M24),0) -> 0.0919 | N25: =IFERROR(SUM(N21:N24),0) -> 0 | P25: {=IF(OR(A25="total",ISBLANK(A25)),"",INDEX(B$3:B$200,SMALL(IF(A$3:A$200="lyon",ROW(A$3:A$200)-2,""),COUNTIF(A$3:A25,"lyon"))))}
P26: {=IF(OR(A26="total",ISBLANK(A26)),"",INDEX(B$3:B$200,SMALL(IF(A$3:A$200="lyon",ROW(A$3:A$200)-2,""),COUNTIF(A$3:A26,"lyon"))))}
A27: Lyon | B27: =$B21+7 -> 42764 | C27: =TEXT(WEEKNUM(B27,1),"00")&"_"&RIGHT(YEAR(B27),2) -> 05_17 | D27: =VLOOKUP($B31,INDIRECT("'"&$A27&"'!B:M"),3,FALSE) | E27: =VLOOKUP($B31,INDIRECT("'"&$A27&"'!B:M"),8,FALSE) | F27: =VLOOKUP($B31,INDIRECT("'"&$A27&"'!B:M"),9,FALSE) | G27: =VLOOKUP($B31,INDIRECT("'"&$A27&"'!B:M"),10,FALSE) | H27: =VLOOKUP($B31,INDIRECT("'"&$A27&"'!B:M"),11,FALSE) | I27: =SUM(OFFSET(INDIRECT($A27&"!I2"),MATCH($P27,INDIRECT($A27&"!B2:B30"),0)-1+2,,)) -> 0 | J27: =SUM(OFFSET(INDIRECT($A27&"!l2"),MATCH($P27,INDIRECT($A27&"!B2:B30"),0)-1+2,,)) -> 0 | K27: =VLOOKUP($B31,INDIRECT("'"&$A27&"'!B:M"),4,FALSE) -> 0 | L27: =VLOOKUP($B31,INDIRECT("'"&$A27&"'!B:M"),5,FALSE) -> 231 | M27: =VLOOKUP($B31,INDIRECT("'"&$A27&"'!B:M"),6,FALSE) -> 0.0919 | N27: =VLOOKUP($B31,INDIRECT("'"&$A27&"'!B:M"),7,FALSE) -> 0 | P27: {=IF(OR(A27="total",ISBLANK(A27)),"",INDEX(B$3:B$200,SMALL(IF(A$3:A$200="lyon",ROW(A$3:A$200)-2,""),COUNTIF(A$3:A27,"lyon"))))} -> 42764
A28: Bourges | D28: =VLOOKUP($B31,INDIRECT("'"&$A28&"'!B:M"),3,FALSE) | E28: =VLOOKUP($B31,INDIRECT("'"&$A28&"'!B:M"),8,FALSE) | F28: =VLOOKUP($B31,INDIRECT("'"&$A28&"'!B:M"),9,FALSE) | G28: =VLOOKUP($B31,INDIRECT("'"&$A28&"'!B:M"),10,FALSE) | H28: =VLOOKUP($B31,INDIRECT("'"&$A28&"'!B:M"),11,FALSE) | I28: =SUM(OFFSET(INDIRECT($A28&"!I2"),MATCH($P28,INDIRECT($A28&"!B2:B30"),0)-1+2,,)) -> 0 | J28: =SUM(OFFSET(INDIRECT($A28&"!l2"),MATCH($P28,INDIRECT($A28&"!B2:B30"),0)-1+2,,)) -> 0 | K28: =VLOOKUP($B31,INDIRECT("'"&$A28&"'!B:M"),4,FALSE) | L28: =VLOOKUP($B31,INDIRECT("'"&$A28&"'!B:M"),5,FALSE) | M28: =VLOOKUP($B31,INDIRECT("'"&$A28&"'!B:M"),6,FALSE) | N28: =VLOOKUP($B31,INDIRECT("'"&$A28&"'!B:M"),7,FALSE) | P28: {=IF(OR(A28="total",ISBLANK(A28)),"",INDEX(B$3:B$200,SMALL(IF(A$3:A$200="lyon",ROW(A$3:A$200)-2,""),COUNTIF(A$3:A28,"lyon"))))} -> 42764
A29: Aix | D29: =VLOOKUP($B31,INDIRECT("'"&$A29&"'!B:M"),3,FALSE) | E29: =VLOOKUP($B31,INDIRECT("'"&$A29&"'!B:M"),8,FALSE) | F29: =VLOOKUP($B31,INDIRECT("'"&$A29&"'!B:M"),9,FALSE) | G29: =VLOOKUP($B31,INDIRECT("'"&$A29&"'!B:M"),10,FALSE) | H29: =VLOOKUP($B31,INDIRECT("'"&$A29&"'!B:M"),11,FALSE) | I29: =SUM(OFFSET(INDIRECT($A29&"!I2"),MATCH($P29,INDIRECT($A29&"!B2:B30"),0)-1+2,,)) -> 0 | J29: =SUM(OFFSET(INDIRECT($A29&"!l2"),MATCH($P29,INDIRECT($A29&"!B2:B30"),0)-1+2,,)) -> 0 | K29: =VLOOKUP($B31,INDIRECT("'"&$A29&"'!B:M"),4,FALSE) | L29: =VLOOKUP($B31,INDIRECT("'"&$A29&"'!B:M"),5,FALSE) | M29: =VLOOKUP($B31,INDIRECT("'"&$A29&"'!B:M"),6,FALSE) | N29: =VLOOKUP($B31,INDIRECT("'"&$A29&"'!B:M"),7,FALSE) | P29: {=IF(OR(A29="total",ISBLANK(A29)),"",INDEX(B$3:B$200,SMALL(IF(A$3:A$200="lyon",ROW(A$3:A$200)-2,""),COUNTIF(A$3:A29,"lyon"))))} -> 42764
A30: Paris | D30: =VLOOKUP($B31,INDIRECT("'"&$A30&"'!B:M"),3,FALSE) | E30: =VLOOKUP($B31,INDIRECT("'"&$A30&"'!B:M"),8,FALSE) | F30: =VLOOKUP($B31,INDIRECT("'"&$A30&"'!B:M"),9,FALSE) | G30: =VLOOKUP($B31,INDIRECT("'"&$A30&"'!B:M"),10,FALSE) | H30: =VLOOKUP($B31,INDIRECT("'"&$A30&"'!B:M"),11,FALSE) | I30: =SUM(OFFSET(INDIRECT($A30&"!I2"),MATCH($P30,INDIRECT($A30&"!B2:B30"),0)-1+2,,)) -> 0 | J30: =SUM(OFFSET(INDIRECT($A30&"!l2"),MATCH($P30,INDIRECT($A30&"!B2:B30"),0)-1+2,,)) -> 0 | K30: =VLOOKUP($B31,INDIRECT("'"&$A30&"'!B:M"),4,FALSE) | L30: =VLOOKUP($B31,INDIRECT("'"&$A30&"'!B:M"),5,FALSE) | M30: =VLOOKUP($B31,INDIRECT("'"&$A30&"'!B:M"),6,FALSE) | N30: =VLOOKUP($B31,INDIRECT("'"&$A30&"'!B:M"),7,FALSE) | P30: {=IF(OR(A30="total",ISBLANK(A30)),"",INDEX(B$3:B$200,SMALL(IF(A$3:A$200="lyon",ROW(A$3:A$200)-2,""),COUNTIF(A$3:A30,"lyon"))))} -> 42764
A31: Total | B31: =TEXT(WEEKNUM(B27,1),"00")&"_"&RIGHT(YEAR(B27),4) -> 05_2017 | D31: =IFERROR(AVERAGE(D27:D30),0) -> 0 | E31: =IFERROR(AVERAGE(E27:E30),0) -> 0 | F31: =IFERROR(AVERAGE(F27:F30),0) -> 0 | G31: =IFERROR(AVERAGE(G27:G30),0) -> 0 | H31: =IFERROR(AVERAGE(H27:H30),0) -> 0 | I31: =IFERROR(AVERAGE(I27:I30),0) -> 0 | J31: =SUM(J27:J30) -> 0 | K31: =IFERROR(AVERAGE(K27:K30),0) -> 0 | L31: =IFERROR(AVERAGE(L27:L30),0) -> 231 | M31: =IFERROR(AVERAGE(M27:M30),0) -> 0.0919 | N31: =IFERROR(SUM(N27:N30),0) -> 0 | P31: {=IF(OR(A31="total",ISBLANK(A31)),"",INDEX(B$3:B$200,SMALL(IF(A$3:A$200="lyon",ROW(A$3:A$200)-2,""),COUNTIF(A$3:A31,"lyon"))))}
P32: {=IF(OR(A32="total",ISBLANK(A32)),"",INDEX(B$3:B$200,SMALL(IF(A$3:A$200="lyon",ROW(A$3:A$200)-2,""),COUNTIF(A$3:A32,"lyon"))))}
A33: Lyon | B33: =$B27+7 -> 42771 | C33: =TEXT(WEEKNUM(B33,1),"00")&"_"&RIGHT(YEAR(B33),2) -> 06_17 | D33: =VLOOKUP($B37,INDIRECT("'"&$A33&"'!B:M"),3,FALSE) | E33: =VLOOKUP($B37,INDIRECT("'"&$A33&"'!B:M"),8,FALSE) | F33: =VLOOKUP($B37,INDIRECT("'"&$A33&"'!B:M"),9,FALSE) | G33: =VLOOKUP($B37,INDIRECT("'"&$A33&"'!B:M"),10,FALSE) | H33: =VLOOKUP($B37,INDIRECT("'"&$A33&"'!B:M"),11,FALSE) | I33: =SUM(OFFSET(INDIRECT($A33&"!I2"),MATCH($P33,INDIRECT($A33&"!B2:B30"),0)-1+2,,)) -> 0 | J33: =SUM(OFFSET(INDIRECT($A33&"!l2"),MATCH($P33,INDIRECT($A33&"!B2:B30"),0)-1+2,,)) -> 0 | K33: =VLOOKUP($B37,INDIRECT("'"&$A33&"'!B:M"),4,FALSE) -> 0 | L33: =VLOOKUP($B37,INDIRECT("'"&$A33&"'!B:M"),5,FALSE) -> 309 | M33: =VLOOKUP($B37,INDIRECT("'"&$A33&"'!B:M"),6,FALSE) -> 0.0919 | N33: =VLOOKUP($B37,INDIRECT("'"&$A33&"'!B:M"),7,FALSE) -> 0 | P33: {=IF(OR(A33="total",ISBLANK(A33)),"",INDEX(B$3:B$200,SMALL(IF(A$3:A$200="lyon",ROW(A$3:A$200)-2,""),COUNTIF(A$3:A33,"lyon"))))} -> 42771
A34: Bourges | D34: =VLOOKUP($B37,INDIRECT("'"&$A34&"'!B:M"),3,FALSE) | E34: =VLOOKUP($B37,INDIRECT("'"&$A34&"'!B:M"),8,FALSE) | F34: =VLOOKUP($B37,INDIRECT("'"&$A34&"'!B:M"),9,FALSE) | G34: =VLOOKUP($B37,INDIRECT("'"&$A34&"'!B:M"),10,FALSE) | H34: =VLOOKUP($B37,INDIRECT("'"&$A34&"'!B:M"),11,FALSE) | I34: =SUM(OFFSET(INDIRECT($A34&"!I2"),MATCH($P34,INDIRECT($A34&"!B2:B30"),0)-1+2,,)) -> 0 | J34: =SUM(OFFSET(INDIRECT($A34&"!l2"),MATCH($P34,INDIRECT($A34&"!B2:B30"),0)-1+2,,)) -> 0 | K34: =VLOOKUP($B37,INDIRECT("'"&$A34&"'!B:M"),4,FALSE) | L34: =VLOOKUP($B37,INDIRECT("'"&$A34&"'!B:M"),5,FALSE) | M34: =VLOOKUP($B37,INDIRECT("'"&$A34&"'!B:M"),6,FALSE) | N34: =VLOOKUP($B37,INDIRECT("'"&$A34&"'!B:M"),7,FALSE) | P34: {=IF(OR(A34="total",ISBLANK(A34)),"",INDEX(B$3:B$200,SMALL(IF(A$3:A$200="lyon",ROW(A$3:A$200)-2,""),COUNTIF(A$3:A34,"lyon"))))} -> 42771
A35: Aix | D35: =VLOOKUP($B37,INDIRECT("'"&$A35&"'!B:M"),3,FALSE) | E35: =VLOOKUP($B37,INDIRECT("'"&$A35&"'!B:M"),8,FALSE) | F35: =VLOOKUP($B37,INDIRECT("'"&$A35&"'!B:M"),9,FALSE) | G35: =VLOOKUP($B37,INDIRECT("'"&$A35&"'!B:M"),10,FALSE) | H35: =VLOOKUP($B37,INDIRECT("'"&$A35&"'!B:M"),11,FALSE) | I35: =SUM(OFFSET(INDIRECT($A35&"!I2"),MATCH($P35,INDIRECT($A35&"!B2:B30"),0)-1+2,,)) -> 0 | J35: =SUM(OFFSET(INDIRECT($A35&"!l2"),MATCH($P35,INDIRECT($A35&"!B2:B30"),0)-1+2,,)) -> 0 | K35: =VLOOKUP($B37,INDIRECT("'"&$A35&"'!B:M"),4,FALSE) | L35: =VLOOKUP($B37,INDIRECT("'"&$A35&"'!B:M"),5,FALSE) | M35: =VLOOKUP($B37,INDIRECT("'"&$A35&"'!B:M"),6,FALSE) | N35: =VLOOKUP($B37,INDIRECT("'"&$A35&"'!B:M"),7,FALSE) | P35: {=IF(OR(A35="total",ISBLANK(A35)),"",INDEX(B$3:B$200,SMALL(IF(A$3:A$200="lyon",ROW(A$3:A$200)-2,""),COUNTIF(A$3:A35,"lyon"))))} -> 42771
A36: Paris | D36: =VLOOKUP($B37,INDIRECT("'"&$A36&"'!B:M"),3,FALSE) | E36: =VLOOKUP($B37,INDIRECT("'"&$A36&"'!B:M"),8,FALSE) | F36: =VLOOKUP($B37,INDIRECT("'"&$A36&"'!B:M"),9,FALSE) | G36: =VLOOKUP($B37,INDIRECT("'"&$A36&"'!B:M"),10,FALSE) | H36: =VLOOKUP($B37,INDIRECT("'"&$A36&"'!B:M"),11,FALSE) | I36: =SUM(OFFSET(INDIRECT($A36&"!I2"),MATCH($P36,INDIRECT($A36&"!B2:B30"),0)-1+2,,)) -> 0 | J36: =SUM(OFFSET(INDIRECT($A36&"!l2"),MATCH($P36,INDIRECT($A36&"!B2:B30"),0)-1+2,,)) -> 0 | K36: =VLOOKUP($B37,INDIRECT("'"&$A36&"'!B:M"),4,FALSE) | L36: =VLOOKUP($B37,INDIRECT("'"&$A36&"'!B:M"),5,FALSE) | M36: =VLOOKUP($B37,INDIRECT("'"&$A36&"'!B:M"),6,FALSE) | N36: =VLOOKUP($B37,INDIRECT("'"&$A36&"'!B:M"),7,FALSE) | P36: {=IF(OR(A36="total",ISBLANK(A36)),"",INDEX(B$3:B$200,SMALL(IF(A$3:A$200="lyon",ROW(A$3:A$200)-2,""),COUNTIF(A$3:A36,"lyon"))))} -> 42771
A37: Total | B37: =TEXT(WEEKNUM(B33,1),"00")&"_"&RIGHT(YEAR(B33),4) -> 06_2017 | D37: =IFERROR(AVERAGE(D33:D36),0) -> 0 | E37: =IFERROR(AVERAGE(E33:E36),0) -> 0 | F37: =IFERROR(AVERAGE(F33:F36),0) -> 0 | G37: =IFERROR(AVERAGE(G33:G36),0) -> 0 | H37: =IFERROR(AVERAGE(H33:H36),0) -> 0 | I37: =IFERROR(AVERAGE(I33:I36),0) -> 0 | J37: =SUM(J33:J36) -> 0 | K37: =IFERROR(AVERAGE(K33:K36),0) -> 0 | L37: =IFERROR(AVERAGE(L33:L36),0) -> 309 | M37: =IFERROR(AVERAGE(M33:M36),0) -> 0.0919 | N37: =IFERROR(SUM(N33:N36),0) -> 0 | P37: {=IF(OR(A37="total",ISBLANK(A37)),"",INDEX(B$3:B$200,SMALL(IF(A$3:A$200="lyon",ROW(A$3:A$200)-2,""),COUNTIF(A$3:A37,"lyon"))))}
P38: {=IF(OR(A38="total",ISBLANK(A38)),"",INDEX(B$3:B$200,SMALL(IF(A$3:A$200="lyon",ROW(A$3:A$200)-2,""),COUNTIF(A$3:A38,"lyon"))))}
A39: Lyon | B39: =$B33+7 -> 42778 | C39: =TEXT(WEEKNUM(B39,1),"00")&"_"&RIGHT(YEAR(B39),2) -> 07_17 | D39: =VLOOKUP($B43,INDIRECT("'"&$A39&"'!B:M"),3,FALSE) -> #N/A | E39: =VLOOKUP($B43,INDIRECT("'"&$A39&"'!B:M"),8,FALSE) -> #N/A | F39: =VLOOKUP($B43,INDIRECT("'"&$A39&"'!B:M"),9,FALSE) -> #N/A | G39: =VLOOKUP($B43,INDIRECT("'"&$A39&"'!B:M"),10,FALSE) -> #N/A | H39: =VLOOKUP($B43,INDIRECT("'"&$A39&"'!B:M"),11,FALSE) -> #N/A | I39: =SUM(OFFSET(INDIRECT($A39&"!I2"),MATCH($P39,INDIRECT($A39&"!B2:B30"),0)-1+2,,)) -> #N/A | J39: =SUM(OFFSET(INDIRECT($A39&"!l2"),MATCH($P39,INDIRECT($A39&"!B2:B30"),0)-1+2,,)) -> #N/A | K39: =VLOOKUP($B43,INDIRECT("'"&$A39&"'!B:M"),4,FALSE) -> #N/A | L39: =VLOOKUP($B43,INDIRECT("'"&$A39&"'!B:M"),5,FALSE) -> #N/A | M39: =VLOOKUP($B43,INDIRECT("'"&$A39&"'!B:M"),6,FALSE) -> #N/A | N39: =VLOOKUP($B43,INDIRECT("'"&$A39&"'!B:M"),7,FALSE) -> #N/A | P39: {=IF(OR(A39="total",ISBLANK(A39)),"",INDEX(B$3:B$200,SMALL(IF(A$3:A$200="lyon",ROW(A$3:A$200)-2,""),COUNTIF(A$3:A39,"lyon"))))} -> 42778
A40: Bourges | D40: =VLOOKUP($B43,INDIRECT("'"&$A40&"'!B:M"),3,FALSE) | E40: =VLOOKUP($B43,INDIRECT("'"&$A40&"'!B:M"),8,FALSE) | F40: =VLOOKUP($B43,INDIRECT("'"&$A40&"'!B:M"),9,FALSE) | G40: =VLOOKUP($B43,INDIRECT("'"&$A40&"'!B:M"),10,FALSE) | H40: =VLOOKUP($B43,INDIRECT("'"&$A40&"'!B:M"),11,FALSE) | I40: =SUM(OFFSET(INDIRECT($A40&"!I2"),MATCH($P40,INDIRECT($A40&"!B2:B30"),0)-1+2,,)) -> #N/A | J40: =SUM(OFFSET(INDIRECT($A40&"!l2"),MATCH($P40,INDIRECT($A40&"!B2:B30"),0)-1+2,,)) -> #N/A | K40: =VLOOKUP($B43,INDIRECT("'"&$A40&"'!B:M"),4,FALSE) | L40: =VLOOKUP($B43,INDIRECT("'"&$A40&"'!B:M"),5,FALSE) | M40: =VLOOKUP($B43,INDIRECT("'"&$A40&"'!B:M"),6,FALSE) | N40: =VLOOKUP($B43,INDIRECT("'"&$A40&"'!B:M"),7,FALSE) | P40: {=IF(OR(A40="total",ISBLANK(A40)),"",INDEX(B$3:B$200,SMALL(IF(A$3:A$200="lyon",ROW(A$3:A$200)-2,""),COUNTIF(A$3:A40,"lyon"))))} -> 42778
A41: Aix | D41: =VLOOKUP($B43,INDIRECT("'"&$A41&"'!B:M"),3,FALSE) | E41: =VLOOKUP($B43,INDIRECT("'"&$A41&"'!B:M"),8,FALSE) | F41: =VLOOKUP($B43,INDIRECT("'"&$A41&"'!B:M"),9,FALSE) | G41: =VLOOKUP($B43,INDIRECT("'"&$A41&"'!B:M"),10,FALSE) | H41: =VLOOKUP($B43,INDIRECT("'"&$A41&"'!B:M"),11,FALSE) | I41: =SUM(OFFSET(INDIRECT($A41&"!I2"),MATCH($P41,INDIRECT($A41&"!B2:B30"),0)-1+2,,)) -> #N/A | J41: =SUM(OFFSET(INDIRECT($A41&"!l2"),MATCH($P41,INDIRECT($A41&"!B2:B30"),0)-1+2,,)) -> #N/A | K41: =VLOOKUP($B43,INDIRECT("'"&$A41&"'!B:M"),4,FALSE) | L41: =VLOOKUP($B43,INDIRECT("'"&$A41&"'!B:M"),5,FALSE) | M41: =VLOOKUP($B43,INDIRECT("'"&$A41&"'!B:M"),6,FALSE) | N41: =VLOOKUP($B43,INDIRECT("'"&$A41&"'!B:M"),7,FALSE) | P41: {=IF(OR(A41="total",ISBLANK(A41)),"",INDEX(B$3:B$200,SMALL(IF(A$3:A$200="lyon",ROW(A$3:A$200)-2,""),COUNTIF(A$3:A41,"lyon"))))} -> 42778
A42: Paris | D42: =VLOOKUP($B43,INDIRECT("'"&$A42&"'!B:M"),3,FALSE) | E42: =VLOOKUP($B43,INDIRECT("'"&$A42&"'!B:M"),8,FALSE) | F42: =VLOOKUP($B43,INDIRECT("'"&$A42&"'!B:M"),9,FALSE) | G42: =VLOOKUP($B43,INDIRECT("'"&$A42&"'!B:M"),10,FALSE) | H42: =VLOOKUP($B43,INDIRECT("'"&$A42&"'!B:M"),11,FALSE) | I42: =SUM(OFFSET(INDIRECT($A42&"!I2"),MATCH($P42,INDIRECT($A42&"!B2:B30"),0)-1+2,,)) -> #N/A | J42: =SUM(OFFSET(INDIRECT($A42&"!l2"),MATCH($P42,INDIRECT($A42&"!B2:B30"),0)-1+2,,)) -> #N/A | K42: =VLOOKUP($B43,INDIRECT("'"&$A42&"'!B:M"),4,FALSE) | L42: =VLOOKUP($B43,INDIRECT("'"&$A42&"'!B:M"),5,FALSE) | M42: =VLOOKUP($B43,INDIRECT("'"&$A42&"'!B:M"),6,FALSE) | N42: =VLOOKUP($B43,INDIRECT("'"&$A42&"'!B:M"),7,FALSE) | P42: {=IF(OR(A42="total",ISBLANK(A42)),"",INDEX(B$3:B$200,SMALL(IF(A$3:A$200="lyon",ROW(A$3:A$200)-2,""),COUNTIF(A$3:A42,"lyon"))))} -> 42778
A43: Total | B43: =TEXT(WEEKNUM(B39,1),"00")&"_"&RIGHT(YEAR(B39),4) -> 07_2017 | D43: =IFERROR(AVERAGE(D39:D42),0) -> 0 | E43: =IFERROR(AVERAGE(E39:E42),0) -> 0 | F43: =IFERROR(AVERAGE(F39:F42),0) -> 0 | G43: =IFERROR(AVERAGE(G39:G42),0) -> 0 | H43: =IFERROR(AVERAGE(H39:H42),0) -> 0 | I43: =IFERROR(AVERAGE(I39:I42),0) -> 0 | J43: =SUM(J39:J42) -> #N/A | K43: =IFERROR(AVERAGE(K39:K42),0) -> 0 | L43: =IFERROR(AVERAGE(L39:L42),0) -> 0 | M43: =IFERROR(AVERAGE(M39:M42),0) -> 0 | N43: =IFERROR(SUM(N39:N42),0) -> 0 | P43: {=IF(OR(A43="total",ISBLANK(A43)),"",INDEX(B$3:B$200,SMALL(IF(A$3:A$200="lyon",ROW(A$3:A$200)-2,""),COUNTIF(A$3:A43,"lyon"))))}
P44: {=IF(OR(A44="total",ISBLANK(A44)),"",INDEX(B$3:B$200,SMALL(IF(A$3:A$200="lyon",ROW(A$3:A$200)-2,""),COUNTIF(A$3:A44,"lyon"))))}
A45: Lyon | B45: =$B39+7 -> 42785 | C45: =TEXT(WEEKNUM(B45,1),"00")&"_"&RIGHT(YEAR(B45),2) -> 08_17 | D45: =VLOOKUP($B49,INDIRECT("'"&$A45&"'!B:M"),3,FALSE) -> #N/A | E45: =VLOOKUP($B49,INDIRECT("'"&$A45&"'!B:M"),8,FALSE) -> #N/A | F45: =VLOOKUP($B49,INDIRECT("'"&$A45&"'!B:M"),9,FALSE) -> #N/A | G45: =VLOOKUP($B49,INDIRECT("'"&$A45&"'!B:M"),10,FALSE) -> #N/A | H45: =VLOOKUP($B49,INDIRECT("'"&$A45&"'!B:M"),11,FALSE) -> #N/A | I45: =SUM(OFFSET(INDIRECT($A45&"!I2"),MATCH($P45,INDIRECT($A45&"!B2:B30"),0)-1+2,,)) -> #N/A | J45: =SUM(OFFSET(INDIRECT($A45&"!l2"),MATCH($P45,INDIRECT($A45&"!B2:B30"),0)-1+2,,)) -> #N/A | K45: =VLOOKUP($B49,INDIRECT("'"&$A45&"'!B:M"),4,FALSE) -> #N/A | L45: =VLOOKUP($B49,INDIRECT("'"&$A45&"'!B:M"),5,FALSE) -> #N/A | M45: =VLOOKUP($B49,INDIRECT("'"&$A45&"'!B:M"),6,FALSE) -> #N/A | N45: =VLOOKUP($B49,INDIRECT("'"&$A45&"'!B:M"),7,FALSE) -> #N/A | P45: {=IF(OR(A45="total",ISBLANK(A45)),"",INDEX(B$3:B$200,SMALL(IF(A$3:A$200="lyon",ROW(A$3:A$200)-2,""),COUNTIF(A$3:A45,"lyon"))))} -> 42785
A46: Bourges | D46: =VLOOKUP($B49,INDIRECT("'"&$A46&"'!B:M"),3,FALSE) | E46: =VLOOKUP($B49,INDIRECT("'"&$A46&"'!B:M"),8,FALSE) | F46: =VLOOKUP($B49,INDIRECT("'"&$A46&"'!B:M"),9,FALSE) | G46: =VLOOKUP($B49,INDIRECT("'"&$A46&"'!B:M"),10,FALSE) | H46: =VLOOKUP($B49,INDIRECT("'"&$A46&"'!B:M"),11,FALSE) | I46: =SUM(OFFSET(INDIRECT($A46&"!I2"),MATCH($P46,INDIRECT($A46&"!B2:B30"),0)-1+2,,)) -> #N/A | J46: =SUM(OFFSET(INDIRECT($A46&"!l2"),MATCH($P46,INDIRECT($A46&"!B2:B30"),0)-1+2,,)) -> #N/A | K46: =VLOOKUP($B49,INDIRECT("'"&$A46&"'!B:M"),4,FALSE) | L46: =VLOOKUP($B49,INDIRECT("'"&$A46&"'!B:M"),5,FALSE) | M46: =VLOOKUP($B49,INDIRECT("'"&$A46&"'!B:M"),6,FALSE) | N46: =VLOOKUP($B49,INDIRECT("'"&$A46&"'!B:M"),7,FALSE) | P46: {=IF(OR(A46="total",ISBLANK(A46)),"",INDEX(B$3:B$200,SMALL(IF(A$3:A$200="lyon",ROW(A$3:A$200)-2,""),COUNTIF(A$3:A46,"lyon"))))} -> 42785
A47: Aix | D47: =VLOOKUP($B49,INDIRECT("'"&$A47&"'!B:M"),3,FALSE) | E47: =VLOOKUP($B49,INDIRECT("'"&$A47&"'!B:M"),8,FALSE) | F47: =VLOOKUP($B49,INDIRECT("'"&$A47&"'!B:M"),9,FALSE) | G47: =VLOOKUP($B49,INDIRECT("'"&$A47&"'!B:M"),10,FALSE) | H47: =VLOOKUP($B49,INDIRECT("'"&$A47&"'!B:M"),11,FALSE) | I47: =SUM(OFFSET(INDIRECT($A47&"!I2"),MATCH($P47,INDIRECT($A47&"!B2:B30"),0)-1+2,,)) -> #N/A | J47: =SUM(OFFSET(INDIRECT($A47&"!l2"),MATCH($P47,INDIRECT($A47&"!B2:B30"),0)-1+2,,)) -> #N/A | K47: =VLOOKUP($B49,INDIRECT("'"&$A47&"'!B:M"),4,FALSE) | L47: =VLOOKUP($B49,INDIRECT("'"&$A47&"'!B:M"),5,FALSE) | M47: =VLOOKUP($B49,INDIRECT("'"&$A47&"'!B:M"),6,FALSE) | N47: =VLOOKUP($B49,INDIRECT("'"&$A47&"'!B:M"),7,FALSE) | P47: {=IF(OR(A47="total",ISBLANK(A47)),"",INDEX(B$3:B$200,SMALL(IF(A$3:A$200="lyon",ROW(A$3:A$200)-2,""),COUNTIF(A$3:A47,"lyon"))))} -> 42785
A48: Paris | D48: =VLOOKUP($B49,INDIRECT("'"&$A48&"'!B:M"),3,FALSE) | E48: =VLOOKUP($B49,INDIRECT("'"&$A48&"'!B:M"),8,FALSE) | F48: =VLOOKUP($B49,INDIRECT("'"&$A48&"'!B:M"),9,FALSE) | G48: =VLOOKUP($B49,INDIRECT("'"&$A48&"'!B:M"),10,FALSE) | H48: =VLOOKUP($B49,INDIRECT("'"&$A48&"'!B:M"),11,FALSE) | I48: =SUM(OFFSET(INDIRECT($A48&"!I2"),MATCH($P48,INDIRECT($A48&"!B2:B30"),0)-1+2,,)) -> #N/A | J48: =SUM(OFFSET(INDIRECT($A48&"!l2"),MATCH($P48,INDIRECT($A48&"!B2:B30"),0)-1+2,,)) -> #N/A | K48: =VLOOKUP($B49,INDIRECT("'"&$A48&"'!B:M"),4,FALSE) | L48: =VLOOKUP($B49,INDIRECT("'"&$A48&"'!B:M"),5,FALSE) | M48: =VLOOKUP($B49,INDIRECT("'"&$A48&"'!B:M"),6,FALSE) | N48: =VLOOKUP($B49,INDIRECT("'"&$A48&"'!B:M"),7,FALSE) | P48: {=IF(OR(A48="total",ISBLANK(A48)),"",INDEX(B$3:B$200,SMALL(IF(A$3:A$200="lyon",ROW(A$3:A$200)-2,""),COUNTIF(A$3:A48,"lyon"))))} -> 42785
A49: Total | B49: =TEXT(WEEKNUM(B45,1),"00")&"_"&RIGHT(YEAR(B45),4) -> 08_2017 | D49: =IFERROR(AVERAGE(D45:D48),0) -> 0 | E49: =IFERROR(AVERAGE(E45:E48),0) -> 0 | F49: =IFERROR(AVERAGE(F45:F48),0) -> 0 | G49: =IFERROR(AVERAGE(G45:G48),0) -> 0 | H49: =IFERROR(AVERAGE(H45:H48),0) -> 0 | I49: =IFERROR(AVERAGE(I45:I48),0) -> 0 | J49: =SUM(J45:J48) -> #N/A | K49: =IFERROR(AVERAGE(K45:K48),0) -> 0 | L49: =IFERROR(AVERAGE(L45:L48),0) -> 0 | M49: =IFERROR(AVERAGE(M45:M48),0) -> 0 | N49: =IFERROR(SUM(N45:N48),0) -> 0 | P49: {=IF(OR(A49="total",ISBLANK(A49)),"",INDEX(B$3:B$200,SMALL(IF(A$3:A$200="lyon",ROW(A$3:A$200)-2,""),COUNTIF(A$3:A49,"lyon"))))}
P50: {=IF(OR(A50="total",ISBLANK(A50)),"",INDEX(B$3:B$200,SMALL(IF(A$3:A$200="lyon",ROW(A$3:A$200)-2,""),COUNTIF(A$3:A50,"lyon"))))}
A51: Lyon | B51: =$B45+7 -> 42792 | C51: =TEXT(WEEKNUM(B51,1),"00")&"_"&RIGHT(YEAR(B51),2) -> 09_17 | D51: =VLOOKUP($B55,INDIRECT("'"&$A51&"'!B:M"),3,FALSE) -> #N/A | E51: =VLOOKUP($B55,INDIRECT("'"&$A51&"'!B:M"),8,FALSE) -> #N/A | F51: =VLOOKUP($B55,INDIRECT("'"&$A51&"'!B:M"),9,FALSE) -> #N/A | G51: =VLOOKUP($B55,INDIRECT("'"&$A51&"'!B:M"),10,FALSE) -> #N/A | H51: =VLOOKUP($B55,INDIRECT("'"&$A51&"'!B:M"),11,FALSE) -> #N/A | I51: =SUM(OFFSET(INDIRECT($A51&"!I2"),MATCH($P51,INDIRECT($A51&"!B2:B30"),0)-1+2,,)) -> #N/A | J51: =SUM(OFFSET(INDIRECT($A51&"!l2"),MATCH($P51,INDIRECT($A51&"!B2:B30"),0)-1+2,,)) -> #N/A | K51: =VLOOKUP($B55,INDIRECT("'"&$A51&"'!B:M"),4,FALSE) -> #N/A | L51: =VLOOKUP($B55,INDIRECT("'"&$A51&"'!B:M"),5,FALSE) -> #N/A | M51: =VLOOKUP($B55,INDIRECT("'"&$A51&"'!B:M"),6,FALSE) -> #N/A | N51: =VLOOKUP($B55,INDIRECT("'"&$A51&"'!B:M"),7,FALSE) -> #N/A | P51: {=IF(OR(A51="total",ISBLANK(A51)),"",INDEX(B$3:B$200,SMALL(IF(A$3:A$200="lyon",ROW(A$3:A$200)-2,""),COUNTIF(A$3:A51,"lyon"))))} -> 42792
A52: Bourges | D52: =VLOOKUP($B55,INDIRECT("'"&$A52&"'!B:M"),3,FALSE) | E52: =VLOOKUP($B55,INDIRECT("'"&$A52&"'!B:M"),8,FALSE) | F52: =VLOOKUP($B55,INDIRECT("'"&$A52&"'!B:M"),9,FALSE) | G52: =VLOOKUP($B55,INDIRECT("'"&$A52&"'!B:M"),10,FALSE) | H52: =VLOOKUP($B55,INDIRECT("'"&$A52&"'!B:M"),11,FALSE) | I52: =SUM(OFFSET(INDIRECT($A52&"!I2"),MATCH($P52,INDIRECT($A52&"!B2:B30"),0)-1+2,,)) -> #N/A | J52: =SUM(OFFSET(INDIRECT($A52&"!l2"),MATCH($P52,INDIRECT($A52&"!B2:B30"),0)-1+2,,)) -> #N/A | K52: =VLOOKUP($B55,INDIRECT("'"&$A52&"'!B:M"),4,FALSE) | L52: =VLOOKUP($B55,INDIRECT("'"&$A52&"'!B:M"),5,FALSE) | M52: =VLOOKUP($B55,INDIRECT("'"&$A52&"'!B:M"),6,FALSE) | N52: =VLOOKUP($B55,INDIRECT("'"&$A52&"'!B:M"),7,FALSE) | P52: {=IF(OR(A52="total",ISBLANK(A52)),"",INDEX(B$3:B$200,SMALL(IF(A$3:A$200="lyon",ROW(A$3:A$200)-2,""),COUNTIF(A$3:A52,"lyon"))))} -> 42792
A53: Aix | D53: =VLOOKUP($B55,INDIRECT("'"&$A53&"'!B:M"),3,FALSE) | E53: =VLOOKUP($B55,INDIRECT("'"&$A53&"'!B:M"),8,FALSE) | F53: =VLOOKUP($B55,INDIRECT("'"&$A53&"'!B:M"),9,FALSE) | G53: =VLOOKUP($B55,INDIRECT("'"&$A53&"'!B:M"),10,FALSE) | H53: =VLOOKUP($B55,INDIRECT("'"&$A53&"'!B:M"),11,FALSE) | I53: =SUM(OFFSET(INDIRECT($A53&"!I2"),MATCH($P53,INDIRECT($A53&"!B2:B30"),0)-1+2,,)) -> #N/A | J53: =SUM(OFFSET(INDIRECT($A53&"!l2"),MATCH($P53,INDIRECT($A53&"!B2:B30"),0)-1+2,,)) -> #N/A | K53: =VLOOKUP($B55,INDIRECT("'"&$A53&"'!B:M"),4,FALSE) | L53: =VLOOKUP($B55,INDIRECT("'"&$A53&"'!B:M"),5,FALSE) | M53: =VLOOKUP($B55,INDIRECT("'"&$A53&"'!B:M"),6,FALSE) | N53: =VLOOKUP($B55,INDIRECT("'"&$A53&"'!B:M"),7,FALSE) | P53: {=IF(OR(A53="total",ISBLANK(A53)),"",INDEX(B$3:B$200,SMALL(IF(A$3:A$200="lyon",ROW(A$3:A$200)-2,""),COUNTIF(A$3:A53,"lyon"))))} -> 42792
A54: Paris | D54: =VLOOKUP($B55,INDIRECT("'"&$A54&"'!B:M"),3,FALSE) | E54: =VLOOKUP($B55,INDIRECT("'"&$A54&"'!B:M"),8,FALSE) | F54: =VLOOKUP($B55,INDIRECT("'"&$A54&"'!B:M"),9,FALSE) | G54: =VLOOKUP($B55,INDIRECT("'"&$A54&"'!B:M"),10,FALSE) | H54: =VLOOKUP($B55,INDIRECT("'"&$A54&"'!B:M"),11,FALSE) | I54: =SUM(OFFSET(INDIRECT($A54&"!I2"),MATCH($P54,INDIRECT($A54&"!B2:B30"),0)-1+2,,)) -> #N/A | J54: =SUM(OFFSET(INDIRECT($A54&"!l2"),MATCH($P54,INDIRECT($A54&"!B2:B30"),0)-1+2,,)) -> #N/A | K54: =VLOOKUP($B55,INDIRECT("'"&$A54&"'!B:M"),4,FALSE) | L54: =VLOOKUP($B55,INDIRECT("'"&$A54&"'!B:M"),5,FALSE) | M54: =VLOOKUP($B55,INDIRECT("'"&$A54&"'!B:M"),6,FALSE) | N54: =VLOOKUP($B55,INDIRECT("'"&$A54&"'!B:M"),7,FALSE) | P54: {=IF(OR(A54="total",ISBLANK(A54)),"",INDEX(B$3:B$200,SMALL(IF(A$3:A$200="lyon",ROW(A$3:A$200)-2,""),COUNTIF(A$3:A54,"lyon"))))} -> 42792
A55: Total | B55: =TEXT(WEEKNUM(B51,1),"00")&"_"&RIGHT(YEAR(B51),4) -> 09_2017 | D55: =IFERROR(AVERAGE(D51:D54),0) -> 0 | E55: =IFERROR(AVERAGE(E51:E54),0) -> 0 | F55: =IFERROR(AVERAGE(F51:F54),0) -> 0 | G55: =IFERROR(AVERAGE(G51:G54),0) -> 0 | H55: =IFERROR(AVERAGE(H51:H54),0) -> 0 | I55: =IFERROR(AVERAGE(I51:I54),0) -> 0 | J55: =SUM(J51:J54) -> #N/A | K55: =IFERROR(AVERAGE(K51:K54),0) -> 0 | L55: =IFERROR(AVERAGE(L51:L54),0) -> 0 | M55: =IFERROR(AVERAGE(M51:M54),0) -> 0 | N55: =IFERROR(SUM(N51:N54),0) -> 0 | P55: {=IF(OR(A55="total",ISBLANK(A55)),"",INDEX(B$3:B$200,SMALL(IF(A$3:A$200="lyon",ROW(A$3:A$200)-2,""),COUNTIF(A$3:A55,"lyon"))))}
P56: {=IF(OR(A56="total",ISBLANK(A56)),"",INDEX(B$3:B$200,SMALL(IF(A$3:A$200="lyon",ROW(A$3:A$200)-2,""),COUNTIF(A$3:A56,"lyon"))))}
A57: Lyon | B57: =$B51+7 -> 42799 | C57: =TEXT(WEEKNUM(B57,1),"00")&"_"&RIGHT(YEAR(B57),2) -> 10_17 | D57: =VLOOKUP($B61,INDIRECT("'"&$A57&"'!B:M"),3,FALSE) -> #N/A | E57: =VLOOKUP($B61,INDIRECT("'"&$A57&"'!B:M"),8,FALSE) -> #N/A | F57: =VLOOKUP($B61,INDIRECT("'"&$A57&"'!B:M"),9,FALSE) -> #N/A | G57: =VLOOKUP($B61,INDIRECT("'"&$A57&"'!B:M"),10,FALSE) -> #N/A | H57: =VLOOKUP($B61,INDIRECT("'"&$A57&"'!B:M"),11,FALSE) -> #N/A | I57: =SUM(OFFSET(INDIRECT($A57&"!I2"),MATCH($P57,INDIRECT($A57&"!B2:B30"),0)-1+2,,)) -> #N/A | J57: =SUM(OFFSET(INDIRECT($A57&"!l2"),MATCH($P57,INDIRECT($A57&"!B2:B30"),0)-1+2,,)) -> #N/A | K57: =VLOOKUP($B61,INDIRECT("'"&$A57&"'!B:M"),4,FALSE) -> #N/A | L57: =VLOOKUP($B61,INDIRECT("'"&$A57&"'!B:M"),5,FALSE) -> #N/A | M57: =VLOOKUP($B61,INDIRECT("'"&$A57&"'!B:M"),6,FALSE) -> #N/A | N57: =VLOOKUP($B61,INDIRECT("'"&$A57&"'!B:M"),7,FALSE) -> #N/A | P57: {=IF(OR(A57="total",ISBLANK(A57)),"",INDEX(B$3:B$200,SMALL(IF(A$3:A$200="lyon",ROW(A$3:A$200)-2,""),COUNTIF(A$3:A57,"lyon"))))} -> 42799
A58: Bourges | D58: =VLOOKUP($B61,INDIRECT("'"&$A58&"'!B:M"),3,FALSE) | E58: =VLOOKUP($B61,INDIRECT("'"&$A58&"'!B:M"),8,FALSE) | F58: =VLOOKUP($B61,INDIRECT("'"&$A58&"'!B:M"),9,FALSE) | G58: =VLOOKUP($B61,INDIRECT("'"&$A58&"'!B:M"),10,FALSE) | H58: =VLOOKUP($B61,INDIRECT("'"&$A58&"'!B:M"),11,FALSE) | I58: =SUM(OFFSET(INDIRECT($A58&"!I2"),MATCH($P58,INDIRECT($A58&"!B2:B30"),0)-1+2,,)) -> #N/A | J58: =SUM(OFFSET(INDIRECT($A58&"!l2"),MATCH($P58,INDIRECT($A58&"!B2:B30"),0)-1+2,,)) -> #N/A | K58: =VLOOKUP($B61,INDIRECT("'"&$A58&"'!B:M"),4,FALSE) | L58: =VLOOKUP($B61,INDIRECT("'"&$A58&"'!B:M"),5,FALSE) | M58: =VLOOKUP($B61,INDIRECT("'"&$A58&"'!B:M"),6,FALSE) | N58: =VLOOKUP($B61,INDIRECT("'"&$A58&"'!B:M"),7,FALSE) | P58: {=IF(OR(A58="total",ISBLANK(A58)),"",INDEX(B$3:B$200,SMALL(IF(A$3:A$200="lyon",ROW(A$3:A$200)-2,""),COUNTIF(A$3:A58,"lyon"))))} -> 42799
A59: Aix | D59: =VLOOKUP($B61,INDIRECT("'"&$A59&"'!B:M"),3,FALSE) | E59: =VLOOKUP($B61,INDIRECT("'"&$A59&"'!B:M"),8,FALSE) | F59: =VLOOKUP($B61,INDIRECT("'"&$A59&"'!B:M"),9,FALSE) | G59: =VLOOKUP($B61,INDIRECT("'"&$A59&"'!B:M"),10,FALSE) | H59: =VLOOKUP($B61,INDIRECT("'"&$A59&"'!B:M"),11,FALSE) | I59: =SUM(OFFSET(INDIRECT($A59&"!I2"),MATCH($P59,INDIRECT($A59&"!B2:B30"),0)-1+2,,)) -> #N/A | J59: =SUM(OFFSET(INDIRECT($A59&"!l2"),MATCH($P59,INDIRECT($A59&"!B2:B30"),0)-1+2,,)) -> #N/A | K59: =VLOOKUP($B61,INDIRECT("'"&$A59&"'!B:M"),4,FALSE) | L59: =VLOOKUP($B61,INDIRECT("'"&$A59&"'!B:M"),5,FALSE) | M59: =VLOOKUP($B61,INDIRECT("'"&$A59&"'!B:M"),6,FALSE) | N59: =VLOOKUP($B61,INDIRECT("'"&$A59&"'!B:M"),7,FALSE) | P59: {=IF(OR(A59="total",ISBLANK(A59)),"",INDEX(B$3:B$200,SMALL(IF(A$3:A$200="lyon",ROW(A$3:A$200)-2,""),COUNTIF(A$3:A59,"lyon"))))} -> 42799
A60: Paris | D60: =VLOOKUP($B61,INDIRECT("'"&$A60&"'!B:M"),3,FALSE) | E60: =VLOOKUP($B61,INDIRECT("'"&$A60&"'!B:M"),8,FALSE) | F60: =VLOOKUP($B61,INDIRECT("'"&$A60&"'!B:M"),9,FALSE) | G60: =VLOOKUP($B61,INDIRECT("'"&$A60&"'!B:M"),10,FALSE) | H60: =VLOOKUP($B61,INDIRECT("'"&$A60&"'!B:M"),11,FALSE) | I60: =SUM(OFFSET(INDIRECT($A60&"!I2"),MATCH($P60,INDIRECT($A60&"!B2:B30"),0)-1+2,,)) -> #N/A | J60: =SUM(OFFSET(INDIRECT($A60&"!l2"),MATCH($P60,INDIRECT($A60&"!B2:B30"),0)-1+2,,)) -> #N/A | K60: =VLOOKUP($B61,INDIRECT("'"&$A60&"'!B:M"),4,FALSE) | L60: =VLOOKUP($B61,INDIRECT("'"&$A60&"'!B:M"),5,FALSE) | M60: =VLOOKUP($B61,INDIRECT("'"&$A60&"'!B:M"),6,FALSE) | N60: =VLOOKUP($B61,INDIRECT("'"&$A60&"'!B:M"),7,FALSE) | P60: {=IF(OR(A60="total",ISBLANK(A60)),"",INDEX(B$3:B$200,SMALL(IF(A$3:A$200="lyon",ROW(A$3:A$200)-2,""),COUNTIF(A$3:A60,"lyon"))))} -> 42799
A61: Total | B61: =TEXT(WEEKNUM(B57,1),"00")&"_"&RIGHT(YEAR(B57),4) -> 10_2017 | D61: =IFERROR(AVERAGE(D57:D60),0) -> 0 | E61: =IFERROR(AVERAGE(E57:E60),0) -> 0 | F61: =IFERROR(AVERAGE(F57:F60),0) -> 0 | G61: =IFERROR(AVERAGE(G57:G60),0) -> 0 | H61: =IFERROR(AVERAGE(H57:H60),0) -> 0 | I61: =IFERROR(AVERAGE(I57:I60),0) -> 0 | J61: =SUM(J57:J60) -> #N/A | K61: =IFERROR(AVERAGE(K57:K60),0) -> 0 | L61: =IFERROR(AVERAGE(L57:L60),0) -> 0 | M61: =IFERROR(AVERAGE(M57:M60),0) -> 0 | N61: =IFERROR(SUM(N57:N60),0) -> 0 | P61: {=IF(OR(A61="total",ISBLANK(A61)),"",INDEX(B$3:B$200,SMALL(IF(A$3:A$200="lyon",ROW(A$3:A$200)-2,""),COUNTIF(A$3:A61,"lyon"))))}
P62: {=IF(OR(A62="total",ISBLANK(A62)),"",INDEX(B$3:B$200,SMALL(IF(A$3:A$200="lyon",ROW(A$3:A$200)-2,""),COUNTIF(A$3:A62,"lyon"))))}
A63: Lyon | B63: =$B57+7 -> 42806 | C63: =TEXT(WEEKNUM(B63,1),"00")&"_"&RIGHT(YEAR(B63),2) -> 11_17 | D63: =VLOOKUP($B67,INDIRECT("'"&$A63&"'!B:M"),3,FALSE) -> #N/A | E63: =VLOOKUP($B67,INDIRECT("'"&$A63&"'!B:M"),8,FALSE) -> #N/A | F63: =VLOOKUP($B67,INDIRECT("'"&$A63&"'!B:M"),9,FALSE) -> #N/A | G63: =VLOOKUP($B67,INDIRECT("'"&$A63&"'!B:M"),10,FALSE) -> #N/A | H63: =VLOOKUP($B67,INDIRECT("'"&$A63&"'!B:M"),11,FALSE) -> #N/A | I63: =SUM(OFFSET(INDIRECT($A63&"!I2"),MATCH($P63,INDIRECT($A63&"!B2:B30"),0)-1+2,,)) -> #N/A | J63: =SUM(OFFSET(INDIRECT($A63&"!l2"),MATCH($P63,INDIRECT($A63&"!B2:B30"),0)-1+2,,)) -> #N/A | K63: =VLOOKUP($B67,INDIRECT("'"&$A63&"'!B:M"),4,FALSE) -> #N/A | L63: =VLOOKUP($B67,INDIRECT("'"&$A63&"'!B:M"),5,FALSE) -> #N/A | M63: =VLOOKUP($B67,INDIRECT("'"&$A63&"'!B:M"),6,FALSE) -> #N/A | N63: =VLOOKUP($B67,INDIRECT("'"&$A63&"'!B:M"),7,FALSE) -> #N/A | P63: {=IF(OR(A63="total",ISBLANK(A63)),"",INDEX(B$3:B$200,SMALL(IF(A$3:A$200="lyon",ROW(A$3:A$200)-2,""),COUNTIF(A$3:A63,"lyon"))))} -> 42806
A64: Bourges | D64: =VLOOKUP($B67,INDIRECT("'"&$A64&"'!B:M"),3,FALSE) | E64: =VLOOKUP($B67,INDIRECT("'"&$A64&"'!B:M"),8,FALSE) | F64: =VLOOKUP($B67,INDIRECT("'"&$A64&"'!B:M"),9,FALSE) | G64: =VLOOKUP($B67,INDIRECT("'"&$A64&"'!B:M"),10,FALSE) | H64: =VLOOKUP($B67,INDIRECT("'"&$A64&"'!B:M"),11,FALSE) | I64: =SUM(OFFSET(INDIRECT($A64&"!I2"),MATCH($P64,INDIRECT($A64&"!B2:B30"),0)-1+2,,)) -> #N/A | J64: =SUM(OFFSET(INDIRECT($A64&"!l2"),MATCH($P64,INDIRECT($A64&"!B2:B30"),0)-1+2,,)) -> #N/A | K64: =VLOOKUP($B67,INDIRECT("'"&$A64&"'!B:M"),4,FALSE) | L64: =VLOOKUP($B67,INDIRECT("'"&$A64&"'!B:M"),5,FALSE) | M64: =VLOOKUP($B67,INDIRECT("'"&$A64&"'!B:M"),6,FALSE) | N64: =VLOOKUP($B67,INDIRECT("'"&$A64&"'!B:M"),7,FALSE) | P64: {=IF(OR(A64="total",ISBLANK(A64)),"",INDEX(B$3:B$200,SMALL(IF(A$3:A$200="lyon",ROW(A$3:A$200)-2,""),COUNTIF(A$3:A64,"lyon"))))} -> 42806
A65: Aix | D65: =VLOOKUP($B67,INDIRECT("'"&$A65&"'!B:M"),3,FALSE) | E65: =VLOOKUP($B67,INDIRECT("'"&$A65&"'!B:M"),8,FALSE) | F65: =VLOOKUP($B67,INDIRECT("'"&$A65&"'!B:M"),9,FALSE) | G65: =VLOOKUP($B67,INDIRECT("'"&$A65&"'!B:M"),10,FALSE) | H65: =VLOOKUP($B67,INDIRECT("'"&$A65&"'!B:M"),11,FALSE) | I65: =SUM(OFFSET(INDIRECT($A65&"!I2"),MATCH($P65,INDIRECT($A65&"!B2:B30"),0)-1+2,,)) -> #N/A | J65: =SUM(OFFSET(INDIRECT($A65&"!l2"),MATCH($P65,INDIRECT($A65&"!B2:B30"),0)-1+2,,)) -> #N/A | K65: =VLOOKUP($B67,INDIRECT("'"&$A65&"'!B:M"),4,FALSE) | L65: =VLOOKUP($B67,INDIRECT("'"&$A65&"'!B:M"),5,FALSE) | M65: =VLOOKUP($B67,INDIRECT("'"&$A65&"'!B:M"),6,FALSE) | N65: =VLOOKUP($B67,INDIRECT("'"&$A65&"'!B:M"),7,FALSE) | P65: {=IF(OR(A65="total",ISBLANK(A65)),"",INDEX(B$3:B$200,SMALL(IF(A$3:A$200="lyon",ROW(A$3:A$200)-2,""),COUNTIF(A$3:A65,"lyon"))))} -> 42806
A66: Paris | D66: =VLOOKUP($B67,INDIRECT("'"&$A66&"'!B:M"),3,FALSE) | E66: =VLOOKUP($B67,INDIRECT("'"&$A66&"'!B:M"),8,FALSE) | F66: =VLOOKUP($B67,INDIRECT("'"&$A66&"'!B:M"),9,FALSE) | G66: =VLOOKUP($B67,INDIRECT("'"&$A66&"'!B:M"),10,FALSE) | H66: =VLOOKUP($B67,INDIRECT("'"&$A66&"'!B:M"),11,FALSE) | I66: =SUM(OFFSET(INDIRECT($A66&"!I2"),MATCH($P66,INDIRECT($A66&"!B2:B30"),0)-1+2,,)) -> #N/A | J66: =SUM(OFFSET(INDIRECT($A66&"!l2"),MATCH($P66,INDIRECT($A66&"!B2:B30"),0)-1+2,,)) -> #N/A | K66: =VLOOKUP($B67,INDIRECT("'"&$A66&"'!B:M"),4,FALSE) | L66: =VLOOKUP($B67,INDIRECT("'"&$A66&"'!B:M"),5,FALSE) | M66: =VLOOKUP($B67,INDIRECT("'"&$A66&"'!B:M"),6,FALSE) | N66: =VLOOKUP($B67,INDIRECT("'"&$A66&"'!B:M"),7,FALSE) | P66: {=IF(OR(A66="total",ISBLANK(A66)),"",INDEX(B$3:B$200,SMALL(IF(A$3:A$200="lyon",ROW(A$3:A$200)-2,""),COUNTIF(A$3:A66,"lyon"))))} -> 42806
A67: Total | B67: =TEXT(WEEKNUM(B63,1),"00")&"_"&RIGHT(YEAR(B63),4) -> 11_2017 | D67: =IFERROR(AVERAGE(D63:D66),0) -> 0 | E67: =IFERROR(AVERAGE(E63:E66),0) -> 0 | F67: =IFERROR(AVERAGE(F63:F66),0) -> 0 | G67: =IFERROR(AVERAGE(G63:G66),0) -> 0 | H67: =IFERROR(AVERAGE(H63:H66),0) -> 0 | I67: =IFERROR(AVERAGE(I63:I66),0) -> 0 | J67: =SUM(J63:J66) -> #N/A | K67: =IFERROR(AVERAGE(K63:K66),0) -> 0 | L67: =IFERROR(AVERAGE(L63:L66),0) -> 0 | M67: =IFERROR(AVERAGE(M63:M66),0) -> 0 | N67: =IFERROR(SUM(N63:N66),0) -> 0 | P67: {=IF(OR(A67="total",ISBLANK(A67)),"",INDEX(B$3:B$200,SMALL(IF(A$3:A$200="lyon",ROW(A$3:A$200)-2,""),COUNTIF(A$3:A67,"lyon"))))}
P68: {=IF(OR(A68="total",ISBLANK(A68)),"",INDEX(B$3:B$200,SMALL(IF(A$3:A$200="lyon",ROW(A$3:A$200)-2,""),COUNTIF(A$3:A68,"lyon"))))}
A69: Lyon | B69: =$B63+7 -> 42813 | C69: =TEXT(WEEKNUM(B69,1),"00")&"_"&RIGHT(YEAR(B69),2) -> 12_17 | D69: =VLOOKUP($B73,INDIRECT("'"&$A69&"'!B:M"),3,FALSE) -> #N/A | E69: =VLOOKUP($B73,INDIRECT("'"&$A69&"'!B:M"),8,FALSE) -> #N/A | F69: =VLOOKUP($B73,INDIRECT("'"&$A69&"'!B:M"),9,FALSE) -> #N/A | G69: =VLOOKUP($B73,INDIRECT("'"&$A69&"'!B:M"),10,FALSE) -> #N/A | H69: =VLOOKUP($B73,INDIRECT("'"&$A69&"'!B:M"),11,FALSE) -> #N/A | I69: =SUM(OFFSET(INDIRECT($A69&"!I2"),MATCH($P69,INDIRECT($A69&"!B2:B30"),0)-1+2,,)) -> #N/A | J69: =SUM(OFFSET(INDIRECT($A69&"!l2"),MATCH($P69,INDIRECT($A69&"!B2:B30"),0)-1+2,,)) -> #N/A | K69: =VLOOKUP($B73,INDIRECT("'"&$A69&"'!B:M"),4,FALSE) -> #N/A | L69: =VLOOKUP($B73,INDIRECT("'"&$A69&"'!B:M"),5,FALSE) -> #N/A | M69: =VLOOKUP($B73,INDIRECT("'"&$A69&"'!B:M"),6,FALSE) -> #N/A | N69: =VLOOKUP($B73,INDIRECT("'"&$A69&"'!B:M"),7,FALSE) -> #N/A | P69: {=IF(OR(A69="total",ISBLANK(A69)),"",INDEX(B$3:B$200,SMALL(IF(A$3:A$200="lyon",ROW(A$3:A$200)-2,""),COUNTIF(A$3:A69,"lyon"))))} -> 42813
A70: Bourges | D70: =VLOOKUP($B73,INDIRECT("'"&$A70&"'!B:M"),3,FALSE) | E70: =VLOOKUP($B73,INDIRECT("'"&$A70&"'!B:M"),8,FALSE) | F70: =VLOOKUP($B73,INDIRECT("'"&$A70&"'!B:M"),9,FALSE) | G70: =VLOOKUP($B73,INDIRECT("'"&$A70&"'!B:M"),10,FALSE) | H70: =VLOOKUP($B73,INDIRECT("'"&$A70&"'!B:M"),11,FALSE) | I70: =SUM(OFFSET(INDIRECT($A70&"!I2"),MATCH($P70,INDIRECT($A70&"!B2:B30"),0)-1+2,,)) -> #N/A | J70: =SUM(OFFSET(INDIRECT($A70&"!l2"),MATCH($P70,INDIRECT($A70&"!B2:B30"),0)-1+2,,)) -> #N/A | K70: =VLOOKUP($B73,INDIRECT("'"&$A70&"'!B:M"),4,FALSE) | L70: =VLOOKUP($B73,INDIRECT("'"&$A70&"'!B:M"),5,FALSE) | M70: =VLOOKUP($B73,INDIRECT("'"&$A70&"'!B:M"),6,FALSE) | N70: =VLOOKUP($B73,INDIRECT("'"&$A70&"'!B:M"),7,FALSE) | P70: {=IF(OR(A70="total",ISBLANK(A70)),"",INDEX(B$3:B$200,SMALL(IF(A$3:A$200="lyon",ROW(A$3:A$200)-2,""),COUNTIF(A$3:A70,"lyon"))))} -> 42813
A71: Aix | D71: =VLOOKUP($B73,INDIRECT("'"&$A71&"'!B:M"),3,FALSE) | E71: =VLOOKUP($B73,INDIRECT("'"&$A71&"'!B:M"),8,FALSE) | F71: =VLOOKUP($B73,INDIRECT("'"&$A71&"'!B:M"),9,FALSE) | G71: =VLOOKUP($B73,INDIRECT("'"&$A71&"'!B:M"),10,FALSE) | H71: =VLOOKUP($B73,INDIRECT("'"&$A71&"'!B:M"),11,FALSE) | I71: =SUM(OFFSET(INDIRECT($A71&"!I2"),MATCH($P71,INDIRECT($A71&"!B2:B30"),0)-1+2,,)) -> #N/A | J71: =SUM(OFFSET(INDIRECT($A71&"!l2"),MATCH($P71,INDIRECT($A71&"!B2:B30"),0)-1+2,,)) -> #N/A | K71: =VLOOKUP($B73,INDIRECT("'"&$A71&"'!B:M"),4,FALSE) | L71: =VLOOKUP($B73,INDIRECT("'"&$A71&"'!B:M"),5,FALSE) | M71: =VLOOKUP($B73,INDIRECT("'"&$A71&"'!B:M"),6,FALSE) | N71: =VLOOKUP($B73,INDIRECT("'"&$A71&"'!B:M"),7,FALSE) | P71: {=IF(OR(A71="total",ISBLANK(A71)),"",INDEX(B$3:B$200,SMALL(IF(A$3:A$200="lyon",ROW(A$3:A$200)-2,""),COUNTIF(A$3:A71,"lyon"))))} -> 42813
A72: Paris | D72: =VLOOKUP($B73,INDIRECT("'"&$A72&"'!B:M"),3,FALSE) | E72: =VLOOKUP($B73,INDIRECT("'"&$A72&"'!B:M"),8,FALSE) | F72: =VLOOKUP($B73,INDIRECT("'"&$A72&"'!B:M"),9,FALSE) | G72: =VLOOKUP($B73,INDIRECT("'"&$A72&"'!B:M"),10,FALSE) | H72: =VLOOKUP($B73,INDIRECT("'"&$A72&"'!B:M"),11,FALSE) | I72: =SUM(OFFSET(INDIRECT($A72&"!I2"),MATCH($P72,INDIRECT($A72&"!B2:B30"),0)-1+2,,)) -> #N/A | J72: =SUM(OFFSET(INDIRECT($A72&"!l2"),MATCH($P72,INDIRECT($A72&"!B2:B30"),0)-1+2,,)) -> #N/A | K72: =VLOOKUP($B73,INDIRECT("'"&$A72&"'!B:M"),4,FALSE) | L72: =VLOOKUP($B73,INDIRECT("'"&$A72&"'!B:M"),5,FALSE) | M72: =VLOOKUP($B73,INDIRECT("'"&$A72&"'!B:M"),6,FALSE) | N72: =VLOOKUP($B73,INDIRECT("'"&$A72&"'!B:M"),7,FALSE) | P72: {=IF(OR(A72="total",ISBLANK(A72)),"",INDEX(B$3:B$200,SMALL(IF(A$3:A$200="lyon",ROW(A$3:A$200)-2,""),COUNTIF(A$3:A72,"lyon"))))} -> 42813
A73: Total | B73: =TEXT(WEEKNUM(B69,1),"00")&"_"&RIGHT(YEAR(B69),4) -> 12_2017 | D73: =IFERROR(AVERAGE(D69:D72),0) -> 0 | E73: =IFERROR(AVERAGE(E69:E72),0) -> 0 | F73: =IFERROR(AVERAGE(F69:F72),0) -> 0 | G73: =IFERROR(AVERAGE(G69:G72),0) -> 0 | H73: =IFERROR(AVERAGE(H69:H72),0) -> 0 | I73: =IFERROR(AVERAGE(I69:I72),0) -> 0 | J73: =SUM(J69:J72) -> #N/A | K73: =IFERROR(AVERAGE(K69:K72),0) -> 0 | L73: =IFERROR(AVERAGE(L69:L72),0) -> 0 | M73: =IFERROR(AVERAGE(M69:M72),0) -> 0 | N73: =IFERROR(SUM(N69:N72),0) -> 0 | P73: {=IF(OR(A73="total",ISBLANK(A73)),"",INDEX(B$3:B$200,SMALL(IF(A$3:A$200="lyon",ROW(A$3:A$200)-2,""),COUNTIF(A$3:A73,"lyon"))))}
P74: {=IF(OR(A74="total",ISBLANK(A74)),"",INDEX(B$3:B$200,SMALL(IF(A$3:A$200="lyon",ROW(A$3:A$200)-2,""),COUNTIF(A$3:A74,"lyon"))))}
A75: Lyon | B75: =$B69+7 -> 42820 | C75: =TEXT(WEEKNUM(B75,1),"00")&"_"&RIGHT(YEAR(B75),2) -> 13_17 | D75: =VLOOKUP($B79,INDIRECT("'"&$A75&"'!B:M"),3,FALSE) -> #N/A | E75: =VLOOKUP($B79,INDIRECT("'"&$A75&"'!B:M"),8,FALSE) -> #N/A | F75: =VLOOKUP($B79,INDIRECT("'"&$A75&"'!B:M"),9,FALSE) -> #N/A | G75: =VLOOKUP($B79,INDIRECT("'"&$A75&"'!B:M"),10,FALSE) -> #N/A | H75: =VLOOKUP($B79,INDIRECT("'"&$A75&"'!B:M"),11,FALSE) -> #N/A | I75: =SUM(OFFSET(INDIRECT($A75&"!I2"),MATCH($P75,INDIRECT($A75&"!B2:B30"),0)-1+2,,)) -> #N/A | J75: =SUM(OFFSET(INDIRECT($A75&"!l2"),MATCH($P75,INDIRECT($A75&"!B2:B30"),0)-1+2,,)) -> #N/A | K75: =VLOOKUP($B79,INDIRECT("'"&$A75&"'!B:M"),4,FALSE) -> #N/A | L75: =VLOOKUP($B79,INDIRECT("'"&$A75&"'!B:M"),5,FALSE) -> #N/A | M75: =VLOOKUP($B79,INDIRECT("'"&$A75&"'!B:M"),6,FALSE) -> #N/A | N75: =VLOOKUP($B79,INDIRECT("'"&$A75&"'!B:M"),7,FALSE) -> #N/A | P75: {=IF(OR(A75="total",ISBLANK(A75)),"",INDEX(B$3:B$200,SMALL(IF(A$3:A$200="lyon",ROW(A$3:A$200)-2,""),COUNTIF(A$3:A75,"lyon"))))} -> 42820
A76: Bourges | D76: =VLOOKUP($B79,INDIRECT("'"&$A76&"'!B:M"),3,FALSE) | E76: =VLOOKUP($B79,INDIRECT("'"&$A76&"'!B:M"),8,FALSE) | F76: =VLOOKUP($B79,INDIRECT("'"&$A76&"'!B:M"),9,FALSE) | G76: =VLOOKUP($B79,INDIRECT("'"&$A76&"'!B:M"),10,FALSE) | H76: =VLOOKUP($B79,INDIRECT("'"&$A76&"'!B:M"),11,FALSE) | I76: =SUM(OFFSET(INDIRECT($A76&"!I2"),MATCH($P76,INDIRECT($A76&"!B2:B30"),0)-1+2,,)) -> #N/A | J76: =SUM(OFFSET(INDIRECT($A76&"!l2"),MATCH($P76,INDIRECT($A76&"!B2:B30"),0)-1+2,,)) -> #N/A | K76: =VLOOKUP($B79,INDIRECT("'"&$A76&"'!B:M"),4,FALSE) | L76: =VLOOKUP($B79,INDIRECT("'"&$A76&"'!B:M"),5,FALSE) | M76: =VLOOKUP($B79,INDIRECT("'"&$A76&"'!B:M"),6,FALSE) | N76: =VLOOKUP($B79,INDIRECT("'"&$A76&"'!B:M"),7,FALSE) | P76: {=IF(OR(A76="total",ISBLANK(A76)),"",INDEX(B$3:B$200,SMALL(IF(A$3:A$200="lyon",ROW(A$3:A$200)-2,""),COUNTIF(A$3:A76,"lyon"))))} -> 42820
A77: Aix | D77: =VLOOKUP($B79,INDIRECT("'"&$A77&"'!B:M"),3,FALSE) | E77: =VLOOKUP($B79,INDIRECT("'"&$A77&"'!B:M"),8,FALSE) | F77: =VLOOKUP($B79,INDIRECT("'"&$A77&"'!B:M"),9,FALSE) | G77: =VLOOKUP($B79,INDIRECT("'"&$A77&"'!B:M"),10,FALSE) | H77: =VLOOKUP($B79,INDIRECT("'"&$A77&"'!B:M"),11,FALSE) | I77: =SUM(OFFSET(INDIRECT($A77&"!I2"),MATCH($P77,INDIRECT($A77&"!B2:B30"),0)-1+2,,)) -> #N/A | J77: =SUM(OFFSET(INDIRECT($A77&"!l2"),MATCH($P77,INDIRECT($A77&"!B2:B30"),0)-1+2,,)) -> #N/A | K77: =VLOOKUP($B79,INDIRECT("'"&$A77&"'!B:M"),4,FALSE) | L77: =VLOOKUP($B79,INDIRECT("'"&$A77&"'!B:M"),5,FALSE) | M77: =VLOOKUP($B79,INDIRECT("'"&$A77&"'!B:M"),6,FALSE) | N77: =VLOOKUP($B79,INDIRECT("'"&$A77&"'!B:M"),7,FALSE) | P77: {=IF(OR(A77="total",ISBLANK(A77)),"",INDEX(B$3:B$200,SMALL(IF(A$3:A$200="lyon",ROW(A$3:A$200)-2,""),COUNTIF(A$3:A77,"lyon"))))} -> 42820
A78: Paris | D78: =VLOOKUP($B79,INDIRECT("'"&$A78&"'!B:M"),3,FALSE) | E78: =VLOOKUP($B79,INDIRECT("'"&$A78&"'!B:M"),8,FALSE) | F78: =VLOOKUP($B79,INDIRECT("'"&$A78&"'!B:M"),9,FALSE) | G78: =VLOOKUP($B79,INDIRECT("'"&$A78&"'!B:M"),10,FALSE) | H78: =VLOOKUP($B79,INDIRECT("'"&$A78&"'!B:M"),11,FALSE) | I78: =SUM(OFFSET(INDIRECT($A78&"!I2"),MATCH($P78,INDIRECT($A78&"!B2:B30"),0)-1+2,,)) -> #N/A | J78: =SUM(OFFSET(INDIRECT($A78&"!l2"),MATCH($P78,INDIRECT($A78&"!B2:B30"),0)-1+2,,)) -> #N/A | K78: =VLOOKUP($B79,INDIRECT("'"&$A78&"'!B:M"),4,FALSE) | L78: =VLOOKUP($B79,INDIRECT("'"&$A78&"'!B:M"),5,FALSE) | M78: =VLOOKUP($B79,INDIRECT("'"&$A78&"'!B:M"),6,FALSE) | N78: =VLOOKUP($B79,INDIRECT("'"&$A78&"'!B:M"),7,FALSE) | P78: {=IF(OR(A78="total",ISBLANK(A78)),"",INDEX(B$3:B$200,SMALL(IF(A$3:A$200="lyon",ROW(A$3:A$200)-2,""),COUNTIF(A$3:A78,"lyon"))))} -> 42820
A79: Total | B79: =TEXT(WEEKNUM(B75,1),"00")&"_"&RIGHT(YEAR(B75),4) -> 13_2017 | D79: =IFERROR(AVERAGE(D75:D78),0) -> 0 | E79: =IFERROR(AVERAGE(E75:E78),0) -> 0 | F79: =IFERROR(AVERAGE(F75:F78),0) -> 0 | G79: =IFERROR(AVERAGE(G75:G78),0) -> 0 | H79: =IFERROR(AVERAGE(H75:H78),0) -> 0 | I79: =IFERROR(AVERAGE(I75:I78),0) -> 0 | J79: =SUM(J75:J78) -> #N/A | K79: =IFERROR(AVERAGE(K75:K78),0) -> 0 | L79: =IFERROR(AVERAGE(L75:L78),0) -> 0 | M79: =IFERROR(AVERAGE(M75:M78),0) -> 0 | N79: =IFERROR(SUM(N75:N78),0) -> 0 | P79: {=IF(OR(A79="total",ISBLANK(A79)),"",INDEX(B$3:B$200,SMALL(IF(A$3:A$200="lyon",ROW(A$3:A$200)-2,""),COUNTIF(A$3:A79,"lyon"))))}
P80: {=IF(OR(A80="total",ISBLANK(A80)),"",INDEX(B$3:B$200,SMALL(IF(A$3:A$200="lyon",ROW(A$3:A$200)-2,""),COUNTIF(A$3:A80,"lyon"))))}
A81: Lyon | B81: =$B75+7 -> 42827 | C81: =TEXT(WEEKNUM(B81,1),"00")&"_"&RIGHT(YEAR(B81),2) -> 14_17 | D81: =VLOOKUP($B85,INDIRECT("'"&$A81&"'!B:M"),3,FALSE) -> #N/A | E81: =VLOOKUP($B85,INDIRECT("'"&$A81&"'!B:M"),8,FALSE) -> #N/A | F81: =VLOOKUP($B85,INDIRECT("'"&$A81&"'!B:M"),9,FALSE) -> #N/A | G81: =VLOOKUP($B85,INDIRECT("'"&$A81&"'!B:M"),10,FALSE) -> #N/A | H81: =VLOOKUP($B85,INDIRECT("'"&$A81&"'!B:M"),11,FALSE) -> #N/A | I81: =SUM(OFFSET(INDIRECT($A81&"!I2"),MATCH($P81,INDIRECT($A81&"!B2:B30"),0)-1+2,,)) -> #N/A | J81: =SUM(OFFSET(INDIRECT($A81&"!l2"),MATCH($P81,INDIRECT($A81&"!B2:B30"),0)-1+2,,)) -> #N/A | K81: =VLOOKUP($B85,INDIRECT("'"&$A81&"'!B:M"),4,FALSE) -> #N/A | L81: =VLOOKUP($B85,INDIRECT("'"&$A81&"'!B:M"),5,FALSE) -> #N/A | M81: =VLOOKUP($B85,INDIRECT("'"&$A81&"'!B:M"),6,FALSE) -> #N/A | N81: =VLOOKUP($B85,INDIRECT("'"&$A81&"'!B:M"),7,FALSE) -> #N/A | P81: {=IF(OR(A81="total",ISBLANK(A81)),"",INDEX(B$3:B$200,SMALL(IF(A$3:A$200="lyon",ROW(A$3:A$200)-2,""),COUNTIF(A$3:A81,"lyon"))))} -> 42827
A82: Bourges | D82: =VLOOKUP($B85,INDIRECT("'"&$A82&"'!B:M"),3,FALSE) | E82: =VLOOKUP($B85,INDIRECT("'"&$A82&"'!B:M"),8,FALSE) | F82: =VLOOKUP($B85,INDIRECT("'"&$A82&"'!B:M"),9,FALSE) | G82: =VLOOKUP($B85,INDIRECT("'"&$A82&"'!B:M"),10,FALSE) | H82: =VLOOKUP($B85,INDIRECT("'"&$A82&"'!B:M"),11,FALSE) | I82: =SUM(OFFSET(INDIRECT($A82&"!I2"),MATCH($P82,INDIRECT($A82&"!B2:B30"),0)-1+2,,)) -> #N/A | J82: =SUM(OFFSET(INDIRECT($A82&"!l2"),MATCH($P82,INDIRECT($A82&"!B2:B30"),0)-1+2,,)) -> #N/A | K82: =VLOOKUP($B85,INDIRECT("'"&$A82&"'!B:M"),4,FALSE) | L82: =VLOOKUP($B85,INDIRECT("'"&$A82&"'!B:M"),5,FALSE) | M82: =VLOOKUP($B85,INDIRECT("'"&$A82&"'!B:M"),6,FALSE) | N82: =VLOOKUP($B85,INDIRECT("'"&$A82&"'!B:M"),7,FALSE) | P82: {=IF(OR(A82="total",ISBLANK(A82)),"",INDEX(B$3:B$200,SMALL(IF(A$3:A$200="lyon",ROW(A$3:A$200)-2,""),COUNTIF(A$3:A82,"lyon"))))} -> 42827
A83: Aix | D83: =VLOOKUP($B85,INDIRECT("'"&$A83&"'!B:M"),3,FALSE) | E83: =VLOOKUP($B85,INDIRECT("'"&$A83&"'!B:M"),8,FALSE) | F83: =VLOOKUP($B85,INDIRECT("'"&$A83&"'!B:M"),9,FALSE) | G83: =VLOOKUP($B85,INDIRECT("'"&$A83&"'!B:M"),10,FALSE) | H83: =VLOOKUP($B85,INDIRECT("'"&$A83&"'!B:M"),11,FALSE) | I83: =SUM(OFFSET(INDIRECT($A83&"!I2"),MATCH($P83,INDIRECT($A83&"!B2:B30"),0)-1+2,,)) -> #N/A | J83: =SUM(OFFSET(INDIRECT($A83&"!l2"),MATCH($P83,INDIRECT($A83&"!B2:B30"),0)-1+2,,)) -> #N/A | K83: =VLOOKUP($B85,INDIRECT("'"&$A83&"'!B:M"),4,FALSE) | L83: =VLOOKUP($B85,INDIRECT("'"&$A83&"'!B:M"),5,FALSE) | M83: =VLOOKUP($B85,INDIRECT("'"&$A83&"'!B:M"),6,FALSE) | N83: =VLOOKUP($B85,INDIRECT("'"&$A83&"'!B:M"),7,FALSE) | P83: {=IF(OR(A83="total",ISBLANK(A83)),"",INDEX(B$3:B$200,SMALL(IF(A$3:A$200="lyon",ROW(A$3:A$200)-2,""),COUNTIF(A$3:A83,"lyon"))))} -> 42827
A84: Paris | D84: =VLOOKUP($B85,INDIRECT("'"&$A84&"'!B:M"),3,FALSE) | E84: =VLOOKUP($B85,INDIRECT("'"&$A84&"'!B:M"),8,FALSE) | F84: =VLOOKUP($B85,INDIRECT("'"&$A84&"'!B:M"),9,FALSE) | G84: =VLOOKUP($B85,INDIRECT("'"&$A84&"'!B:M"),10,FALSE) | H84: =VLOOKUP($B85,INDIRECT("'"&$A84&"'!B:M"),11,FALSE) | I84: =SUM(OFFSET(INDIRECT($A84&"!I2"),MATCH($P84,INDIRECT($A84&"!B2:B30"),0)-1+2,,)) -> #N/A | J84: =SUM(OFFSET(INDIRECT($A84&"!l2"),MATCH($P84,INDIRECT($A84&"!B2:B30"),0)-1+2,,)) -> #N/A | K84: =VLOOKUP($B85,INDIRECT("'"&$A84&"'!B:M"),4,FALSE) | L84: =VLOOKUP($B85,INDIRECT("'"&$A84&"'!B:M"),5,FALSE) | M84: =VLOOKUP($B85,INDIRECT("'"&$A84&"'!B:M"),6,FALSE) | N84: =VLOOKUP($B85,INDIRECT("'"&$A84&"'!B:M"),7,FALSE) | P84: {=IF(OR(A84="total",ISBLANK(A84)),"",INDEX(B$3:B$200,SMALL(IF(A$3:A$200="lyon",ROW(A$3:A$200)-2,""),COUNTIF(A$3:A84,"lyon"))))} -> 42827
A85: Total | B85: =TEXT(WEEKNUM(B81,1),"00")&"_"&RIGHT(YEAR(B81),4) -> 14_2017 | D85: =IFERROR(AVERAGE(D81:D84),0) -> 0 | E85: =IFERROR(AVERAGE(E81:E84),0) -> 0 | F85: =IFERROR(AVERAGE(F81:F84),0) -> 0 | G85: =IFERROR(AVERAGE(G81:G84),0) -> 0 | H85: =IFERROR(AVERAGE(H81:H84),0) -> 0 | I85: =IFERROR(AVERAGE(I81:I84),0) -> 0 | J85: =SUM(J81:J84) -> #N/A | K85: =IFERROR(AVERAGE(K81:K84),0) -> 0 | L85: =IFERROR(AVERAGE(L81:L84),0) -> 0 | M85: =IFERROR(AVERAGE(M81:M84),0) -> 0 | N85: =IFERROR(SUM(N81:N84),0) -> 0 | P85: {=IF(OR(A85="total",ISBLANK(A85)),"",INDEX(B$3:B$200,SMALL(IF(A$3:A$200="lyon",ROW(A$3:A$200)-2,""),COUNTIF(A$3:A85,"lyon"))))}
P86: {=IF(OR(A86="total",ISBLANK(A86)),"",INDEX(B$3:B$200,SMALL(IF(A$3:A$200="lyon",ROW(A$3:A$200)-2,""),COUNTIF(A$3:A86,"lyon"))))}
A87: Lyon | B87: =$B81+7 -> 42834 | C87: =TEXT(WEEKNUM(B87,1),"00")&"_"&RIGHT(YEAR(B87),2) -> 15_17 | D87: =VLOOKUP($B91,INDIRECT("'"&$A87&"'!B:M"),3,FALSE) -> #N/A | E87: =VLOOKUP($B91,INDIRECT("'"&$A87&"'!B:M"),8,FALSE) -> #N/A | F87: =VLOOKUP($B91,INDIRECT("'"&$A87&"'!B:M"),9,FALSE) -> #N/A | G87: =VLOOKUP($B91,INDIRECT("'"&$A87&"'!B:M"),10,FALSE) -> #N/A | H87: =VLOOKUP($B91,INDIRECT("'"&$A87&"'!B:M"),11,FALSE) -> #N/A | I87: =SUM(OFFSET(INDIRECT($A87&"!I2"),MATCH($P87,INDIRECT($A87&"!B2:B30"),0)-1+2,,)) -> #N/A | J87: =SUM(OFFSET(INDIRECT($A87&"!l2"),MATCH($P87,INDIRECT($A87&"!B2:B30"),0)-1+2,,)) -> #N/A | K87: =VLOOKUP($B91,INDIRECT("'"&$A87&"'!B:M"),4,FALSE) -> #N/A | L87: =VLOOKUP($B91,INDIRECT("'"&$A87&"'!B:M"),5,FALSE) -> #N/A | M87: =VLOOKUP($B91,INDIRECT("'"&$A87&"'!B:M"),6,FALSE) -> #N/A | N87: =VLOOKUP($B91,INDIRECT("'"&$A87&"'!B:M"),7,FALSE) -> #N/A | P87: {=IF(OR(A87="total",ISBLANK(A87)),"",INDEX(B$3:B$200,SMALL(IF(A$3:A$200="lyon",ROW(A$3:A$200)-2,""),COUNTIF(A$3:A87,"lyon"))))} -> 42834
A88: Bourges | D88: =VLOOKUP($B91,INDIRECT("'"&$A88&"'!B:M"),3,FALSE) | E88: =VLOOKUP($B91,INDIRECT("'"&$A88&"'!B:M"),8,FALSE) | F88: =VLOOKUP($B91,INDIRECT("'"&$A88&"'!B:M"),9,FALSE) | G88: =VLOOKUP($B91,INDIRECT("'"&$A88&"'!B:M"),10,FALSE) | H88: =VLOOKUP($B91,INDIRECT("'"&$A88&"'!B:M"),11,FALSE) | I88: =SUM(OFFSET(INDIRECT($A88&"!I2"),MATCH($P88,INDIRECT($A88&"!B2:B30"),0)-1+2,,)) -> #N/A | J88: =SUM(OFFSET(INDIRECT($A88&"!l2"),MATCH($P88,INDIRECT($A88&"!B2:B30"),0)-1+2,,)) -> #N/A | K88: =VLOOKUP($B91,INDIRECT("'"&$A88&"'!B:M"),4,FALSE) | L88: =VLOOKUP($B91,INDIRECT("'"&$A88&"'!B:M"),5,FALSE) | M88: =VLOOKUP($B91,INDIRECT("'"&$A88&"'!B:M"),6,FALSE) | N88: =VLOOKUP($B91,INDIRECT("'"&$A88&"'!B:M"),7,FALSE) | P88: {=IF(OR(A88="total",ISBLANK(A88)),"",INDEX(B$3:B$200,SMALL(IF(A$3:A$200="lyon",ROW(A$3:A$200)-2,""),COUNTIF(A$3:A88,"lyon"))))} -> 42834
A89: Aix | D89: =VLOOKUP($B91,INDIRECT("'"&$A89&"'!B:M"),3,FALSE) | E89: =VLOOKUP($B91,INDIRECT("'"&$A89&"'!B:M"),8,FALSE) | F89: =VLOOKUP($B91,INDIRECT("'"&$A89&"'!B:M"),9,FALSE) | G89: =VLOOKUP($B91,INDIRECT("'"&$A89&"'!B:M"),10,FALSE) | H89: =VLOOKUP($B91,INDIRECT("'"&$A89&"'!B:M"),11,FALSE) | I89: =SUM(OFFSET(INDIRECT($A89&"!I2"),MATCH($P89,INDIRECT($A89&"!B2:B30"),0)-1+2,,)) -> #N/A | J89: =SUM(OFFSET(INDIRECT($A89&"!l2"),MATCH($P89,INDIRECT($A89&"!B2:B30"),0)-1+2,,)) -> #N/A | K89: =VLOOKUP($B91,INDIRECT("'"&$A89&"'!B:M"),4,FALSE) | L89: =VLOOKUP($B91,INDIRECT("'"&$A89&"'!B:M"),5,FALSE) | M89: =VLOOKUP($B91,INDIRECT("'"&$A89&"'!B:M"),6,FALSE) | N89: =VLOOKUP($B91,INDIRECT("'"&$A89&"'!B:M"),7,FALSE) | P89: {=IF(OR(A89="total",ISBLANK(A89)),"",INDEX(B$3:B$200,SMALL(IF(A$3:A$200="lyon",ROW(A$3:A$200)-2,""),COUNTIF(A$3:A89,"lyon"))))} -> 42834
A90: Paris | D90: =VLOOKUP($B91,INDIRECT("'"&$A90&"'!B:M"),3,FALSE) | E90: =VLOOKUP($B91,INDIRECT("'"&$A90&"'!B:M"),8,FALSE) | F90: =VLOOKUP($B91,INDIRECT("'"&$A90&"'!B:M"),9,FALSE) | G90: =VLOOKUP($B91,INDIRECT("'"&$A90&"'!B:M"),10,FALSE) | H90: =VLOOKUP($B91,INDIRECT("'"&$A90&"'!B:M"),11,FALSE) | I90: =SUM(OFFSET(INDIRECT($A90&"!I2"),MATCH($P90,INDIRECT($A90&"!B2:B30"),0)-1+2,,)) -> #N/A | J90: =SUM(OFFSET(INDIRECT($A90&"!l2"),MATCH($P90,INDIRECT($A90&"!B2:B30"),0)-1+2,,)) -> #N/A | K90: =VLOOKUP($B91,INDIRECT("'"&$A90&"'!B:M"),4,FALSE) | L90: =VLOOKUP($B91,INDIRECT("'"&$A90&"'!B:M"),5,FALSE) | M90: =VLOOKUP($B91,INDIRECT("'"&$A90&"'!B:M"),6,FALSE) | N90: =VLOOKUP($B91,INDIRECT("'"&$A90&"'!B:M"),7,FALSE) | P90: {=IF(OR(A90="total",ISBLANK(A90)),"",INDEX(B$3:B$200,SMALL(IF(A$3:A$200="lyon",ROW(A$3:A$200)-2,""),COUNTIF(A$3:A90,"lyon"))))} -> 42834
A91: Total | B91: =TEXT(WEEKNUM(B87,1),"00")&"_"&RIGHT(YEAR(B87),4) -> 15_2017 | D91: =IFERROR(AVERAGE(D87:D90),0) -> 0 | E91: =IFERROR(AVERAGE(E87:E90),0) -> 0 | F91: =IFERROR(AVERAGE(F87:F90),0) -> 0 | G91: =IFERROR(AVERAGE(G87:G90),0) -> 0 | H91: =IFERROR(AVERAGE(H87:H90),0) -> 0 | I91: =IFERROR(AVERAGE(I87:I90),0) -> 0 | J91: =SUM(J87:J90) -> #N/A | K91: =IFERROR(AVERAGE(K87:K90),0) -> 0 | L91: =IFERROR(AVERAGE(L87:L90),0) -> 0 | M91: =IFERROR(AVERAGE(M87:M90),0) -> 0 | N91: =IFERROR(SUM(N87:N90),0) -> 0 | P91: {=IF(OR(A91="total",ISBLANK(A91)),"",INDEX(B$3:B$200,SMALL(IF(A$3:A$200="lyon",ROW(A$3:A$200)-2,""),COUNTIF(A$3:A91,"lyon"))))}
P92: {=IF(OR(A92="total",ISBLANK(A92)),"",INDEX(B$3:B$200,SMALL(IF(A$3:A$200="lyon",ROW(A$3:A$200)-2,""),COUNTIF(A$3:A92,"lyon"))))}
A93: Lyon | B93: =$B87+7 -> 42841 | C93: =TEXT(WEEKNUM(B93,1),"00")&"_"&RIGHT(YEAR(B93),2) -> 16_17 | D93: =VLOOKUP($B97,INDIRECT("'"&$A93&"'!B:M"),3,FALSE) -> #N/A | E93: =VLOOKUP($B97,INDIRECT("'"&$A93&"'!B:M"),8,FALSE) -> #N/A | F93: =VLOOKUP($B97,INDIRECT("'"&$A93&"'!B:M"),9,FALSE) -> #N/A | G93: =VLOOKUP($B97,INDIRECT("'"&$A93&"'!B:M"),10,FALSE) -> #N/A | H93: =VLOOKUP($B97,INDIRECT("'"&$A93&"'!B:M"),11,FALSE) -> #N/A | I93: =SUM(OFFSET(INDIRECT($A93&"!I2"),MATCH($P93,INDIRECT($A93&"!B2:B30"),0)-1+2,,)) -> #N/A | J93: =SUM(OFFSET(INDIRECT($A93&"!l2"),MATCH($P93,INDIRECT($A93&"!B2:B30"),0)-1+2,,)) -> #N/A | K93: =VLOOKUP($B97,INDIRECT("'"&$A93&"'!B:M"),4,FALSE) -> #N/A | L93: =VLOOKUP($B97,INDIRECT("'"&$A93&"'!B:M"),5,FALSE) -> #N/A | M93: =VLOOKUP($B97,INDIRECT("'"&$A93&"'!B:M"),6,FALSE) -> #N/A | N93: =VLOOKUP($B97,INDIRECT("'"&$A93&"'!B:M"),7,FALSE) -> #N/A | P93: {=IF(OR(A93="total",ISBLANK(A93)),"",INDEX(B$3:B$200,SMALL(IF(A$3:A$200="lyon",ROW(A$3:A$200)-2,""),COUNTIF(A$3:A93,"lyon"))))} -> 42841
A94: Bourges | D94: =VLOOKUP($B97,INDIRECT("'"&$A94&"'!B:M"),3,FALSE) | E94: =VLOOKUP($B97,INDIRECT("'"&$A94&"'!B:M"),8,FALSE) | F94: =VLOOKUP($B97,INDIRECT("'"&$A94&"'!B:M"),9,FALSE) | G94: =VLOOKUP($B97,INDIRECT("'"&$A94&"'!B:M"),10,FALSE) | H94: =VLOOKUP($B97,INDIRECT("'"&$A94&"'!B:M"),11,FALSE) | I94: =SUM(OFFSET(INDIRECT($A94&"!I2"),MATCH($P94,INDIRECT($A94&"!B2:B30"),0)-1+2,,)) -> #N/A | J94: =SUM(OFFSET(INDIRECT($A94&"!l2"),MATCH($P94,INDIRECT($A94&"!B2:B30"),0)-1+2,,)) -> #N/A | K94: =VLOOKUP($B97,INDIRECT("'"&$A94&"'!B:M"),4,FALSE) | L94: =VLOOKUP($B97,INDIRECT("'"&$A94&"'!B:M"),5,FALSE) | M94: =VLOOKUP($B97,INDIRECT("'"&$A94&"'!B:M"),6,FALSE) | N94: =VLOOKUP($B97,INDIRECT("'"&$A94&"'!B:M"),7,FALSE) | P94: {=IF(OR(A94="total",ISBLANK(A94)),"",INDEX(B$3:B$200,SMALL(IF(A$3:A$200="lyon",ROW(A$3:A$200)-2,""),COUNTIF(A$3:A94,"lyon"))))} -> 42841
A95: Aix | D95: =VLOOKUP($B97,INDIRECT("'"&$A95&"'!B:M"),3,FALSE) | E95: =VLOOKUP($B97,INDIRECT("'"&$A95&"'!B:M"),8,FALSE) | F95: =VLOOKUP($B97,INDIRECT("'"&$A95&"'!B:M"),9,FALSE) | G95: =VLOOKUP($B97,INDIRECT("'"&$A95&"'!B:M"),10,FALSE) | H95: =VLOOKUP($B97,INDIRECT("'"&$A95&"'!B:M"),11,FALSE) | I95: =SUM(OFFSET(INDIRECT($A95&"!I2"),MATCH($P95,INDIRECT($A95&"!B2:B30"),0)-1+2,,)) -> #N/A | J95: =SUM(OFFSET(INDIRECT($A95&"!l2"),MATCH($P95,INDIRECT($A95&"!B2:B30"),0)-1+2,,)) -> #N/A | K95: =VLOOKUP($B97,INDIRECT("'"&$A95&"'!B:M"),4,FALSE) | L95: =VLOOKUP($B97,INDIRECT("'"&$A95&"'!B:M"),5,FALSE) | M95: =VLOOKUP($B97,INDIRECT("'"&$A95&"'!B:M"),6,FALSE) | N95: =VLOOKUP($B97,INDIRECT("'"&$A95&"'!B:M"),7,FALSE) | P95: {=IF(OR(A95="total",ISBLANK(A95)),"",INDEX(B$3:B$200,SMALL(IF(A$3:A$200="lyon",ROW(A$3:A$200)-2,""),COUNTIF(A$3:A95,"lyon"))))} -> 42841
A96: Paris | D96: =VLOOKUP($B97,INDIRECT("'"&$A96&"'!B:M"),3,FALSE) | E96: =VLOOKUP($B97,INDIRECT("'"&$A96&"'!B:M"),8,FALSE) | F96: =VLOOKUP($B97,INDIRECT("'"&$A96&"'!B:M"),9,FALSE) | G96: =VLOOKUP($B97,INDIRECT("'"&$A96&"'!B:M"),10,FALSE) | H96: =VLOOKUP($B97,INDIRECT("'"&$A96&"'!B:M"),11,FALSE) | I96: =SUM(OFFSET(INDIRECT($A96&"!I2"),MATCH($P96,INDIRECT($A96&"!B2:B30"),0)-1+2,,)) -> #N/A | J96: =SUM(OFFSET(INDIRECT($A96&"!l2"),MATCH($P96,INDIRECT($A96&"!B2:B30"),0)-1+2,,)) -> #N/A | K96: =VLOOKUP($B97,INDIRECT("'"&$A96&"'!B:M"),4,FALSE) | L96: =VLOOKUP($B97,INDIRECT("'"&$A96&"'!B:M"),5,FALSE) | M96: =VLOOKUP($B97,INDIRECT("'"&$A96&"'!B:M"),6,FALSE) | N96: =VLOOKUP($B97,INDIRECT("'"&$A96&"'!B:M"),7,FALSE) | P96: {=IF(OR(A96="total",ISBLANK(A96)),"",INDEX(B$3:B$200,SMALL(IF(A$3:A$200="lyon",ROW(A$3:A$200)-2,""),COUNTIF(A$3:A96,"lyon"))))} -> 42841
A97: Total | B97: =TEXT(WEEKNUM(B93,1),"00")&"_"&RIGHT(YEAR(B93),4) -> 16_2017 | D97: =IFERROR(AVERAGE(D93:D96),0) -> 0 | E97: =IFERROR(AVERAGE(E93:E96),0) -> 0 | F97: =IFERROR(AVERAGE(F93:F96),0) -> 0 | G97: =IFERROR(AVERAGE(G93:G96),0) -> 0 | H97: =IFERROR(AVERAGE(H93:H96),0) -> 0 | I97: =IFERROR(AVERAGE(I93:I96),0) -> 0 | J97: =SUM(J93:J96) -> #N/A | K97: =IFERROR(AVERAGE(K93:K96),0) -> 0 | L97: =IFERROR(AVERAGE(L93:L96),0) -> 0 | M97: =IFERROR(AVERAGE(M93:M96),0) -> 0 | N97: =IFERROR(SUM(N93:N96),0) -> 0 | P97: {=IF(OR(A97="total",ISBLANK(A97)),"",INDEX(B$3:B$200,SMALL(IF(A$3:A$200="lyon",ROW(A$3:A$200)-2,""),COUNTIF(A$3:A97,"lyon"))))}
