Workbook

Sheet Sheet1
A1: Equipe | B1: date
A2: Nuit | B2: 42005 | C2: =IFERROR(INDEX(Sheet2!C$2:C$22,SUMPRODUCT(MAX((Sheet2!A$2:A$22=Sheet1!A2)*(Sheet2!B$2:B$22=Sheet1!B2)*ROW(B$2:B$22)-1))),"pas de données") -> pas de données
A3: matin | B3: 42005 | C3: =IFERROR(INDEX(Sheet2!C$2:C$22,SUMPRODUCT(MAX((Sheet2!A$2:A$22=Sheet1!A3)*(Sheet2!B$2:B$22=Sheet1!B3)*ROW(B$2:B$22)-1))),"pas de données") -> pas de données
A4: apres-midi | B4: 42005 | C4: =IFERROR(INDEX(Sheet2!C$2:C$22,SUMPRODUCT(MAX((Sheet2!A$2:A$22=Sheet1!A4)*(Sheet2!B$2:B$22=Sheet1!B4)*ROW(B$2:B$22)-1))),"pas de données") -> pas de données
A5: Nuit | B5: 42037 | C5: =IFERROR(INDEX(Sheet2!C$2:C$22,SUMPRODUCT(MAX((Sheet2!A$2:A$22=Sheet1!A5)*(Sheet2!B$2:B$22=Sheet1!B5)*ROW(B$2:B$22)-1))),"pas de données") -> pas de données
A6: matin | B6: 42037 | C6: =IFERROR(INDEX(Sheet2!C$2:C$22,SUMPRODUCT(MAX((Sheet2!A$2:A$22=Sheet1!A6)*(Sheet2!B$2:B$22=Sheet1!B6)*ROW(B$2:B$22)-1))),"pas de données") -> pas de données
A7: apres-midi | B7: 42037 | C7: =IFERROR(INDEX(Sheet2!C$2:C$22,SUMPRODUCT(MAX((Sheet2!A$2:A$22=Sheet1!A7)*(Sheet2!B$2:B$22=Sheet1!B7)*ROW(B$2:B$22)-1))),"pas de données") -> pas de données
A8: Nuit | B8: 42007 | C8: =IFERROR(INDEX(Sheet2!C$2:C$22,SUMPRODUCT(MAX((Sheet2!A$2:A$22=Sheet1!A8)*(Sheet2!B$2:B$22=Sheet1!B8)*ROW(B$2:B$22)-1))),"pas de données") -> Jambon
A9: matin | B9: 42007 | C9: =IFERROR(INDEX(Sheet2!C$2:C$22,SUMPRODUCT(MAX((Sheet2!A$2:A$22=Sheet1!A9)*(Sheet2!B$2:B$22=Sheet1!B9)*ROW(B$2:B$22)-1))),"pas de données") -> Steak
A10: apres-midi | B10: 42007 | C10: =IFERROR(INDEX(Sheet2!C$2:C$22,SUMPRODUCT(MAX((Sheet2!A$2:A$22=Sheet1!A10)*(Sheet2!B$2:B$22=Sheet1!B10)*ROW(B$2:B$22)-1))),"pas de données") -> Steak
A11: Nuit | B11: 42039 | C11: =IFERROR(INDEX(Sheet2!C$2:C$22,SUMPRODUCT(MAX((Sheet2!A$2:A$22=Sheet1!A11)*(Sheet2!B$2:B$22=Sheet1!B11)*ROW(B$2:B$22)-1))),"pas de données") -> Fruit
A12: matin | B12: 42039 | C12: =IFERROR(INDEX(Sheet2!C$2:C$22,SUMPRODUCT(MAX((Sheet2!A$2:A$22=Sheet1!A12)*(Sheet2!B$2:B$22=Sheet1!B12)*ROW(B$2:B$22)-1))),"pas de données") -> Fruit
A13: apres-midi | B13: 42039 | C13: =IFERROR(INDEX(Sheet2!C$2:C$22,SUMPRODUCT(MAX((Sheet2!A$2:A$22=Sheet1!A13)*(Sheet2!B$2:B$22=Sheet1!B13)*ROW(B$2:B$22)-1))),"pas de données") -> Jambon
... A31: matin | B31: 42045 | C31: =IFERROR(INDEX(Sheet2!C$2:C$22,SUMPRODUCT(MAX((Sheet2!A$2:A$22=Sheet1!A31)*(Sheet2!B$2:B$22=Sheet1!B31)*ROW(B$2:B$22)-1))),"pas de données") -> pas de données

Sheet Sheet2
A1: Equipe | B1: date | C1: produits
A2: Nuit | B2: 42007 | C2: Jambon
A3: matin | B3: 42007 | C3: Steak
A4: apres-midi | B4: 42007 | C4: Steak
A5: Nuit | B5: 42039 | C5: Fruit
A6: matin | B6: 42039 | C6: Fruit
A7: apres-midi | B7: 42039 | C7: Jambon
A8: Nuit | B8: 42009 | C8: Jambon
A9: matin | B9: 42009 | C9: Steak
A10: apres-midi | B10: 42009 | C10: Steak
A11: Nuit | B11: 42041 | C11: Fruit
A12: matin | B12: 42041 | C12: Fruit
A13: apres-midi | B13: 42041 | C13: Jambon
... A22: matin | B22: 42013 | C22: Fruit

Sheet Sheet3
