Workbook
Name util1: Parametre!$G$2:$G$9
Name util2: Parametre!$I$2:$I$9
Name util3: Parametre!$K$2:$K$9

Sheet Planning
A1: Agent1 | B1: Agent2 | C1: Agent3
A2: Post2
B4: Post4
C6: Post5

Sheet Parametre
A1: Post | B1: Post reecrit | C1: Ex pour la ligne 2 | F1: Agent1 | G1: util1 | H1: Agent2 | I1: util2 | J1: Agent3 | K1: util3
A2: Post1 | B2: Post1 | F2: Post1 | G2: {=IFERROR(INDEX(F$2:F$9,SMALL(IF(COUNTIF(Planning!A$2:A$25,F$2:F$9)=0,ROW(F$2:F$9)-1,""),ROW(A1))),"")} -> Post1 | H2: Post1 | I2: {=IFERROR(INDEX(H$2:H$9,SMALL(IF(COUNTIF(Planning!B$2:B$25,H$2:H$9)=0,ROW(H$2:H$9)-1,""),ROW(C1))),"")} -> Post1 | J2: Post1 | K2: {=IFERROR(INDEX(J$2:J$9,SMALL(IF(COUNTIF(Planning!C$2:C$25,J$2:J$9)=0,ROW(J$2:J$9)-1,""),ROW(E1))),"")} -> Post1
A3: Post2 | B3: Post5 | F3: Post2 | G3: {=IFERROR(INDEX(F$2:F$9,SMALL(IF(COUNTIF(Planning!A$2:A$25,F$2:F$9)=0,ROW(F$2:F$9)-1,""),ROW(A2))),"")} -> Post3 | H3: Post2 | I3: {=IFERROR(INDEX(H$2:H$9,SMALL(IF(COUNTIF(Planning!B$2:B$25,H$2:H$9)=0,ROW(H$2:H$9)-1,""),ROW(C2))),"")} -> Post2 | J3: Post2 | K3: {=IFERROR(INDEX(J$2:J$9,SMALL(IF(COUNTIF(Planning!C$2:C$5,J$2:J$9)=0,ROW(J$2:J$9)-1,""),ROW(E2))),"")} -> Post2
A4: Post3 | B4: Post6 | F4: Post3 | G4: {=IFERROR(INDEX(F$2:F$9,SMALL(IF(COUNTIF(Planning!A$2:A$25,F$2:F$9)=0,ROW(F$2:F$9)-1,""),ROW(A3))),"")} -> Post4 | H4: Post3 | I4: {=IFERROR(INDEX(H$2:H$9,SMALL(IF(COUNTIF(Planning!B$2:B$25,H$2:H$9)=0,ROW(H$2:H$9)-1,""),ROW(C3))),"")} -> Post3 | J4: Post3 | K4: {=IFERROR(INDEX(J$2:J$9,SMALL(IF(COUNTIF(Planning!C$2:C$5,J$2:J$9)=0,ROW(J$2:J$9)-1,""),ROW(E3))),"")} -> Post3
A5: Post4 | B5: Post7 | F5: Post4 | G5: {=IFERROR(INDEX(F$2:F$9,SMALL(IF(COUNTIF(Planning!A$2:A$25,F$2:F$9)=0,ROW(F$2:F$9)-1,""),ROW(A4))),"")} -> Post5 | H5: Post4 | I5: {=IFERROR(INDEX(H$2:H$9,SMALL(IF(COUNTIF(Planning!B$2:B$25,H$2:H$9)=0,ROW(H$2:H$9)-1,""),ROW(C4))),"")} -> Post5 | J5: Post4 | K5: {=IFERROR(INDEX(J$2:J$9,SMALL(IF(COUNTIF(Planning!C$2:C$5,J$2:J$9)=0,ROW(J$2:J$9)-1,""),ROW(E4))),"")} -> Post4
A6: Post5 | B6: Post8 | F6: Post5 | G6: {=IFERROR(INDEX(F$2:F$9,SMALL(IF(COUNTIF(Planning!A$2:A$25,F$2:F$9)=0,ROW(F$2:F$9)-1,""),ROW(A5))),"")} -> Post6 | H6: Post5 | I6: {=IFERROR(INDEX(H$2:H$9,SMALL(IF(COUNTIF(Planning!B$2:B$25,H$2:H$9)=0,ROW(H$2:H$9)-1,""),ROW(C5))),"")} -> Post6 | J6: Post5 | K6: {=IFERROR(INDEX(J$2:J$9,SMALL(IF(COUNTIF(Planning!C$2:C$5,J$2:J$9)=0,ROW(J$2:J$9)-1,""),ROW(E5))),"")} -> Post5
A7: Post6 | F7: Post6 | G7: {=IFERROR(INDEX(F$2:F$9,SMALL(IF(COUNTIF(Planning!A$2:A$25,F$2:F$9)=0,ROW(F$2:F$9)-1,""),ROW(A6))),"")} -> Post7 | H7: Post6 | I7: {=IFERROR(INDEX(H$2:H$9,SMALL(IF(COUNTIF(Planning!B$2:B$25,H$2:H$9)=0,ROW(H$2:H$9)-1,""),ROW(C6))),"")} -> Post7 | J7: Post6 | K7: {=IFERROR(INDEX(J$2:J$9,SMALL(IF(COUNTIF(Planning!C$2:C$5,J$2:J$9)=0,ROW(J$2:J$9)-1,""),ROW(E6))),"")} -> Post6
A8: Post7 | F8: Post7 | G8: {=IFERROR(INDEX(F$2:F$9,SMALL(IF(COUNTIF(Planning!A$2:A$25,F$2:F$9)=0,ROW(F$2:F$9)-1,""),ROW(A7))),"")} -> Post8 | H8: Post7 | I8: {=IFERROR(INDEX(H$2:H$9,SMALL(IF(COUNTIF(Planning!B$2:B$25,H$2:H$9)=0,ROW(H$2:H$9)-1,""),ROW(C7))),"")} -> Post8 | J8: Post7 | K8: {=IFERROR(INDEX(J$2:J$9,SMALL(IF(COUNTIF(Planning!C$2:C$5,J$2:J$9)=0,ROW(J$2:J$9)-1,""),ROW(E7))),"")} -> Post7
A9: Post8 | F9: Post8 | G9: {=IFERROR(INDEX(F$2:F$9,SMALL(IF(COUNTIF(Planning!A$2:A$25,F$2:F$9)=0,ROW(F$2:F$9)-1,""),ROW(A8))),"")} | H9: Post8 | I9: {=IFERROR(INDEX(H$2:H$9,SMALL(IF(COUNTIF(Planning!B$2:B$25,H$2:H$9)=0,ROW(H$2:H$9)-1,""),ROW(C8))),"")} | J9: Post8 | K9: {=IFERROR(INDEX(J$2:J$9,SMALL(IF(COUNTIF(Planning!C$2:C$5,J$2:J$9)=0,ROW(J$2:J$9)-1,""),ROW(E8))),"")} -> Post8
F13: créer une liste varible pour chaque agent à partir de soit la liste complète en colonne A ou cop /collé
F14: la formule dans util est matricielle validation avec les 3 touches Ctrl Maj Entrée en simultané avant de tirer vers le bas
F15: ensuitte nommer les 3 util avec "definir un nom" dans Formules à coté de Mise en page
F16: les listes sont crées avec Données >>validation>>liste ;tu saisis = lenom
F17: faire une liste par agent car chacun a son util
F19: dans chaque matricielle , j'ai prevu pour 25 lignes dans planning si pas assez tu remplaces 25 par …. Et tu revalides avec les 3 doigts
F20: ensuite tu tires vers le bas ;recommencer pour chaque util

Sheet Feuil3
