Workbook

Sheet Consolidation
A1: Type | B1: Date | C1: Graphique 1 | D1: Graphique 2 | E1: Potentiel avec coûts compris | F1: Remarques
A2: Colonne1 | B2: Colonne2 | C2: Colonne3 | D2: Colonne4 | E2: Colonne5 | F2: Colonne6
A3: Rebond | B3: 43283 | C3: Graphiques\2 juillet 2018.png | E3: 2 | F3: Rebond après ouverture sur cible rapide
A4: Rebond | B4: 43283 | C4: Graphiques\2 juillet 2018.png | E4: 1.2 | F4: Rebond sur support d'ouverture
A5: Rebond | B5: 43291 | C5: Graphiques\10 juillet 2018.png | E5: 1.2 | F5: Rebond sur résistance annoncée
A6: Ouverture | B6: 43292 | C6: Graphiques\11 juillet 2018.png | E6: 23 | F6: Casse support à l'ouverture, y revient puis stagne
A7: Ouverture | B7: 43298 | C7: Graphiques\17 juillet 2018.png | E7: 1.1 | F7: Franchissement rapide mais revient rapidement ; critère 20 minutes permet de sortir
A8: Ouverture | B8: 43299 | C8: Graphiques\18 juillet 2018.png | E8: 1.1 | F8: Ouvre au-dessus de support ; atteint première cible et même plus
A9: Ouverture | B9: 43300 | C9: Graphiques\19 juillet 2018.png | E9: 0.8 | F9: Franchit support à l'ouverture mais y revient puis stagne
A10: Cassure | B10: 43301 | C10: Graphiques\20 juillet 2018.png | E10: 1.2 | F10: Cassure correcte puis atteint deuxième cible mais imprévisible enfin peut-être prévisible vu que cassé avant sous cible
A11: Cassure | B11: 43307 | C11: Graphiques\26 juillet 2018.png | E11: 1 | F11: Perce résistance puis briefing montre que 0 potentiel
A12: Ouverture | B12: 43322 | C12: Graphiques\10 août 2018.png | E12: 1.1 | F12: Ouvre sous support et le rejoint vite ; assez faible potentiel mais quand même

Sheet Ouverture
A1: Ouverture | B1: Date | C1: Graphique 1 | D1: Graphique 2 | E1: Potentiel avec coûts compris | F1: Remarques
A2: {=IFERROR(INDEX(Consolidation!$A$3:$F$200,SMALL(IF(Consolidation!$A$3:$A$200=$A$1,ROW($3:$200)-2,""),ROW($A1)),COLUMN(A:A)),"")} -> Ouverture | B2: {=IFERROR(INDEX(Consolidation!$A$3:$F$200,SMALL(IF(Consolidation!$A$3:$A$200=$A$1,ROW($3:$200)-2,""),ROW($A1)),COLUMN(B:B)),"")} -> 43292 | C2: {=IFERROR(INDEX(Consolidation!$A$3:$F$200,SMALL(IF(Consolidation!$A$3:$A$200=$A$1,ROW($3:$200)-2,""),ROW($A1)),COLUMN(C:C)),"")} -> Graphiques\11 juillet 2018.png | D2: {=IFERROR(INDEX(Consolidation!$A$3:$F$200,SMALL(IF(Consolidation!$A$3:$A$200=$A$1,ROW($3:$200)-2,""),ROW($A1)),COLUMN(D:D)),"")} -> 0 | E2: {=IFERROR(INDEX(Consolidation!$A$3:$F$200,SMALL(IF(Consolidation!$A$3:$A$200=$A$1,ROW($3:$200)-2,""),ROW($A1)),COLUMN(E:E)),"")} -> 23 | F2: {=IFERROR(INDEX(Consolidation!$A$3:$F$200,SMALL(IF(Consolidation!$A$3:$A$200=$A$1,ROW($3:$200)-2,""),ROW($A1)),COLUMN(F:F)),"")} -> Casse support à l'ouverture, y revient puis stagne
A3: {=IFERROR(INDEX(Consolidation!$A$3:$F$200,SMALL(IF(Consolidation!$A$3:$A$200=$A$1,ROW($3:$200)-2,""),ROW($A2)),COLUMN(A:A)),"")} -> Ouverture | B3: {=IFERROR(INDEX(Consolidation!$A$3:$F$200,SMALL(IF(Consolidation!$A$3:$A$200=$A$1,ROW($3:$200)-2,""),ROW($A2)),COLUMN(B:B)),"")} -> 43298 | C3: {=IFERROR(INDEX(Consolidation!$A$3:$F$200,SMALL(IF(Consolidation!$A$3:$A$200=$A$1,ROW($3:$200)-2,""),ROW($A2)),COLUMN(C:C)),"")} -> Graphiques\17 juillet 2018.png | D3: {=IFERROR(INDEX(Consolidation!$A$3:$F$200,SMALL(IF(Consolidation!$A$3:$A$200=$A$1,ROW($3:$200)-2,""),ROW($A2)),COLUMN(D:D)),"")} -> 0 | E3: {=IFERROR(INDEX(Consolidation!$A$3:$F$200,SMALL(IF(Consolidation!$A$3:$A$200=$A$1,ROW($3:$200)-2,""),ROW($A2)),COLUMN(E:E)),"")} -> 1.1 | F3: {=IFERROR(INDEX(Consolidation!$A$3:$F$200,SMALL(IF(Consolidation!$A$3:$A$200=$A$1,ROW($3:$200)-2,""),ROW($A2)),COLUMN(F:F)),"")} -> Franchissement rapide mais revient rapidement ; critère 20 minutes permet de sortir
A4: {=IFERROR(INDEX(Consolidation!$A$3:$F$200,SMALL(IF(Consolidation!$A$3:$A$200=$A$1,ROW($3:$200)-2,""),ROW($A3)),COLUMN(A:A)),"")} -> Ouverture | B4: {=IFERROR(INDEX(Consolidation!$A$3:$F$200,SMALL(IF(Consolidation!$A$3:$A$200=$A$1,ROW($3:$200)-2,""),ROW($A3)),COLUMN(B:B)),"")} -> 43299 | C4: {=IFERROR(INDEX(Consolidation!$A$3:$F$200,SMALL(IF(Consolidation!$A$3:$A$200=$A$1,ROW($3:$200)-2,""),ROW($A3)),COLUMN(C:C)),"")} -> Graphiques\18 juillet 2018.png | D4: {=IFERROR(INDEX(Consolidation!$A$3:$F$200,SMALL(IF(Consolidation!$A$3:$A$200=$A$1,ROW($3:$200)-2,""),ROW($A3)),COLUMN(D:D)),"")} -> 0 | E4: {=IFERROR(INDEX(Consolidation!$A$3:$F$200,SMALL(IF(Consolidation!$A$3:$A$200=$A$1,ROW($3:$200)-2,""),ROW($A3)),COLUMN(E:E)),"")} -> 1.1 | F4: {=IFERROR(INDEX(Consolidation!$A$3:$F$200,SMALL(IF(Consolidation!$A$3:$A$200=$A$1,ROW($3:$200)-2,""),ROW($A3)),COLUMN(F:F)),"")} -> Ouvre au-dessus de support ; atteint première cible et même plus
A5: {=IFERROR(INDEX(Consolidation!$A$3:$F$200,SMALL(IF(Consolidation!$A$3:$A$200=$A$1,ROW($3:$200)-2,""),ROW($A4)),COLUMN(A:A)),"")} -> Ouverture | B5: {=IFERROR(INDEX(Consolidation!$A$3:$F$200,SMALL(IF(Consolidation!$A$3:$A$200=$A$1,ROW($3:$200)-2,""),ROW($A4)),COLUMN(B:B)),"")} -> 43300 | C5: {=IFERROR(INDEX(Consolidation!$A$3:$F$200,SMALL(IF(Consolidation!$A$3:$A$200=$A$1,ROW($3:$200)-2,""),ROW($A4)),COLUMN(C:C)),"")} -> Graphiques\19 juillet 2018.png | D5: {=IFERROR(INDEX(Consolidation!$A$3:$F$200,SMALL(IF(Consolidation!$A$3:$A$200=$A$1,ROW($3:$200)-2,""),ROW($A4)),COLUMN(D:D)),"")} -> 0 | E5: {=IFERROR(INDEX(Consolidation!$A$3:$F$200,SMALL(IF(Consolidation!$A$3:$A$200=$A$1,ROW($3:$200)-2,""),ROW($A4)),COLUMN(E:E)),"")} -> 0.8 | F5: {=IFERROR(INDEX(Consolidation!$A$3:$F$200,SMALL(IF(Consolidation!$A$3:$A$200=$A$1,ROW($3:$200)-2,""),ROW($A4)),COLUMN(F:F)),"")} -> Franchit support à l'ouverture mais y revient puis stagne
A6: {=IFERROR(INDEX(Consolidation!$A$3:$F$200,SMALL(IF(Consolidation!$A$3:$A$200=$A$1,ROW($3:$200)-2,""),ROW($A5)),COLUMN(A:A)),"")} -> Ouverture | B6: {=IFERROR(INDEX(Consolidation!$A$3:$F$200,SMALL(IF(Consolidation!$A$3:$A$200=$A$1,ROW($3:$200)-2,""),ROW($A5)),COLUMN(B:B)),"")} -> 43322 | C6: {=IFERROR(INDEX(Consolidation!$A$3:$F$200,SMALL(IF(Consolidation!$A$3:$A$200=$A$1,ROW($3:$200)-2,""),ROW($A5)),COLUMN(C:C)),"")} -> Graphiques\10 août 2018.png | D6: {=IFERROR(INDEX(Consolidation!$A$3:$F$200,SMALL(IF(Consolidation!$A$3:$A$200=$A$1,ROW($3:$200)-2,""),ROW($A5)),COLUMN(D:D)),"")} -> 0 | E6: {=IFERROR(INDEX(Consolidation!$A$3:$F$200,SMALL(IF(Consolidation!$A$3:$A$200=$A$1,ROW($3:$200)-2,""),ROW($A5)),COLUMN(E:E)),"")} -> 1.1 | F6: {=IFERROR(INDEX(Consolidation!$A$3:$F$200,SMALL(IF(Consolidation!$A$3:$A$200=$A$1,ROW($3:$200)-2,""),ROW($A5)),COLUMN(F:F)),"")} -> Ouvre sous support et le rejoint vite ; assez faible potentiel mais quand même
A7: {=IFERROR(INDEX(Consolidation!$A$3:$F$200,SMALL(IF(Consolidation!$A$3:$A$200=$A$1,ROW($3:$200)-2,""),ROW($A6)),COLUMN(A:A)),"")} | B7: {=IFERROR(INDEX(Consolidation!$A$3:$F$200,SMALL(IF(Consolidation!$A$3:$A$200=$A$1,ROW($3:$200)-2,""),ROW($A6)),COLUMN(B:B)),"")} | C7: {=IFERROR(INDEX(Consolidation!$A$3:$F$200,SMALL(IF(Consolidation!$A$3:$A$200=$A$1,ROW($3:$200)-2,""),ROW($A6)),COLUMN(C:C)),"")} | D7: {=IFERROR(INDEX(Consolidation!$A$3:$F$200,SMALL(IF(Consolidation!$A$3:$A$200=$A$1,ROW($3:$200)-2,""),ROW($A6)),COLUMN(D:D)),"")} | E7: {=IFERROR(INDEX(Consolidation!$A$3:$F$200,SMALL(IF(Consolidation!$A$3:$A$200=$A$1,ROW($3:$200)-2,""),ROW($A6)),COLUMN(E:E)),"")} | F7: {=IFERROR(INDEX(Consolidation!$A$3:$F$200,SMALL(IF(Consolidation!$A$3:$A$200=$A$1,ROW($3:$200)-2,""),ROW($A6)),COLUMN(F:F)),"")}
A8: {=IFERROR(INDEX(Consolidation!$A$3:$F$200,SMALL(IF(Consolidation!$A$3:$A$200=$A$1,ROW($3:$200)-2,""),ROW($A7)),COLUMN(A:A)),"")} | B8: {=IFERROR(INDEX(Consolidation!$A$3:$F$200,SMALL(IF(Consolidation!$A$3:$A$200=$A$1,ROW($3:$200)-2,""),ROW($A7)),COLUMN(B:B)),"")} | C8: {=IFERROR(INDEX(Consolidation!$A$3:$F$200,SMALL(IF(Consolidation!$A$3:$A$200=$A$1,ROW($3:$200)-2,""),ROW($A7)),COLUMN(C:C)),"")} | D8: {=IFERROR(INDEX(Consolidation!$A$3:$F$200,SMALL(IF(Consolidation!$A$3:$A$200=$A$1,ROW($3:$200)-2,""),ROW($A7)),COLUMN(D:D)),"")} | E8: {=IFERROR(INDEX(Consolidation!$A$3:$F$200,SMALL(IF(Consolidation!$A$3:$A$200=$A$1,ROW($3:$200)-2,""),ROW($A7)),COLUMN(E:E)),"")} | F8: {=IFERROR(INDEX(Consolidation!$A$3:$F$200,SMALL(IF(Consolidation!$A$3:$A$200=$A$1,ROW($3:$200)-2,""),ROW($A7)),COLUMN(F:F)),"")}
A9: {=IFERROR(INDEX(Consolidation!$A$3:$F$200,SMALL(IF(Consolidation!$A$3:$A$200=$A$1,ROW($3:$200)-2,""),ROW($A8)),COLUMN(A:A)),"")} | B9: {=IFERROR(INDEX(Consolidation!$A$3:$F$200,SMALL(IF(Consolidation!$A$3:$A$200=$A$1,ROW($3:$200)-2,""),ROW($A8)),COLUMN(B:B)),"")} | C9: {=IFERROR(INDEX(Consolidation!$A$3:$F$200,SMALL(IF(Consolidation!$A$3:$A$200=$A$1,ROW($3:$200)-2,""),ROW($A8)),COLUMN(C:C)),"")} | D9: {=IFERROR(INDEX(Consolidation!$A$3:$F$200,SMALL(IF(Consolidation!$A$3:$A$200=$A$1,ROW($3:$200)-2,""),ROW($A8)),COLUMN(D:D)),"")} | E9: {=IFERROR(INDEX(Consolidation!$A$3:$F$200,SMALL(IF(Consolidation!$A$3:$A$200=$A$1,ROW($3:$200)-2,""),ROW($A8)),COLUMN(E:E)),"")} | F9: {=IFERROR(INDEX(Consolidation!$A$3:$F$200,SMALL(IF(Consolidation!$A$3:$A$200=$A$1,ROW($3:$200)-2,""),ROW($A8)),COLUMN(F:F)),"")}
A10: {=IFERROR(INDEX(Consolidation!$A$3:$F$200,SMALL(IF(Consolidation!$A$3:$A$200=$A$1,ROW($3:$200)-2,""),ROW($A9)),COLUMN(A:A)),"")} | B10: {=IFERROR(INDEX(Consolidation!$A$3:$F$200,SMALL(IF(Consolidation!$A$3:$A$200=$A$1,ROW($3:$200)-2,""),ROW($A9)),COLUMN(B:B)),"")} | C10: {=IFERROR(INDEX(Consolidation!$A$3:$F$200,SMALL(IF(Consolidation!$A$3:$A$200=$A$1,ROW($3:$200)-2,""),ROW($A9)),COLUMN(C:C)),"")} | D10: {=IFERROR(INDEX(Consolidation!$A$3:$F$200,SMALL(IF(Consolidation!$A$3:$A$200=$A$1,ROW($3:$200)-2,""),ROW($A9)),COLUMN(D:D)),"")} | E10: {=IFERROR(INDEX(Consolidation!$A$3:$F$200,SMALL(IF(Consolidation!$A$3:$A$200=$A$1,ROW($3:$200)-2,""),ROW($A9)),COLUMN(E:E)),"")} | F10: {=IFERROR(INDEX(Consolidation!$A$3:$F$200,SMALL(IF(Consolidation!$A$3:$A$200=$A$1,ROW($3:$200)-2,""),ROW($A9)),COLUMN(F:F)),"")}
A11: {=IFERROR(INDEX(Consolidation!$A$3:$F$200,SMALL(IF(Consolidation!$A$3:$A$200=$A$1,ROW($3:$200)-2,""),ROW($A10)),COLUMN(A:A)),"")} | B11: {=IFERROR(INDEX(Consolidation!$A$3:$F$200,SMALL(IF(Consolidation!$A$3:$A$200=$A$1,ROW($3:$200)-2,""),ROW($A10)),COLUMN(B:B)),"")} | C11: {=IFERROR(INDEX(Consolidation!$A$3:$F$200,SMALL(IF(Consolidation!$A$3:$A$200=$A$1,ROW($3:$200)-2,""),ROW($A10)),COLUMN(C:C)),"")} | D11: {=IFERROR(INDEX(Consolidation!$A$3:$F$200,SMALL(IF(Consolidation!$A$3:$A$200=$A$1,ROW($3:$200)-2,""),ROW($A10)),COLUMN(D:D)),"")} | E11: {=IFERROR(INDEX(Consolidation!$A$3:$F$200,SMALL(IF(Consolidation!$A$3:$A$200=$A$1,ROW($3:$200)-2,""),ROW($A10)),COLUMN(E:E)),"")} | F11: {=IFERROR(INDEX(Consolidation!$A$3:$F$200,SMALL(IF(Consolidation!$A$3:$A$200=$A$1,ROW($3:$200)-2,""),ROW($A10)),COLUMN(F:F)),"")}
A12: {=IFERROR(INDEX(Consolidation!$A$3:$F$200,SMALL(IF(Consolidation!$A$3:$A$200=$A$1,ROW($3:$200)-2,""),ROW($A11)),COLUMN(A:A)),"")} | B12: {=IFERROR(INDEX(Consolidation!$A$3:$F$200,SMALL(IF(Consolidation!$A$3:$A$200=$A$1,ROW($3:$200)-2,""),ROW($A11)),COLUMN(B:B)),"")} | C12: {=IFERROR(INDEX(Consolidation!$A$3:$F$200,SMALL(IF(Consolidation!$A$3:$A$200=$A$1,ROW($3:$200)-2,""),ROW($A11)),COLUMN(C:C)),"")} | D12: {=IFERROR(INDEX(Consolidation!$A$3:$F$200,SMALL(IF(Consolidation!$A$3:$A$200=$A$1,ROW($3:$200)-2,""),ROW($A11)),COLUMN(D:D)),"")} | E12: {=IFERROR(INDEX(Consolidation!$A$3:$F$200,SMALL(IF(Consolidation!$A$3:$A$200=$A$1,ROW($3:$200)-2,""),ROW($A11)),COLUMN(E:E)),"")} | F12: {=IFERROR(INDEX(Consolidation!$A$3:$F$200,SMALL(IF(Consolidation!$A$3:$A$200=$A$1,ROW($3:$200)-2,""),ROW($A11)),COLUMN(F:F)),"")}
A13: {=IFERROR(INDEX(Consolidation!$A$3:$F$200,SMALL(IF(Consolidation!$A$3:$A$200=$A$1,ROW($3:$200)-2,""),ROW($A12)),COLUMN(A:A)),"")} | B13: {=IFERROR(INDEX(Consolidation!$A$3:$F$200,SMALL(IF(Consolidation!$A$3:$A$200=$A$1,ROW($3:$200)-2,""),ROW($A12)),COLUMN(B:B)),"")} | C13: {=IFERROR(INDEX(Consolidation!$A$3:$F$200,SMALL(IF(Consolidation!$A$3:$A$200=$A$1,ROW($3:$200)-2,""),ROW($A12)),COLUMN(C:C)),"")} | D13: {=IFERROR(INDEX(Consolidation!$A$3:$F$200,SMALL(IF(Consolidation!$A$3:$A$200=$A$1,ROW($3:$200)-2,""),ROW($A12)),COLUMN(D:D)),"")} | E13: {=IFERROR(INDEX(Consolidation!$A$3:$F$200,SMALL(IF(Consolidation!$A$3:$A$200=$A$1,ROW($3:$200)-2,""),ROW($A12)),COLUMN(E:E)),"")} | F13: {=IFERROR(INDEX(Consolidation!$A$3:$F$200,SMALL(IF(Consolidation!$A$3:$A$200=$A$1,ROW($3:$200)-2,""),ROW($A12)),COLUMN(F:F)),"")}
... A193: {=IFERROR(INDEX(Consolidation!$A$3:$F$200,SMALL(IF(Consolidation!$A$3:$A$200=$A$1,ROW($3:$200)-2,""),ROW($A192)),COLUMN(A:A)),"")} | B193: {=IFERROR(INDEX(Consolidation!$A$3:$F$200,SMALL(IF(Consolidation!$A$3:$A$200=$A$1,ROW($3:$200)-2,""),ROW($A192)),COLUMN(B:B)),"")} | C193: {=IFERROR(INDEX(Consolidation!$A$3:$F$200,SMALL(IF(Consolidation!$A$3:$A$200=$A$1,ROW($3:$200)-2,""),ROW($A192)),COLUMN(C:C)),"")} | D193: {=IFERROR(INDEX(Consolidation!$A$3:$F$200,SMALL(IF(Consolidation!$A$3:$A$200=$A$1,ROW($3:$200)-2,""),ROW($A192)),COLUMN(D:D)),"")} | E193: {=IFERROR(INDEX(Consolidation!$A$3:$F$200,SMALL(IF(Consolidation!$A$3:$A$200=$A$1,ROW($3:$200)-2,""),ROW($A192)),COLUMN(E:E)),"")} | F193: {=IFERROR(INDEX(Consolidation!$A$3:$F$200,SMALL(IF(Consolidation!$A$3:$A$200=$A$1,ROW($3:$200)-2,""),ROW($A192)),COLUMN(F:F)),"")}
A194: Ouverture
A195: Ouverture
A196: Ouverture
A197: Ouverture
A198: Ouverture
A199: Ouverture
A200: Ouverture
A201: Ouverture
A202: Ouverture
A203: Ouverture
A204: Ouverture
A205: Ouverture
... A596: Ouverture

Sheet Rebond
A1: Rebond | B1: Date | C1: Graphique 1 | D1: Graphique 2 | E1: Potentiel avec coûts compris | F1: Remarques
A2: {=IFERROR(INDEX(Consolidation!$A$3:$F$200,SMALL(IF(Consolidation!$A$3:$A$200=$A$1,ROW($3:$200)-2,""),ROW($A1)),COLUMN(A:A)),"")} -> Rebond | B2: {=IFERROR(INDEX(Consolidation!$A$3:$F$200,SMALL(IF(Consolidation!$A$3:$A$200=$A$1,ROW($3:$200)-2,""),ROW($A1)),COLUMN(B:B)),"")} -> 43283 | C2: {=IFERROR(INDEX(Consolidation!$A$3:$F$200,SMALL(IF(Consolidation!$A$3:$A$200=$A$1,ROW($3:$200)-2,""),ROW($A1)),COLUMN(C:C)),"")} -> Graphiques\2 juillet 2018.png | D2: {=IFERROR(INDEX(Consolidation!$A$3:$F$200,SMALL(IF(Consolidation!$A$3:$A$200=$A$1,ROW($3:$200)-2,""),ROW($A1)),COLUMN(D:D)),"")} -> 0 | E2: {=IFERROR(INDEX(Consolidation!$A$3:$F$200,SMALL(IF(Consolidation!$A$3:$A$200=$A$1,ROW($3:$200)-2,""),ROW($A1)),COLUMN(E:E)),"")} -> 2 | F2: {=IFERROR(INDEX(Consolidation!$A$3:$F$200,SMALL(IF(Consolidation!$A$3:$A$200=$A$1,ROW($3:$200)-2,""),ROW($A1)),COLUMN(F:F)),"")} -> Rebond après ouverture sur cible rapide
A3: {=IFERROR(INDEX(Consolidation!$A$3:$F$200,SMALL(IF(Consolidation!$A$3:$A$200=$A$1,ROW($3:$200)-2,""),ROW($A2)),COLUMN(A:A)),"")} -> Rebond | B3: {=IFERROR(INDEX(Consolidation!$A$3:$F$200,SMALL(IF(Consolidation!$A$3:$A$200=$A$1,ROW($3:$200)-2,""),ROW($A2)),COLUMN(B:B)),"")} -> 43283 | C3: {=IFERROR(INDEX(Consolidation!$A$3:$F$200,SMALL(IF(Consolidation!$A$3:$A$200=$A$1,ROW($3:$200)-2,""),ROW($A2)),COLUMN(C:C)),"")} -> Graphiques\2 juillet 2018.png | D3: {=IFERROR(INDEX(Consolidation!$A$3:$F$200,SMALL(IF(Consolidation!$A$3:$A$200=$A$1,ROW($3:$200)-2,""),ROW($A2)),COLUMN(D:D)),"")} -> 0 | E3: {=IFERROR(INDEX(Consolidation!$A$3:$F$200,SMALL(IF(Consolidation!$A$3:$A$200=$A$1,ROW($3:$200)-2,""),ROW($A2)),COLUMN(E:E)),"")} -> 1.2 | F3: {=IFERROR(INDEX(Consolidation!$A$3:$F$200,SMALL(IF(Consolidation!$A$3:$A$200=$A$1,ROW($3:$200)-2,""),ROW($A2)),COLUMN(F:F)),"")} -> Rebond sur support d'ouverture
A4: {=IFERROR(INDEX(Consolidation!$A$3:$F$200,SMALL(IF(Consolidation!$A$3:$A$200=$A$1,ROW($3:$200)-2,""),ROW($A3)),COLUMN(A:A)),"")} -> Rebond | B4: {=IFERROR(INDEX(Consolidation!$A$3:$F$200,SMALL(IF(Consolidation!$A$3:$A$200=$A$1,ROW($3:$200)-2,""),ROW($A3)),COLUMN(B:B)),"")} -> 43291 | C4: {=IFERROR(INDEX(Consolidation!$A$3:$F$200,SMALL(IF(Consolidation!$A$3:$A$200=$A$1,ROW($3:$200)-2,""),ROW($A3)),COLUMN(C:C)),"")} -> Graphiques\10 juillet 2018.png | D4: {=IFERROR(INDEX(Consolidation!$A$3:$F$200,SMALL(IF(Consolidation!$A$3:$A$200=$A$1,ROW($3:$200)-2,""),ROW($A3)),COLUMN(D:D)),"")} -> 0 | E4: {=IFERROR(INDEX(Consolidation!$A$3:$F$200,SMALL(IF(Consolidation!$A$3:$A$200=$A$1,ROW($3:$200)-2,""),ROW($A3)),COLUMN(E:E)),"")} -> 1.2 | F4: {=IFERROR(INDEX(Consolidation!$A$3:$F$200,SMALL(IF(Consolidation!$A$3:$A$200=$A$1,ROW($3:$200)-2,""),ROW($A3)),COLUMN(F:F)),"")} -> Rebond sur résistance annoncée
A5: {=IFERROR(INDEX(Consolidation!$A$3:$F$200,SMALL(IF(Consolidation!$A$3:$A$200=$A$1,ROW($3:$200)-2,""),ROW($A4)),COLUMN(A:A)),"")} | B5: {=IFERROR(INDEX(Consolidation!$A$3:$F$200,SMALL(IF(Consolidation!$A$3:$A$200=$A$1,ROW($3:$200)-2,""),ROW($A4)),COLUMN(B:B)),"")} | C5: {=IFERROR(INDEX(Consolidation!$A$3:$F$200,SMALL(IF(Consolidation!$A$3:$A$200=$A$1,ROW($3:$200)-2,""),ROW($A4)),COLUMN(C:C)),"")} | D5: {=IFERROR(INDEX(Consolidation!$A$3:$F$200,SMALL(IF(Consolidation!$A$3:$A$200=$A$1,ROW($3:$200)-2,""),ROW($A4)),COLUMN(D:D)),"")} | E5: {=IFERROR(INDEX(Consolidation!$A$3:$F$200,SMALL(IF(Consolidation!$A$3:$A$200=$A$1,ROW($3:$200)-2,""),ROW($A4)),COLUMN(E:E)),"")} | F5: {=IFERROR(INDEX(Consolidation!$A$3:$F$200,SMALL(IF(Consolidation!$A$3:$A$200=$A$1,ROW($3:$200)-2,""),ROW($A4)),COLUMN(F:F)),"")}
A6: {=IFERROR(INDEX(Consolidation!$A$3:$F$200,SMALL(IF(Consolidation!$A$3:$A$200=$A$1,ROW($3:$200)-2,""),ROW($A5)),COLUMN(A:A)),"")} | B6: {=IFERROR(INDEX(Consolidation!$A$3:$F$200,SMALL(IF(Consolidation!$A$3:$A$200=$A$1,ROW($3:$200)-2,""),ROW($A5)),COLUMN(B:B)),"")} | C6: {=IFERROR(INDEX(Consolidation!$A$3:$F$200,SMALL(IF(Consolidation!$A$3:$A$200=$A$1,ROW($3:$200)-2,""),ROW($A5)),COLUMN(C:C)),"")} | D6: {=IFERROR(INDEX(Consolidation!$A$3:$F$200,SMALL(IF(Consolidation!$A$3:$A$200=$A$1,ROW($3:$200)-2,""),ROW($A5)),COLUMN(D:D)),"")} | E6: {=IFERROR(INDEX(Consolidation!$A$3:$F$200,SMALL(IF(Consolidation!$A$3:$A$200=$A$1,ROW($3:$200)-2,""),ROW($A5)),COLUMN(E:E)),"")} | F6: {=IFERROR(INDEX(Consolidation!$A$3:$F$200,SMALL(IF(Consolidation!$A$3:$A$200=$A$1,ROW($3:$200)-2,""),ROW($A5)),COLUMN(F:F)),"")}
A7: {=IFERROR(INDEX(Consolidation!$A$3:$F$200,SMALL(IF(Consolidation!$A$3:$A$200=$A$1,ROW($3:$200)-2,""),ROW($A6)),COLUMN(A:A)),"")} | B7: {=IFERROR(INDEX(Consolidation!$A$3:$F$200,SMALL(IF(Consolidation!$A$3:$A$200=$A$1,ROW($3:$200)-2,""),ROW($A6)),COLUMN(B:B)),"")} | C7: {=IFERROR(INDEX(Consolidation!$A$3:$F$200,SMALL(IF(Consolidation!$A$3:$A$200=$A$1,ROW($3:$200)-2,""),ROW($A6)),COLUMN(C:C)),"")} | D7: {=IFERROR(INDEX(Consolidation!$A$3:$F$200,SMALL(IF(Consolidation!$A$3:$A$200=$A$1,ROW($3:$200)-2,""),ROW($A6)),COLUMN(D:D)),"")} | E7: {=IFERROR(INDEX(Consolidation!$A$3:$F$200,SMALL(IF(Consolidation!$A$3:$A$200=$A$1,ROW($3:$200)-2,""),ROW($A6)),COLUMN(E:E)),"")} | F7: {=IFERROR(INDEX(Consolidation!$A$3:$F$200,SMALL(IF(Consolidation!$A$3:$A$200=$A$1,ROW($3:$200)-2,""),ROW($A6)),COLUMN(F:F)),"")}
A8: {=IFERROR(INDEX(Consolidation!$A$3:$F$200,SMALL(IF(Consolidation!$A$3:$A$200=$A$1,ROW($3:$200)-2,""),ROW($A7)),COLUMN(A:A)),"")} | B8: {=IFERROR(INDEX(Consolidation!$A$3:$F$200,SMALL(IF(Consolidation!$A$3:$A$200=$A$1,ROW($3:$200)-2,""),ROW($A7)),COLUMN(B:B)),"")} | C8: {=IFERROR(INDEX(Consolidation!$A$3:$F$200,SMALL(IF(Consolidation!$A$3:$A$200=$A$1,ROW($3:$200)-2,""),ROW($A7)),COLUMN(C:C)),"")} | D8: {=IFERROR(INDEX(Consolidation!$A$3:$F$200,SMALL(IF(Consolidation!$A$3:$A$200=$A$1,ROW($3:$200)-2,""),ROW($A7)),COLUMN(D:D)),"")} | E8: {=IFERROR(INDEX(Consolidation!$A$3:$F$200,SMALL(IF(Consolidation!$A$3:$A$200=$A$1,ROW($3:$200)-2,""),ROW($A7)),COLUMN(E:E)),"")} | F8: {=IFERROR(INDEX(Consolidation!$A$3:$F$200,SMALL(IF(Consolidation!$A$3:$A$200=$A$1,ROW($3:$200)-2,""),ROW($A7)),COLUMN(F:F)),"")}
A9: {=IFERROR(INDEX(Consolidation!$A$3:$F$200,SMALL(IF(Consolidation!$A$3:$A$200=$A$1,ROW($3:$200)-2,""),ROW($A8)),COLUMN(A:A)),"")} | B9: {=IFERROR(INDEX(Consolidation!$A$3:$F$200,SMALL(IF(Consolidation!$A$3:$A$200=$A$1,ROW($3:$200)-2,""),ROW($A8)),COLUMN(B:B)),"")} | C9: {=IFERROR(INDEX(Consolidation!$A$3:$F$200,SMALL(IF(Consolidation!$A$3:$A$200=$A$1,ROW($3:$200)-2,""),ROW($A8)),COLUMN(C:C)),"")} | D9: {=IFERROR(INDEX(Consolidation!$A$3:$F$200,SMALL(IF(Consolidation!$A$3:$A$200=$A$1,ROW($3:$200)-2,""),ROW($A8)),COLUMN(D:D)),"")} | E9: {=IFERROR(INDEX(Consolidation!$A$3:$F$200,SMALL(IF(Consolidation!$A$3:$A$200=$A$1,ROW($3:$200)-2,""),ROW($A8)),COLUMN(E:E)),"")} | F9: {=IFERROR(INDEX(Consolidation!$A$3:$F$200,SMALL(IF(Consolidation!$A$3:$A$200=$A$1,ROW($3:$200)-2,""),ROW($A8)),COLUMN(F:F)),"")}
A10: {=IFERROR(INDEX(Consolidation!$A$3:$F$200,SMALL(IF(Consolidation!$A$3:$A$200=$A$1,ROW($3:$200)-2,""),ROW($A9)),COLUMN(A:A)),"")} | B10: {=IFERROR(INDEX(Consolidation!$A$3:$F$200,SMALL(IF(Consolidation!$A$3:$A$200=$A$1,ROW($3:$200)-2,""),ROW($A9)),COLUMN(B:B)),"")} | C10: {=IFERROR(INDEX(Consolidation!$A$3:$F$200,SMALL(IF(Consolidation!$A$3:$A$200=$A$1,ROW($3:$200)-2,""),ROW($A9)),COLUMN(C:C)),"")} | D10: {=IFERROR(INDEX(Consolidation!$A$3:$F$200,SMALL(IF(Consolidation!$A$3:$A$200=$A$1,ROW($3:$200)-2,""),ROW($A9)),COLUMN(D:D)),"")} | E10: {=IFERROR(INDEX(Consolidation!$A$3:$F$200,SMALL(IF(Consolidation!$A$3:$A$200=$A$1,ROW($3:$200)-2,""),ROW($A9)),COLUMN(E:E)),"")} | F10: {=IFERROR(INDEX(Consolidation!$A$3:$F$200,SMALL(IF(Consolidation!$A$3:$A$200=$A$1,ROW($3:$200)-2,""),ROW($A9)),COLUMN(F:F)),"")}
A11: {=IFERROR(INDEX(Consolidation!$A$3:$F$200,SMALL(IF(Consolidation!$A$3:$A$200=$A$1,ROW($3:$200)-2,""),ROW($A10)),COLUMN(A:A)),"")} | B11: {=IFERROR(INDEX(Consolidation!$A$3:$F$200,SMALL(IF(Consolidation!$A$3:$A$200=$A$1,ROW($3:$200)-2,""),ROW($A10)),COLUMN(B:B)),"")} | C11: {=IFERROR(INDEX(Consolidation!$A$3:$F$200,SMALL(IF(Consolidation!$A$3:$A$200=$A$1,ROW($3:$200)-2,""),ROW($A10)),COLUMN(C:C)),"")} | D11: {=IFERROR(INDEX(Consolidation!$A$3:$F$200,SMALL(IF(Consolidation!$A$3:$A$200=$A$1,ROW($3:$200)-2,""),ROW($A10)),COLUMN(D:D)),"")} | E11: {=IFERROR(INDEX(Consolidation!$A$3:$F$200,SMALL(IF(Consolidation!$A$3:$A$200=$A$1,ROW($3:$200)-2,""),ROW($A10)),COLUMN(E:E)),"")} | F11: {=IFERROR(INDEX(Consolidation!$A$3:$F$200,SMALL(IF(Consolidation!$A$3:$A$200=$A$1,ROW($3:$200)-2,""),ROW($A10)),COLUMN(F:F)),"")}
A12: {=IFERROR(INDEX(Consolidation!$A$3:$F$200,SMALL(IF(Consolidation!$A$3:$A$200=$A$1,ROW($3:$200)-2,""),ROW($A11)),COLUMN(A:A)),"")} | B12: {=IFERROR(INDEX(Consolidation!$A$3:$F$200,SMALL(IF(Consolidation!$A$3:$A$200=$A$1,ROW($3:$200)-2,""),ROW($A11)),COLUMN(B:B)),"")} | C12: {=IFERROR(INDEX(Consolidation!$A$3:$F$200,SMALL(IF(Consolidation!$A$3:$A$200=$A$1,ROW($3:$200)-2,""),ROW($A11)),COLUMN(C:C)),"")} | D12: {=IFERROR(INDEX(Consolidation!$A$3:$F$200,SMALL(IF(Consolidation!$A$3:$A$200=$A$1,ROW($3:$200)-2,""),ROW($A11)),COLUMN(D:D)),"")} | E12: {=IFERROR(INDEX(Consolidation!$A$3:$F$200,SMALL(IF(Consolidation!$A$3:$A$200=$A$1,ROW($3:$200)-2,""),ROW($A11)),COLUMN(E:E)),"")} | F12: {=IFERROR(INDEX(Consolidation!$A$3:$F$200,SMALL(IF(Consolidation!$A$3:$A$200=$A$1,ROW($3:$200)-2,""),ROW($A11)),COLUMN(F:F)),"")}
A13: {=IFERROR(INDEX(Consolidation!$A$3:$F$200,SMALL(IF(Consolidation!$A$3:$A$200=$A$1,ROW($3:$200)-2,""),ROW($A12)),COLUMN(A:A)),"")} | B13: {=IFERROR(INDEX(Consolidation!$A$3:$F$200,SMALL(IF(Consolidation!$A$3:$A$200=$A$1,ROW($3:$200)-2,""),ROW($A12)),COLUMN(B:B)),"")} | C13: {=IFERROR(INDEX(Consolidation!$A$3:$F$200,SMALL(IF(Consolidation!$A$3:$A$200=$A$1,ROW($3:$200)-2,""),ROW($A12)),COLUMN(C:C)),"")} | D13: {=IFERROR(INDEX(Consolidation!$A$3:$F$200,SMALL(IF(Consolidation!$A$3:$A$200=$A$1,ROW($3:$200)-2,""),ROW($A12)),COLUMN(D:D)),"")} | E13: {=IFERROR(INDEX(Consolidation!$A$3:$F$200,SMALL(IF(Consolidation!$A$3:$A$200=$A$1,ROW($3:$200)-2,""),ROW($A12)),COLUMN(E:E)),"")} | F13: {=IFERROR(INDEX(Consolidation!$A$3:$F$200,SMALL(IF(Consolidation!$A$3:$A$200=$A$1,ROW($3:$200)-2,""),ROW($A12)),COLUMN(F:F)),"")}
... A278: {=IFERROR(INDEX(Consolidation!$A$3:$F$200,SMALL(IF(Consolidation!$A$3:$A$200=$A$1,ROW($3:$200)-2,""),ROW($A277)),COLUMN(A:A)),"")} | B278: {=IFERROR(INDEX(Consolidation!$A$3:$F$200,SMALL(IF(Consolidation!$A$3:$A$200=$A$1,ROW($3:$200)-2,""),ROW($A277)),COLUMN(B:B)),"")} | C278: {=IFERROR(INDEX(Consolidation!$A$3:$F$200,SMALL(IF(Consolidation!$A$3:$A$200=$A$1,ROW($3:$200)-2,""),ROW($A277)),COLUMN(C:C)),"")} | D278: {=IFERROR(INDEX(Consolidation!$A$3:$F$200,SMALL(IF(Consolidation!$A$3:$A$200=$A$1,ROW($3:$200)-2,""),ROW($A277)),COLUMN(D:D)),"")} | E278: {=IFERROR(INDEX(Consolidation!$A$3:$F$200,SMALL(IF(Consolidation!$A$3:$A$200=$A$1,ROW($3:$200)-2,""),ROW($A277)),COLUMN(E:E)),"")} | F278: {=IFERROR(INDEX(Consolidation!$A$3:$F$200,SMALL(IF(Consolidation!$A$3:$A$200=$A$1,ROW($3:$200)-2,""),ROW($A277)),COLUMN(F:F)),"")}
A279: Rebond
A280: Rebond
A281: Rebond
A282: Rebond
A283: Rebond
A284: Rebond
A285: Rebond
A286: Rebond
A287: Rebond
A288: Rebond
A289: Rebond
A290: Rebond
... A600: Rebond

Sheet Cassure
A1: Cassure | B1: Date | C1: Graphique 1 | D1: Graphique 2 | E1: Niveau du pull-back à partir de +/-10 | F1: Performance réalisée | G1: Distance/cible | H1: Potentiel avec coûts compris | I1: Hauteur du 1er turbo disponible | J1: Remarques
A2: {=IFERROR(INDEX(Consolidation!$A$3:$F$200,SMALL(IF(Consolidation!$A$3:$A$200=$A$1,ROW($3:$200)-2,""),ROW($A1)),COLUMN(A:A)),"")} -> Cassure | B2: {=IFERROR(INDEX(Consolidation!$A$3:$F$200,SMALL(IF(Consolidation!$A$3:$A$200=$A$1,ROW($3:$200)-2,""),ROW($A1)),COLUMN(B:B)),"")} -> 43301 | C2: {=IFERROR(INDEX(Consolidation!$A$3:$F$200,SMALL(IF(Consolidation!$A$3:$A$200=$A$1,ROW($3:$200)-2,""),ROW($A1)),COLUMN(C:C)),"")} -> Graphiques\20 juillet 2018.png | D2: {=IFERROR(INDEX(Consolidation!$A$3:$F$200,SMALL(IF(Consolidation!$A$3:$A$200=$A$1,ROW($3:$200)-2,""),ROW($A1)),COLUMN(D:D)),"")} -> 0 | F2: {=IFERROR(INDEX(Consolidation!$A$3:$F$200,SMALL(IF(Consolidation!$A$3:$A$200=$A$1,ROW($3:$200)-2,""),ROW($A1)),COLUMN(F:F)),"")} -> Cassure correcte puis atteint deuxième cible mais imprévisible enfin peut-être prévisible vu que cassé avant sous cible | H2: {=IFERROR(INDEX(Consolidation!$A$3:$F$200,SMALL(IF(Consolidation!$A$3:$A$200=$A$1,ROW($3:$200)-2,""),ROW($A1)),COLUMN(E:E)),"")} -> 1.2 | J2: {=IFERROR(INDEX(Consolidation!$A$3:$F$200,SMALL(IF(Consolidation!$A$3:$A$200=$A$1,ROW($3:$200)-2,""),ROW($A1)),COLUMN(F:F)),"")} -> Cassure correcte puis atteint deuxième cible mais imprévisible enfin peut-être prévisible vu que cassé avant sous cible
A3: {=IFERROR(INDEX(Consolidation!$A$3:$F$200,SMALL(IF(Consolidation!$A$3:$A$200=$A$1,ROW($3:$200)-2,""),ROW($A2)),COLUMN(A:A)),"")} -> Cassure | B3: {=IFERROR(INDEX(Consolidation!$A$3:$F$200,SMALL(IF(Consolidation!$A$3:$A$200=$A$1,ROW($3:$200)-2,""),ROW($A2)),COLUMN(B:B)),"")} -> 43307 | C3: {=IFERROR(INDEX(Consolidation!$A$3:$F$200,SMALL(IF(Consolidation!$A$3:$A$200=$A$1,ROW($3:$200)-2,""),ROW($A2)),COLUMN(C:C)),"")} -> Graphiques\26 juillet 2018.png | D3: {=IFERROR(INDEX(Consolidation!$A$3:$F$200,SMALL(IF(Consolidation!$A$3:$A$200=$A$1,ROW($3:$200)-2,""),ROW($A2)),COLUMN(D:D)),"")} -> 0 | F3: {=IFERROR(INDEX(Consolidation!$A$3:$F$200,SMALL(IF(Consolidation!$A$3:$A$200=$A$1,ROW($3:$200)-2,""),ROW($A2)),COLUMN(F:F)),"")} -> Perce résistance puis briefing montre que 0 potentiel | H3: {=IFERROR(INDEX(Consolidation!$A$3:$F$200,SMALL(IF(Consolidation!$A$3:$A$200=$A$1,ROW($3:$200)-2,""),ROW($A2)),COLUMN(E:E)),"")} -> 1 | J3: {=IFERROR(INDEX(Consolidation!$A$3:$F$200,SMALL(IF(Consolidation!$A$3:$A$200=$A$1,ROW($3:$200)-2,""),ROW($A2)),COLUMN(F:F)),"")} -> Perce résistance puis briefing montre que 0 potentiel
A4: {=IFERROR(INDEX(Consolidation!$A$3:$F$200,SMALL(IF(Consolidation!$A$3:$A$200=$A$1,ROW($3:$200)-2,""),ROW($A3)),COLUMN(A:A)),"")} | B4: {=IFERROR(INDEX(Consolidation!$A$3:$F$200,SMALL(IF(Consolidation!$A$3:$A$200=$A$1,ROW($3:$200)-2,""),ROW($A3)),COLUMN(B:B)),"")} | C4: {=IFERROR(INDEX(Consolidation!$A$3:$F$200,SMALL(IF(Consolidation!$A$3:$A$200=$A$1,ROW($3:$200)-2,""),ROW($A3)),COLUMN(C:C)),"")} | D4: {=IFERROR(INDEX(Consolidation!$A$3:$F$200,SMALL(IF(Consolidation!$A$3:$A$200=$A$1,ROW($3:$200)-2,""),ROW($A3)),COLUMN(D:D)),"")} | F4: {=IFERROR(INDEX(Consolidation!$A$3:$F$200,SMALL(IF(Consolidation!$A$3:$A$200=$A$1,ROW($3:$200)-2,""),ROW($A3)),COLUMN(F:F)),"")} | H4: {=IFERROR(INDEX(Consolidation!$A$3:$F$200,SMALL(IF(Consolidation!$A$3:$A$200=$A$1,ROW($3:$200)-2,""),ROW($A3)),COLUMN(E:E)),"")} | J4: {=IFERROR(INDEX(Consolidation!$A$3:$F$200,SMALL(IF(Consolidation!$A$3:$A$200=$A$1,ROW($3:$200)-2,""),ROW($A3)),COLUMN(F:F)),"")}
A5: {=IFERROR(INDEX(Consolidation!$A$3:$F$200,SMALL(IF(Consolidation!$A$3:$A$200=$A$1,ROW($3:$200)-2,""),ROW($A4)),COLUMN(A:A)),"")} | B5: {=IFERROR(INDEX(Consolidation!$A$3:$F$200,SMALL(IF(Consolidation!$A$3:$A$200=$A$1,ROW($3:$200)-2,""),ROW($A4)),COLUMN(B:B)),"")} | C5: {=IFERROR(INDEX(Consolidation!$A$3:$F$200,SMALL(IF(Consolidation!$A$3:$A$200=$A$1,ROW($3:$200)-2,""),ROW($A4)),COLUMN(C:C)),"")} | D5: {=IFERROR(INDEX(Consolidation!$A$3:$F$200,SMALL(IF(Consolidation!$A$3:$A$200=$A$1,ROW($3:$200)-2,""),ROW($A4)),COLUMN(D:D)),"")} | F5: {=IFERROR(INDEX(Consolidation!$A$3:$F$200,SMALL(IF(Consolidation!$A$3:$A$200=$A$1,ROW($3:$200)-2,""),ROW($A4)),COLUMN(F:F)),"")} | H5: {=IFERROR(INDEX(Consolidation!$A$3:$F$200,SMALL(IF(Consolidation!$A$3:$A$200=$A$1,ROW($3:$200)-2,""),ROW($A4)),COLUMN(E:E)),"")} | J5: {=IFERROR(INDEX(Consolidation!$A$3:$F$200,SMALL(IF(Consolidation!$A$3:$A$200=$A$1,ROW($3:$200)-2,""),ROW($A4)),COLUMN(F:F)),"")}
A6: {=IFERROR(INDEX(Consolidation!$A$3:$F$200,SMALL(IF(Consolidation!$A$3:$A$200=$A$1,ROW($3:$200)-2,""),ROW($A5)),COLUMN(A:A)),"")} | B6: {=IFERROR(INDEX(Consolidation!$A$3:$F$200,SMALL(IF(Consolidation!$A$3:$A$200=$A$1,ROW($3:$200)-2,""),ROW($A5)),COLUMN(B:B)),"")} | C6: {=IFERROR(INDEX(Consolidation!$A$3:$F$200,SMALL(IF(Consolidation!$A$3:$A$200=$A$1,ROW($3:$200)-2,""),ROW($A5)),COLUMN(C:C)),"")} | D6: {=IFERROR(INDEX(Consolidation!$A$3:$F$200,SMALL(IF(Consolidation!$A$3:$A$200=$A$1,ROW($3:$200)-2,""),ROW($A5)),COLUMN(D:D)),"")} | F6: {=IFERROR(INDEX(Consolidation!$A$3:$F$200,SMALL(IF(Consolidation!$A$3:$A$200=$A$1,ROW($3:$200)-2,""),ROW($A5)),COLUMN(F:F)),"")} | H6: {=IFERROR(INDEX(Consolidation!$A$3:$F$200,SMALL(IF(Consolidation!$A$3:$A$200=$A$1,ROW($3:$200)-2,""),ROW($A5)),COLUMN(E:E)),"")} | J6: {=IFERROR(INDEX(Consolidation!$A$3:$F$200,SMALL(IF(Consolidation!$A$3:$A$200=$A$1,ROW($3:$200)-2,""),ROW($A5)),COLUMN(F:F)),"")}
A7: {=IFERROR(INDEX(Consolidation!$A$3:$F$200,SMALL(IF(Consolidation!$A$3:$A$200=$A$1,ROW($3:$200)-2,""),ROW($A6)),COLUMN(A:A)),"")} | B7: {=IFERROR(INDEX(Consolidation!$A$3:$F$200,SMALL(IF(Consolidation!$A$3:$A$200=$A$1,ROW($3:$200)-2,""),ROW($A6)),COLUMN(B:B)),"")} | C7: {=IFERROR(INDEX(Consolidation!$A$3:$F$200,SMALL(IF(Consolidation!$A$3:$A$200=$A$1,ROW($3:$200)-2,""),ROW($A6)),COLUMN(C:C)),"")} | D7: {=IFERROR(INDEX(Consolidation!$A$3:$F$200,SMALL(IF(Consolidation!$A$3:$A$200=$A$1,ROW($3:$200)-2,""),ROW($A6)),COLUMN(D:D)),"")} | F7: {=IFERROR(INDEX(Consolidation!$A$3:$F$200,SMALL(IF(Consolidation!$A$3:$A$200=$A$1,ROW($3:$200)-2,""),ROW($A6)),COLUMN(F:F)),"")} | H7: {=IFERROR(INDEX(Consolidation!$A$3:$F$200,SMALL(IF(Consolidation!$A$3:$A$200=$A$1,ROW($3:$200)-2,""),ROW($A6)),COLUMN(E:E)),"")} | J7: {=IFERROR(INDEX(Consolidation!$A$3:$F$200,SMALL(IF(Consolidation!$A$3:$A$200=$A$1,ROW($3:$200)-2,""),ROW($A6)),COLUMN(F:F)),"")}
A8: {=IFERROR(INDEX(Consolidation!$A$3:$F$200,SMALL(IF(Consolidation!$A$3:$A$200=$A$1,ROW($3:$200)-2,""),ROW($A7)),COLUMN(A:A)),"")} | B8: {=IFERROR(INDEX(Consolidation!$A$3:$F$200,SMALL(IF(Consolidation!$A$3:$A$200=$A$1,ROW($3:$200)-2,""),ROW($A7)),COLUMN(B:B)),"")} | C8: {=IFERROR(INDEX(Consolidation!$A$3:$F$200,SMALL(IF(Consolidation!$A$3:$A$200=$A$1,ROW($3:$200)-2,""),ROW($A7)),COLUMN(C:C)),"")} | D8: {=IFERROR(INDEX(Consolidation!$A$3:$F$200,SMALL(IF(Consolidation!$A$3:$A$200=$A$1,ROW($3:$200)-2,""),ROW($A7)),COLUMN(D:D)),"")} | F8: {=IFERROR(INDEX(Consolidation!$A$3:$F$200,SMALL(IF(Consolidation!$A$3:$A$200=$A$1,ROW($3:$200)-2,""),ROW($A7)),COLUMN(F:F)),"")} | H8: {=IFERROR(INDEX(Consolidation!$A$3:$F$200,SMALL(IF(Consolidation!$A$3:$A$200=$A$1,ROW($3:$200)-2,""),ROW($A7)),COLUMN(E:E)),"")} | J8: {=IFERROR(INDEX(Consolidation!$A$3:$F$200,SMALL(IF(Consolidation!$A$3:$A$200=$A$1,ROW($3:$200)-2,""),ROW($A7)),COLUMN(F:F)),"")}
A9: {=IFERROR(INDEX(Consolidation!$A$3:$F$200,SMALL(IF(Consolidation!$A$3:$A$200=$A$1,ROW($3:$200)-2,""),ROW($A8)),COLUMN(A:A)),"")} | B9: {=IFERROR(INDEX(Consolidation!$A$3:$F$200,SMALL(IF(Consolidation!$A$3:$A$200=$A$1,ROW($3:$200)-2,""),ROW($A8)),COLUMN(B:B)),"")} | C9: {=IFERROR(INDEX(Consolidation!$A$3:$F$200,SMALL(IF(Consolidation!$A$3:$A$200=$A$1,ROW($3:$200)-2,""),ROW($A8)),COLUMN(C:C)),"")} | D9: {=IFERROR(INDEX(Consolidation!$A$3:$F$200,SMALL(IF(Consolidation!$A$3:$A$200=$A$1,ROW($3:$200)-2,""),ROW($A8)),COLUMN(D:D)),"")} | F9: {=IFERROR(INDEX(Consolidation!$A$3:$F$200,SMALL(IF(Consolidation!$A$3:$A$200=$A$1,ROW($3:$200)-2,""),ROW($A8)),COLUMN(F:F)),"")} | H9: {=IFERROR(INDEX(Consolidation!$A$3:$F$200,SMALL(IF(Consolidation!$A$3:$A$200=$A$1,ROW($3:$200)-2,""),ROW($A8)),COLUMN(E:E)),"")} | J9: {=IFERROR(INDEX(Consolidation!$A$3:$F$200,SMALL(IF(Consolidation!$A$3:$A$200=$A$1,ROW($3:$200)-2,""),ROW($A8)),COLUMN(F:F)),"")}
A10: {=IFERROR(INDEX(Consolidation!$A$3:$F$200,SMALL(IF(Consolidation!$A$3:$A$200=$A$1,ROW($3:$200)-2,""),ROW($A9)),COLUMN(A:A)),"")} | B10: {=IFERROR(INDEX(Consolidation!$A$3:$F$200,SMALL(IF(Consolidation!$A$3:$A$200=$A$1,ROW($3:$200)-2,""),ROW($A9)),COLUMN(B:B)),"")} | C10: {=IFERROR(INDEX(Consolidation!$A$3:$F$200,SMALL(IF(Consolidation!$A$3:$A$200=$A$1,ROW($3:$200)-2,""),ROW($A9)),COLUMN(C:C)),"")} | D10: {=IFERROR(INDEX(Consolidation!$A$3:$F$200,SMALL(IF(Consolidation!$A$3:$A$200=$A$1,ROW($3:$200)-2,""),ROW($A9)),COLUMN(D:D)),"")} | F10: {=IFERROR(INDEX(Consolidation!$A$3:$F$200,SMALL(IF(Consolidation!$A$3:$A$200=$A$1,ROW($3:$200)-2,""),ROW($A9)),COLUMN(F:F)),"")} | H10: {=IFERROR(INDEX(Consolidation!$A$3:$F$200,SMALL(IF(Consolidation!$A$3:$A$200=$A$1,ROW($3:$200)-2,""),ROW($A9)),COLUMN(E:E)),"")} | J10: {=IFERROR(INDEX(Consolidation!$A$3:$F$200,SMALL(IF(Consolidation!$A$3:$A$200=$A$1,ROW($3:$200)-2,""),ROW($A9)),COLUMN(F:F)),"")}
A11: {=IFERROR(INDEX(Consolidation!$A$3:$F$200,SMALL(IF(Consolidation!$A$3:$A$200=$A$1,ROW($3:$200)-2,""),ROW($A10)),COLUMN(A:A)),"")} | B11: {=IFERROR(INDEX(Consolidation!$A$3:$F$200,SMALL(IF(Consolidation!$A$3:$A$200=$A$1,ROW($3:$200)-2,""),ROW($A10)),COLUMN(B:B)),"")} | C11: {=IFERROR(INDEX(Consolidation!$A$3:$F$200,SMALL(IF(Consolidation!$A$3:$A$200=$A$1,ROW($3:$200)-2,""),ROW($A10)),COLUMN(C:C)),"")} | D11: {=IFERROR(INDEX(Consolidation!$A$3:$F$200,SMALL(IF(Consolidation!$A$3:$A$200=$A$1,ROW($3:$200)-2,""),ROW($A10)),COLUMN(D:D)),"")} | F11: {=IFERROR(INDEX(Consolidation!$A$3:$F$200,SMALL(IF(Consolidation!$A$3:$A$200=$A$1,ROW($3:$200)-2,""),ROW($A10)),COLUMN(F:F)),"")} | H11: {=IFERROR(INDEX(Consolidation!$A$3:$F$200,SMALL(IF(Consolidation!$A$3:$A$200=$A$1,ROW($3:$200)-2,""),ROW($A10)),COLUMN(E:E)),"")} | J11: {=IFERROR(INDEX(Consolidation!$A$3:$F$200,SMALL(IF(Consolidation!$A$3:$A$200=$A$1,ROW($3:$200)-2,""),ROW($A10)),COLUMN(F:F)),"")}
A12: {=IFERROR(INDEX(Consolidation!$A$3:$F$200,SMALL(IF(Consolidation!$A$3:$A$200=$A$1,ROW($3:$200)-2,""),ROW($A11)),COLUMN(A:A)),"")} | B12: {=IFERROR(INDEX(Consolidation!$A$3:$F$200,SMALL(IF(Consolidation!$A$3:$A$200=$A$1,ROW($3:$200)-2,""),ROW($A11)),COLUMN(B:B)),"")} | C12: {=IFERROR(INDEX(Consolidation!$A$3:$F$200,SMALL(IF(Consolidation!$A$3:$A$200=$A$1,ROW($3:$200)-2,""),ROW($A11)),COLUMN(C:C)),"")} | D12: {=IFERROR(INDEX(Consolidation!$A$3:$F$200,SMALL(IF(Consolidation!$A$3:$A$200=$A$1,ROW($3:$200)-2,""),ROW($A11)),COLUMN(D:D)),"")} | F12: {=IFERROR(INDEX(Consolidation!$A$3:$F$200,SMALL(IF(Consolidation!$A$3:$A$200=$A$1,ROW($3:$200)-2,""),ROW($A11)),COLUMN(F:F)),"")} | H12: {=IFERROR(INDEX(Consolidation!$A$3:$F$200,SMALL(IF(Consolidation!$A$3:$A$200=$A$1,ROW($3:$200)-2,""),ROW($A11)),COLUMN(E:E)),"")} | J12: {=IFERROR(INDEX(Consolidation!$A$3:$F$200,SMALL(IF(Consolidation!$A$3:$A$200=$A$1,ROW($3:$200)-2,""),ROW($A11)),COLUMN(F:F)),"")}
A13: {=IFERROR(INDEX(Consolidation!$A$3:$F$200,SMALL(IF(Consolidation!$A$3:$A$200=$A$1,ROW($3:$200)-2,""),ROW($A12)),COLUMN(A:A)),"")} | B13: {=IFERROR(INDEX(Consolidation!$A$3:$F$200,SMALL(IF(Consolidation!$A$3:$A$200=$A$1,ROW($3:$200)-2,""),ROW($A12)),COLUMN(B:B)),"")} | C13: {=IFERROR(INDEX(Consolidation!$A$3:$F$200,SMALL(IF(Consolidation!$A$3:$A$200=$A$1,ROW($3:$200)-2,""),ROW($A12)),COLUMN(C:C)),"")} | D13: {=IFERROR(INDEX(Consolidation!$A$3:$F$200,SMALL(IF(Consolidation!$A$3:$A$200=$A$1,ROW($3:$200)-2,""),ROW($A12)),COLUMN(D:D)),"")} | F13: {=IFERROR(INDEX(Consolidation!$A$3:$F$200,SMALL(IF(Consolidation!$A$3:$A$200=$A$1,ROW($3:$200)-2,""),ROW($A12)),COLUMN(F:F)),"")} | H13: {=IFERROR(INDEX(Consolidation!$A$3:$F$200,SMALL(IF(Consolidation!$A$3:$A$200=$A$1,ROW($3:$200)-2,""),ROW($A12)),COLUMN(E:E)),"")} | J13: {=IFERROR(INDEX(Consolidation!$A$3:$F$200,SMALL(IF(Consolidation!$A$3:$A$200=$A$1,ROW($3:$200)-2,""),ROW($A12)),COLUMN(F:F)),"")}
... A337: {=IFERROR(INDEX(Consolidation!$A$3:$F$200,SMALL(IF(Consolidation!$A$3:$A$200=$A$1,ROW($3:$200)-2,""),ROW($A336)),COLUMN(A:A)),"")} | B337: {=IFERROR(INDEX(Consolidation!$A$3:$F$200,SMALL(IF(Consolidation!$A$3:$A$200=$A$1,ROW($3:$200)-2,""),ROW($A336)),COLUMN(B:B)),"")} | C337: {=IFERROR(INDEX(Consolidation!$A$3:$F$200,SMALL(IF(Consolidation!$A$3:$A$200=$A$1,ROW($3:$200)-2,""),ROW($A336)),COLUMN(C:C)),"")} | D337: {=IFERROR(INDEX(Consolidation!$A$3:$F$200,SMALL(IF(Consolidation!$A$3:$A$200=$A$1,ROW($3:$200)-2,""),ROW($A336)),COLUMN(D:D)),"")} | F337: {=IFERROR(INDEX(Consolidation!$A$3:$F$200,SMALL(IF(Consolidation!$A$3:$A$200=$A$1,ROW($3:$200)-2,""),ROW($A336)),COLUMN(F:F)),"")} | H337: {=IFERROR(INDEX(Consolidation!$A$3:$F$200,SMALL(IF(Consolidation!$A$3:$A$200=$A$1,ROW($3:$200)-2,""),ROW($A336)),COLUMN(E:E)),"")} | J337: {=IFERROR(INDEX(Consolidation!$A$3:$F$200,SMALL(IF(Consolidation!$A$3:$A$200=$A$1,ROW($3:$200)-2,""),ROW($A336)),COLUMN(F:F)),"")}
A338: Cassure
A339: Cassure
A340: Cassure
A341: Cassure
A342: Cassure
A343: Cassure
A344: Cassure
A345: Cassure
A346: Cassure
A347: Cassure
A348: Cassure
A349: Cassure
... A603: Cassure

Sheet Scénarios de baisse-hausse
A1: Type | B1: Date | C1: Graphique 1 | D1: Graphique 2 | E1: Potentiel avec coûts compris | F1: Remarques
A2: Scénarios de baisse-hausse
A3: Scénarios de baisse-hausse
A4: Scénarios de baisse-hausse
A5: Scénarios de baisse-hausse
A6: Scénarios de baisse-hausse
A7: Scénarios de baisse-hausse
A8: Scénarios de baisse-hausse
A9: Scénarios de baisse-hausse
A10: Scénarios de baisse-hausse
A11: Scénarios de baisse-hausse
A12: Scénarios de baisse-hausse
A13: Scénarios de baisse-hausse
... A610: Scénarios de baisse-hausse

Sheet Ouverture sous-sur cible
A1: Type | B1: Date | C1: Graphique 1 | D1: Graphique 2 | E1: Potentiel avec coûts compris | F1: Remarques
A2: Ouverture sous-sur-cible
A3: Ouverture sous-sur-cible
A4: Ouverture sous-sur-cible
A5: Ouverture sous-sur-cible
A6: Ouverture sous-sur-cible
A7: Ouverture sous-sur-cible
A8: Ouverture sous-sur-cible
A9: Ouverture sous-sur-cible
A10: Ouverture sous-sur-cible
A11: Ouverture sous-sur-cible
A12: Ouverture sous-sur-cible
A13: Ouverture sous-sur-cible
... A613: Ouverture sous-sur-cible

Sheet Faux signaux
A1: Type | B1: Date | C1: Graphique 1 | D1: Graphique 2 | E1: Potentiel avec coûts compris | F1: Remarques
A2: Ouverture | B2: 43326 | C2: Graphiques\14 août 2018.png | E2: 0.8 | F2: Semble partir au-delà de résistance initiale puis non
A3: Rebond | B3: 43327 | C3: Graphiques\15 août 2018.png | E3: 0.9 | F3: Stagne sur la ligne de rebond 30 minutes, critère de sortie
A4: Rebond | B4: 43333 | C4: Graphiques\21 août 2018.png | E4: 0.92 | F4: Ne fait pas un rebond significatif dans les 30 minutes mais stagne
A5: Cassure | B5: 43343 | C5: Graphiques\31 août 2018.png | E5: 0.85 | F5: Cassure à -10 puis oscille autour
A6: Ouverture | B6: 43346 | C6: Graphiques\3 septembre 2018.png | E6: 1 | F6: Passe rapidement sous support mais stagne ; sortie des 30 minutes
A7: Rebond | B7: 43347 | C7: Graphiques\4 septembre 2018 b.png | E7: 0.8 | F7: Croit que va rebondir sur 5387 de tableau mais va plus bas (visible avec volumes)
A8: Rebond | B8: 43347 | C8: Graphiques\4 septembre 2018 c.png | E8: 0.8 | F8: Croit que va rebondir sur 5456 mais va encore plus bas… Et dans briefing dit qu'évolution va dépendre de Wall Street qui ouvre à 15h30
A9: Ouverture | B9: 43348 | C9: Graphiques\5 septembre 2018.png | E9: 0.75 | F9: Pas de rebond sur l'impulsion initiale

Sheet A intégrer ou pas
A1: Type | B1: Date | C1: Graphique 1 | D1: Graphique 2 | E1: Potentiel avec coûts compris | F1: Remarques
A2: Ouverture | B2: 43306 | C2: Graphiques\25 juin 2018.png | F2: Avant 10h hésitation à passer sous support annoncé, puis vers 10h grosse barre rouge qui l'annonce : trop tard pour critère ouverture ?
A3: Cassure | B3: 43327 | C3: Graphiques\15 août 2018.png | F3: Atteint -9,5 puis passe sous -10 sans remonter : prendre même si atteint pas tout à fait 10 ?
A4: Cassure | B4: 43329 | C4: Graphiques\17 août 2018.png | F4: A 14h05 (graphique en 5 minutes faut bien regarder), forts volumes sur la percée des -10 mais sans pull-back et pas de cible prévue
A5: Ouverture | B5: 43333 | C5: Graphiques\21 août 2018.png | F5: Passe résistance d'ouverture à 10h15 : pas trop tard ? Parle de percée dans le briefing de 11h.
A6: Cassure | B6: 43336 | C6: Graphiques\24 août 2018.png | E6: 1.14 | F6: Casse sans pull-back mais avec très forts volumes et très vite : faut être dessus quand ça arrive…
A7: Cassure | B7: 43347 | C7: Graphiques\4 septembre 2018 a.png | F7: Cassure sans pull-back
A8: Cassure | B8: 43347 | C8: Graphiques\4 septembre 2018 b.png | E8: 1.4 | F8: Deuxième cassure alors que attend rebond mais avec indicateur de forts volumes

Sheet Confirmation stratégie
A1: Type | B1: Date | C1: Graphique 1 | D1: Graphique 2 | E1: Potentiel avec coûts compris | F1: Remarques
A2: Cassure | B2: 43431 | C2: Graphiques\27 novembre 2018.png | F2: Pas investi car approche de 16h et bien fait :)
A3: Rebond | B3: 43451 | C3: Graphiques\17 décembre 2018.png | F3: Devrait faire un rebond mais arrive à cible que à 15h40, trop près de 16h
A4: Ouverture | B4: 43454 | C4: Graphiques\20 décembre 2018.png | F4: Casse à l'ouverture après 20 minutes seulement pour revenir
A5: Ouverture | B5: 43472 | C5: Graphiques\7 janvier 2019.png | F5: Ouverture qui s'avère très vite fausse
A6: Cassure | B6: 43473 | C6: Graphiques\8 janvier 2019.png | F6: Perce à +10 mais après 15h30
A7: Cassure | B7: 43487 | C7: Graphiques\22 janvier 2019 b.png | F7: Perce mais pas à -10 et volumes restent similaires

Sheet Préparation
C2: Ouverture | E2: Comment voir aisément si stagne sur 20 minutes ou pas ?
C3: Cassure | E3: Rajouter à l'ouverture si franchissement ou ralliement
C4: Rebond
C5: Scénarios de baisse-hausse
C6: Ouverture sous-sur-cible
C7: Faux signaux
C8: Trading range
C11: Rebond investir à 2 et pas à 5 au départ
E15: A ETUDIER
E16: A étudier : franchissement fort ou pas/quels volumes à l'ouverture pour détecter faux signaux
