Workbook
Name ID: Feuil1!$A$4:$A$8

Sheet Feuil1
J1: 3520 | K1: Dans cette case je voudrais par exemple afficher 3520 et la ligne qui contient cette valeur s'affiche en dessous de cette case même chose pour les autres 3640 ,3210, toujours dans la même ligne.
A3: ID | B3: Nom | C3: Prénom | D3: Age | E3: Note1 | F3: Note2 | G3: Note3 | J3: {=TRANSPOSE(OFFSET($B$4,MATCH(J1,A4:A8,0)-1,,,6))} -> A
A4: 3520 | B4: A | C4: AA | D4: 15 | E4: 14 | F4: 13 | G4: 12 | J4: AA
A5: 3640 | B5: B | C5: BB | D5: 15 | E5: 20 | F5: 19 | G5: 18 | J5: 15
A6: 3210 | B6: C | C6: CC | D6: 16 | E6: 8 | F6: 10.5 | G6: 12 | J6: 14
A7: 2650 | B7: D | C7: DD | D7: 15 | E7: 19.5 | F7: 18 | G7: 17.5 | J7: 13
A8: 6630 | B8: E | C8: EE | D8: 14 | E8: 0 | F8: 12 | G8: 13 | J8: 12
F15: '=TRANSPOSE(DECALER($B$4;EQUIV(J1;A4:A8;0)-1;;;6))
A16: 1)tu selectionnes une plage de 6 cellules
A17: 2) tu saisis la formule
A18: 3) tu valides en faisant Ctrl maj(shift") Entrée : les 3touches en meme temps

Sheet Feuil2
A2: ID | B2: Nom | C2: Prénom | D2: Age | E2: Note3 | F2: Note1 | G2: Note2
A3: 3520 | B3: =INDEX(Feuil1!$A$3:$G$8,MATCH($A3,Feuil1!$A$3:$A$8,0),MATCH(B$2,Feuil1!$A$3:$G$3,0)) -> A | C3: =INDEX(Feuil1!$A$3:$G$8,MATCH($A3,Feuil1!$A$3:$A$8,0),MATCH(C$2,Feuil1!$A$3:$G$3,0)) -> AA | D3: =INDEX(Feuil1!$A$3:$G$8,MATCH($A3,Feuil1!$A$3:$A$8,0),MATCH(D$2,Feuil1!$A$3:$G$3,0)) -> 15 | E3: =INDEX(Feuil1!$A$3:$G$8,MATCH($A3,Feuil1!$A$3:$A$8,0),MATCH(E$2,Feuil1!$A$3:$G$3,0)) -> 12 | F3: =INDEX(Feuil1!$A$3:$G$8,MATCH($A3,Feuil1!$A$3:$A$8,0),MATCH(F$2,Feuil1!$A$3:$G$3,0)) -> 14 | G3: =INDEX(Feuil1!$A$3:$G$8,MATCH($A3,Feuil1!$A$3:$A$8,0),MATCH(G$2,Feuil1!$A$3:$G$3,0)) -> 13
A4: 3640 | B4: =INDEX(Feuil1!$A$3:$G$8,MATCH($A4,Feuil1!$A$3:$A$8,0),MATCH(B$2,Feuil1!$A$3:$G$3,0)) -> B | C4: =INDEX(Feuil1!$A$3:$G$8,MATCH($A4,Feuil1!$A$3:$A$8,0),MATCH(C$2,Feuil1!$A$3:$G$3,0)) -> BB | D4: =INDEX(Feuil1!$A$3:$G$8,MATCH($A4,Feuil1!$A$3:$A$8,0),MATCH(D$2,Feuil1!$A$3:$G$3,0)) -> 15 | E4: =INDEX(Feuil1!$A$3:$G$8,MATCH($A4,Feuil1!$A$3:$A$8,0),MATCH(E$2,Feuil1!$A$3:$G$3,0)) -> 18 | F4: =INDEX(Feuil1!$A$3:$G$8,MATCH($A4,Feuil1!$A$3:$A$8,0),MATCH(F$2,Feuil1!$A$3:$G$3,0)) -> 20 | G4: =INDEX(Feuil1!$A$3:$G$8,MATCH($A4,Feuil1!$A$3:$A$8,0),MATCH(G$2,Feuil1!$A$3:$G$3,0)) -> 19
A5: 3210 | B5: =INDEX(Feuil1!$A$3:$G$8,MATCH($A5,Feuil1!$A$3:$A$8,0),MATCH(B$2,Feuil1!$A$3:$G$3,0)) -> C | C5: =INDEX(Feuil1!$A$3:$G$8,MATCH($A5,Feuil1!$A$3:$A$8,0),MATCH(C$2,Feuil1!$A$3:$G$3,0)) -> CC | D5: =INDEX(Feuil1!$A$3:$G$8,MATCH($A5,Feuil1!$A$3:$A$8,0),MATCH(D$2,Feuil1!$A$3:$G$3,0)) -> 16 | E5: =INDEX(Feuil1!$A$3:$G$8,MATCH($A5,Feuil1!$A$3:$A$8,0),MATCH(E$2,Feuil1!$A$3:$G$3,0)) -> 12 | F5: =INDEX(Feuil1!$A$3:$G$8,MATCH($A5,Feuil1!$A$3:$A$8,0),MATCH(F$2,Feuil1!$A$3:$G$3,0)) -> 8 | G5: =INDEX(Feuil1!$A$3:$G$8,MATCH($A5,Feuil1!$A$3:$A$8,0),MATCH(G$2,Feuil1!$A$3:$G$3,0)) -> 10.5
A6: 3210 | B6: =INDEX(Feuil1!$A$3:$G$8,MATCH($A6,Feuil1!$A$3:$A$8,0),MATCH(B$2,Feuil1!$A$3:$G$3,0)) -> C | C6: =INDEX(Feuil1!$A$3:$G$8,MATCH($A6,Feuil1!$A$3:$A$8,0),MATCH(C$2,Feuil1!$A$3:$G$3,0)) -> CC | D6: =INDEX(Feuil1!$A$3:$G$8,MATCH($A6,Feuil1!$A$3:$A$8,0),MATCH(D$2,Feuil1!$A$3:$G$3,0)) -> 16 | E6: =INDEX(Feuil1!$A$3:$G$8,MATCH($A6,Feuil1!$A$3:$A$8,0),MATCH(E$2,Feuil1!$A$3:$G$3,0)) -> 12 | F6: =INDEX(Feuil1!$A$3:$G$8,MATCH($A6,Feuil1!$A$3:$A$8,0),MATCH(F$2,Feuil1!$A$3:$G$3,0)) -> 8 | G6: =INDEX(Feuil1!$A$3:$G$8,MATCH($A6,Feuil1!$A$3:$A$8,0),MATCH(G$2,Feuil1!$A$3:$G$3,0)) -> 10.5
A7: 2650 | B7: =INDEX(Feuil1!$A$3:$G$8,MATCH($A7,Feuil1!$A$3:$A$8,0),MATCH(B$2,Feuil1!$A$3:$G$3,0)) -> D | C7: =INDEX(Feuil1!$A$3:$G$8,MATCH($A7,Feuil1!$A$3:$A$8,0),MATCH(C$2,Feuil1!$A$3:$G$3,0)) -> DD | D7: =INDEX(Feuil1!$A$3:$G$8,MATCH($A7,Feuil1!$A$3:$A$8,0),MATCH(D$2,Feuil1!$A$3:$G$3,0)) -> 15 | E7: =INDEX(Feuil1!$A$3:$G$8,MATCH($A7,Feuil1!$A$3:$A$8,0),MATCH(E$2,Feuil1!$A$3:$G$3,0)) -> 17.5 | F7: =INDEX(Feuil1!$A$3:$G$8,MATCH($A7,Feuil1!$A$3:$A$8,0),MATCH(F$2,Feuil1!$A$3:$G$3,0)) -> 19.5 | G7: =INDEX(Feuil1!$A$3:$G$8,MATCH($A7,Feuil1!$A$3:$A$8,0),MATCH(G$2,Feuil1!$A$3:$G$3,0)) -> 18
A10: /!\ | B10: Veuillez remarquer que les notes dans le tableau2( ci-dessus ) ne sont pas dans le meme ordre que le premier tableau

Sheet Feuil3
