Workbook
Name tb: Feuil1!$A$2:$C$19

Sheet Feuil1
A1: KM | B1: Paramètres | C1: valeur
A2: 100.2 | B2: G | C2: 0.2
A3: 101.2 | B3: G | C3: 1.2
A4: 102.2 | B4: NT | C4: 2.2
A5: 103.2 | B5: NT | C5: 3.2
A6: 104.2 | B6: NT | C6: 4.2
A7: 105.2 | B7: G | C7: 0.2
A8: 106.2 | B8: D | C8: 1.2
A9: 107.2 | B9: D | C9: 2.2
A10: 107.2 | B10: D | C10: 3.2
A11: 107.2 | B11: E | C11: 0.2
A12: 108.2 | B12: G | C12: 0.2
A13: 108.2 | B13: G | C13: 0.2
... A19: 113.2 | B19: G | C19: 1.2

Sheet Feuil2
A1: KM | B1: G | C1: NT | D1: E | E1: D
A2: 90.2 | B2: =SUMPRODUCT((Feuil1!$B$2:$B$19=Feuil2!B$1)*(Feuil1!$A$2:$A$19=Feuil2!$A2)*(Feuil1!$C$2:$C$19)) -> 0 | C2: =SUMPRODUCT((Feuil1!$B$2:$B$19=Feuil2!C$1)*(Feuil1!$A$2:$A$19=Feuil2!$A2)*(Feuil1!$C$2:$C$19)) -> 0 | D2: =SUMPRODUCT((Feuil1!$B$2:$B$19=Feuil2!D$1)*(Feuil1!$A$2:$A$19=Feuil2!$A2)*(Feuil1!$C$2:$C$19)) -> 0 | E2: =SUMPRODUCT((Feuil1!$B$2:$B$19=Feuil2!E$1)*(Feuil1!$A$2:$A$19=Feuil2!$A2)*(Feuil1!$C$2:$C$19)) -> 0
A3: 91.2 | B3: =SUMPRODUCT((Feuil1!$B$2:$B$19=Feuil2!B$1)*(Feuil1!$A$2:$A$19=Feuil2!$A3)*(Feuil1!$C$2:$C$19)) -> 0 | C3: =SUMPRODUCT((Feuil1!$B$2:$B$19=Feuil2!C$1)*(Feuil1!$A$2:$A$19=Feuil2!$A3)*(Feuil1!$C$2:$C$19)) -> 0 | D3: =SUMPRODUCT((Feuil1!$B$2:$B$19=Feuil2!D$1)*(Feuil1!$A$2:$A$19=Feuil2!$A3)*(Feuil1!$C$2:$C$19)) -> 0 | E3: =SUMPRODUCT((Feuil1!$B$2:$B$19=Feuil2!E$1)*(Feuil1!$A$2:$A$19=Feuil2!$A3)*(Feuil1!$C$2:$C$19)) -> 0 | H3: format de cell : standard;std;"" pour virer les 0
A4: 92.2 | B4: =SUMPRODUCT((Feuil1!$B$2:$B$19=Feuil2!B$1)*(Feuil1!$A$2:$A$19=Feuil2!$A4)*(Feuil1!$C$2:$C$19)) -> 0 | C4: =SUMPRODUCT((Feuil1!$B$2:$B$19=Feuil2!C$1)*(Feuil1!$A$2:$A$19=Feuil2!$A4)*(Feuil1!$C$2:$C$19)) -> 0 | D4: =SUMPRODUCT((Feuil1!$B$2:$B$19=Feuil2!D$1)*(Feuil1!$A$2:$A$19=Feuil2!$A4)*(Feuil1!$C$2:$C$19)) -> 0 | E4: =SUMPRODUCT((Feuil1!$B$2:$B$19=Feuil2!E$1)*(Feuil1!$A$2:$A$19=Feuil2!$A4)*(Feuil1!$C$2:$C$19)) -> 0
A5: 93.2 | B5: =SUMPRODUCT((Feuil1!$B$2:$B$19=Feuil2!B$1)*(Feuil1!$A$2:$A$19=Feuil2!$A5)*(Feuil1!$C$2:$C$19)) -> 0 | C5: =SUMPRODUCT((Feuil1!$B$2:$B$19=Feuil2!C$1)*(Feuil1!$A$2:$A$19=Feuil2!$A5)*(Feuil1!$C$2:$C$19)) -> 0 | D5: =SUMPRODUCT((Feuil1!$B$2:$B$19=Feuil2!D$1)*(Feuil1!$A$2:$A$19=Feuil2!$A5)*(Feuil1!$C$2:$C$19)) -> 0 | E5: =SUMPRODUCT((Feuil1!$B$2:$B$19=Feuil2!E$1)*(Feuil1!$A$2:$A$19=Feuil2!$A5)*(Feuil1!$C$2:$C$19)) -> 0
A6: 94.2 | B6: =SUMPRODUCT((Feuil1!$B$2:$B$19=Feuil2!B$1)*(Feuil1!$A$2:$A$19=Feuil2!$A6)*(Feuil1!$C$2:$C$19)) -> 0 | C6: =SUMPRODUCT((Feuil1!$B$2:$B$19=Feuil2!C$1)*(Feuil1!$A$2:$A$19=Feuil2!$A6)*(Feuil1!$C$2:$C$19)) -> 0 | D6: =SUMPRODUCT((Feuil1!$B$2:$B$19=Feuil2!D$1)*(Feuil1!$A$2:$A$19=Feuil2!$A6)*(Feuil1!$C$2:$C$19)) -> 0 | E6: =SUMPRODUCT((Feuil1!$B$2:$B$19=Feuil2!E$1)*(Feuil1!$A$2:$A$19=Feuil2!$A6)*(Feuil1!$C$2:$C$19)) -> 0
A7: 95.2 | B7: =SUMPRODUCT((Feuil1!$B$2:$B$19=Feuil2!B$1)*(Feuil1!$A$2:$A$19=Feuil2!$A7)*(Feuil1!$C$2:$C$19)) -> 0 | C7: =SUMPRODUCT((Feuil1!$B$2:$B$19=Feuil2!C$1)*(Feuil1!$A$2:$A$19=Feuil2!$A7)*(Feuil1!$C$2:$C$19)) -> 0 | D7: =SUMPRODUCT((Feuil1!$B$2:$B$19=Feuil2!D$1)*(Feuil1!$A$2:$A$19=Feuil2!$A7)*(Feuil1!$C$2:$C$19)) -> 0 | E7: =SUMPRODUCT((Feuil1!$B$2:$B$19=Feuil2!E$1)*(Feuil1!$A$2:$A$19=Feuil2!$A7)*(Feuil1!$C$2:$C$19)) -> 0
A8: 96.2 | B8: =SUMPRODUCT((Feuil1!$B$2:$B$19=Feuil2!B$1)*(Feuil1!$A$2:$A$19=Feuil2!$A8)*(Feuil1!$C$2:$C$19)) -> 0 | C8: =SUMPRODUCT((Feuil1!$B$2:$B$19=Feuil2!C$1)*(Feuil1!$A$2:$A$19=Feuil2!$A8)*(Feuil1!$C$2:$C$19)) -> 0 | D8: =SUMPRODUCT((Feuil1!$B$2:$B$19=Feuil2!D$1)*(Feuil1!$A$2:$A$19=Feuil2!$A8)*(Feuil1!$C$2:$C$19)) -> 0 | E8: =SUMPRODUCT((Feuil1!$B$2:$B$19=Feuil2!E$1)*(Feuil1!$A$2:$A$19=Feuil2!$A8)*(Feuil1!$C$2:$C$19)) -> 0
A9: 97.2 | B9: =SUMPRODUCT((Feuil1!$B$2:$B$19=Feuil2!B$1)*(Feuil1!$A$2:$A$19=Feuil2!$A9)*(Feuil1!$C$2:$C$19)) -> 0 | C9: =SUMPRODUCT((Feuil1!$B$2:$B$19=Feuil2!C$1)*(Feuil1!$A$2:$A$19=Feuil2!$A9)*(Feuil1!$C$2:$C$19)) -> 0 | D9: =SUMPRODUCT((Feuil1!$B$2:$B$19=Feuil2!D$1)*(Feuil1!$A$2:$A$19=Feuil2!$A9)*(Feuil1!$C$2:$C$19)) -> 0 | E9: =SUMPRODUCT((Feuil1!$B$2:$B$19=Feuil2!E$1)*(Feuil1!$A$2:$A$19=Feuil2!$A9)*(Feuil1!$C$2:$C$19)) -> 0
A10: 98.2 | B10: =SUMPRODUCT((Feuil1!$B$2:$B$19=Feuil2!B$1)*(Feuil1!$A$2:$A$19=Feuil2!$A10)*(Feuil1!$C$2:$C$19)) -> 0 | C10: =SUMPRODUCT((Feuil1!$B$2:$B$19=Feuil2!C$1)*(Feuil1!$A$2:$A$19=Feuil2!$A10)*(Feuil1!$C$2:$C$19)) -> 0 | D10: =SUMPRODUCT((Feuil1!$B$2:$B$19=Feuil2!D$1)*(Feuil1!$A$2:$A$19=Feuil2!$A10)*(Feuil1!$C$2:$C$19)) -> 0 | E10: =SUMPRODUCT((Feuil1!$B$2:$B$19=Feuil2!E$1)*(Feuil1!$A$2:$A$19=Feuil2!$A10)*(Feuil1!$C$2:$C$19)) -> 0
A11: 99.2 | B11: =SUMPRODUCT((Feuil1!$B$2:$B$19=Feuil2!B$1)*(Feuil1!$A$2:$A$19=Feuil2!$A11)*(Feuil1!$C$2:$C$19)) -> 0 | C11: =SUMPRODUCT((Feuil1!$B$2:$B$19=Feuil2!C$1)*(Feuil1!$A$2:$A$19=Feuil2!$A11)*(Feuil1!$C$2:$C$19)) -> 0 | D11: =SUMPRODUCT((Feuil1!$B$2:$B$19=Feuil2!D$1)*(Feuil1!$A$2:$A$19=Feuil2!$A11)*(Feuil1!$C$2:$C$19)) -> 0 | E11: =SUMPRODUCT((Feuil1!$B$2:$B$19=Feuil2!E$1)*(Feuil1!$A$2:$A$19=Feuil2!$A11)*(Feuil1!$C$2:$C$19)) -> 0
A12: 100.2 | B12: =SUMPRODUCT((Feuil1!$B$2:$B$19=Feuil2!B$1)*(Feuil1!$A$2:$A$19=Feuil2!$A12)*(Feuil1!$C$2:$C$19)) -> 0.2 | C12: =SUMPRODUCT((Feuil1!$B$2:$B$19=Feuil2!C$1)*(Feuil1!$A$2:$A$19=Feuil2!$A12)*(Feuil1!$C$2:$C$19)) -> 0 | D12: =SUMPRODUCT((Feuil1!$B$2:$B$19=Feuil2!D$1)*(Feuil1!$A$2:$A$19=Feuil2!$A12)*(Feuil1!$C$2:$C$19)) -> 0 | E12: =SUMPRODUCT((Feuil1!$B$2:$B$19=Feuil2!E$1)*(Feuil1!$A$2:$A$19=Feuil2!$A12)*(Feuil1!$C$2:$C$19)) -> 0
A13: 101.2 | B13: =SUMPRODUCT((Feuil1!$B$2:$B$19=Feuil2!B$1)*(Feuil1!$A$2:$A$19=Feuil2!$A13)*(Feuil1!$C$2:$C$19)) -> 1.2 | C13: =SUMPRODUCT((Feuil1!$B$2:$B$19=Feuil2!C$1)*(Feuil1!$A$2:$A$19=Feuil2!$A13)*(Feuil1!$C$2:$C$19)) -> 0 | D13: =SUMPRODUCT((Feuil1!$B$2:$B$19=Feuil2!D$1)*(Feuil1!$A$2:$A$19=Feuil2!$A13)*(Feuil1!$C$2:$C$19)) -> 0 | E13: =SUMPRODUCT((Feuil1!$B$2:$B$19=Feuil2!E$1)*(Feuil1!$A$2:$A$19=Feuil2!$A13)*(Feuil1!$C$2:$C$19)) -> 0
A14: 102.2 | B14: =SUMPRODUCT((Feuil1!$B$2:$B$19=Feuil2!B$1)*(Feuil1!$A$2:$A$19=Feuil2!$A14)*(Feuil1!$C$2:$C$19)) -> 0 | C14: =SUMPRODUCT((Feuil1!$B$2:$B$19=Feuil2!C$1)*(Feuil1!$A$2:$A$19=Feuil2!$A14)*(Feuil1!$C$2:$C$19)) -> 2.2 | D14: =SUMPRODUCT((Feuil1!$B$2:$B$19=Feuil2!D$1)*(Feuil1!$A$2:$A$19=Feuil2!$A14)*(Feuil1!$C$2:$C$19)) -> 0 | E14: =SUMPRODUCT((Feuil1!$B$2:$B$19=Feuil2!E$1)*(Feuil1!$A$2:$A$19=Feuil2!$A14)*(Feuil1!$C$2:$C$19)) -> 0
A15: 103.2 | B15: =SUMPRODUCT((Feuil1!$B$2:$B$19=Feuil2!B$1)*(Feuil1!$A$2:$A$19=Feuil2!$A15)*(Feuil1!$C$2:$C$19)) -> 0 | C15: =SUMPRODUCT((Feuil1!$B$2:$B$19=Feuil2!C$1)*(Feuil1!$A$2:$A$19=Feuil2!$A15)*(Feuil1!$C$2:$C$19)) -> 3.2 | D15: =SUMPRODUCT((Feuil1!$B$2:$B$19=Feuil2!D$1)*(Feuil1!$A$2:$A$19=Feuil2!$A15)*(Feuil1!$C$2:$C$19)) -> 0 | E15: =SUMPRODUCT((Feuil1!$B$2:$B$19=Feuil2!E$1)*(Feuil1!$A$2:$A$19=Feuil2!$A15)*(Feuil1!$C$2:$C$19)) -> 0
... A32: 120.2 | B32: =SUMPRODUCT((Feuil1!$B$2:$B$19=Feuil2!B$1)*(Feuil1!$A$2:$A$19=Feuil2!$A32)*(Feuil1!$C$2:$C$19)) -> 0 | C32: =SUMPRODUCT((Feuil1!$B$2:$B$19=Feuil2!C$1)*(Feuil1!$A$2:$A$19=Feuil2!$A32)*(Feuil1!$C$2:$C$19)) -> 0 | D32: =SUMPRODUCT((Feuil1!$B$2:$B$19=Feuil2!D$1)*(Feuil1!$A$2:$A$19=Feuil2!$A32)*(Feuil1!$C$2:$C$19)) -> 0 | E32: =SUMPRODUCT((Feuil1!$B$2:$B$19=Feuil2!E$1)*(Feuil1!$A$2:$A$19=Feuil2!$A32)*(Feuil1!$C$2:$C$19)) -> 0
