Workbook

Sheet A
B1: dimanche | C1: lundi | D1: mardi | E1: mercredi | F1: jeudi | G1: vendredi | H1: samedi
A2: superman | D2: PA | E2: SEL | F2: SEL | G2: SEL | H2: SEL
A3: flash | D3: PA | H3: EVT
A4: batman | D4: SEL
A5: aquaman | B5: SRW | D5: SRW | E5: SRW | H5: SRW

Sheet B
C1: Dimanche | D1: Lundi | E1: Mardi | F1: Mercredi | G1: Jeudi | H1: Vendredi | I1: Samedi
B2: PA | C2: {=IFERROR(INDEX(A!$A$2:$A$5,SMALL(IF(A!B$2:B$5=$B2,ROW($B$2:$B$5)-1,""),COUNTIF($B$2:$B2,$B2))),"")} | D2: {=IFERROR(INDEX(A!$A$2:$A$5,SMALL(IF(A!C$2:C$5=$B2,ROW($B$2:$B$5)-1,""),COUNTIF($B$2:$B2,$B2))),"")} | E2: {=IFERROR(INDEX(A!$A$2:$A$5,SMALL(IF(A!D$2:D$5=$B2,ROW($B$2:$B$5)-1,""),COUNTIF($B$2:$B2,$B2))),"")} -> superman | F2: {=IFERROR(INDEX(A!$A$2:$A$5,SMALL(IF(A!E$2:E$5=$B2,ROW($B$2:$B$5)-1,""),COUNTIF($B$2:$B2,$B2))),"")} | G2: {=IFERROR(INDEX(A!$A$2:$A$5,SMALL(IF(A!F$2:F$5=$B2,ROW($B$2:$B$5)-1,""),COUNTIF($B$2:$B2,$B2))),"")} | H2: {=IFERROR(INDEX(A!$A$2:$A$5,SMALL(IF(A!G$2:G$5=$B2,ROW($B$2:$B$5)-1,""),COUNTIF($B$2:$B2,$B2))),"")} | I2: {=IFERROR(INDEX(A!$A$2:$A$5,SMALL(IF(A!H$2:H$5=$B2,ROW($B$2:$B$5)-1,""),COUNTIF($B$2:$B2,$B2))),"")}
B3: PA | C3: {=IFERROR(INDEX(A!$A$2:$A$5,SMALL(IF(A!B$2:B$5=$B3,ROW($B$2:$B$5)-1,""),COUNTIF($B$2:$B3,$B3))),"")} | D3: {=IFERROR(INDEX(A!$A$2:$A$5,SMALL(IF(A!C$2:C$5=$B3,ROW($B$2:$B$5)-1,""),COUNTIF($B$2:$B3,$B3))),"")} | E3: {=IFERROR(INDEX(A!$A$2:$A$5,SMALL(IF(A!D$2:D$5=$B3,ROW($B$2:$B$5)-1,""),COUNTIF($B$2:$B3,$B3))),"")} -> flash | F3: {=IFERROR(INDEX(A!$A$2:$A$5,SMALL(IF(A!E$2:E$5=$B3,ROW($B$2:$B$5)-1,""),COUNTIF($B$2:$B3,$B3))),"")} | G3: {=IFERROR(INDEX(A!$A$2:$A$5,SMALL(IF(A!F$2:F$5=$B3,ROW($B$2:$B$5)-1,""),COUNTIF($B$2:$B3,$B3))),"")} | H3: {=IFERROR(INDEX(A!$A$2:$A$5,SMALL(IF(A!G$2:G$5=$B3,ROW($B$2:$B$5)-1,""),COUNTIF($B$2:$B3,$B3))),"")} | I3: {=IFERROR(INDEX(A!$A$2:$A$5,SMALL(IF(A!H$2:H$5=$B3,ROW($B$2:$B$5)-1,""),COUNTIF($B$2:$B3,$B3))),"")}
B4: PA | C4: {=IFERROR(INDEX(A!$A$2:$A$5,SMALL(IF(A!B$2:B$5=$B4,ROW($B$2:$B$5)-1,""),COUNTIF($B$2:$B4,$B4))),"")} | D4: {=IFERROR(INDEX(A!$A$2:$A$5,SMALL(IF(A!C$2:C$5=$B4,ROW($B$2:$B$5)-1,""),COUNTIF($B$2:$B4,$B4))),"")} | E4: {=IFERROR(INDEX(A!$A$2:$A$5,SMALL(IF(A!D$2:D$5=$B4,ROW($B$2:$B$5)-1,""),COUNTIF($B$2:$B4,$B4))),"")} | F4: {=IFERROR(INDEX(A!$A$2:$A$5,SMALL(IF(A!E$2:E$5=$B4,ROW($B$2:$B$5)-1,""),COUNTIF($B$2:$B4,$B4))),"")} | G4: {=IFERROR(INDEX(A!$A$2:$A$5,SMALL(IF(A!F$2:F$5=$B4,ROW($B$2:$B$5)-1,""),COUNTIF($B$2:$B4,$B4))),"")} | H4: {=IFERROR(INDEX(A!$A$2:$A$5,SMALL(IF(A!G$2:G$5=$B4,ROW($B$2:$B$5)-1,""),COUNTIF($B$2:$B4,$B4))),"")} | I4: {=IFERROR(INDEX(A!$A$2:$A$5,SMALL(IF(A!H$2:H$5=$B4,ROW($B$2:$B$5)-1,""),COUNTIF($B$2:$B4,$B4))),"")}
B5: PA | C5: {=IFERROR(INDEX(A!$A$2:$A$5,SMALL(IF(A!B$2:B$5=$B5,ROW($B$2:$B$5)-1,""),COUNTIF($B$2:$B5,$B5))),"")} | D5: {=IFERROR(INDEX(A!$A$2:$A$5,SMALL(IF(A!C$2:C$5=$B5,ROW($B$2:$B$5)-1,""),COUNTIF($B$2:$B5,$B5))),"")} | E5: {=IFERROR(INDEX(A!$A$2:$A$5,SMALL(IF(A!D$2:D$5=$B5,ROW($B$2:$B$5)-1,""),COUNTIF($B$2:$B5,$B5))),"")} | F5: {=IFERROR(INDEX(A!$A$2:$A$5,SMALL(IF(A!E$2:E$5=$B5,ROW($B$2:$B$5)-1,""),COUNTIF($B$2:$B5,$B5))),"")} | G5: {=IFERROR(INDEX(A!$A$2:$A$5,SMALL(IF(A!F$2:F$5=$B5,ROW($B$2:$B$5)-1,""),COUNTIF($B$2:$B5,$B5))),"")} | H5: {=IFERROR(INDEX(A!$A$2:$A$5,SMALL(IF(A!G$2:G$5=$B5,ROW($B$2:$B$5)-1,""),COUNTIF($B$2:$B5,$B5))),"")} | I5: {=IFERROR(INDEX(A!$A$2:$A$5,SMALL(IF(A!H$2:H$5=$B5,ROW($B$2:$B$5)-1,""),COUNTIF($B$2:$B5,$B5))),"")}
B6: PA | C6: {=IFERROR(INDEX(A!$A$2:$A$5,SMALL(IF(A!B$2:B$5=$B6,ROW($B$2:$B$5)-1,""),COUNTIF($B$2:$B6,$B6))),"")} | D6: {=IFERROR(INDEX(A!$A$2:$A$5,SMALL(IF(A!C$2:C$5=$B6,ROW($B$2:$B$5)-1,""),COUNTIF($B$2:$B6,$B6))),"")} | E6: {=IFERROR(INDEX(A!$A$2:$A$5,SMALL(IF(A!D$2:D$5=$B6,ROW($B$2:$B$5)-1,""),COUNTIF($B$2:$B6,$B6))),"")} | F6: {=IFERROR(INDEX(A!$A$2:$A$5,SMALL(IF(A!E$2:E$5=$B6,ROW($B$2:$B$5)-1,""),COUNTIF($B$2:$B6,$B6))),"")} | G6: {=IFERROR(INDEX(A!$A$2:$A$5,SMALL(IF(A!F$2:F$5=$B6,ROW($B$2:$B$5)-1,""),COUNTIF($B$2:$B6,$B6))),"")} | H6: {=IFERROR(INDEX(A!$A$2:$A$5,SMALL(IF(A!G$2:G$5=$B6,ROW($B$2:$B$5)-1,""),COUNTIF($B$2:$B6,$B6))),"")} | I6: {=IFERROR(INDEX(A!$A$2:$A$5,SMALL(IF(A!H$2:H$5=$B6,ROW($B$2:$B$5)-1,""),COUNTIF($B$2:$B6,$B6))),"")}
B7: PA | C7: {=IFERROR(INDEX(A!$A$2:$A$5,SMALL(IF(A!B$2:B$5=$B7,ROW($B$2:$B$5)-1,""),COUNTIF($B$2:$B7,$B7))),"")} | D7: {=IFERROR(INDEX(A!$A$2:$A$5,SMALL(IF(A!C$2:C$5=$B7,ROW($B$2:$B$5)-1,""),COUNTIF($B$2:$B7,$B7))),"")} | E7: {=IFERROR(INDEX(A!$A$2:$A$5,SMALL(IF(A!D$2:D$5=$B7,ROW($B$2:$B$5)-1,""),COUNTIF($B$2:$B7,$B7))),"")} | F7: {=IFERROR(INDEX(A!$A$2:$A$5,SMALL(IF(A!E$2:E$5=$B7,ROW($B$2:$B$5)-1,""),COUNTIF($B$2:$B7,$B7))),"")} | G7: {=IFERROR(INDEX(A!$A$2:$A$5,SMALL(IF(A!F$2:F$5=$B7,ROW($B$2:$B$5)-1,""),COUNTIF($B$2:$B7,$B7))),"")} | H7: {=IFERROR(INDEX(A!$A$2:$A$5,SMALL(IF(A!G$2:G$5=$B7,ROW($B$2:$B$5)-1,""),COUNTIF($B$2:$B7,$B7))),"")} | I7: {=IFERROR(INDEX(A!$A$2:$A$5,SMALL(IF(A!H$2:H$5=$B7,ROW($B$2:$B$5)-1,""),COUNTIF($B$2:$B7,$B7))),"")}
B8: PA | C8: {=IFERROR(INDEX(A!$A$2:$A$5,SMALL(IF(A!B$2:B$5=$B8,ROW($B$2:$B$5)-1,""),COUNTIF($B$2:$B8,$B8))),"")} | D8: {=IFERROR(INDEX(A!$A$2:$A$5,SMALL(IF(A!C$2:C$5=$B8,ROW($B$2:$B$5)-1,""),COUNTIF($B$2:$B8,$B8))),"")} | E8: {=IFERROR(INDEX(A!$A$2:$A$5,SMALL(IF(A!D$2:D$5=$B8,ROW($B$2:$B$5)-1,""),COUNTIF($B$2:$B8,$B8))),"")} | F8: {=IFERROR(INDEX(A!$A$2:$A$5,SMALL(IF(A!E$2:E$5=$B8,ROW($B$2:$B$5)-1,""),COUNTIF($B$2:$B8,$B8))),"")} | G8: {=IFERROR(INDEX(A!$A$2:$A$5,SMALL(IF(A!F$2:F$5=$B8,ROW($B$2:$B$5)-1,""),COUNTIF($B$2:$B8,$B8))),"")} | H8: {=IFERROR(INDEX(A!$A$2:$A$5,SMALL(IF(A!G$2:G$5=$B8,ROW($B$2:$B$5)-1,""),COUNTIF($B$2:$B8,$B8))),"")} | I8: {=IFERROR(INDEX(A!$A$2:$A$5,SMALL(IF(A!H$2:H$5=$B8,ROW($B$2:$B$5)-1,""),COUNTIF($B$2:$B8,$B8))),"")}
B9: PA | C9: {=IFERROR(INDEX(A!$A$2:$A$5,SMALL(IF(A!B$2:B$5=$B9,ROW($B$2:$B$5)-1,""),COUNTIF($B$2:$B9,$B9))),"")} | D9: {=IFERROR(INDEX(A!$A$2:$A$5,SMALL(IF(A!C$2:C$5=$B9,ROW($B$2:$B$5)-1,""),COUNTIF($B$2:$B9,$B9))),"")} | E9: {=IFERROR(INDEX(A!$A$2:$A$5,SMALL(IF(A!D$2:D$5=$B9,ROW($B$2:$B$5)-1,""),COUNTIF($B$2:$B9,$B9))),"")} | F9: {=IFERROR(INDEX(A!$A$2:$A$5,SMALL(IF(A!E$2:E$5=$B9,ROW($B$2:$B$5)-1,""),COUNTIF($B$2:$B9,$B9))),"")} | G9: {=IFERROR(INDEX(A!$A$2:$A$5,SMALL(IF(A!F$2:F$5=$B9,ROW($B$2:$B$5)-1,""),COUNTIF($B$2:$B9,$B9))),"")} | H9: {=IFERROR(INDEX(A!$A$2:$A$5,SMALL(IF(A!G$2:G$5=$B9,ROW($B$2:$B$5)-1,""),COUNTIF($B$2:$B9,$B9))),"")} | I9: {=IFERROR(INDEX(A!$A$2:$A$5,SMALL(IF(A!H$2:H$5=$B9,ROW($B$2:$B$5)-1,""),COUNTIF($B$2:$B9,$B9))),"")}
B10: PA | C10: {=IFERROR(INDEX(A!$A$2:$A$5,SMALL(IF(A!B$2:B$5=$B10,ROW($B$2:$B$5)-1,""),COUNTIF($B$2:$B10,$B10))),"")} | D10: {=IFERROR(INDEX(A!$A$2:$A$5,SMALL(IF(A!C$2:C$5=$B10,ROW($B$2:$B$5)-1,""),COUNTIF($B$2:$B10,$B10))),"")} | E10: {=IFERROR(INDEX(A!$A$2:$A$5,SMALL(IF(A!D$2:D$5=$B10,ROW($B$2:$B$5)-1,""),COUNTIF($B$2:$B10,$B10))),"")} | F10: {=IFERROR(INDEX(A!$A$2:$A$5,SMALL(IF(A!E$2:E$5=$B10,ROW($B$2:$B$5)-1,""),COUNTIF($B$2:$B10,$B10))),"")} | G10: {=IFERROR(INDEX(A!$A$2:$A$5,SMALL(IF(A!F$2:F$5=$B10,ROW($B$2:$B$5)-1,""),COUNTIF($B$2:$B10,$B10))),"")} | H10: {=IFERROR(INDEX(A!$A$2:$A$5,SMALL(IF(A!G$2:G$5=$B10,ROW($B$2:$B$5)-1,""),COUNTIF($B$2:$B10,$B10))),"")} | I10: {=IFERROR(INDEX(A!$A$2:$A$5,SMALL(IF(A!H$2:H$5=$B10,ROW($B$2:$B$5)-1,""),COUNTIF($B$2:$B10,$B10))),"")}
B11: PA | C11: {=IFERROR(INDEX(A!$A$2:$A$5,SMALL(IF(A!B$2:B$5=$B11,ROW($B$2:$B$5)-1,""),COUNTIF($B$2:$B11,$B11))),"")} | D11: {=IFERROR(INDEX(A!$A$2:$A$5,SMALL(IF(A!C$2:C$5=$B11,ROW($B$2:$B$5)-1,""),COUNTIF($B$2:$B11,$B11))),"")} | E11: {=IFERROR(INDEX(A!$A$2:$A$5,SMALL(IF(A!D$2:D$5=$B11,ROW($B$2:$B$5)-1,""),COUNTIF($B$2:$B11,$B11))),"")} | F11: {=IFERROR(INDEX(A!$A$2:$A$5,SMALL(IF(A!E$2:E$5=$B11,ROW($B$2:$B$5)-1,""),COUNTIF($B$2:$B11,$B11))),"")} | G11: {=IFERROR(INDEX(A!$A$2:$A$5,SMALL(IF(A!F$2:F$5=$B11,ROW($B$2:$B$5)-1,""),COUNTIF($B$2:$B11,$B11))),"")} | H11: {=IFERROR(INDEX(A!$A$2:$A$5,SMALL(IF(A!G$2:G$5=$B11,ROW($B$2:$B$5)-1,""),COUNTIF($B$2:$B11,$B11))),"")} | I11: {=IFERROR(INDEX(A!$A$2:$A$5,SMALL(IF(A!H$2:H$5=$B11,ROW($B$2:$B$5)-1,""),COUNTIF($B$2:$B11,$B11))),"")}
B12: PA | C12: {=IFERROR(INDEX(A!$A$2:$A$5,SMALL(IF(A!B$2:B$5=$B12,ROW($B$2:$B$5)-1,""),COUNTIF($B$2:$B12,$B12))),"")} | D12: {=IFERROR(INDEX(A!$A$2:$A$5,SMALL(IF(A!C$2:C$5=$B12,ROW($B$2:$B$5)-1,""),COUNTIF($B$2:$B12,$B12))),"")} | E12: {=IFERROR(INDEX(A!$A$2:$A$5,SMALL(IF(A!D$2:D$5=$B12,ROW($B$2:$B$5)-1,""),COUNTIF($B$2:$B12,$B12))),"")} | F12: {=IFERROR(INDEX(A!$A$2:$A$5,SMALL(IF(A!E$2:E$5=$B12,ROW($B$2:$B$5)-1,""),COUNTIF($B$2:$B12,$B12))),"")} | G12: {=IFERROR(INDEX(A!$A$2:$A$5,SMALL(IF(A!F$2:F$5=$B12,ROW($B$2:$B$5)-1,""),COUNTIF($B$2:$B12,$B12))),"")} | H12: {=IFERROR(INDEX(A!$A$2:$A$5,SMALL(IF(A!G$2:G$5=$B12,ROW($B$2:$B$5)-1,""),COUNTIF($B$2:$B12,$B12))),"")} | I12: {=IFERROR(INDEX(A!$A$2:$A$5,SMALL(IF(A!H$2:H$5=$B12,ROW($B$2:$B$5)-1,""),COUNTIF($B$2:$B12,$B12))),"")}
B13: PA | C13: {=IFERROR(INDEX(A!$A$2:$A$5,SMALL(IF(A!B$2:B$5=$B13,ROW($B$2:$B$5)-1,""),COUNTIF($B$2:$B13,$B13))),"")} | D13: {=IFERROR(INDEX(A!$A$2:$A$5,SMALL(IF(A!C$2:C$5=$B13,ROW($B$2:$B$5)-1,""),COUNTIF($B$2:$B13,$B13))),"")} | E13: {=IFERROR(INDEX(A!$A$2:$A$5,SMALL(IF(A!D$2:D$5=$B13,ROW($B$2:$B$5)-1,""),COUNTIF($B$2:$B13,$B13))),"")} | F13: {=IFERROR(INDEX(A!$A$2:$A$5,SMALL(IF(A!E$2:E$5=$B13,ROW($B$2:$B$5)-1,""),COUNTIF($B$2:$B13,$B13))),"")} | G13: {=IFERROR(INDEX(A!$A$2:$A$5,SMALL(IF(A!F$2:F$5=$B13,ROW($B$2:$B$5)-1,""),COUNTIF($B$2:$B13,$B13))),"")} | H13: {=IFERROR(INDEX(A!$A$2:$A$5,SMALL(IF(A!G$2:G$5=$B13,ROW($B$2:$B$5)-1,""),COUNTIF($B$2:$B13,$B13))),"")} | I13: {=IFERROR(INDEX(A!$A$2:$A$5,SMALL(IF(A!H$2:H$5=$B13,ROW($B$2:$B$5)-1,""),COUNTIF($B$2:$B13,$B13))),"")}
... B57: SRW | C57: {=IFERROR(INDEX(A!$A$2:$A$5,SMALL(IF(A!B$2:B$5=$B57,ROW($B$2:$B$5)-1,""),COUNTIF($B$2:$B57,$B57))),"")} | D57: {=IFERROR(INDEX(A!$A$2:$A$5,SMALL(IF(A!C$2:C$5=$B57,ROW($B$2:$B$5)-1,""),COUNTIF($B$2:$B57,$B57))),"")} | E57: {=IFERROR(INDEX(A!$A$2:$A$5,SMALL(IF(A!D$2:D$5=$B57,ROW($B$2:$B$5)-1,""),COUNTIF($B$2:$B57,$B57))),"")} | F57: {=IFERROR(INDEX(A!$A$2:$A$5,SMALL(IF(A!E$2:E$5=$B57,ROW($B$2:$B$5)-1,""),COUNTIF($B$2:$B57,$B57))),"")} | G57: {=IFERROR(INDEX(A!$A$2:$A$5,SMALL(IF(A!F$2:F$5=$B57,ROW($B$2:$B$5)-1,""),COUNTIF($B$2:$B57,$B57))),"")} | H57: {=IFERROR(INDEX(A!$A$2:$A$5,SMALL(IF(A!G$2:G$5=$B57,ROW($B$2:$B$5)-1,""),COUNTIF($B$2:$B57,$B57))),"")} | I57: {=IFERROR(INDEX(A!$A$2:$A$5,SMALL(IF(A!H$2:H$5=$B57,ROW($B$2:$B$5)-1,""),COUNTIF($B$2:$B57,$B57))),"")}
