Workbook
Name COMMERCIAL: 'Feuille X'!$N$3:$N$4
Name dept: Produits!$B$1
Name Désignation: Produits!$B$2:$B$294
Name Désignation: Produits!$B$2:$B$294
Name DUREE_LOA: Locam!$B$3:$F$3
Name DUREE_LOA: Locam!$B$3:$F$3
Name DUSAM: 'Contrat DUSAM'!$A$1:$A$38
Name DUSAM: 'Contrat DUSAM'!$A$1:$A$38
Name DUSAM2: 'Contrat DUSAM'!$A$1:$C$38
Name DUSAM2: 'Contrat DUSAM'!$A$1:$C$38
Name L.O.A: 'Devis Client'!$B$43
Name L.O.A: 'Devis Client'!$B$43
Name listerouge: OFFSET(Produits!$L$3,,,COUNTIF(Produits!$L:K,"><")-1)
Name LOCATION: Locam!$B$3:$F$3
Name LOCATION: Locam!$C$3:$F$3
Name P.A_x_Qté: 'Feuille X'!$H$9:$H$32
Name Print_Area: 'Devis Client'!$B$1:$H$99
Name Produits: Produits!$B$2:$F$294
Name TOTAL.L.O.A: Locam!$F$1
Name TOTAL.L.O.A: Locam!$F$1
Name TOTALHT: 'Devis Client'!$H$20:$H$40
Name TOTALHT: 'Devis Client'!$H$20:$H$40
Name Vendeur: 'Contrat DUSAM'!$A$47:$A$51

Sheet Devis Client
F4: SOCIETE
F5: NOM PRENOM
F6: ADRESSE
F7: CP VILLE
F8: TELEPHONE
F9: MAIL
F11: COMMERCIAL
F13: DATE
B16: XXXXXXXXXXXXXXXXXXXXXXXXXXXXXX
B19: Désignation | E19: Référence | F19: Qté | G19: P.U | H19: PRIX H.T
B20: xxxxCaisse 15" FORMAT 4/3 (I3) | E20: =IF(ISNA(VLOOKUP($B20,Produits,2,FALSE)),"",VLOOKUP($B20,Produits,2,FALSE)) -> ART-3520 | G20: =IF(ISNA(VLOOKUP($B20,Produits,5,FALSE)),"",VLOOKUP($B20,Produits,5,FALSE)) -> 1970 | H20: =IF(ISERROR(G20*F20),"",G20*F20) -> 0 | L20: =IFERROR(SMALL(Produits!A$2:A$1000,MATCH($B20,Produits!L$3:L$360,0)),"") -> 1 | M20: {=IF(L20="","",MIN(IF(Produits!A$2:A$1000>$L20,Produits!A$2:A$1000,""))-L20)} -> 4
B21: IMPRIMANTE THERMIQUE | E21: =IF(ISNA(VLOOKUP($B21,Produits,2,FALSE)),"",VLOOKUP($B21,Produits,2,FALSE)) -> ART-02890 | G21: =IF(ISNA(VLOOKUP($B21,Produits,5,FALSE)),"",VLOOKUP($B21,Produits,5,FALSE)) -> 380 | H21: =IF(ISERROR(G21*F21),"",G21*F21) -> 0 | L21: =IFERROR(SMALL(Produits!A$2:A$1000,MATCH($B21,Produits!L$3:L$360,0)),MAX(L20:L20)) -> 1 | M21: {=IF(L21="","",MIN(IF(Produits!A$2:A$1000>$L21,Produits!A$2:A$1000,""))-L21)} -> 4
B22: TIROIR | E22: =IF(ISNA(VLOOKUP($B22,Produits,2,FALSE)),"",VLOOKUP($B22,Produits,2,FALSE)) -> ART-00051 | G22: =IF(ISNA(VLOOKUP($B22,Produits,5,FALSE)),"",VLOOKUP($B22,Produits,5,FALSE)) -> 85 | H22: =IF(ISERROR(G22*F22),"",G22*F22) -> 0 | L22: =IFERROR(SMALL(Produits!A$2:A$1000,MATCH($B22,Produits!L$3:L$360,0)),MAX(L21:L21)) -> 1 | M22: {=IF(L22="","",MIN(IF(Produits!A$2:A$1000>$L22,Produits!A$2:A$1000,""))-L22)} -> 4
E23: =IF(ISNA(VLOOKUP($B23,Produits,2,FALSE)),"",VLOOKUP($B23,Produits,2,FALSE)) | G23: =IF(ISNA(VLOOKUP($B23,Produits,5,FALSE)),"",VLOOKUP($B23,Produits,5,FALSE)) | H23: =IF(ISERROR(G23*F23),"",G23*F23) | L23: =IFERROR(SMALL(Produits!A$2:A$1000,MATCH($B23,Produits!L$3:L$360,0)),MAX(L22:L22)) -> 1 | M23: {=IF(L23="","",MIN(IF(Produits!A$2:A$1000>$L23,Produits!A$2:A$1000,""))-L23)} -> 4
B24: XXXXXXXXXXXXX ACTN XXXXXXXXXXXXXX | E24: =IF(ISNA(VLOOKUP($B24,Produits,2,FALSE)),"",VLOOKUP($B24,Produits,2,FALSE)) -> 0 | G24: =IF(ISNA(VLOOKUP($B24,Produits,5,FALSE)),"",VLOOKUP($B24,Produits,5,FALSE)) -> 0 | H24: =IF(ISERROR(G24*F24),"",G24*F24) -> 0 | L24: =IFERROR(SMALL(Produits!A$2:A$1000,MATCH($B24,Produits!L$3:L$360,0)),MAX(L23:L23)) -> 24 | M24: {=IF(L24="","",MIN(IF(Produits!A$2:A$1000>$L24,Produits!A$2:A$1000,""))-L24)} -> 4
B25: ONDULEUR 600 VA 3 P | E25: =IF(ISNA(VLOOKUP($B25,Produits,2,FALSE)),"",VLOOKUP($B25,Produits,2,FALSE)) -> NITRAMBU600 | G25: =IF(ISNA(VLOOKUP($B25,Produits,5,FALSE)),"",VLOOKUP($B25,Produits,5,FALSE)) -> 150 | H25: =IF(ISERROR(G25*F25),"",G25*F25) -> 0 | L25: =IFERROR(SMALL(Produits!A$2:A$1000,MATCH($B25,Produits!L$3:L$360,0)),MAX(L24:L24)) -> 24 | M25: {=IF(L25="","",MIN(IF(Produits!A$2:A$1000>$L25,Produits!A$2:A$1000,""))-L25)} -> 4
B26: ONDULEUR 700 VA 8 P | E26: =IF(ISNA(VLOOKUP($B26,Produits,2,FALSE)),"",VLOOKUP($B26,Produits,2,FALSE)) -> NITRAMPB700 | G26: =IF(ISNA(VLOOKUP($B26,Produits,5,FALSE)),"",VLOOKUP($B26,Produits,5,FALSE)) -> 160 | H26: =IF(ISERROR(G26*F26),"",G26*F26) -> 0 | L26: =IFERROR(SMALL(Produits!A$2:A$1000,MATCH($B26,Produits!L$3:L$360,0)),MAX(L25:L25)) -> 24 | M26: {=IF(L26="","",MIN(IF(Produits!A$2:A$1000>$L26,Produits!A$2:A$1000,""))-L26)} -> 4
E27: =IF(ISNA(VLOOKUP($B27,Produits,2,FALSE)),"",VLOOKUP($B27,Produits,2,FALSE)) | G27: =IF(ISNA(VLOOKUP($B27,Produits,5,FALSE)),"",VLOOKUP($B27,Produits,5,FALSE)) | H27: =IF(ISERROR(G27*F27),"",G27*F27) | L27: =IFERROR(SMALL(Produits!A$2:A$1000,MATCH($B27,Produits!L$3:L$360,0)),MAX(L26:L26)) -> 24 | M27: {=IF(L27="","",MIN(IF(Produits!A$2:A$1000>$L27,Produits!A$2:A$1000,""))-L27)} -> 4
E28: =IF(ISNA(VLOOKUP($B28,Produits,2,FALSE)),"",VLOOKUP($B28,Produits,2,FALSE)) | G28: =IF(ISNA(VLOOKUP($B28,Produits,5,FALSE)),"",VLOOKUP($B28,Produits,5,FALSE)) | H28: =IF(ISERROR(G28*F28),"",G28*F28) | L28: =IFERROR(SMALL(Produits!A$2:A$1000,MATCH($B28,Produits!L$3:L$360,0)),MAX(L27:L27)) -> 24 | M28: {=IF(L28="","",MIN(IF(Produits!A$2:A$1000>$L28,Produits!A$2:A$1000,""))-L28)} -> 4
E29: =IF(ISNA(VLOOKUP($B29,Produits,2,FALSE)),"",VLOOKUP($B29,Produits,2,FALSE)) | G29: =IF(ISNA(VLOOKUP($B29,Produits,5,FALSE)),"",VLOOKUP($B29,Produits,5,FALSE)) | H29: =IF(ISERROR(G29*F29),"",G29*F29) | L29: =IFERROR(SMALL(Produits!A$2:A$1000,MATCH($B29,Produits!L$3:L$360,0)),MAX(L28:L28)) -> 24 | M29: {=IF(L29="","",MIN(IF(Produits!A$2:A$1000>$L29,Produits!A$2:A$1000,""))-L29)} -> 4
E30: =IF(ISNA(VLOOKUP($B30,Produits,2,FALSE)),"",VLOOKUP($B30,Produits,2,FALSE)) | G30: =IF(ISNA(VLOOKUP($B30,Produits,5,FALSE)),"",VLOOKUP($B30,Produits,5,FALSE)) | H30: =IF(ISERROR(G30*F30),"",G30*F30) | L30: =IFERROR(SMALL(Produits!A$2:A$1000,MATCH($B30,Produits!L$3:L$360,0)),MAX(L29:L29)) -> 24 | M30: {=IF(L30="","",MIN(IF(Produits!A$2:A$1000>$L30,Produits!A$2:A$1000,""))-L30)} -> 4
E31: =IF(ISNA(VLOOKUP($B31,Produits,2,FALSE)),"",VLOOKUP($B31,Produits,2,FALSE)) | G31: =IF(ISNA(VLOOKUP($B31,Produits,5,FALSE)),"",VLOOKUP($B31,Produits,5,FALSE)) | H31: =IF(ISERROR(G31*F31),"",G31*F31) | L31: =IFERROR(SMALL(Produits!A$2:A$1000,MATCH($B31,Produits!L$3:L$360,0)),MAX(L30:L30)) -> 24 | M31: {=IF(L31="","",MIN(IF(Produits!A$2:A$1000>$L31,Produits!A$2:A$1000,""))-L31)} -> 4
E32: =IF(ISNA(VLOOKUP($B32,Produits,2,FALSE)),"",VLOOKUP($B32,Produits,2,FALSE)) | G32: =IF(ISNA(VLOOKUP($B32,Produits,5,FALSE)),"",VLOOKUP($B32,Produits,5,FALSE)) | H32: =IF(ISERROR(G32*F32),"",G32*F32) | L32: =IFERROR(SMALL(Produits!A$2:A$1000,MATCH($B32,Produits!L$3:L$360,0)),MAX(L31:L31)) -> 24 | M32: {=IF(L32="","",MIN(IF(Produits!A$2:A$1000>$L32,Produits!A$2:A$1000,""))-L32)} -> 4
B33: XXXXXXX PERIMATIC PACK TABLETTESXXXXXXXXX | E33: =IF(ISNA(VLOOKUP($B33,Produits,2,FALSE)),"",VLOOKUP($B33,Produits,2,FALSE)) -> 0 | G33: =IF(ISNA(VLOOKUP($B33,Produits,5,FALSE)),"",VLOOKUP($B33,Produits,5,FALSE)) -> 0 | H33: =IF(ISERROR(G33*F33),"",G33*F33) -> 0 | L33: =IFERROR(SMALL(Produits!A$2:A$1000,MATCH($B33,Produits!L$3:L$360,0)),MAX(L32:L32)) -> 68 | M33: {=IF(L33="","",MIN(IF(Produits!A$2:A$1000>$L33,Produits!A$2:A$1000,""))-L33)} -> 5
B34: CAISSE TACTILE 15" OVA I5 FORMAT 4/3 | E34: =IF(ISNA(VLOOKUP($B34,Produits,2,FALSE)),"",VLOOKUP($B34,Produits,2,FALSE)) -> OVA I5 | G34: =IF(ISNA(VLOOKUP($B34,Produits,5,FALSE)),"",VLOOKUP($B34,Produits,5,FALSE)) -> 1390 | H34: =IF(ISERROR(G34*F34),"",G34*F34) -> 0 | L34: =IFERROR(SMALL(Produits!A$2:A$1000,MATCH($B34,Produits!L$3:L$360,0)),MAX(L33:L33)) -> 68 | M34: {=IF(L34="","",MIN(IF(Produits!A$2:A$1000>$L34,Produits!A$2:A$1000,""))-L34)} -> 5
E35: =IF(ISNA(VLOOKUP($B35,Produits,2,FALSE)),"",VLOOKUP($B35,Produits,2,FALSE)) | G35: =IF(ISNA(VLOOKUP($B35,Produits,5,FALSE)),"",VLOOKUP($B35,Produits,5,FALSE)) | H35: =IF(ISERROR(G35*F35),"",G35*F35) | L35: =IFERROR(SMALL(Produits!A$2:A$1000,MATCH($B35,Produits!L$3:L$360,0)),MAX(L34:L34)) -> 68 | M35: {=IF(L35="","",MIN(IF(Produits!A$2:A$1000>$L35,Produits!A$2:A$1000,""))-L35)} -> 5
E36: =IF(ISNA(VLOOKUP($B36,Produits,2,FALSE)),"",VLOOKUP($B36,Produits,2,FALSE)) | G36: =IF(ISNA(VLOOKUP($B36,Produits,5,FALSE)),"",VLOOKUP($B36,Produits,5,FALSE)) | H36: =IF(ISERROR(G36*F36),"",G36*F36) | L36: =IFERROR(SMALL(Produits!A$2:A$1000,MATCH($B36,Produits!L$3:L$360,0)),MAX(L35:L35)) -> 68 | M36: {=IF(L36="","",MIN(IF(Produits!A$2:A$1000>$L36,Produits!A$2:A$1000,""))-L36)} -> 5
E37: =IF(ISNA(VLOOKUP($B37,Produits,2,FALSE)),"",VLOOKUP($B37,Produits,2,FALSE)) | G37: =IF(ISNA(VLOOKUP($B37,Produits,5,FALSE)),"",VLOOKUP($B37,Produits,5,FALSE)) | H37: =IF(ISERROR(G37*F37),"",G37*F37) | L37: =IFERROR(SMALL(Produits!A$2:A$1000,MATCH($B37,Produits!L$3:L$360,0)),MAX(L36:L36)) -> 68 | M37: {=IF(L37="","",MIN(IF(Produits!A$2:A$1000>$L37,Produits!A$2:A$1000,""))-L37)} -> 5
E38: =IF(ISNA(VLOOKUP($B38,Produits,2,FALSE)),"",VLOOKUP($B38,Produits,2,FALSE)) | G38: =IF(ISNA(VLOOKUP($B38,Produits,5,FALSE)),"",VLOOKUP($B38,Produits,5,FALSE)) | H38: =IF(ISERROR(G38*F38),"",G38*F38) | L38: =IFERROR(SMALL(Produits!A$2:A$1000,MATCH($B38,Produits!L$3:L$360,0)),MAX(L37:L37)) -> 68 | M38: {=IF(L38="","",MIN(IF(Produits!A$2:A$1000>$L38,Produits!A$2:A$1000,""))-L38)} -> 5
E39: =IF(ISNA(VLOOKUP($B39,Produits,2,FALSE)),"",VLOOKUP($B39,Produits,2,FALSE)) | G39: =IF(ISNA(VLOOKUP($B39,Produits,5,FALSE)),"",VLOOKUP($B39,Produits,5,FALSE)) | H39: =IF(ISERROR(G39*F39),"",G39*F39) | L39: =IFERROR(SMALL(Produits!A$2:A$1000,MATCH($B39,Produits!L$3:L$360,0)),MAX(L38:L38)) -> 68 | M39: {=IF(L39="","",MIN(IF(Produits!A$2:A$1000>$L39,Produits!A$2:A$1000,""))-L39)} -> 5
B40: Validité du Devis | E40: 1 mois | G40: =IF(ISNA(VLOOKUP($B40,Produits,5,FALSE)),"",VLOOKUP($B40,Produits,5,FALSE)) | H40: =IF(ISERROR(G40*F40),"",G40*F40) | L40: =IFERROR(SMALL(Produits!A$2:A$1000,MATCH($B40,Produits!L$3:L$360,0)),MAX(L39:L39)) -> 68 | M40: {=IF(L40="","",MIN(IF(Produits!A$2:A$1000>$L40,Produits!A$2:A$1000,""))-L40)} -> 5
B41: SANS ECHANGE DE DONNEES | E41: ="+" &""& VLOOKUP(B41,DUSAM2,2,FALSE) -> +0 € HT/MOIS | L41: =IFERROR(SMALL(Produits!A$2:A$1000,MATCH($B41,Produits!L$3:L$360,0)),MAX(L40:L40)) -> 68 | M41: {=IF(L41="","",MIN(IF(Produits!A$2:A$1000>$L41,Produits!A$2:A$1000,""))-L41)} -> 5
B42: SANS CONTRAT DE MAINTENANCE | E42: ="+" &""& VLOOKUP(B42,DUSAM2,2,FALSE) -> +0€ H.T/MOIS | H42: =VLOOKUP(B42,DUSAM2,3,FALSE) -> 0 | L42: =IFERROR(SMALL(Produits!A$2:A$1000,MATCH($B42,Produits!L$3:L$360,0)),MAX(L41:L41)) -> 68 | M42: {=IF(L42="","",MIN(IF(Produits!A$2:A$1000>$L42,Produits!A$2:A$1000,""))-L42)} -> 5
L43: =IFERROR(SMALL(Produits!A$2:A$1000,MATCH($B43,Produits!L$3:L$360,0)),MAX(L42:L42)) -> 68 | M43: {=IF(L43="","",MIN(IF(Produits!A$2:A$1000>$L43,Produits!A$2:A$1000,""))-L43)} -> 5
B44: TOTAL H.T | C44: TAUX | D44: MATERIEL | E44: MAINTENANCE | L44: =IFERROR(SMALL(Produits!A$2:A$1000,MATCH($B44,Produits!L$3:L$360,0)),MAX(L43:L43)) -> 68 | M44: {=IF(L44="","",MIN(IF(Produits!A$2:A$1000>$L44,Produits!A$2:A$1000,""))-L44)} -> 5
B45: =H47 -> 0 | C45: =INDEX(Locam!B4:F9,MATCH(B45,{0,301,3001,5001,8001,12001,100000}),MATCH(L.O.A,DUREE_LOA)) -> #N/A | D45: =TOTAL.L.O.A -> #N/A | E45: ="+"&""&L42 -> +68 | L45: =IFERROR(SMALL(Produits!A$2:A$1000,MATCH($B45,Produits!L$3:L$360,0)),MAX(L44:L44)) -> 68 | M45: {=IF(L45="","",MIN(IF(Produits!A$2:A$1000>$L45,Produits!A$2:A$1000,""))-L45)} -> 5
B46: SAV DU LUNDI AU SAMEDI 9H-18H | L46: =IFERROR(SMALL(Produits!A$2:A$1000,MATCH($B46,Produits!L$3:L$360,0)),MAX(L45:L45)) -> 68 | M46: {=IF(L46="","",MIN(IF(Produits!A$2:A$1000>$L46,Produits!A$2:A$1000,""))-L46)} -> 5
B47: En cas d'acceptation veuillez nous retourner cet exemplaire avec votre signature et cachet avec la mention "Bon pour accord" | F47: Montant H.T. | H47: =SUMIF(TOTALHT,"<>#N/A") -> 0
F48: T.V.A. 20% | H48: =H47*20% -> 0
F49: Montant T.T.C. | H49: =H47+H48 -> 0

Sheet Feuille X
I1: ='Devis Client'!$F$4 -> SOCIETE
I2: ='Devis Client'!F5 -> NOM PRENOM
I3: ='Devis Client'!F6 -> ADRESSE | N3: ALAIN
I4: ='Devis Client'!F7 -> CP VILLE | N4: MATTHEWS
A5: ='Devis Client'!$B$16 -> XXXXXXXXXXXXXXXXXXXXXXXXXXXXXX | I5: ='Devis Client'!F8 -> TELEPHONE
I6: ='Devis Client'!F13 -> DATE
A8: Désignation | D8: Code REF. | E8: Qté | F8: P.A | G8: Qté * P.A | H8: P.V | I8: Qté*P.V | J8: MARGE | K8: TX MARQUE
A9: ='Devis Client'!$B$20 -> xxxxCaisse 15" FORMAT 4/3 (I3) | D9: ='Devis Client'!E20 -> ART-3520 | E9: ='Devis Client'!F20 -> 0 | F9: =IF(ISNA(VLOOKUP($A9,Produits,3,FALSE)),"",VLOOKUP($A9,Produits,3,FALSE)) -> 1079 | G9: =IF(ISERROR(F9*E9),"",(F9*E9)) -> 0 | H9: =IF(ISNA(VLOOKUP($A9,Produits,5,FALSE)),"",VLOOKUP($A9,Produits,5,FALSE)) -> 1970 | I9: =IF(ISERROR(H9*E9),"",(H9*E9)) -> 0 | J9: =IF(ISERROR(I9-G9),"",(I9-G9)) -> 0 | K9: =IF(ISERROR(J9/I9),"",J9/I9)
A10: ='Devis Client'!$B$21 -> IMPRIMANTE THERMIQUE | D10: ='Devis Client'!E21 -> ART-02890 | E10: ='Devis Client'!F21 -> 0 | F10: =IF(ISNA(VLOOKUP($A10,Produits,3,FALSE)),"",VLOOKUP($A10,Produits,3,FALSE)) -> 145 | G10: =IF(ISERROR(F10*E10),"",(F10*E10)) -> 0 | H10: =IF(ISNA(VLOOKUP($A10,Produits,5,FALSE)),"",VLOOKUP($A10,Produits,5,FALSE)) -> 380 | I10: =IF(ISERROR(H10*E10),"",(H10*E10)) -> 0 | J10: =IF(ISERROR(I10-G10),"",(I10-G10)) -> 0 | K10: =IF(ISERROR(J10/I10),"",J10/I10)
A11: ='Devis Client'!$B$22 -> TIROIR | D11: ='Devis Client'!E22 -> ART-00051 | E11: ='Devis Client'!F22 -> 0 | F11: =IF(ISNA(VLOOKUP($A11,Produits,3,FALSE)),"",VLOOKUP($A11,Produits,3,FALSE)) -> 0 | G11: =IF(ISERROR(F11*E11),"",(F11*E11)) -> 0 | H11: =IF(ISNA(VLOOKUP($A11,Produits,5,FALSE)),"",VLOOKUP($A11,Produits,5,FALSE)) -> 85 | I11: =IF(ISERROR(H11*E11),"",(H11*E11)) -> 0 | J11: =IF(ISERROR(I11-G11),"",(I11-G11)) -> 0 | K11: =IF(ISERROR(J11/I11),"",J11/I11)
A12: ='Devis Client'!$B$23 -> 0 | D12: ='Devis Client'!E23 | E12: ='Devis Client'!F23 -> 0 | F12: =IF(ISNA(VLOOKUP($A12,Produits,3,FALSE)),"",VLOOKUP($A12,Produits,3,FALSE)) | G12: =IF(ISERROR(F12*E12),"",(F12*E12)) | H12: =IF(ISNA(VLOOKUP($A12,Produits,5,FALSE)),"",VLOOKUP($A12,Produits,5,FALSE)) | I12: =IF(ISERROR(H12*E12),"",(H12*E12)) | J12: =IF(ISERROR(I12-G12),"",(I12-G12)) | K12: =IF(ISERROR(J12/I12),"",J12/I12)
A13: ='Devis Client'!$B$24 -> XXXXXXXXXXXXX ACTN XXXXXXXXXXXXXX | D13: ='Devis Client'!E24 -> 0 | E13: ='Devis Client'!F24 -> 0 | F13: =IF(ISNA(VLOOKUP($A13,Produits,3,FALSE)),"",VLOOKUP($A13,Produits,3,FALSE)) -> 0 | G13: =IF(ISERROR(F13*E13),"",(F13*E13)) -> 0 | H13: =IF(ISNA(VLOOKUP($A13,Produits,5,FALSE)),"",VLOOKUP($A13,Produits,5,FALSE)) -> 0 | I13: =IF(ISERROR(H13*E13),"",(H13*E13)) -> 0 | J13: =IF(ISERROR(I13-G13),"",(I13-G13)) -> 0 | K13: =IF(ISERROR(J13/I13),"",J13/I13)
A14: ='Devis Client'!$B$25 -> ONDULEUR 600 VA 3 P | D14: ='Devis Client'!E25 -> NITRAMBU600 | E14: ='Devis Client'!F25 -> 0 | F14: =IF(ISNA(VLOOKUP($A14,Produits,3,FALSE)),"",VLOOKUP($A14,Produits,3,FALSE)) -> 43 | G14: =IF(ISERROR(F14*E14),"",(F14*E14)) -> 0 | H14: =IF(ISNA(VLOOKUP($A14,Produits,5,FALSE)),"",VLOOKUP($A14,Produits,5,FALSE)) -> 150 | I14: =IF(ISERROR(H14*E14),"",(H14*E14)) -> 0 | J14: =IF(ISERROR(I14-G14),"",(I14-G14)) -> 0 | K14: =IF(ISERROR(J14/I14),"",J14/I14)
A15: ='Devis Client'!$B$26 -> ONDULEUR 700 VA 8 P | D15: ='Devis Client'!E26 -> NITRAMPB700 | E15: ='Devis Client'!F26 -> 0 | F15: =IF(ISNA(VLOOKUP($A15,Produits,3,FALSE)),"",VLOOKUP($A15,Produits,3,FALSE)) -> 60 | G15: =IF(ISERROR(F15*E15),"",(F15*E15)) -> 0 | H15: =IF(ISNA(VLOOKUP($A15,Produits,5,FALSE)),"",VLOOKUP($A15,Produits,5,FALSE)) -> 160 | I15: =IF(ISERROR(H15*E15),"",(H15*E15)) -> 0 | J15: =IF(ISERROR(I15-G15),"",(I15-G15)) -> 0 | K15: =IF(ISERROR(J15/I15),"",J15/I15)
A16: ='Devis Client'!$B$27 -> 0 | D16: ='Devis Client'!E27 | E16: ='Devis Client'!F27 -> 0 | F16: =IF(ISNA(VLOOKUP($A16,Produits,3,FALSE)),"",VLOOKUP($A16,Produits,3,FALSE)) | G16: =IF(ISERROR(F16*E16),"",(F16*E16)) | H16: =IF(ISNA(VLOOKUP($A16,Produits,5,FALSE)),"",VLOOKUP($A16,Produits,5,FALSE)) | I16: =IF(ISERROR(H16*E16),"",(H16*E16)) | J16: =IF(ISERROR(I16-G16),"",(I16-G16)) | K16: =IF(ISERROR(J16/I16),"",J16/I16)
A17: ='Devis Client'!$B$28 -> 0 | D17: ='Devis Client'!E28 | E17: ='Devis Client'!F28 -> 0 | F17: =IF(ISNA(VLOOKUP($A17,Produits,3,FALSE)),"",VLOOKUP($A17,Produits,3,FALSE)) | G17: =IF(ISERROR(F17*E17),"",(F17*E17)) | H17: =IF(ISNA(VLOOKUP($A17,Produits,5,FALSE)),"",VLOOKUP($A17,Produits,5,FALSE)) | I17: =IF(ISERROR(H17*E17),"",(H17*E17)) | J17: =IF(ISERROR(I17-G17),"",(I17-G17)) | K17: =IF(ISERROR(J17/I17),"",J17/I17)
A18: ='Devis Client'!$B$29 -> 0 | D18: ='Devis Client'!E29 | E18: ='Devis Client'!F29 -> 0 | F18: =IF(ISNA(VLOOKUP($A18,Produits,3,FALSE)),"",VLOOKUP($A18,Produits,3,FALSE)) | G18: =IF(ISERROR(F18*E18),"",(F18*E18)) | H18: =IF(ISNA(VLOOKUP($A18,Produits,5,FALSE)),"",VLOOKUP($A18,Produits,5,FALSE)) | I18: =IF(ISERROR(H18*E18),"",(H18*E18)) | J18: =IF(ISERROR(I18-G18),"",(I18-G18)) | K18: =IF(ISERROR(J18/I18),"",J18/I18)
A19: ='Devis Client'!$B$30 -> 0 | D19: ='Devis Client'!E30 | E19: ='Devis Client'!F30 -> 0 | F19: =IF(ISNA(VLOOKUP($A19,Produits,3,FALSE)),"",VLOOKUP($A19,Produits,3,FALSE)) | G19: =IF(ISERROR(F19*E19),"",(F19*E19)) | H19: =IF(ISNA(VLOOKUP($A19,Produits,5,FALSE)),"",VLOOKUP($A19,Produits,5,FALSE)) | I19: =IF(ISERROR(H19*E19),"",(H19*E19)) | J19: =IF(ISERROR(I19-G19),"",(I19-G19)) | K19: =IF(ISERROR(J19/I19),"",J19/I19)
A20: ='Devis Client'!$B$31 -> 0 | D20: ='Devis Client'!E31 | E20: ='Devis Client'!F31 -> 0 | F20: =IF(ISNA(VLOOKUP($A20,Produits,3,FALSE)),"",VLOOKUP($A20,Produits,3,FALSE)) | G20: =IF(ISERROR(F20*E20),"",(F20*E20)) | H20: =IF(ISNA(VLOOKUP($A20,Produits,5,FALSE)),"",VLOOKUP($A20,Produits,5,FALSE)) | I20: =IF(ISERROR(H20*E20),"",(H20*E20)) | J20: =IF(ISERROR(I20-G20),"",(I20-G20)) | K20: =IF(ISERROR(J20/I20),"",J20/I20)
A21: ='Devis Client'!$B$32 -> 0 | D21: ='Devis Client'!E32 | E21: ='Devis Client'!F32 -> 0 | F21: =IF(ISNA(VLOOKUP($A21,Produits,3,FALSE)),"",VLOOKUP($A21,Produits,3,FALSE)) | G21: =IF(ISERROR(F21*E21),"",(F21*E21)) | H21: =IF(ISNA(VLOOKUP($A21,Produits,5,FALSE)),"",VLOOKUP($A21,Produits,5,FALSE)) | I21: =IF(ISERROR(H21*E21),"",(H21*E21)) | J21: =IF(ISERROR(I21-G21),"",(I21-G21)) | K21: =IF(ISERROR(J21/I21),"",J21/I21)
A22: ='Devis Client'!$B$33 -> XXXXXXX PERIMATIC PACK TABLETTESXXXXXXXXX | D22: ='Devis Client'!E33 -> 0 | E22: ='Devis Client'!F33 -> 0 | F22: =IF(ISNA(VLOOKUP($A22,Produits,3,FALSE)),"",VLOOKUP($A22,Produits,3,FALSE)) -> 0 | G22: =IF(ISERROR(F22*E22),"",(F22*E22)) -> 0 | H22: =IF(ISNA(VLOOKUP($A22,Produits,5,FALSE)),"",VLOOKUP($A22,Produits,5,FALSE)) -> 0 | I22: =IF(ISERROR(H22*E22),"",(H22*E22)) -> 0 | J22: =IF(ISERROR(I22-G22),"",(I22-G22)) -> 0 | K22: =IF(ISERROR(J22/I22),"",J22/I22)
A23: ='Devis Client'!$B$34 -> CAISSE TACTILE 15" OVA I5 FORMAT 4/3 | D23: ='Devis Client'!E34 -> OVA I5 | E23: ='Devis Client'!F34 -> 0 | F23: =IF(ISNA(VLOOKUP($A23,Produits,3,FALSE)),"",VLOOKUP($A23,Produits,3,FALSE)) -> 550 | G23: =IF(ISERROR(F23*E23),"",(F23*E23)) -> 0 | H23: =IF(ISNA(VLOOKUP($A23,Produits,5,FALSE)),"",VLOOKUP($A23,Produits,5,FALSE)) -> 1390 | I23: =IF(ISERROR(H23*E23),"",(H23*E23)) -> 0 | J23: =IF(ISERROR(I23-G23),"",(I23-G23)) -> 0 | K23: =IF(ISERROR(J23/I23),"",J23/I23)
A24: ='Devis Client'!$B$35 -> 0 | D24: ='Devis Client'!E35 | E24: ='Devis Client'!F35 -> 0 | F24: =IF(ISNA(VLOOKUP($A24,Produits,3,FALSE)),"",VLOOKUP($A24,Produits,3,FALSE)) | G24: =IF(ISERROR(F24*E24),"",(F24*E24)) | H24: =IF(ISNA(VLOOKUP($A24,Produits,5,FALSE)),"",VLOOKUP($A24,Produits,5,FALSE)) | I24: =IF(ISERROR(H24*E24),"",(H24*E24)) | J24: =IF(ISERROR(I24-G24),"",(I24-G24)) | K24: =IF(ISERROR(J24/I24),"",J24/I24)
A25: ='Devis Client'!$B$36 -> 0 | D25: ='Devis Client'!E36 | E25: ='Devis Client'!F36 -> 0 | F25: =IF(ISNA(VLOOKUP($A25,Produits,3,FALSE)),"",VLOOKUP($A25,Produits,3,FALSE)) | G25: =IF(ISERROR(F25*E25),"",(F25*E25)) | H25: =IF(ISNA(VLOOKUP($A25,Produits,5,FALSE)),"",VLOOKUP($A25,Produits,5,FALSE)) | I25: =IF(ISERROR(H25*E25),"",(H25*E25)) | J25: =IF(ISERROR(I25-G25),"",(I25-G25)) | K25: =IF(ISERROR(J25/I25),"",J25/I25)
A26: ='Devis Client'!$B$37 -> 0 | D26: ='Devis Client'!E37 | E26: ='Devis Client'!F37 -> 0 | F26: =IF(ISNA(VLOOKUP($A26,Produits,3,FALSE)),"",VLOOKUP($A26,Produits,3,FALSE)) | G26: =IF(ISERROR(F26*E26),"",(F26*E26)) | H26: =IF(ISNA(VLOOKUP($A26,Produits,5,FALSE)),"",VLOOKUP($A26,Produits,5,FALSE)) | I26: =IF(ISERROR(H26*E26),"",(H26*E26)) | J26: =IF(ISERROR(I26-G26),"",(I26-G26)) | K26: =IF(ISERROR(J26/I26),"",J26/I26)
E27: ='Devis Client'!F38 -> 0 | H27: =IF(ISNA(VLOOKUP($A27,Produits,5,FALSE)),"",VLOOKUP($A27,Produits,5,FALSE)) | J27: =SUM(J9:J26) -> 0 | K27: =IF(ISERROR(J27/I27),"",J27/I27)
A28: ='Devis Client'!B42 -> SANS CONTRAT DE MAINTENANCE | D28: ='Devis Client'!E42 -> +0€ H.T/MOIS | G28: =SUM(G9:G27) -> 0 | I28: =SUM(I9:I27) -> 0 | J28: =I28-G28 -> 0 | K28: =J28/I28 -> #DIV/0!
A29: ='Devis Client'!B43 -> 0
A30: ='Devis Client'!B44 -> TOTAL H.T | B30: ='Devis Client'!C44 -> TAUX | C30: ='Devis Client'!D44 -> MATERIEL
A31: ='Devis Client'!B45 -> 0 | B31: ='Devis Client'!C45 -> #N/A | C31: ='Devis Client'!D45 -> #N/A
A32: ='Devis Client'!B46 -> SAV DU LUNDI AU SAMEDI 9H-18H

Sheet Produits
B1: Désignations | C1: Code | D1: PA | E1: PV.Min. | F1: PV | G1: Fournisseur
A2: =IF(LEFT(B2)="x",ROW(A1),"") -> 1 | B2: xxxxCaisse 15" FORMAT 4/3 (I3) | C2: ART-3520 | D2: 1079 | E2: =D2*2 -> 2158 | F2: 1970 | G2: AURES | L2: listerouge
A3: =IF(LEFT(B3)="x",ROW(A2),"") | B3: IMPRIMANTE THERMIQUE | C3: ART-02890 | D3: 145 | E3: 0 | F3: 380 | G3: AURES | L3: =INDEX(B$2:B$1000,SMALL(A$2:A$1000,ROW(A1))) -> xxxxCaisse 15" FORMAT 4/3 (I3)
A4: =IF(LEFT(B4)="x",ROW(A3),"") | B4: TIROIR | C4: ART-00051 | F4: 85 | G4: AURES | L4: =INDEX(B$2:B$1000,SMALL(A$2:A$1000,ROW(A2))) -> xxxxxCaisse 15" FORMAT 16/9 BASE 156 i3
A5: =IF(LEFT(B5)="x",ROW(A4),"") | L5: =INDEX(B$2:B$1000,SMALL(A$2:A$1000,ROW(A3))) -> XXXXXXXXXXXXX ACTN XXXXXXXXXXXXXX
A6: =IF(LEFT(B6)="x",ROW(A5),"") -> 5 | B6: xxxxxCaisse 15" FORMAT 16/9 BASE 156 i3 | C6: ART-03524 | D6: 1107 | E6: =D6*2 -> 2214 | F6: 1990 | G6: AURES | L6: =INDEX(B$2:B$1000,SMALL(A$2:A$1000,ROW(A4))) -> XXXXXXXXXXXXXXX SHARP XXXXXXXXXXXX
A7: =IF(LEFT(B7)="x",ROW(A6),"") | B7: IMPRIMANTE THERMIQUE | C7: ART-02890 | D7: 145 | E7: 0 | F7: 380 | G7: AURES | L7: =INDEX(B$2:B$1000,SMALL(A$2:A$1000,ROW(A5))) -> xxxxxxxxx METTLER TOLEDO XXXXXXXXXXXXXXXXXXXXX
A8: =IF(LEFT(B8)="x",ROW(A7),"") | B8: TIROIR | C8: ART-00051 | F8: 85 | G8: AURES | L8: =INDEX(B$2:B$1000,SMALL(A$2:A$1000,ROW(A6))) -> XXXXXXXXX PERIMATIC XXXXXXXXXXXXXXXX
A9: =IF(LEFT(B9)="x",ROW(A8),"") | L9: =INDEX(B$2:B$1000,SMALL(A$2:A$1000,ROW(A7))) -> XXXXXXXXX PERIMATIC OVA XXXXXXXXXXX
A10: =IF(LEFT(B10)="x",ROW(A9),"") | B10: AFFICHEUR 2 LIGNES INTEGRE | C10: ART-03259 | D10: 85 | E10: =D10*2 -> 170 | F10: 180 | G10: AURES | L10: =INDEX(B$2:B$1000,SMALL(A$2:A$1000,ROW(A8))) -> XXXXXXX PERIMATIC PACK TABLETTESXXXXXXXXX
A11: =IF(LEFT(B11)="x",ROW(A10),"") | B11: AFFICHEUR 2 LIGNES SUR PIED | C11: ART-03084 | D11: 123 | E11: =D11*2 -> 246 | F11: 260 | G11: AURES | L11: =INDEX(B$2:B$1000,SMALL(A$2:A$1000,ROW(A9))) -> XXXXXXXXXXXXXXXX JARLTECH XXXXXXXXXXXXX
A12: =IF(LEFT(B12)="x",ROW(A11),"") | B12: AFFICHEUR 10 POUCES INTEGRE | C12: ART-03260 | D12: 250 | E12: =D12*2 -> 500 | F12: 499 | G12: AURES | L12: =INDEX(B$2:B$1000,SMALL(A$2:A$1000,ROW(A10))) -> XXXXXXXXXXX ALVOKO XXXXXXXXXXXXXXXXXXXXXXXXXXXX
A13: =IF(LEFT(B13)="x",ROW(A12),"") | B13: AFFICHEUR 10 POUCES VESA | C13: ART-03083 | D13: 264 | E13: =D13*2 -> 528 | F13: 499 | G13: AURES | L13: =INDEX(B$2:B$1000,SMALL(A$2:A$1000,ROW(A11))) -> XXXXXXX IMPRIMANTE A4 LASER XXXXXXXXX
A14: =IF(LEFT(B14)="x",ROW(A13),"") | B14: ADAPTATEUR MAT AFFICHEUR 10 POUCES | C14: L76MATROTULE | D14: 50 | E14: =D14*2 -> 100 | F14: 100 | G14: AURES | L14: =INDEX(B$2:B$1000,SMALL(A$2:A$1000,ROW(A12))) -> xxxxxxxxx LOGICIEL MBJ xxxxxxxxxxxxxxxx
A15: =IF(LEFT(B15)="x",ROW(A14),"") | L15: =INDEX(B$2:B$1000,SMALL(A$2:A$1000,ROW(A13))) -> XXXXXXX CSI XXXXXXXXXXXXXXXXXXXXX
A16: =IF(LEFT(B16)="x",ROW(A15),"") | B16: LECTEUR LASER 1D | C16: ART-02226 | D16: 164 | E16: =D16*2 -> 328 | F16: 390 | G16: AURES | L16: =INDEX(B$2:B$1000,SMALL(A$2:A$1000,ROW(A14))) -> XXXXXXXXXXXXX SBSI XXXXXXXXXXXXXXXXXX
A17: =IF(LEFT(B17)="x",ROW(A16),"") | B17: LECTEUR LASER 2D | C17: ART-02517 | D17: 225 | E17: =D17*2 -> 450 | F17: 499 | G17: AURES | L17: =INDEX(B$2:B$1000,SMALL(A$2:A$1000,ROW(A15))) -> XXXXXXXXXX ACCES DIFFUSION XXXXXXXXX
A18: =IF(LEFT(B18)="x",ROW(A17),"") | B18: LECTEUR LASER INTEGRE 2D ONETOUCH | C18: ART-4458 | D18: 329 | E18: =D18*2 -> 658 | F18: 595 | G18: AURES | L18: =INDEX(B$2:B$1000,SMALL(A$2:A$1000,ROW(A16))) -> xxxxxxxxxxxxx ATHESI XXXXXXXXXXXXXXXXXXXXXXXXXXXXXXX
A19: =IF(LEFT(B19)="x",ROW(A18),"") | B19: DOUCHETTE USB | D19: 55 | E19: =D19*2 -> 110 | F19: 140 | G19: honeywell | L19: =INDEX(B$2:B$1000,SMALL(A$2:A$1000,ROW(A17))) -> XXXXXXXXX PRECIA MOLEN CS 1100 WIND 7 XXXXXXXXXXXXXXXX
A20: =IF(LEFT(B20)="x",ROW(A19),"") | L20: =INDEX(B$2:B$1000,SMALL(A$2:A$1000,ROW(A18))) -> XXXXXXXXX PRECIA MOLEN XXXXXXXXXXXXXXXXXXXXXXXXXXX
A21: =IF(LEFT(B21)="x",ROW(A20),"") | B21: PACK LECTEUR + 5 CLES DALLAS | C21: PACKDALLAS | F21: 255 | G21: AURES | L21: =INDEX(B$2:B$1000,SMALL(A$2:A$1000,ROW(A19))) -> XXXXXX VIDEO PROTECTION XXXXX
A22: =IF(LEFT(B22)="x",ROW(A21),"") | B22: LECTEUR DALLAS | C22: ART-03539 | F22: 170 | G22: AURES | L22: =INDEX(B$2:B$1000,SMALL(A$2:A$1000,ROW(A20))) -> xxxxxxxxCABLAGE VIDEO ************
A23: =IF(LEFT(B23)="x",ROW(A22),"") | B23: CLE DALLAS A L'UNITE | C23: ART-01762 | F23: 17 | G23: AURES | L23: =INDEX(B$2:B$1000,SMALL(A$2:A$1000,ROW(A21))) -> xxxxxxxBAGUETTE ************
A24: =IF(LEFT(B24)="x",ROW(A23),"") | B24: SUPPORT BOIS CAISSE | C24: SUPPORT | F24: 40 | L24: =INDEX(B$2:B$1000,SMALL(A$2:A$1000,ROW(A22))) -> xxxxxxxACCESSOIRES BNC+PRISE 12VOLTS********
A25: =IF(LEFT(B25)="x",ROW(A24),"") -> 24 | B25: XXXXXXXXXXXXX ACTN XXXXXXXXXXXXXX | L25: =INDEX(B$2:B$1000,SMALL(A$2:A$1000,ROW(A23))) -> XXXXXXXXXXXX CRISALID XXXXXXXXXXXXXXXXXXXXXX
A26: =IF(LEFT(B26)="x",ROW(A25),"") | B26: ONDULEUR 600 VA 3 P | C26: NITRAMBU600 | D26: 43 | E26: 150 | F26: 150 | G26: ACTN | L26: =INDEX(B$2:B$1000,SMALL(A$2:A$1000,ROW(A24))) -> XXXXXXXXX CARDALIS XXXXXXXXXX
A27: =IF(LEFT(B27)="x",ROW(A26),"") | B27: ONDULEUR 700 VA 8 P | C27: NITRAMPB700 | D27: 60 | E27: 160 | F27: 160 | G27: ACTN | L27: =INDEX(B$2:B$1000,SMALL(A$2:A$1000,ROW(A25))) -> XXXXXXXXXX BILLETERIE XXXXXXXXXXXXXXXX
A28: =IF(LEFT(B28)="x",ROW(A27),"") | L28: =INDEX(B$2:B$1000,SMALL(A$2:A$1000,ROW(A26))) -> XXXXXXXX PAPIERS XXXXXXXXXXXXXXXXXXXXXXX
A29: =IF(LEFT(B29)="x",ROW(A28),"") -> 28 | B29: XXXXXXXXXXXXXXX SHARP XXXXXXXXXXXX | L29: =INDEX(B$2:B$1000,SMALL(A$2:A$1000,ROW(A27))) -> XXXXXXXXX DIVERS XXXXXXXXXXXXXXXXXXXXXX
A30: =IF(LEFT(B30)="x",ROW(A29),"") | B30: LICENCE LOGICIEL ONE TOUCH | C30: L76ONETOUCH | D30: 640 | E30: =D30*2 -> 1280 | F30: 1350 | G30: SHARP | L30: =INDEX(B$2:B$1000,SMALL(A$2:A$1000,ROW(A28))) -> #NUM!
A31: =IF(LEFT(B31)="x",ROW(A30),"") | B31: LICENCE LOGICIEL ONE TOUCH STOCK | C31: L76ONETOUCHSUP | D31: 240 | E31: 480 | F31: 500 | G31: SHARP | L31: =INDEX(B$2:B$1000,SMALL(A$2:A$1000,ROW(A29))) -> #NUM!
A32: =IF(LEFT(B32)="x",ROW(A31),"") | B32: LICENCE LOGICIEL ONE TOUCH SUPP. | C32: L76ONETOUCHSUP | D32: 240 | E32: =D32*2 -> 480 | F32: 500 | G32: SHARP | L32: =INDEX(B$2:B$1000,SMALL(A$2:A$1000,ROW(A30))) -> #NUM!
A33: =IF(LEFT(B33)="x",ROW(A32),"") | B33: LICENCE LOGICIEL ONE TOUCH BUREAU | C33: L76ONETOUCHSUP | D33: 240 | E33: =D33*2 -> 480 | F33: 500 | G33: SHARP | L33: =INDEX(B$2:B$1000,SMALL(A$2:A$1000,ROW(A31))) -> #NUM!
A34: =IF(LEFT(B34)="x",ROW(A33),"") | B34: LICENCE ONE TOUCH CENTRALISATION 1 à 3 MAGASINS | C34: L76ONETOUCHCNT | D34: 390 | E34: =D34*2 -> 780 | F34: 800 | G34: SHARP | L34: =INDEX(B$2:B$1000,SMALL(A$2:A$1000,ROW(A32))) -> #NUM!
A35: =IF(LEFT(B35)="x",ROW(A34),"") | B35: LICENCE LOGICIEL ONE TOUCH CENTRALISATION +3 magasins | C35: L76ONETOUCHCT+3 | D35: 580 | E35: =D35*2 -> 1160 | F35: 1490 | G35: SHARP | L35: =INDEX(B$2:B$1000,SMALL(A$2:A$1000,ROW(A33))) -> #NUM!
A36: =IF(LEFT(B36)="x",ROW(A35),"") | B36: LICENCE LOGICIEL ONE TOUCH E-CASH | C36: L76ONETOUCHCSH | D36: 500 | E36: =D36*2 -> 1000 | F36: 1000 | G36: SHARP | L36: =INDEX(B$2:B$1000,SMALL(A$2:A$1000,ROW(A34))) -> #NUM!
A37: =IF(LEFT(B37)="x",ROW(A36),"") | B37: LICENCE ONE TOUCH TELECOMMANDE | C37: L76ONETOUCHTLC | D37: 240 | E37: =D37*2 -> 480 | F37: 500 | G37: SHARP | L37: =INDEX(B$2:B$1000,SMALL(A$2:A$1000,ROW(A35))) -> #NUM!
A38: =IF(LEFT(B38)="x",ROW(A37),"") | L38: =INDEX(B$2:B$1000,SMALL(A$2:A$1000,ROW(A36))) -> #NUM!
A39: =IF(LEFT(B39)="x",ROW(A38),"") | B39: LICENCE LOGICIEL ONETOUCH LIGHT | C39: L36ONETOUCHLX | D39: 400 | E39: 800 | F39: 800 | G39: SHARP | L39: =INDEX(B$2:B$1000,SMALL(A$2:A$1000,ROW(A37))) -> #NUM!
A40: =IF(LEFT(B40)="x",ROW(A39),"") | B40: MAJ LOGICIEL ONETOUCH LIGHT | C40: L36ONETOUCHMAJ | D40: 380 | E40: 760 | F40: 760 | G40: SHARP | L40: =INDEX(B$2:B$1000,SMALL(A$2:A$1000,ROW(A38))) -> #NUM!
...

Sheet Contrat DUSAM
A1: SANS CONTRAT DE MAINTENANCE | B1: 0€ H.T/MOIS | C1: 0
A2: XXXXXXXXXXXXXXXXXXXXXXXXXXXXXXXXXXXXXXXXXXXXXXXXXXX
A3: CONTRAT MAINTENANCE ONE TOUCH | B3: 22€ H.T / MOIS | C3: 22
A4: CONTRAT MAINTENANCE ONE TOUCH | B4: 32€ H.T / MOIS | C4: 32
A5: CONTRAT MAINTENANCE ONE TOUCH | B5: 42€ H.T / MOIS | C5: 42
A6: CONTRAT MAINTENANCE ONE TOUCH | B6: 52€ H.T / MOIS | C6: 52
A7: CONTRAT SAV ONE TOUCH + ECASH | B7: 215€ H.T / MOIS | C7: 215
A8: XXXXXXXXXXXXXXXXXXXXXXXXXXXXXXXXXXXXXXXXXXXXXXXXXXX
A9: CONTRAT MAINTENANCE CRISALID | B9: 32€ H.T / MOIS | C9: 32
A10: CONTRAT MAINTENANCE CRISALID | B10: 42€ H.T / MOIS | C10: 42
A11: CONTRAT MAINTENANCE CRISALID | B11: 52€ H.T / MOIS | C11: 52
A12: CONTRAT MAINTENANCE CRISALID | B12: 62€ H.T / MOIS | C12: 62
A13: CONTRAT SAV CRISALID + WEBSTERI | B13: 72€ H.T/ MOIS | C13: 72
A14: CONTRAT SAV CRISALID + E-CASH | B14: 190€ H.T/ MOIS | C14: 190
A15: CONTRAT SAV CRISALID + E-CASH | B15: 200€ H.T/ MOIS | C15: 200
A16: CONTRAT SAV CRISALID + E-CASH | B16: 210€ H.T/ MOIS | C16: 210
A17: XXXXXXXXXXXXXXXXXXXXXXXXXXXXXXXXXXXXXXXXXXXXXXXXXXX
A18: SANS ECHANGE DE DONNEES | B18: 0 € HT/MOIS | C18: 0
A19: ECHANGE MULTI-SITES PREMIUM | B19: 16 € HT/MOIS | C19: 16
A20: ECHANGE MULTI-SITES INTEGRALE | B20: 16 € HT/MOIS | C20: 16
A21: ECHANGE MULTI-SITES MULTICANAL | B21: 16 € HT/MOIS | C21: 16
A22: CONTRAT SERENITY MBJ ESSENTIEL | B22: 20 € H.T/MOIS | C22: 20
A23: CONTRAT SERENITY MBJ PREMIUM | B23: 30 € H.T/MOIS | C23: 30
A24: CONTRAT SERENITY MBJ INTEGRALE | B24: 48 € H.T/MOIS | C24: 48
A25: CONTRAT SERENITY MBJ MULTICANAL | B25: 60 € H.T/MOIS | C25: 60
A26: XXXXXXXXXXXXXXXXXXXXXXXXXXXXXXXXXXXXXXXXXXXXXXXXXXX
A27: CONTRAT FIDELITE CRISALID / SAV | B27: 70€ H.T / MOIS | C27: 70
A28: CONTRAT PRESSE CRISALID / SAV | B28: 57€ H.T / MOIS | C28: 57
A29: XXXXXXXXXXXXXXXXXXXXXXXXXXXXXXXXXXXXXXXXXXXXXXXXXXX
A30: CONTRAT SAV VIDEO-SURVEILLANCE | B30: 22€ H.T / MOIS | C30: 22
A31: CONTRAT SAV VIDEO-SURVEILLANCE | B31: 32€ H.T / MOIS | C31: 32
A32: CONTRAT SAV VIDEO-SURVEILLANCE | B32: 42€ H.T / MOIS | C32: 42
A33: XXXXXXXXXXXXXXXXXXXXXXXXXXXXXXXXXXXXXXXXXXXXXXXXXXX
A34: CONTRAT MAINTENANCE CSI | B34: 20€ H.T / MOIS | C34: 20
A35: CONTRAT MAINTENANCE CSI | B35: 30€ H.T / MOIS | C35: 30
A36: CONTRAT MAINTENANCE CSI | B36: 40€ H.T / MOIS | C36: 40
A37: CONTRAT MAINTENANCE CSI | B37: 50€ H.T / MOIS | C37: 50
A38: CONTRAT MAINTENANCE CSI | B38: 60€ H.T / MOIS | C38: 60

Sheet Locam
E1: =MATCH(L.O.A,DUREE_LOA,0) -> #N/A | F1: ='Devis Client'!B45*'Devis Client'!C45 -> #N/A
A3: PRIX | B3: GRENKE CREATION 48 MOIS 5000€ Max | C3: LOCATION 24 MOIS | D3: LOCATION 36 MOIS | E3: LOCATION 48 MOIS | F3: LOCATION 60 MOIS
A4: 300 | B4: 0.02701 | C4: 0.04875 | D4: 0.03378 | E4: 0.02701 | F4: 0.023 | G4: 300 à 3000
A5: 3000 | B5: 0.02701 | C5: 0.04875 | D5: 0.03378 | E5: 0.02701 | F5: 0.023 | G5: 300 à 3000
A6: 5000 | B6: 0.02701 | C6: 0.04817 | D6: 0.03244 | E6: 0.02561 | F6: 0.02154 | G6: 3000 à 5000
A7: 8000 | C7: 0.04774 | D7: 0.032 | E7: 0.02515 | F7: 0.02107 | G7: 5000 à 8000
A8: 12000 | C8: 0.04754 | D8: 0.03178 | E8: 0.02493 | F8: 0.02084 | G8: 8000 à 12000
A9: 12001 | C9: 0.04754 | D9: 0.03178 | E9: 0.02493 | F9: 0.02084 | G9: >12000
