Workbook

Sheet DEBUT

Sheet TAB 2R
B2: 1) | C2: COUT PLATEAU
B5: SPECTACLE | C5: xxxx
B6: LIEU | C6: xxx
B7: PERIODE | C7: x | E7: ANNEE | F7: 2018
B8: NB REP | C8: 2
C9: Dont SCO | D9: 2
C10: Dont TP
E13: J-X-voyage | F13: J-X- SI SERVICE | G13: J-1 | H13: J | I13: J+1 | J13: J+2 | K13: J+3 | L13: J+4 | M13: J+5 | N13: J+6 | O13: J+7
C14: DATES | E14: 43199 | G14: mar 10/04 | H14: mer 11/04/2018 | I14: jeu 12/04/2018 | J14: vend 13/04/2018 | K14: sam 14/04/2018
A15: MONTAGE | B15: 180 | C15: TEK | D15: RG /CH-DH DECOR | E15: VOYAGE (nb h) | F15: 1SERVICE | G15: =+A15 -> MONTAGE | H15: =+A18 -> 2REP+DEMONTAGE | M15: 0 | P15: Total brut/pers
A16: 1REP | B16: 180 | E16: 2 | R16: NB H
A17: 2REP | B17: 240 | C17: xx | D17: =100+90 -> 190 | E17: =$E$16*12 -> 24 | G17: =IF($G$15="MONTAGE",180,0) -> 180 | H17: =IF(H15="1rep",180,0)+IF(H15="2rep",220,0)+IF(H15="2rep+demontage",250,0)+IF(H15="1rep+démontage",180,0) -> 250 | I17: =IF(I15="1rep",180,0)+IF(I15="2rep",220,0)+IF(I15="2rep+demontage",250,0)+IF(I15="1rep+démontage",180,0) -> 0 | J17: =IF(J15="1rep",180,0)+IF(J15="2rep",220,0)+IF(J15="2rep+demontage",250,0)+IF(J15="1rep+démontage",180,0) -> 0 | K17: =IF(K15="1rep",180,0)+IF(K15="2rep",220,0)+IF(K15="2rep+demontage",250,0)+IF(K15="1rep+démontage",180,0) -> 0 | L17: =IF(L15="1rep",180,0)+IF(L15="2rep",220,0)+IF(L15="2rep+demontage",250,0)+IF(L15="1rep+démontage",180,0) -> 0 | M17: =IF(M15="1rep",180,0)+IF(M15="2rep",220,0)+IF(M15="2rep+demontage",250,0)+IF(M15="1rep+démontage",180,0) -> 0 | N17: =IF(N15="1rep",180,0)+IF(N15="2rep",220,0)+IF(N15="2rep+demontage",250,0)+IF(N15="1rep+démontage",180,0) -> 0 | O17: =IF(O15="1rep",180,0)+IF(O15="2rep",240,0)+IF(O15="2rep+demontage",270,0) -> 0 | P17: =SUM(D17:O17) -> 644 | Q17: BRIDIER | R17: =SUM(F20:N20) -> 24
A18: 2REP+DEMONTAGE | B18: 270 | C18: xx | E18: =$E$16*12 -> 24 | G18: =IF($G$15="montage",180,0) -> 180 | H18: =IF(H15="1rep",180,0)+IF(H15="2rep",220,0)+IF(H15="2rep+demontage",250,0)+IF(H16="1rep+démontage",180,0) -> 250 | I18: =IF(I15="1rep",180,0)+IF(I15="2rep",220,0)+IF(I15="2rep+demontage",250,0)+IF(I16="1rep+démontage",180,0) -> 0 | J18: =IF(J15="1rep",180,0)+IF(J15="2rep",220,0)+IF(J15="2rep+demontage",250,0)+IF(J16="1rep+démontage",180,0) -> 0 | K18: =IF(K15="1rep",180,0)+IF(K15="2rep",220,0)+IF(K15="2rep+demontage",250,0)+IF(K16="1rep+démontage",180,0) -> 0 | L18: =IF(L15="1rep",180,0)+IF(L15="2rep",220,0)+IF(L15="2rep+demontage",250,0)+IF(L16="1rep+démontage",180,0) -> 0 | M18: =IF(M15="1rep",180,0)+IF(M15="2rep",220,0)+IF(M15="2rep+demontage",250,0)+IF(M16="1rep+démontage",180,0) -> 0 | N18: =IF(N15="1rep",180,0)+IF(N15="2rep",220,0)+IF(N15="2rep+demontage",250,0)+IF(N16="1rep+démontage",180,0) -> 0 | O18: =IF(O15="1rep",180,0)+IF(O15="2rep",240,0)+IF(O15="2rep+demontage",270,0) -> 0 | P18: =SUM(D18:M18) -> 454 | Q18: GAILLARD | R18: =SUM(F21:N21) -> 24
A19: 1REP+DEMONTAGE | B19: 210 | C19: CHARGEMENT | D19: 180 | P19: =SUM(D19:M19) -> 180 | Q19: CHARGEMENT
G20: =IF(G17>1,12,0) -> 12 | H20: =IF(H17>1,12,0) -> 12 | I20: =IF(I17>1,12,0) -> 0 | J20: =IF(J17>1,12,0) -> 0 | K20: =IF(K17>1,12,0) -> 0 | L20: =IF(L17>1,12,0) -> 0 | M20: =IF(M17>1,12,0) -> 0 | N20: =IF(N17>1,12,0) -> 0 | O20: BRUT TECHNIK | P20: =SUM(P17:P19) -> 1278 | R20: =SUM(R17:R19) -> 48
G21: =IF(G18>1,12,0) -> 12 | H21: =IF(H18>1,12,0) -> 12 | I21: =IF(I18>1,12,0) -> 0 | J21: =IF(J18>1,12,0) -> 0 | K21: =IF(K18>1,12,0) -> 0 | L21: =IF(L18>1,12,0) -> 0 | M21: =IF(M18>1,12,0) -> 0 | N21: =IF(N18>1,12,0) -> 0 | O21: CHARGES P | P21: =+P17*0.67+P18*0.63+P19*0.63 -> 830.9
P22: =SUM(P20:P21) -> 2108.9
G24: J-1 | H24: J | I24: J+1 | J24: J+2 | K24: J+3 | L24: J+4 | M24: J+5 | N24: J+6 | O24: J+7
C25: DATES | F25: DATES | G25: =+G14 -> mar 10/04 | H25: =+H14 -> mer 11/04/2018 | I25: =+I14 -> jeu 12/04/2018 | J25: =+J14 -> vend 13/04/2018 | K25: =+K14 -> sam 14/04/2018 | L25: =+L14 -> 0 | M25: =+M14 -> 0 | N25: =+N14 -> 0 | O25: =+O14 -> 0
A26: RACCORD | B26: 60 | C26: ARTISTES | G26: raccord | H26: 2REP | M26: 0 | O26: 1 | P26: Total brut/pers
A27: RACCORD+1REP | B27: 190 | C27: xx | G27: =IF($G$26="raccord",60,0) -> 60 | H27: =IF(H26="raccord+1rep",190,0)+IF(H26="raccord+2rep",220)+IF(H26="1rep",180,0)+IF(H26="2rep",210) -> 210 | I27: =IF(I26="raccord+1rep",190,0)+IF(I26="raccord+2rep",220)+IF(I26="1rep",180,0)+IF(I26="2rep",210) -> 0 | J27: =IF(J26="raccord+1rep",190,0)+IF(J26="raccord+2rep",220)+IF(J26="1rep",180,0)+IF(J26="2rep",210) -> 0 | K27: =IF(K26="raccord+1rep",190,0)+IF(K26="raccord+2rep",220)+IF(K26="1rep",180,0)+IF(K26="2rep",210) -> 0 | L27: =IF(L26="raccord+1rep",190,0)+IF(L26="raccord+2rep",220)+IF(L26="1rep",180,0)+IF(L26="2rep",210) -> 0 | M27: =IF(M26="raccord+1rep",190,0)+IF(M26="raccord+2rep",220)+IF(M26="1rep",180,0)+IF(M26="2rep",210) -> 0 | O27: =IF(O26="raccord+1rep",190,0)+IF(O26="raccord+2rep",220)+IF(O26="1rep",180,0)+IF(O26="2rep",210) -> 0 | P27: =SUM(G27:O27) -> 270 | Q27: CASSIGNARD | R27: =SUM(G31:N31) -> 24
A28: RACCORD+2REP | B28: 220 | C28: xx | G28: =IF($G$26="raccord",60,0) -> 60 | H28: =IF(H26="raccord+1rep",190,0)+IF(H26="raccord+2rep",220)+IF(H26="1rep",180,0)+IF(H26="2rep",210) -> 210 | I28: =IF(I26="raccord+1rep",190,0)+IF(I26="raccord+2rep",220)+IF(I26="1rep",180,0)+IF(I26="2rep",210) -> 0 | J28: =IF(J26="raccord+1rep",190,0)+IF(J26="raccord+2rep",220)+IF(J26="1rep",180,0)+IF(J26="2rep",210) -> 0 | K28: =IF(K26="raccord+1rep",190,0)+IF(K26="raccord+2rep",220)+IF(K26="1rep",180,0)+IF(K26="2rep",210) -> 0 | L28: =IF(L26="raccord+1rep",190,0)+IF(L26="raccord+2rep",220)+IF(L26="1rep",180,0)+IF(L26="2rep",210) -> 0 | M28: =IF(M26="raccord+1rep",190,0)+IF(M26="raccord+2rep",220)+IF(M26="1rep",180,0)+IF(M26="2rep",210) -> 0 | O28: =IF(O26="raccord+1rep",190,0)+IF(O26="raccord+2rep",220)+IF(O26="1rep",180,0)+IF(O26="2rep",210) -> 0 | P28: =SUM(G28:O28) -> 270 | Q28: CARDIN | R28: =SUM(G32:N32) -> 24
A29: 1REP | B29: 180 | C29: xx | G29: =IF($G$26="raccord",60,0) -> 60 | H29: =IF(H26="raccord+1rep",190,0)+IF(H26="raccord+2rep",220)+IF(H26="1rep",180,0)+IF(H26="2rep",210) -> 210 | I29: =IF(I26="raccord+1rep",190,0)+IF(I26="raccord+2rep",220)+IF(I26="1rep",180,0)+IF(I26="2rep",210) -> 0 | J29: =IF(J26="raccord+1rep",190,0)+IF(J26="raccord+2rep",220)+IF(J26="1rep",180,0)+IF(J26="2rep",210) -> 0 | K29: =IF(K26="raccord+1rep",190,0)+IF(K26="raccord+2rep",220)+IF(K26="1rep",180,0)+IF(K26="2rep",210) -> 0 | L29: =IF(L26="raccord+1rep",190,0)+IF(L26="raccord+2rep",220)+IF(L26="1rep",180,0)+IF(L26="2rep",210) -> 0 | M29: =IF(M26="raccord+1rep",190,0)+IF(M26="raccord+2rep",220)+IF(M26="1rep",180,0)+IF(M26="2rep",210) -> 0 | O29: =IF(O26="raccord+1rep",190,0)+IF(O26="raccord+2rep",220)+IF(O26="1rep",180,0)+IF(O26="2rep",210) -> 0 | P29: =SUM(G29:O29) -> 270 | Q29: HEURTEBISE | R29: =SUM(G33:N33) -> 24
A30: 2REP | B30: 210 | R30: =SUM(G34:N34) -> 0
G31: =IF(G27>1,12,0) -> 12 | H31: =IF(H27>1,12,0) -> 12 | I31: =IF(I27>1,12,0) -> 0 | J31: =IF(J27>1,12,0) -> 0 | K31: =IF(K27>1,12,0) -> 0 | L31: =IF(L27>1,12,0) -> 0 | M31: =IF(M27>1,12,0) -> 0 | N31: =IF(N27>1,12,0) -> 0 | O31: TT BRUT ART | P31: =SUM(P27:P30) -> 810
G32: =IF(G28>1,12,0) -> 12 | H32: =IF(H28>1,12,0) -> 12 | I32: =IF(I28>1,12,0) -> 0 | J32: =IF(J28>1,12,0) -> 0 | K32: =IF(K28>1,12,0) -> 0 | L32: =IF(L28>1,12,0) -> 0 | M32: =IF(M28>1,12,0) -> 0 | N32: =IF(N28>1,12,0) -> 0 | O32: CHARGES P | P32: =+(P27+P28+P29)*0.46+P30*0.57 -> 372.6 | R32: =SUM(R27:R31) -> 72
G33: =IF(G29>1,12,0) -> 12 | H33: =IF(H29>1,12,0) -> 12 | I33: =IF(I29>1,12,0) -> 0 | J33: =IF(J29>1,12,0) -> 0 | K33: =IF(K29>1,12,0) -> 0 | L33: =IF(L29>1,12,0) -> 0 | M33: =IF(M29>1,12,0) -> 0 | N33: =IF(N29>1,12,0) -> 0 | P33: =SUM(P31:P32) -> 1182.6
G34: =IF(G30>1,12,0) -> 0 | H34: =IF(H30>1,12,0) -> 0 | I34: =IF(I30>1,12,0) -> 0 | J34: =IF(J30>1,12,0) -> 0 | K34: =IF(K30>1,12,0) -> 0 | L34: =IF(L30>1,12,0) -> 0 | M34: =IF(M30>1,12,0) -> 0 | N34: =IF(N30>1,12,0) -> 0
R35: =+R32+R20 -> 120
C36: SYNTHESE
C38: COUT PLATEAU | J38: =P20+P21+P31+P32 -> 3291.5 | K38: PRIX PAR REP
C39: MARGE 0,4 | D39: 0.4 | J39: =+J38*D39 -> 1316.6 | M39: annoncé à Jane : 750€ marge Cie sur 2 rep donc à enlever si cout plateau
C40: PRIX MARGE - 0,4 | J40: =J38+J39 -> 4608.1 | K40: =+J40/C8 -> 2304.05 | L40: =+D39 -> 0.4
C41: MARGE 0,3 | D41: 0.3 | J41: =+J38*D41 -> 987.45
C42: PRIX MARGE - 0,3 | J42: =+J41+J38 -> 4278.95 | K42: =+J42/C8 -> 2139.475 | L42: =+D41 -> 0.3
C43: PROPOSITON | J43: 3300 | K43: =+J43/C8 -> 1650 | L43: =+D44 -> 0.0025824092
C44: MARGE REEL | D44: =(+J43/J38)-1 -> 0.0025824092 | J44: =J43-J38 -> 8.5
B47: 2) | C47: TRANSPORTS
G49: TOTAUX
B50: LOCATION CAMIONS | C50: TARIF/J | D50: JOURS | E50: TOTAL | F50: MARGE TVA | G50: =SUM(F51:F51) -> 216
...

Sheet DEVIS 2R
A5: Direction BETTY HEURTEBISE
A7: BORDEAUX, le | B7: 42835
A9: DEVIS - CESSION | C9: =+'TAB SN'!C5 -> x
A10: THEATRE | C10: x
A11: PERIODE | C11: =+'TAB SN'!C7 -> x
A12: NOMBRE DE REPRESENTATIONS | C12: =+'TAB 2R'!C8 -> 2
A14: Cession | C14: ='TAB 2R'!D104 -> 3300 | D14: HT
A15: Transports décors | C15: ='TAB 2R'!D105 -> 352 | D15: HT
A16: transport équipe | C16: ='TAB 2R'!D106 -> 450 | D16: HT
A17: Défraiements repas | B17: =+'TAB 2R'!M83 -> 24 | C17: =B17*18.1 -> 434.4 | D17: HT
A18: Défraiements repas - Prise en charge directe
A20: chambres singles | C20: =+'TAB 2R'!M97 -> 12
A22: TOTAL HT (hors nuitées) | C22: =C14+C15+C16+C17 -> 4536.4 | D22: HT
A23: TOTAL TTC (hors nuitées) - TVA 5,5% | C23: =C22*1.055 -> 4785.902 | D23: TTC
A27: Equipe composée de : | C27: 2 techniciens (lumières/vidéo, son, plateau)
C28: 2 comédiens
C29: 1 metteur en scène
C30: 1 chargé(e) de production / diffusion
A32: Arrivées : | C32: Techniciens et décors | D32: J-2 soir
C33: Comédiens et metteur en scène | D33: J-1 soir
C34: Chargé(e) de production / diffusion | D34: J
A36: Frais annexes calculés sur la base de la Convention collective nationale des entreprises artisitiques et culturelles.
A38: Devis établi selon le calendrier suiviant :
A40: J-1 | B40: Montage + Raccords
A41: J | B41: 1 solaire le matin + 1 scolaire l'après-midi
A44: Contact diffusion

Sheet DEVIS2R
A5: Direction BETTY HEURTEBISE
A7: BORDEAUX, le | B7: 43174
A9: DEVIS - CESSION | C9: =+'TAB SN'!C5 -> x
A10: THEATRE | C10: =+'TAB SN'!C6 -> x
A11: PERIODE | C11: =+'TAB SN'!C7 -> x
A12: NOMBRE DE REPRESENTATIONS | C12: =+'TAB SN'!C8 -> 6
A14: Cession | C14: =+'TAB SN'!D99 -> 0 | D14: HT
A15: Transports décors | C15: =+'TAB SN'!D100 -> 640 | D15: HT
A16: transport équipe | C16: =+'TAB SN'!D101 -> 330 | D16: HT
A17: Défraiements repas | B17: =+'TAB SN'!M83 -> 9 | C17: =+B17*18.1 -> 162.9 | D17: HT
A18: Défraiements repas - Prise en charge directe
A20: chambres singles | C20: =+'TAB SN'!M95 -> 21
A22: TOTAL HT (hors nuitées) | C22: =C14+C15+C16+C17 -> 1132.9 | D22: HT
A23: TOTAL TTC (hors nuitées) - TVA 5,5% | C23: =C22*1.055 -> 1195.2095 | D23: TTC
A27: Equipe composée de : | C27: 3 techniciens (lumières/vidéo, son, plateau)
C28: 2 comédiens
C29: 1 metteur en scène
C30: 1 chargé(e) de production / diffusion
A32: Arrivées : | C32: Techniciens et décors | D32: J-2 soir
C33: Comédiens et metteur en scène | D33: J-1 soir
C34: Chargé(e) de production / diffusion | D34: J
A36: Frais annexes calculés sur la base de la Convention collective nationale des entreprises artisitiques et culturelles.
A38: Devis établi selon le calendrier suiviant :
B39: Montage
B40: 1 scolaire + 1 TP
B41: 2 scolaires
A44: Contact diffusion | C44: CELINE VAUCENAT
C45: celine.vaucenat@lapetitefabrique.org
C46: tel : 06 31 43 85 56

Sheet TAB SN
B2: 1) | C2: COUT PLATEAU
B5: SPECTACLE | C5: x
B6: LIEU | C6: x
B7: PERIODE | C7: x | E7: annee | F7: 2019
B8: NB REP | C8: 6
C9: Dont SCO | D9: 5
C10: Dont TP | D10: 1
E13: J-3 | F13: J-2 | G13: J-1 | H13: J | I13: J+1 | J13: J+2 | K13: J+3 | L13: J+4 | M13: J+5 | N13: J+5 | O13: J+6
C14: DATES | G14: L 26/03/18 | H14: M 27/03/18 | I14: M 28/03/18 | J14: J 29/03/18 | K14: V 30/03/18
C15: JOUR
A16: MONTAGE | B16: 180 | C16: TEK | E16: RG /CH-DH DECOR | F16: VOYAGE (nb h) | G16: MONTAGE | H16: =+A17 -> 1REP | I16: 2REP | J16: 2REP | K16: 1REP+DÉMONTAGE | M16: 0 | P16: Total brut/pers
A17: 1REP | B17: 180 | E17: 4 | R17: NB H
A18: 2REP | B18: 220 | C18: x | E18: =100+90 -> 190 | F18: =$E$17*12 -> 48 | G18: =IF($G$16="MONTAGE",180,0) -> 180 | H18: =IF(H16="1rep",180,0)+IF(H16="2rep",220,0)+IF(H16="2rep+démontage",250,0)+IF(H16="1rep+démontage",180,0) -> 180 | I18: =IF(I16="1rep",180,0)+IF(I16="2rep",220,0)+IF(I16="2rep+démontage",250,0)+IF(I16="1rep+démontage",180,0) -> 220 | J18: =IF(J16="1rep",180,0)+IF(J16="2rep",220,0)+IF(J16="2rep+démontage",250,0)+IF(J16="1rep+démontage",180,0) -> 220 | K18: =IF(K16="1rep",180,0)+IF(K16="2rep",220,0)+IF(K16="2rep+démontage",250,0)+IF(K16="1rep+démontage",180,0) -> 180 | L18: =IF(L16="1rep",180,0)+IF(L16="2rep",220,0)+IF(L16="2rep+démontage",250,0)+IF(L16="1rep+démontage",180,0) -> 0 | M18: =IF(M16="1rep",180,0)+IF(M16="2rep",220,0)+IF(M16="2rep+demontage",250,0)+IF(M16="1rep+démontage",180,0) -> 0 | N18: =IF(N16="1rep",180,0)+IF(N16="2rep",220,0)+IF(N16="2rep+demontage",250,0)+IF(N16="1rep+démontage",180,0) -> 0 | O18: =IF(O16="1rep",180,0)+IF(O16="2rep",220,0)+IF(O16="2rep+demontage",250,0)+IF(O16="1rep+démontage",180,0) -> 0 | P18: =SUM(E18:O18) -> 1218 | Q18: BRIDIER | R18: =SUM(F21:N21) -> 60
A19: 2REP+DÉMONTAGE | B19: 250 | C19: x | F19: =$E$17*12 -> 48 | G19: =IF($G$16="montage",180,0) -> 180 | H19: =IF(H16="1rep",180,0)+IF(H16="2rep",220,0)+IF(H16="2rep+démontage",250,0)+IF(H16="1rep+démontage",180,0) -> 180 | I19: =IF(I16="1rep",180,0)+IF(I16="2rep",220,0)+IF(I16="2rep+démontage",250,0)+IF(I16="1rep+démontage",180,0) -> 220 | J19: =IF(J16="1rep",180,0)+IF(J16="2rep",220,0)+IF(J16="2rep+démontage",250,0)+IF(J16="1rep+démontage",180,0) -> 220 | K19: =IF(K16="1rep",180,0)+IF(K16="2rep",220,0)+IF(K16="2rep+démontage",250,0)+IF(K16="1rep+démontage",180,0) -> 180 | L19: =IF(L16="1rep",180,0)+IF(L16="2rep",220,0)+IF(L16="2rep+démontage",250,0)+IF(L16="1rep+démontage",180,0) -> 0 | M19: =IF(M16="1rep",180,0)+IF(M16="2rep",220,0)+IF(M16="2rep+demontage",250,0)+IF(M17="1rep+démontage",180,0) -> 0 | N19: =IF(N16="1rep",180,0)+IF(N16="2rep",220,0)+IF(N16="2rep+demontage",250,0)+IF(N17="1rep+démontage",180,0) -> 0 | O19: =IF(O16="1rep",180,0)+IF(O16="2rep",240,0)+IF(O16="2rep+demontage",270,0) -> 0 | P19: =SUM(E19:M19) -> 1028 | Q19: GAILLARD | R19: =SUM(F22:N22) -> 60
A20: 1REP+DÉMONTAGE | C20: x | D20: 90 | P20: =SUM(D20:M20) -> 90 | Q20: CHARGEMENT
C21: x | G21: =IF(G18>1,12,0) -> 12 | H21: =IF(H18>1,12,0) -> 12 | I21: =IF(I18>1,12,0) -> 12 | J21: =IF(J18>1,12,0) -> 12 | K21: =IF(K18>1,12,0) -> 12 | L21: =IF(L18>1,12,0) -> 0 | M21: =IF(M18>1,12,0) -> 0 | N21: =IF(N18>1,12,0) -> 0 | O21: BRUT TECHNIK | P21: =SUM(P18:P20) -> 2336 | R21: =SUM(R18:R20) -> 120
G22: =IF(G19>1,12,0) -> 12 | H22: =IF(H19>1,12,0) -> 12 | I22: =IF(I19>1,12,0) -> 12 | J22: =IF(J19>1,12,0) -> 12 | K22: =IF(K19>1,12,0) -> 12 | L22: =IF(L19>1,12,0) -> 0 | M22: =IF(M19>1,12,0) -> 0 | N22: =IF(N19>1,12,0) -> 0 | O22: CHARGES P | P22: =+P18*0.67+P19*0.63+P20*0.63 -> 1520.4
G25: J-1 | H25: J | I25: J+1 | J25: J+2 | K25: J+3 | L25: J+4 | M25: J+5 | N25: J+6 | O25: J+7
C26: DATES | F26: DATES | G26: L 26/03/18 | H26: M 27/03/18 | I26: M 28/03/18 | J26: J 29/03/18 | K26: V 30/03/18 | L26: =+L14 -> 0 | M26: =+M14 -> 0 | N26: =+N14 -> 0 | O26: =+O14 -> 0
A27: RACCORD | B27: 60 | C27: ARTISTES | H27: =+A28 -> RACCORD+1REP | I27: 2REP | J27: 2REP | K27: 1REP | M27: 0 | O27: 1 | P27: Total brut/pers
A28: RACCORD+1REP | B28: 190 | C28: x | G28: =IF($H$27="raccord",60,0) -> 0 | H28: =IF(H27="raccord+1rep",190,0)+IF(H27="raccord+2rep",220)+IF(H27="1rep",180,0)+IF(H27="2rep",210) -> 190 | I28: =IF(I27="raccord+1rep",190,0)+IF(I27="raccord+2rep",220)+IF(I27="1rep",180,0)+IF(I27="2rep",210) -> 210 | J28: =IF(J27="raccord+1rep",190,0)+IF(J27="raccord+2rep",220)+IF(J27="1rep",180,0)+IF(J27="2rep",210) -> 210 | K28: =IF(K27="raccord+1rep",190,0)+IF(K27="raccord+2rep",220)+IF(K27="1rep",180,0)+IF(K27="2rep",210) -> 180 | L28: =IF(L27="raccord+1rep",190,0)+IF(L27="raccord+2rep",220)+IF(L27="1rep",180,0)+IF(L27="2rep",210) -> 0 | M28: =IF(M27="raccord+1rep",190,0)+IF(M27="raccord+2rep",220)+IF(M27="1rep",180,0)+IF(M27="2rep",210) -> 0 | O28: =IF(O27="raccord+1rep",190,0)+IF(O27="raccord+2rep",220)+IF(O27="1rep",180,0)+IF(O27="2rep",210) -> 0 | P28: =SUM(G28:O28) -> 790 | Q28: CASSIGNARD | R28: =SUM(G32:N32) -> 48
A29: RACCORD+2REP | B29: 220 | C29: x | G29: =IF($H$27="raccord",60,0) -> 0 | H29: =IF(H27="raccord+1rep",190,0)+IF(H27="raccord+2rep",220)+IF(H27="1rep",180,0)+IF(H27="2rep",210) -> 190 | I29: =IF(I27="raccord+1rep",190,0)+IF(I27="raccord+2rep",220)+IF(I27="1rep",180,0)+IF(I27="2rep",210) -> 210 | J29: =IF(J27="raccord+1rep",190,0)+IF(J27="raccord+2rep",220)+IF(J27="1rep",180,0)+IF(J27="2rep",210) -> 210 | K29: =IF(K27="raccord+1rep",190,0)+IF(K27="raccord+2rep",220)+IF(K27="1rep",180,0)+IF(K27="2rep",210) -> 180 | L29: =IF(L27="raccord+1rep",190,0)+IF(L27="raccord+2rep",220)+IF(L27="1rep",180,0)+IF(L27="2rep",210) -> 0 | M29: =IF(M27="raccord+1rep",190,0)+IF(M27="raccord+2rep",220)+IF(M27="1rep",180,0)+IF(M27="2rep",210) -> 0 | O29: =IF(O27="raccord+1rep",190,0)+IF(O27="raccord+2rep",220)+IF(O27="1rep",180,0)+IF(O27="2rep",210) -> 0 | P29: =SUM(G29:O29) -> 790 | Q29: CARDIN | R29: =SUM(G33:N33) -> 48
A30: 1REP | B30: 180 | C30: x | G30: =IF($H$27="raccord",60,0) -> 0 | H30: =IF(H27="raccord+1rep",190,0)+IF(H27="raccord+2rep",220)+IF(H27="1rep",180,0)+IF(H27="2rep",210) -> 190 | I30: =IF(I27="raccord+1rep",190,0)+IF(I27="raccord+2rep",220)+IF(I27="1rep",180,0)+IF(I27="2rep",210) -> 210 | J30: =IF(J27="raccord+1rep",190,0)+IF(J27="raccord+2rep",220)+IF(J27="1rep",180,0)+IF(J27="2rep",210) -> 210 | K30: =IF(K27="raccord+1rep",190,0)+IF(K27="raccord+2rep",220)+IF(K27="1rep",180,0)+IF(K27="2rep",210) -> 180 | L30: =IF(L27="raccord+1rep",190,0)+IF(L27="raccord+2rep",220)+IF(L27="1rep",180,0)+IF(L27="2rep",210) -> 0 | M30: =IF(M27="raccord+1rep",190,0)+IF(M27="raccord+2rep",220)+IF(M27="1rep",180,0)+IF(M27="2rep",210) -> 0 | O30: =IF(O27="raccord+1rep",190,0)+IF(O27="raccord+2rep",220)+IF(O27="1rep",180,0)+IF(O27="2rep",210) -> 0 | P30: =SUM(G30:O30) -> 790 | Q30: HEURTE | R30: =SUM(G34:N34) -> 48
A31: 2REP | B31: 210 | C31: x | R31: =SUM(G35:N35) -> 0
G32: =IF(G28>1,12,0) -> 0 | H32: =IF(H28>1,12,0) -> 12 | I32: =IF(I28>1,12,0) -> 12 | J32: =IF(J28>1,12,0) -> 12 | K32: =IF(K28>1,12,0) -> 12 | L32: =IF(L28>1,12,0) -> 0 | M32: =IF(M28>1,12,0) -> 0 | N32: =IF(N28>1,12,0) -> 0 | O32: TT BRUT ART | P32: =SUM(P28:P31) -> 2370
G33: =IF(G29>1,12,0) -> 0 | H33: =IF(H29>1,12,0) -> 12 | I33: =IF(I29>1,12,0) -> 12 | J33: =IF(J29>1,12,0) -> 12 | K33: =IF(K29>1,12,0) -> 12 | L33: =IF(L29>1,12,0) -> 0 | M33: =IF(M29>1,12,0) -> 0 | N33: =IF(N29>1,12,0) -> 0 | O33: CHARGES P | P33: =+(P28+P29+P30)*0.46+P31*0.57 -> 1090.2 | R33: =SUM(R28:R32) -> 144
G34: =IF(G30>1,12,0) -> 0 | H34: =IF(H30>1,12,0) -> 12 | I34: =IF(I30>1,12,0) -> 12 | J34: =IF(J30>1,12,0) -> 12 | K34: =IF(K30>1,12,0) -> 12 | L34: =IF(L30>1,12,0) -> 0 | M34: =IF(M30>1,12,0) -> 0 | N34: =IF(N30>1,12,0) -> 0
R36: =+R33+R21 -> 264
C37: SYNTHESE
C39: COUT PLATEAU | J39: =P21+P22+P32+P33 -> 7316.6 | K39: PRIX PAR REP
C40: MARGE 0,4 | D40: 0.4 | J40: =+J39*D40 -> 2926.64
C41: PRIX MARGE - 0,4 | J41: =J39+J40 -> 10243.24 | K41: =+J41/C8 -> 1707.2067 | L41: =+D40 -> 0.4
C42: MARGE 0,3 | D42: 0.3 | J42: =+J39*D42 -> 2194.98
C43: PRIX MARGE - 0,3 | J43: =+J42+J39 -> 9511.58 | K43: =+J43/C8 -> 1585.2633 | L43: =+D42 -> 0.3
C44: PROPOSITON | K44: =J44/C8 -> 0 | L44: =+D45 -> -1
C45: MARGE REEL | D45: =(+J44/J39)-1 -> -1 | J45: =J44-J39 -> -7316.6
B48: 2) | C48: TRANSPORTS
G50: TOTAUX
B51: LOCATION CAMIONS | C51: TARIF/J | D51: JOURS | E51: TOTAL | F51: MARGE TVA | G51: =SUM(F52:F52) -> 504
B52: CAMION 2 | C52: 60 | D52: 7 | E52: =C52*D52 -> 420 | F52: =E52*1.2 -> 504
...

Sheet DEVIS SN
A5: Direction BETTY HEURTEBISE
A7: BORDEAUX, le | B7: 43061
A9: DEVIS - CESSION | C9: =+'TAB SN'!C5 -> x
A10: THEATRE | C10: =+'TAB SN'!C6 -> x
A11: PERIODE | C11: Du 27 au 30/03/2018
A12: NOMBRE DE REPRESENTATIONS | C12: =+'TAB SN'!C8 -> 6
A14: Cession | C14: =+'TAB SN'!D99 -> 0 | D14: HT
A15: Transports décors | C15: =+'TAB SN'!D100 -> 640 | D15: HT
A16: transport équipe | C16: =+'TAB SN'!D101 -> 330 | D16: HT
A17: Défraiements repas | B17: =+'TAB SN'!D102 -> 9 | C17: =+B17*18.4 -> 165.6 | D17: HT
A18: Défraiements repas - Prise en charge directe | C18: 50 repas
A20: chambres singles | C20: =+'TAB SN'!M95 -> 21
A22: TOTAL HT (hors nuitées) | C22: =C14+C15+C16+C17 -> 1135.6 | D22: HT
A23: TOTAL TTC (hors nuitées) - TVA 5,5% | C23: =C22*1.055 -> 1198.058 | D23: TTC
A27: Equipe composée de : | C27: 2 techniciens (lumières/vidéo, son, plateau)
C28: 2 comédiens
C29: 1 metteur en scène
C30: 1 chargé(e) de production / diffusion
A32: Arrivées : | C32: Techniciens et décors | D32: J-1
C33: Comédiens et metteur en scène | D33: J-1
C34: Chargé(e) de production / diffusion | D34: J
A36: Devis établi selon le calendrier suivant :
A37: L 26/03/2018 | B37: Montage (2 serv)
A38: M 27/03/2018 | B38: 1 serv mont + 1 rep 14H
A39: M 28/03/2018 | B39: 2 rep (1 scol + 1 TP)
A40: J 29/03/2018 | B40: 2 rep (2 scol)
A41: V 30/03/2018 | B41: 1 rep 10H et démontage
A43: Frais annexes calculés sur la base de la Convention collective nationale des entreprises artisitiques et culturelles.
A45: Contact diffusion | C45: CELINE VAUCENAT
C46: celine.vaucenat@lapetitefabrique.org
C47: tel : 06 12 17 07 65

Sheet TABXX
B2: 1) | C2: COUT PLATEAU
B5: SPECTACLE | C5: X
B6: LIEU | C6: X
B7: PERIODE | C7: X | E7: année | F7: 2018
B8: NB REP | C8: X
C9: Dont SCO | D9: 2
C10: Dont TP | D10: 1
E13: VOYAGE J-2 | F13: J-2 | G13: J-1 | H13: J | I13: J | J13: J+1 | K13: J+2 | L13: J+3 | M13: J+4 | N13: J+5 | O13: J+6
C14: DATES | G14: 43171 | H14: 43172 | I14: 43173 | J14: 43174 | K14: 43175 | L14: 43176 | M14: 43177
C15: JOUR | G15: lundi | H15: mardi | I15: mercredi | J15: jeudi | K15: vendredi
A16: MONTAGE | B16: 180 | C16: TEK | D16: RG + CH | G16: MONTAGE | H16: 2rep | I16: 1rep | M16: 0 | P16: Total brut/pers
A17: 1REP | B17: 180 | E17: 1.5 | R17: NB H
A18: 2REP | B18: 220 | C18: X | D18: =100+90 -> 190 | E18: =$E$17*12 -> 18 | F18: =IF($G$16="1SERVICE",90,0) -> 0 | G18: =IF($G$16="MONTAGE",180,0) -> 180 | H18: =IF(H16="1rep",180,0)+IF(H16="2rep",220,0)+IF(H16="2rep+demontage",250,0)+IF(H16="1rep+démontage",180,0) -> 220 | I18: =IF(I16="1rep",180,0)+IF(I16="2rep",220,0)+IF(I16="2rep+demontage",250,0)+IF(I16="1rep+démontage",180,0) -> 180 | J18: =IF(J16="1rep",180,0)+IF(J16="2rep",220,0)+IF(J16="2rep+demontage",250,0)+IF(J16="1rep+démontage",180,0) -> 0 | K18: =IF(K16="1rep",180,0)+IF(K16="2rep",220,0)+IF(K16="2rep+demontage",250,0)+IF(K16="1rep+démontage",180,0) -> 0 | L18: =IF(L16="1rep",180,0)+IF(L16="2rep",220,0)+IF(L16="2rep+demontage",250,0)+IF(L16="1rep+démontage",180,0) -> 0 | M18: =IF(M16="1rep",180,0)+IF(M16="2rep",220,0)+IF(M16="2rep+demontage",250,0)+IF(M16="1rep+démontage",180,0) -> 0 | N18: =IF(N16="1rep",180,0)+IF(N16="2rep",220,0)+IF(N16="2rep+demontage",250,0)+IF(N16="1rep+démontage",180,0) -> 0 | O18: =IF(O16="1rep",180,0)+IF(O16="2rep",220,0)+IF(O16="2rep+demontage",250,0)+IF(O16="1rep+démontage",180,0) -> 0 | P18: =SUM(D18:O18) -> 788 | Q18: BRIDIER | R18: =SUM(F21:N21) -> 36
A19: 2REP+DEMONTAGE | B19: 250 | C19: X | E19: =$E$17*12 -> 18 | F19: =IF($G$16="1SERVICE",90,0) -> 0 | G19: =IF($G$16="montage",180,0) -> 180 | H19: =IF(H16="1rep",180,0)+IF(H16="2rep",220,0)+IF(H16="2rep+demontage",250,0)+IF(H17="1rep+démontage",180,0) -> 220 | I19: =IF(I16="1rep",180,0)+IF(I16="2rep",220,0)+IF(I16="2rep+demontage",250,0)+IF(I17="1rep+démontage",180,0) -> 180 | J19: =IF(J16="1rep",180,0)+IF(J16="2rep",220,0)+IF(J16="2rep+demontage",250,0)+IF(J17="1rep+démontage",180,0) -> 0 | K19: =IF(K16="1rep",180,0)+IF(K16="2rep",220,0)+IF(K16="2rep+demontage",250,0)+IF(K17="1rep+démontage",180,0) -> 0 | L19: =IF(L16="1rep",180,0)+IF(L16="2rep",220,0)+IF(L16="2rep+demontage",250,0)+IF(L17="1rep+démontage",180,0) -> 0 | M19: =IF(M16="1rep",180,0)+IF(M16="2rep",220,0)+IF(M16="2rep+demontage",250,0)+IF(M17="1rep+démontage",180,0) -> 0 | N19: =IF(N16="1rep",180,0)+IF(N16="2rep",220,0)+IF(N16="2rep+demontage",250,0)+IF(N17="1rep+démontage",180,0) -> 0 | O19: =IF(O17="1rep",180,0)+IF(O17="2rep",220,0)+IF(O17="2rep+demontage",250,0)+IF(O17="1rep+démontage",180,0) -> 0 | P19: =SUM(D19:M19) -> 598 | Q19: GAILLARD | R19: =SUM(F22:N22) -> 36
A20: 1REP+DEMONTAGE | C20: X | D20: 90 | P20: =SUM(D20:M20) -> 90 | Q20: CHARGEMENT
G21: =IF(G18>1,12,0) -> 12 | H21: =IF(H18>1,12,0) -> 12 | I21: =IF(I18>1,12,0) -> 12 | J21: =IF(J18>1,12,0) -> 0 | K21: =IF(K18>1,12,0) -> 0 | L21: =IF(L18>1,12,0) -> 0 | M21: =IF(M18>1,12,0) -> 0 | N21: =IF(N18>1,12,0) -> 0 | O21: BRUT TECHNIK | P21: =SUM(P18:P20) -> 1476 | R21: =SUM(R18:R20) -> 72
G22: =IF(G19>1,12,0) -> 12 | H22: =IF(H19>1,12,0) -> 12 | I22: =IF(I19>1,12,0) -> 12 | J22: =IF(J19>1,12,0) -> 0 | K22: =IF(K19>1,12,0) -> 0 | L22: =IF(L19>1,12,0) -> 0 | M22: =IF(M19>1,12,0) -> 0 | N22: =IF(N19>1,12,0) -> 0 | O22: CHARGES P | P22: =+P18*0.67+P19*0.63+P20*0.63 -> 961.4
G25: J-1 | H25: J | I25: J+1 | J25: J+2 | K25: J+3 | L25: J+4 | M25: J+5 | N25: J+6 | O25: J+7
C26: DATES | F26: DATES | G26: =+G14 -> 43171 | H26: 43171 | I26: =+I14 -> 43173 | J26: =+J14 -> 43174 | K26: =+K14 -> 43175 | L26: =+L14 -> 43176 | M26: =+M14 -> 43177 | N26: =+N14 -> 0 | O26: =+O14 -> 0
A27: RACCORD | B27: 60 | C27: ARTISTES | H27: 2rep | I27: 1rep | O27: 1 | P27: Total brut/pers
A28: RACCORD+1REP | B28: 190 | C28: X | G28: =IF($H$27="raccord",60,0) -> 0 | H28: =IF(H27="raccord+1rep",190,0)+IF(H27="raccord+2rep",220)+IF(H27="1rep",180,0)+IF(H27="2rep",210) -> 210 | I28: =IF(I27="raccord+1rep",190,0)+IF(I27="raccord+2rep",220)+IF(I27="1rep",180,0)+IF(I27="2rep",210) -> 180 | J28: =IF(J27="raccord+1rep",190,0)+IF(J27="raccord+2rep",220)+IF(J27="1rep",180,0)+IF(J27="2rep",210) -> 0 | K28: =IF(K27="raccord+1rep",190,0)+IF(K27="raccord+2rep",220)+IF(K27="1rep",180,0)+IF(K27="2rep",210) -> 0 | L28: =IF(L27="raccord+1rep",190,0)+IF(L27="raccord+2rep",220)+IF(L27="1rep",180,0)+IF(L27="2rep",210) -> 0 | M28: =IF(M27="raccord+1rep",190,0)+IF(M27="raccord+2rep",220)+IF(M27="1rep",180,0)+IF(M27="2rep",210) -> 0 | P28: =SUM(G28:O28) -> 390 | Q28: CASSIGNARD | R28: =SUM(G32:N32) -> 24
A29: RACCORD+2REP | B29: 220 | C29: X | G29: =IF($H$27="raccord",60,0) -> 0 | H29: =IF(H27="raccord+1rep",190,0)+IF(H27="raccord+2rep",220)+IF(H27="1rep",180,0)+IF(H27="2rep",210) -> 210 | I29: =IF(I27="raccord+1rep",190,0)+IF(I27="raccord+2rep",220)+IF(I27="1rep",180,0)+IF(I27="2rep",210) -> 180 | J29: =IF(J27="raccord+1rep",190,0)+IF(J27="raccord+2rep",220)+IF(J27="1rep",180,0)+IF(J27="2rep",210) -> 0 | K29: =IF(K27="raccord+1rep",190,0)+IF(K27="raccord+2rep",220)+IF(K27="1rep",180,0)+IF(K27="2rep",210) -> 0 | L29: =IF(L27="raccord+1rep",190,0)+IF(L27="raccord+2rep",220)+IF(L27="1rep",180,0)+IF(L27="2rep",210) -> 0 | M29: =IF(M27="raccord+1rep",190,0)+IF(M27="raccord+2rep",220)+IF(M27="1rep",180,0)+IF(M27="2rep",210) -> 0 | P29: =SUM(G29:O29) -> 390 | Q29: CARDIN | R29: =SUM(G33:N33) -> 24
A30: 1REP | B30: 180 | C30: X | G30: =IF($H$27="raccord",60,0) -> 0 | H30: =IF(H27="raccord+1rep",190,0)+IF(H27="raccord+2rep",220)+IF(H27="1rep",180,0)+IF(H27="2rep",210) -> 210 | I30: =IF(I27="raccord+1rep",190,0)+IF(I27="raccord+2rep",220)+IF(I27="1rep",180,0)+IF(I27="2rep",210) -> 180 | J30: =IF(J27="raccord+1rep",190,0)+IF(J27="raccord+2rep",220)+IF(J27="1rep",180,0)+IF(J27="2rep",210) -> 0 | K30: =IF(K27="raccord+1rep",190,0)+IF(K27="raccord+2rep",220)+IF(K27="1rep",180,0)+IF(K27="2rep",210) -> 0 | L30: =IF(L27="raccord+1rep",190,0)+IF(L27="raccord+2rep",220)+IF(L27="1rep",180,0)+IF(L27="2rep",210) -> 0 | M30: =IF(M27="raccord+1rep",190,0)+IF(M27="raccord+2rep",220)+IF(M27="1rep",180,0)+IF(M27="2rep",210) -> 0 | P30: =SUM(G30:O30) -> 390 | Q30: HEURTE | R30: =SUM(G34:N34) -> 24
A31: 2REP | B31: 210 | R31: =SUM(G35:N35) -> 0
G32: =IF(G28>1,12,0) -> 0 | H32: =IF(H28>1,12,0) -> 12 | I32: =IF(I28>1,12,0) -> 12 | J32: =IF(J28>1,12,0) -> 0 | K32: =IF(K28>1,12,0) -> 0 | L32: =IF(L28>1,12,0) -> 0 | M32: =IF(M28>1,12,0) -> 0 | N32: =IF(N28>1,12,0) -> 0 | O32: TT BRUT ART | P32: =SUM(P28:P31) -> 1170
G33: =IF(G29>1,12,0) -> 0 | H33: =IF(H29>1,12,0) -> 12 | I33: =IF(I29>1,12,0) -> 12 | J33: =IF(J29>1,12,0) -> 0 | K33: =IF(K29>1,12,0) -> 0 | L33: =IF(L29>1,12,0) -> 0 | M33: =IF(M29>1,12,0) -> 0 | N33: =IF(N29>1,12,0) -> 0 | O33: CHARGES P | P33: =+(P28+P29+P30)*0.46+P31*0.57 -> 538.2 | R33: =SUM(R28:R32) -> 72
G34: =IF(G30>1,12,0) -> 0 | H34: =IF(H30>1,12,0) -> 12 | I34: =IF(I30>1,12,0) -> 12 | J34: =IF(J30>1,12,0) -> 0 | K34: =IF(K30>1,12,0) -> 0 | L34: =IF(L30>1,12,0) -> 0 | M34: =IF(M30>1,12,0) -> 0 | N34: =IF(N30>1,12,0) -> 0
R36: =+R33+R21 -> 144
C37: SYNTHESE
C39: COUT PLATEAU | J39: =P21+P22+P32+P33 -> 4145.6 | K39: PRIX PAR REP | M39: 3 REP : 5800
C40: MARGE 0,4 | D40: 0.4 | J40: =+J39*D40 -> 1658.24 | M40: 4 REP : 6300
C41: PRIX MARGE - 0,4 | J41: =J39+J40 -> 5803.84 | K41: =+J41/C8 -> #VALUE! | L41: =+D40 -> 0.4
C42: MARGE 0,3 | D42: 0.3 | J42: =+J39*D42 -> 1243.68
C43: PRIX MARGE - 0,3 | J43: =+J42+J39 -> 5389.28 | K43: =+J43/C8 -> #VALUE! | L43: =+D42 -> 0.3
C44: PROPOSITON | J44: 5800 | K44: =+J44/C8 -> #VALUE! | L44: =+D45 -> 0.39907372
C45: MARGE REEL | D45: =(+J44/J39)-1 -> 0.39907372 | J45: =J44-J39 -> 1654.4
B48: 2) | C48: TRANSPORTS
G50: TOTAUX
B51: LOCATION CAMIONS | C51: TARIF/J | D51: JOURS | E51: TOTAL | F51: MARGE TVA | G51: =SUM(F52:F52) -> 0
B52: CAMION 2 | C52: 60 | E52: =C52*D52 -> 0 | F52: =E52*1.2 -> 0
...

Sheet DEVISXX
A5: Direction BETTY HEURTEBISE
A7: BORDEAUX, le | B7: 43174
A9: DEVIS - CESSION | C9: =+TABXX!C5 -> X
A10: THEATRE | C10: =+TABXX!C6 -> X
A11: PERIODE | C11: =+TABXX!C7 -> X
A12: NOMBRE DE REPRESENTATIONS | C12: =+TABXX!C8 -> X
A14: Cession | C14: =+TABXX!D106 -> 5800 | D14: HT
A15: Transports décors | C15: =+TABXX!D107 -> 0 | D15: HT
A16: transport équipe | C16: =+TABXX!D108 -> 0 | D16: HT
A17: Défraiements repas | C17: =+B17*18.1 -> 0 | D17: HT
A18: Défraiements repas - Prise en charge directe | C18: 38
A20: chambres singles | C20: =+TABXX!M99 -> 0
A22: TOTAL HT (hors nuitées) | C22: =C14+C15+C16+C17 -> 5800 | D22: HT
A23: TOTAL TTC (hors nuitées) - TVA 5,5% | C23: =C22*1.055 -> 6119 | D23: TTC
A27: Equipe composée de : | C27: 3 techniciens (lumières/vidéo, son, plateau)
C28: 2 comédiens
C29: 1 metteur en scène
C30: 1 chargé(e) de production / diffusion
A32: Arrivées : | C32: Techniciens et décors | D32: J-2 soir
C33: Comédiens et metteur en scène | D33: J-1 soir
C34: Chargé(e) de production / diffusion | D34: J
A36: Frais annexes calculés sur la base de la Convention collective nationale des entreprises artisitiques et culturelles.
A38: Devis établi selon le calendrier suiviant :
B39: Montage
B40: 1 scolaire + 1 TP
B41: 1 scolaires
A44: Contact diffusion

Sheet SYNTHESE
B1: tu choisis | M1: TAB 2R
A2: choix de l'année | B2: 2018 | C2: =SUMPRODUCT(COUNTIF(INDIRECT("'"&M1:M3&"'!f7"),B2)) -> 2 | D2: pas touche | M2: TAB SN
M3: TABXX
A4: MASSE SALARIALE | C4: moyenne | D4: PRODUITS | F4: MARGE | G4: TVA | H4: REP
E5: - €
A6: ARTISTE | B6: =SUMPRODUCT(SUMIF(INDIRECT("'"&M1:M3&"'!f7"),B2,INDIRECT("'"&M1:M3&"'!c115"))) -> 1980 | C6: =B6/C2 -> 990 | D6: CESSION | F6: =+'[3]TAB DRM TERRASSON 2R'!G114+'[3]TAB DRM SCENES NOMADES'!G110+'[3]TAB ANGOULEME'!G114+'[3]TAB C+C'!G114+'[3]TAB MARCHEPRIME'!G114+'[3]TAB THOUARS'!G114+'[3]TAB PESSAC'!G114+'[3]TAB NANTERRE'!G110+'[3]TAB EVREUX 6 REP'!G101 -> 0 | G6: 0 | H6: SCO
A7: dont MES | D7: ++ | G7: 0 | H7: TP
A8: TEK | D8: dont T.Décor
A9: CHARGES P | D9: dont T.équipe
C10: 0 | D10: dont Hébgmt
C11: 0 | D11: dont repas
A12: TT | G12: - € | I12: =+I6+I7 -> 0
F13: 0
B15: j'ai fait pour sommer les C115 ; la moyenne est cette somme divisée par le nb fois l'année selon choix

Sheet FIN 
