Workbook
Name cole: OFFSET(Feuil1!$E$2,,,COUNT(Feuil1!$B:$B))
Name Domicile: [1]TABLE!$A$2:$A$50
Name liste: OFFSET(param!$A$2,,,COUNTIF(param!$A:$A,"><"))

Sheet Feuil1
A1: Nice | B1: Date | C1: Budget | D1: Entraîneur | E1: Domicile | F1: Résultat | G1: Score | H1: Côte 1 | I1: Côte 2 | J1: Côte 3 | K1: Score | L1: Favori budget | M1: Favori cote | N1: Equivalent pt | O1: Résultat | P1: Extérieur | Q1: Entraîneur | R1: Budget
B2: 42594 | C2: =IF(E2="","",VLOOKUP(E2,[2]Budget!A:B,2,FALSE)) -> 145000000 | D2: =IF(E2="","",VLOOKUP(E2,[2]Entraîneur!A:C,2,FALSE)) -> Leonardo Jardim | E2: Monaco | F2: =IF(G2="","",IF(G2=K2,"Nul",IF(G2>K2,"Victoire",IF(G2<K2,"Défaite")))) -> Nul | G2: 2 | H2: 1.65 | I2: 3.6 | J2: 5.5 | K2: 2 | L2: =IF(R2="","",IF(R2>=C2,"OUI","NON")) -> NON | M2: =IF(J2="","",IF(J2<H2,"OUI","NON")) -> NON | N2: =IF(O2="","",IF(O2="Défaite","0",IF(O2="Nul","1",IF(O2="Victoire","3")))) -> 1 | O2: =IF(K2="","",IF(F2="Nul","Nul",IF(F2="Victoire","Défaite",IF(F2="Défaite","Victoire")))) -> Nul | P2: Guingamp | Q2: =IF(P2="","",VLOOKUP(P2,[2]Entraîneur!A:C,2,FALSE)) -> Antoine KOMBOUARÉ | R2: =IF(P2="","",VLOOKUP(P2,[2]Budget!A:B,2,FALSE)) -> 26000000
B3: 42594 | C3: =IF(E3="","",VLOOKUP(E3,[2]Budget!A:B,2,FALSE)) -> 28000000 | D3: =IF(E3="","",VLOOKUP(E3,[2]Entraîneur!A:C,2,FALSE)) -> François CICCOLINI | E3: Bastia | F3: =IF(G3="","",IF(G3=K3,"Nul",IF(G3>K3,"Victoire",IF(G3<K3,"Défaite")))) -> Défaite | G3: 0 | H3: 10 | I3: 1.8 | J3: 1.3 | K3: 1 | L3: =IF(R3="","",IF(R3>=C3,"OUI","NON")) -> OUI | M3: =IF(J3="","",IF(J3<H3,"OUI","NON")) -> OUI | N3: =IF(O3="","",IF(O3="Défaite","0",IF(O3="Nul","1",IF(O3="Victoire","3")))) -> 3 | O3: =IF(K3="","",IF(F3="Nul","Nul",IF(F3="Victoire","Défaite",IF(F3="Défaite","Victoire")))) -> Victoire | P3: PSG | Q3: =IF(P3="","",VLOOKUP(P3,[2]Entraîneur!A:C,2,FALSE)) -> Unaï Emery | R3: =IF(P3="","",VLOOKUP(P3,[2]Budget!A:B,2,FALSE)) -> 500000000
B4: 42595 | C4: =IF(E4="","",VLOOKUP(E4,[2]Budget!A:B,2,FALSE)) -> 42000000 | D4: =IF(E4="","",VLOOKUP(E4,[2]Entraîneur!A:C,2,FALSE)) -> Frédéric HANTZ | E4: Montpellier | F4: =IF(G4="","",IF(G4=K4,"Nul",IF(G4>K4,"Victoire",IF(G4<K4,"Défaite")))) -> Victoire | G4: 1 | H4: 1.85 | I4: 3.25 | J4: 4.6 | K4: 0 | L4: =IF(R4="","",IF(R4>=C4,"OUI","NON")) -> NON | M4: =IF(J4="","",IF(J4<H4,"OUI","NON")) -> NON | N4: =IF(O4="","",IF(O4="Défaite","0",IF(O4="Nul","1",IF(O4="Victoire","3")))) -> 0 | O4: =IF(K4="","",IF(F4="Nul","Nul",IF(F4="Victoire","Défaite",IF(F4="Défaite","Victoire")))) -> Défaite | P4: Angers | Q4: =IF(P4="","",VLOOKUP(P4,[2]Entraîneur!A:C,2,FALSE)) -> Stéphane MOULIN | R4: =IF(P4="","",VLOOKUP(P4,[2]Budget!A:B,2,FALSE)) -> 25000000
B5: 42595 | C5: =IF(E5="","",VLOOKUP(E5,[2]Budget!A:B,2,FALSE)) -> 30000000 | D5: =IF(E5="","",VLOOKUP(E5,[2]Entraîneur!A:C,2,FALSE)) -> Philippe HINSCHBERGER | E5: Metz | F5: =IF(G5="","",IF(G5=K5,"Nul",IF(G5>K5,"Victoire",IF(G5<K5,"Défaite")))) -> Victoire | G5: 3 | H5: 3.75 | I5: 3.1 | J5: 2.1 | K5: 2 | L5: =IF(R5="","",IF(R5>=C5,"OUI","NON")) -> OUI | M5: =IF(J5="","",IF(J5<H5,"OUI","NON")) -> OUI | N5: =IF(O5="","",IF(O5="Défaite","0",IF(O5="Nul","1",IF(O5="Victoire","3")))) -> 0 | O5: =IF(K5="","",IF(F5="Nul","Nul",IF(F5="Victoire","Défaite",IF(F5="Défaite","Victoire")))) -> Défaite | P5: Lille | Q5: =IF(P5="","",VLOOKUP(P5,[2]Entraîneur!A:C,2,FALSE)) -> Frédéric Antonetti | R5: =IF(P5="","",VLOOKUP(P5,[2]Budget!A:B,2,FALSE)) -> 75000000
B6: 42595 | C6: =IF(E6="","",VLOOKUP(E6,[2]Budget!A:B,2,FALSE)) -> 30000000 | D6: =IF(E6="","",VLOOKUP(E6,[2]Entraîneur!A:C,2,FALSE)) -> Patrice GARANDE | E6: Caen | F6: =IF(G6="","",IF(G6=K6,"Nul",IF(G6>K6,"Victoire",IF(G6<K6,"Défaite")))) -> Victoire | G6: 3 | H6: 2.2 | I6: 3.25 | J6: 3.3 | K6: 2 | L6: =IF(R6="","",IF(R6>=C6,"OUI","NON")) -> OUI | M6: =IF(J6="","",IF(J6<H6,"OUI","NON")) -> NON | N6: =IF(O6="","",IF(O6="Défaite","0",IF(O6="Nul","1",IF(O6="Victoire","3")))) -> 0 | O6: =IF(K6="","",IF(F6="Nul","Nul",IF(F6="Victoire","Défaite",IF(F6="Défaite","Victoire")))) -> Défaite | P6: Lorient | Q6: =IF(P6="","",VLOOKUP(P6,[2]Entraîneur!A:C,2,FALSE)) -> Sylvain Ripoll | R6: =IF(P6="","",VLOOKUP(P6,[2]Budget!A:B,2,FALSE)) -> 36000000
B7: 42595 | C7: =IF(E7="","",VLOOKUP(E7,[2]Budget!A:B,2,FALSE)) -> 26000000 | D7: =IF(E7="","",VLOOKUP(E7,[2]Entraîneur!A:C,2,FALSE)) -> Olivier DALL'OGLIO | E7: Dijon | F7: =IF(G7="","",IF(G7=K7,"Nul",IF(G7>K7,"Victoire",IF(G7<K7,"Défaite")))) -> Défaite | G7: 0 | H7: 2.45 | I7: 3 | J7: 3.25 | K7: 1 | L7: =IF(R7="","",IF(R7>=C7,"OUI","NON")) -> OUI | M7: =IF(J7="","",IF(J7<H7,"OUI","NON")) -> NON | N7: =IF(O7="","",IF(O7="Défaite","0",IF(O7="Nul","1",IF(O7="Victoire","3")))) -> 3 | O7: =IF(K7="","",IF(F7="Nul","Nul",IF(F7="Victoire","Défaite",IF(F7="Défaite","Victoire")))) -> Victoire | P7: Nantes | Q7: =IF(P7="","",VLOOKUP(P7,[2]Entraîneur!A:C,2,FALSE)) -> René Girard | R7: =IF(P7="","",VLOOKUP(P7,[2]Budget!A:B,2,FALSE)) -> 40000000
B8: 42595 | C8: =IF(E8="","",VLOOKUP(E8,[2]Budget!A:B,2,FALSE)) -> 60000000 | D8: =IF(E8="","",VLOOKUP(E8,[2]Entraîneur!A:C,2,FALSE)) -> Jocelyn GOURVENNEC | E8: Bordeaux | F8: =IF(G8="","",IF(G8=K8,"Nul",IF(G8>K8,"Victoire",IF(G8<K8,"Défaite")))) -> Victoire | G8: 3 | H8: 2.25 | I8: 3 | J8: 3.4 | K8: 2 | L8: =IF(R8="","",IF(R8>=C8,"OUI","NON")) -> OUI | M8: =IF(J8="","",IF(J8<H8,"OUI","NON")) -> NON | N8: =IF(O8="","",IF(O8="Défaite","0",IF(O8="Nul","1",IF(O8="Victoire","3")))) -> 0 | O8: =IF(K8="","",IF(F8="Nul","Nul",IF(F8="Victoire","Défaite",IF(F8="Défaite","Victoire")))) -> Défaite | P8: St Etienne | Q8: =IF(P8="","",VLOOKUP(P8,[2]Entraîneur!A:C,2,FALSE)) -> Christophe Galtier | R8: =IF(P8="","",VLOOKUP(P8,[2]Budget!A:B,2,FALSE)) -> 70000000
B9: 42596 | C9: =IF(E9="","",VLOOKUP(E9,[2]Budget!A:B,2,FALSE)) -> 30000000 | D9: =IF(E9="","",VLOOKUP(E9,[2]Entraîneur!A:C,2,FALSE)) -> Pablo Correa | E9: Nancy | F9: =IF(G9="","",IF(G9=K9,"Nul",IF(G9>K9,"Victoire",IF(G9<K9,"Défaite")))) -> Défaite | G9: 0 | H9: 2.9 | I9: 3.25 | J9: 2.45 | K9: 3 | L9: =IF(R9="","",IF(R9>=C9,"OUI","NON")) -> OUI | M9: =IF(J9="","",IF(J9<H9,"OUI","NON")) -> OUI | N9: =IF(O9="","",IF(O9="Défaite","0",IF(O9="Nul","1",IF(O9="Victoire","3")))) -> 3 | O9: =IF(K9="","",IF(F9="Nul","Nul",IF(F9="Victoire","Défaite",IF(F9="Défaite","Victoire")))) -> Victoire | P9: Lyon | Q9: =IF(P9="","",VLOOKUP(P9,[2]Entraîneur!A:C,2,FALSE)) -> Bruno Genesio | R9: =IF(P9="","",VLOOKUP(P9,[2]Budget!A:B,2,FALSE)) -> 250000000
B10: 42596 | C10: =IF(E10="","",VLOOKUP(E10,[2]Budget!A:B,2,FALSE)) -> 42000000 | D10: =IF(E10="","",VLOOKUP(E10,[2]Entraîneur!A:C,2,FALSE)) -> Lucien FAVRE | E10: Nice | F10: =IF(G10="","",IF(G10=K10,"Nul",IF(G10>K10,"Victoire",IF(G10<K10,"Défaite")))) -> Victoire | G10: 1 | H10: 2.35 | I10: 3.2 | J10: 3.1 | K10: 0 | L10: =IF(R10="","",IF(R10>=C10,"OUI","NON")) -> OUI | M10: =IF(J10="","",IF(J10<H10,"OUI","NON")) -> NON | N10: =IF(O10="","",IF(O10="Défaite","0",IF(O10="Nul","1",IF(O10="Victoire","3")))) -> 0 | O10: =IF(K10="","",IF(F10="Nul","Nul",IF(F10="Victoire","Défaite",IF(F10="Défaite","Victoire")))) -> Défaite | P10: Rennes | Q10: =IF(P10="","",VLOOKUP(P10,[2]Entraîneur!A:C,2,FALSE)) -> Christian Gourcuff | R10: =IF(P10="","",VLOOKUP(P10,[2]Budget!A:B,2,FALSE)) -> 50000000
B11: 42596 | C11: =IF(E11="","",VLOOKUP(E11,[2]Budget!A:B,2,FALSE)) -> 100000000 | D11: =IF(E11="","",VLOOKUP(E11,[2]Entraîneur!A:C,2,FALSE)) -> Franck PASSI | E11: Marseille | F11: =IF(G11="","",IF(G11=K11,"Nul",IF(G11>K11,"Victoire",IF(G11<K11,"Défaite")))) -> Nul | G11: 0 | H11: 2.05 | I11: 3.2 | J11: 3.8 | K11: 0 | L11: =IF(R11="","",IF(R11>=C11,"OUI","NON")) -> NON | M11: =IF(J11="","",IF(J11<H11,"OUI","NON")) -> NON | N11: =IF(O11="","",IF(O11="Défaite","0",IF(O11="Nul","1",IF(O11="Victoire","3")))) -> 1 | O11: =IF(K11="","",IF(F11="Nul","Nul",IF(F11="Victoire","Défaite",IF(F11="Défaite","Victoire")))) -> Nul | P11: Toulouse | Q11: =IF(P11="","",VLOOKUP(P11,[2]Entraîneur!A:C,2,FALSE)) -> Pascal Dupraz | R11: =IF(P11="","",VLOOKUP(P11,[2]Budget!A:B,2,FALSE)) -> 35000000
B12: 42601 | C12: =IF(E12="","",VLOOKUP(E12,[2]Budget!A:B,2,FALSE)) -> 250000000 | D12: =IF(E12="","",VLOOKUP(E12,[2]Entraîneur!A:C,2,FALSE)) -> Bruno Genesio | E12: Lyon | F12: =IF(G12="","",IF(G12=K12,"Nul",IF(G12>K12,"Victoire",IF(G12<K12,"Défaite")))) -> Victoire | G12: 2 | H12: 1.33 | I12: 5 | J12: 8.25 | K12: 0 | L12: =IF(R12="","",IF(R12>=C12,"OUI","NON")) -> NON | M12: =IF(J12="","",IF(J12<H12,"OUI","NON")) -> NON | N12: =IF(O12="","",IF(O12="Défaite","0",IF(O12="Nul","1",IF(O12="Victoire","3")))) -> 0 | O12: =IF(K12="","",IF(F12="Nul","Nul",IF(F12="Victoire","Défaite",IF(F12="Défaite","Victoire")))) -> Défaite | P12: Caen | Q12: =IF(P12="","",VLOOKUP(P12,[2]Entraîneur!A:C,2,FALSE)) -> Patrice GARANDE | R12: =IF(P12="","",VLOOKUP(P12,[2]Budget!A:B,2,FALSE)) -> 30000000
B13: 42602 | C13: =IF(E13="","",VLOOKUP(E13,[2]Budget!A:B,2,FALSE)) -> 36000000 | D13: =IF(E13="","",VLOOKUP(E13,[2]Entraîneur!A:C,2,FALSE)) -> Sylvain Ripoll | E13: Lorient | F13: =IF(G13="","",IF(G13=K13,"Nul",IF(G13>K13,"Victoire",IF(G13<K13,"Défaite")))) -> Défaite | G13: 0 | H13: 2.1 | I13: 3.1 | J13: 3.8 | K13: 3 | L13: =IF(R13="","",IF(R13>=C13,"OUI","NON")) -> NON | M13: =IF(J13="","",IF(J13<H13,"OUI","NON")) -> NON | N13: =IF(O13="","",IF(O13="Défaite","0",IF(O13="Nul","1",IF(O13="Victoire","3")))) -> 3 | O13: =IF(K13="","",IF(F13="Nul","Nul",IF(F13="Victoire","Défaite",IF(F13="Défaite","Victoire")))) -> Victoire | P13: Bastia | Q13: =IF(P13="","",VLOOKUP(P13,[2]Entraîneur!A:C,2,FALSE)) -> François CICCOLINI | R13: =IF(P13="","",VLOOKUP(P13,[2]Budget!A:B,2,FALSE)) -> 28000000
B14: 42602 | C14: =IF(E14="","",VLOOKUP(E14,[2]Budget!A:B,2,FALSE)) -> 35000000 | D14: =IF(E14="","",VLOOKUP(E14,[2]Entraîneur!A:C,2,FALSE)) -> Pascal Dupraz | E14: Toulouse | F14: =IF(G14="","",IF(G14=K14,"Nul",IF(G14>K14,"Victoire",IF(G14<K14,"Défaite")))) -> Victoire | G14: 4 | H14: 2.55 | I14: 3.1 | J14: 2.85 | K14: 1 | L14: =IF(R14="","",IF(R14>=C14,"OUI","NON")) -> OUI | M14: =IF(J14="","",IF(J14<H14,"OUI","NON")) -> NON | N14: =IF(O14="","",IF(O14="Défaite","0",IF(O14="Nul","1",IF(O14="Victoire","3")))) -> 0 | O14: =IF(K14="","",IF(F14="Nul","Nul",IF(F14="Victoire","Défaite",IF(F14="Défaite","Victoire")))) -> Défaite | P14: Bordeaux | Q14: =IF(P14="","",VLOOKUP(P14,[2]Entraîneur!A:C,2,FALSE)) -> Jocelyn GOURVENNEC | R14: =IF(P14="","",VLOOKUP(P14,[2]Budget!A:B,2,FALSE)) -> 60000000
B15: 42602 | C15: =IF(E15="","",VLOOKUP(E15,[2]Budget!A:B,2,FALSE)) -> 75000000 | D15: =IF(E15="","",VLOOKUP(E15,[2]Entraîneur!A:C,2,FALSE)) -> Frédéric Antonetti | E15: Lille | F15: =IF(G15="","",IF(G15=K15,"Nul",IF(G15>K15,"Victoire",IF(G15<K15,"Défaite")))) -> Victoire | G15: 1 | H15: 1.75 | I15: 3.25 | J15: 5.6 | K15: 0 | L15: =IF(R15="","",IF(R15>=C15,"OUI","NON")) -> NON | M15: =IF(J15="","",IF(J15<H15,"OUI","NON")) -> NON | N15: =IF(O15="","",IF(O15="Défaite","0",IF(O15="Nul","1",IF(O15="Victoire","3")))) -> 0 | O15: =IF(K15="","",IF(F15="Nul","Nul",IF(F15="Victoire","Défaite",IF(F15="Défaite","Victoire")))) -> Défaite | P15: Dijon | Q15: =IF(P15="","",VLOOKUP(P15,[2]Entraîneur!A:C,2,FALSE)) -> Olivier DALL'OGLIO | R15: =IF(P15="","",VLOOKUP(P15,[2]Budget!A:B,2,FALSE)) -> 26000000 | V15: tulipe
B16: 42602 | C16: =IF(E16="","",VLOOKUP(E16,[2]Budget!A:B,2,FALSE)) -> 40000000 | D16: =IF(E16="","",VLOOKUP(E16,[2]Entraîneur!A:C,2,FALSE)) -> René Girard | E16: Nantes | F16: =IF(G16="","",IF(G16=K16,"Nul",IF(G16>K16,"Victoire",IF(G16<K16,"Défaite")))) -> Défaite | G16: 0 | H16: 2.35 | I16: 3 | J16: 3.3 | K16: 1 | L16: =IF(R16="","",IF(R16>=C16,"OUI","NON")) -> OUI | M16: =IF(J16="","",IF(J16<H16,"OUI","NON")) -> NON | N16: =IF(O16="","",IF(O16="Défaite","0",IF(O16="Nul","1",IF(O16="Victoire","3")))) -> 3 | O16: =IF(K16="","",IF(F16="Nul","Nul",IF(F16="Victoire","Défaite",IF(F16="Défaite","Victoire")))) -> Victoire | P16: Monaco | Q16: =IF(P16="","",VLOOKUP(P16,[2]Entraîneur!A:C,2,FALSE)) -> Leonardo Jardim | R16: =IF(P16="","",VLOOKUP(P16,[2]Budget!A:B,2,FALSE)) -> 145000000 | S16: choix de l'equipe
B17: 42602 | C17: =IF(E17="","",VLOOKUP(E17,[2]Budget!A:B,2,FALSE)) -> 50000000 | D17: =IF(E17="","",VLOOKUP(E17,[2]Entraîneur!A:C,2,FALSE)) -> Christian Gourcuff | E17: Rennes | F17: =IF(G17="","",IF(G17=K17,"Nul",IF(G17>K17,"Victoire",IF(G17<K17,"Défaite")))) -> Victoire | G17: 2 | H17: 2 | I17: 3.25 | J17: 3.9 | K17: 0 | L17: =IF(R17="","",IF(R17>=C17,"OUI","NON")) -> NON | M17: =IF(J17="","",IF(J17<H17,"OUI","NON")) -> NON | N17: =IF(O17="","",IF(O17="Défaite","0",IF(O17="Nul","1",IF(O17="Victoire","3")))) -> 0 | O17: =IF(K17="","",IF(F17="Nul","Nul",IF(F17="Victoire","Défaite",IF(F17="Défaite","Victoire")))) -> Défaite | P17: Nancy | Q17: =IF(P17="","",VLOOKUP(P17,[2]Entraîneur!A:C,2,FALSE)) -> Pablo Correa | R17: =IF(P17="","",VLOOKUP(P17,[2]Budget!A:B,2,FALSE)) -> 30000000 | S17: Nice | T17: {=IFERROR(SMALL(IF($E$2:$P$41=$S$17,$B$2:$B$41,""),COLUMN(A:A)),"")} -> 42596 | U17: {=IFERROR(SMALL(IF($E$2:$P$41=$S$17,$B$2:$B$41,""),COLUMN(B:B)),"")} -> 42602 | V17: {=IFERROR(SMALL(IF($E$2:$P$41=$S$17,$B$2:$B$41,""),COLUMN(C:C)),"")} -> 42609 | W17: {=IFERROR(SMALL(IF($E$2:$P$41=$S$17,$B$2:$B$41,""),COLUMN(D:D)),"")} -> 42624 | X17: {=IFERROR(SMALL(IF($E$2:$P$41=$S$17,$B$2:$B$41,""),COLUMN(E:E)),"")} | Y17: {=IFERROR(SMALL(IF($E$2:$P$41=$S$17,$B$2:$B$41,""),COLUMN(F:F)),"")} | Z17: {=IFERROR(SMALL(IF($E$2:$P$41=$S$17,$B$2:$B$41,""),COLUMN(G:G)),"")} | AA17: {=IFERROR(SMALL(IF($E$2:$P$41=$S$17,$B$2:$B$41,""),COLUMN(H:H)),"")}
B18: 42602 | C18: =IF(E18="","",VLOOKUP(E18,[2]Budget!A:B,2,FALSE)) -> 25000000 | D18: =IF(E18="","",VLOOKUP(E18,[2]Entraîneur!A:C,2,FALSE)) -> Stéphane MOULIN | E18: Angers | F18: victoire | G18: 0 | H18: 2.65 | I18: 2.8 | J18: 3.1 | K18: 1 | L18: =IF(R18="","",IF(R18>=C18,"OUI","NON")) -> OUI | M18: =IF(J18="","",IF(J18<H18,"OUI","NON")) -> NON | N18: =IF(O18="","",IF(O18="Défaite","0",IF(O18="Nul","1",IF(O18="Victoire","3")))) -> 0 | O18: =IF(K18="","",IF(F18="Nul","Nul",IF(F18="Victoire","Défaite",IF(F18="Défaite","Victoire")))) -> Défaite | P18: Nice | Q18: =IF(P18="","",VLOOKUP(P18,[2]Entraîneur!A:C,2,FALSE)) -> Lucien FAVRE | R18: =IF(P18="","",VLOOKUP(P18,[2]Budget!A:B,2,FALSE)) -> 42000000 | S18: repos | T18: =T17-MIN(B2:B41) -> 2 | U18: =IF(U17="","",U17-T17) -> 6 | V18: =IF(V17="","",V17-U17) -> 7 | W18: =IF(W17="","",W17-V17) -> 15 | X18: =IF(X17="","",X17-W17) | Y18: =IF(Y17="","",Y17-X17) | Z18: =IF(Z17="","",Z17-Y17) | AA18: =IF(AA17="","",AA17-Z17)
B19: 42603 | C19: =IF(E19="","",VLOOKUP(E19,[2]Budget!A:B,2,FALSE)) -> 26000000 | D19: =IF(E19="","",VLOOKUP(E19,[2]Entraîneur!A:C,2,FALSE)) -> Antoine KOMBOUARÉ | E19: Guingamp | F19: =IF(G19="","",IF(G19=K19,"Nul",IF(G19>K19,"Victoire",IF(G19<K19,"Défaite")))) -> Victoire | G19: 2 | H19: 2.8 | I19: 3.1 | J19: 2.6 | K19: 1 | L19: =IF(R19="","",IF(R19>=C19,"OUI","NON")) -> OUI | M19: =IF(J19="","",IF(J19<H19,"OUI","NON")) -> OUI | N19: =IF(O19="","",IF(O19="Défaite","0",IF(O19="Nul","1",IF(O19="Victoire","3")))) -> 0 | O19: =IF(K19="","",IF(F19="Nul","Nul",IF(F19="Victoire","Défaite",IF(F19="Défaite","Victoire")))) -> Défaite | P19: Marseille | Q19: =IF(P19="","",VLOOKUP(P19,[2]Entraîneur!A:C,2,FALSE)) -> Franck PASSI | R19: =IF(P19="","",VLOOKUP(P19,[2]Budget!A:B,2,FALSE)) -> 100000000 | S19: =COUNT(T18:AB18) -> 4
B20: 42603 | C20: =IF(E20="","",VLOOKUP(E20,[2]Budget!A:B,2,FALSE)) -> 500000000 | D20: =IF(E20="","",VLOOKUP(E20,[2]Entraîneur!A:C,2,FALSE)) -> Unaï Emery | E20: PSG | F20: =IF(G20="","",IF(G20=K20,"Nul",IF(G20>K20,"Victoire",IF(G20<K20,"Défaite")))) -> Victoire | G20: 3 | H20: 1.1 | I20: 9 | J20: 25 | K20: 0 | L20: =IF(R20="","",IF(R20>=C20,"OUI","NON")) -> NON | M20: =IF(J20="","",IF(J20<H20,"OUI","NON")) -> NON | N20: =IF(O20="","",IF(O20="Défaite","0",IF(O20="Nul","1",IF(O20="Victoire","3")))) -> 0 | O20: =IF(K20="","",IF(F20="Nul","Nul",IF(F20="Victoire","Défaite",IF(F20="Défaite","Victoire")))) -> Défaite | P20: Metz | Q20: =IF(P20="","",VLOOKUP(P20,[2]Entraîneur!A:C,2,FALSE)) -> Philippe HINSCHBERGER | R20: =IF(P20="","",VLOOKUP(P20,[2]Budget!A:B,2,FALSE)) -> 30000000 | S20: % Victoire | T20: =SUMPRODUCT((E$2:P$41=$S$17)*(F$2:F$41="victoire"))/S$19 -> 0.75
B21: 42603 | C21: =IF(E21="","",VLOOKUP(E21,[2]Budget!A:B,2,FALSE)) -> 70000000 | D21: =IF(E21="","",VLOOKUP(E21,[2]Entraîneur!A:C,2,FALSE)) -> Christophe Galtier | E21: St Etienne | F21: =IF(G21="","",IF(G21=K21,"Nul",IF(G21>K21,"Victoire",IF(G21<K21,"Défaite")))) -> Victoire | G21: 3 | H21: 2.3 | I21: 3 | J21: 3.4 | K21: 1 | L21: =IF(R21="","",IF(R21>=C21,"OUI","NON")) -> NON | M21: =IF(J21="","",IF(J21<H21,"OUI","NON")) -> NON | N21: =IF(O21="","",IF(O21="Défaite","0",IF(O21="Nul","1",IF(O21="Victoire","3")))) -> 0 | O21: =IF(K21="","",IF(F21="Nul","Nul",IF(F21="Victoire","Défaite",IF(F21="Défaite","Victoire")))) -> Défaite | P21: Montpellier | Q21: =IF(P21="","",VLOOKUP(P21,[2]Entraîneur!A:C,2,FALSE)) -> Frédéric HANTZ | R21: =IF(P21="","",VLOOKUP(P21,[2]Budget!A:B,2,FALSE)) -> 42000000 | S21: % Nul | T21: =SUMPRODUCT((E$2:P$41=S$17)*(F$2:F$41="nul"))/S$19 -> 0.25
B22: 42608 | C22: =IF(E22="","",VLOOKUP(E22,[2]Budget!A:B,2,FALSE)) -> 100000000 | D22: =IF(E22="","",VLOOKUP(E22,[2]Entraîneur!A:C,2,FALSE)) -> Franck PASSI | E22: Marseille | F22: =IF(G22="","",IF(G22=K22,"Nul",IF(G22>K22,"Victoire",IF(G22<K22,"Défaite")))) -> Victoire | G22: 2 | H22: 1.82 | I22: 3.5 | J22: 4.5 | K22: 0 | L22: =IF(R22="","",IF(R22>=C22,"OUI","NON")) -> NON | M22: =IF(J22="","",IF(J22<H22,"OUI","NON")) -> NON | N22: =IF(O22="","",IF(O22="Défaite","0",IF(O22="Nul","1",IF(O22="Victoire","3")))) -> 0 | O22: =IF(K22="","",IF(F22="Nul","Nul",IF(F22="Victoire","Défaite",IF(F22="Défaite","Victoire")))) -> Défaite | P22: Lorient | Q22: =IF(P22="","",VLOOKUP(P22,[2]Entraîneur!A:C,2,FALSE)) -> Sylvain Ripoll | R22: =IF(P22="","",VLOOKUP(P22,[2]Budget!A:B,2,FALSE)) -> 36000000 | S22: % Défaite | T22: =SUMPRODUCT((E$2:P$41=S$17)*(F$2:F$41="defaite"))/S$19 -> 0
B23: 42609 | C23: =IF(E23="","",VLOOKUP(E23,[2]Budget!A:B,2,FALSE)) -> 30000000 | D23: =IF(E23="","",VLOOKUP(E23,[2]Entraîneur!A:C,2,FALSE)) -> Philippe HINSCHBERGER | E23: Metz | F23: =IF(G23="","",IF(G23=K23,"Nul",IF(G23>K23,"Victoire",IF(G23<K23,"Défaite")))) -> Victoire | G23: 2 | H23: 2.35 | I23: 3.1 | J23: 3.25 | K23: 0 | L23: =IF(R23="","",IF(R23>=C23,"OUI","NON")) -> NON | M23: =IF(J23="","",IF(J23<H23,"OUI","NON")) -> NON | N23: =IF(O23="","",IF(O23="Défaite","0",IF(O23="Nul","1",IF(O23="Victoire","3")))) -> 0 | O23: =IF(K23="","",IF(F23="Nul","Nul",IF(F23="Victoire","Défaite",IF(F23="Défaite","Victoire")))) -> Défaite | P23: Angers | Q23: =IF(P23="","",VLOOKUP(P23,[2]Entraîneur!A:C,2,FALSE)) -> Stéphane MOULIN | R23: =IF(P23="","",VLOOKUP(P23,[2]Budget!A:B,2,FALSE)) -> 25000000
B24: 42609 | C24: =IF(E24="","",VLOOKUP(E24,[2]Budget!A:B,2,FALSE)) -> 30000000 | D24: =IF(E24="","",VLOOKUP(E24,[2]Entraîneur!A:C,2,FALSE)) -> Patrice GARANDE | E24: Caen | F24: =IF(G24="","",IF(G24=K24,"Nul",IF(G24>K24,"Victoire",IF(G24<K24,"Défaite")))) -> Victoire | G24: 2 | H24: 2.15 | I24: 3.1 | J24: 3.6 | K24: 0 | L24: =IF(R24="","",IF(R24>=C24,"OUI","NON")) -> NON | M24: =IF(J24="","",IF(J24<H24,"OUI","NON")) -> NON | N24: =IF(O24="","",IF(O24="Défaite","0",IF(O24="Nul","1",IF(O24="Victoire","3")))) -> 0 | O24: =IF(K24="","",IF(F24="Nul","Nul",IF(F24="Victoire","Défaite",IF(F24="Défaite","Victoire")))) -> Défaite | P24: Bastia | Q24: =IF(P24="","",VLOOKUP(P24,[2]Entraîneur!A:C,2,FALSE)) -> François CICCOLINI | R24: =IF(P24="","",VLOOKUP(P24,[2]Budget!A:B,2,FALSE)) -> 28000000
B25: 42609 | C25: =IF(E25="","",VLOOKUP(E25,[2]Budget!A:B,2,FALSE)) -> 30000000 | D25: =IF(E25="","",VLOOKUP(E25,[2]Entraîneur!A:C,2,FALSE)) -> Pablo Correa | E25: Nancy | F25: =IF(G25="","",IF(G25=K25,"Nul",IF(G25>K25,"Victoire",IF(G25<K25,"Défaite")))) -> Défaite | G25: 0 | H25: 2.1 | I25: 3.25 | J25: 3.5 | K25: 2 | L25: =IF(R25="","",IF(R25>=C25,"OUI","NON")) -> NON | M25: =IF(J25="","",IF(J25<H25,"OUI","NON")) -> NON | N25: =IF(O25="","",IF(O25="Défaite","0",IF(O25="Nul","1",IF(O25="Victoire","3")))) -> 3 | O25: =IF(K25="","",IF(F25="Nul","Nul",IF(F25="Victoire","Défaite",IF(F25="Défaite","Victoire")))) -> Victoire | P25: Guingamp | Q25: =IF(P25="","",VLOOKUP(P25,[2]Entraîneur!A:C,2,FALSE)) -> Antoine KOMBOUARÉ | R25: =IF(P25="","",VLOOKUP(P25,[2]Budget!A:B,2,FALSE)) -> 26000000
B26: 42609 | C26: =IF(E26="","",VLOOKUP(E26,[2]Budget!A:B,2,FALSE)) -> 42000000 | D26: =IF(E26="","",VLOOKUP(E26,[2]Entraîneur!A:C,2,FALSE)) -> Lucien FAVRE | E26: Nice | F26: =IF(G26="","",IF(G26=K26,"Nul",IF(G26>K26,"Victoire",IF(G26<K26,"Défaite")))) -> Nul | G26: 1 | H26: 2.55 | I26: 3 | J26: 3.1 | K26: 1 | L26: =IF(R26="","",IF(R26>=C26,"OUI","NON")) -> OUI | M26: =IF(J26="","",IF(J26<H26,"OUI","NON")) -> NON | N26: =IF(O26="","",IF(O26="Défaite","0",IF(O26="Nul","1",IF(O26="Victoire","3")))) -> 1 | O26: =IF(K26="","",IF(F26="Nul","Nul",IF(F26="Victoire","Défaite",IF(F26="Défaite","Victoire")))) -> Nul | P26: Lille | Q26: =IF(P26="","",VLOOKUP(P26,[2]Entraîneur!A:C,2,FALSE)) -> Frédéric Antonetti | R26: =IF(P26="","",VLOOKUP(P26,[2]Budget!A:B,2,FALSE)) -> 75000000
B27: 42609 | C27: =IF(E27="","",VLOOKUP(E27,[2]Budget!A:B,2,FALSE)) -> 26000000 | D27: =IF(E27="","",VLOOKUP(E27,[2]Entraîneur!A:C,2,FALSE)) -> Olivier DALL'OGLIO | E27: Dijon | F27: =IF(G27="","",IF(G27=K27,"Nul",IF(G27>K27,"Victoire",IF(G27<K27,"Défaite")))) -> Victoire | G27: 4 | H27: 4.75 | I27: 3.5 | J27: 1.75 | K27: 2 | L27: =IF(R27="","",IF(R27>=C27,"OUI","NON")) -> OUI | M27: =IF(J27="","",IF(J27<H27,"OUI","NON")) -> OUI | N27: =IF(O27="","",IF(O27="Défaite","0",IF(O27="Nul","1",IF(O27="Victoire","3")))) -> 0 | O27: =IF(K27="","",IF(F27="Nul","Nul",IF(F27="Victoire","Défaite",IF(F27="Défaite","Victoire")))) -> Défaite | P27: Lyon | Q27: =IF(P27="","",VLOOKUP(P27,[2]Entraîneur!A:C,2,FALSE)) -> Bruno Genesio | R27: =IF(P27="","",VLOOKUP(P27,[2]Budget!A:B,2,FALSE)) -> 250000000
B28: 42609 | C28: =IF(E28="","",VLOOKUP(E28,[2]Budget!A:B,2,FALSE)) -> 42000000 | D28: =IF(E28="","",VLOOKUP(E28,[2]Entraîneur!A:C,2,FALSE)) -> Frédéric HANTZ | E28: Montpellier | F28: =IF(G28="","",IF(G28=K28,"Nul",IF(G28>K28,"Victoire",IF(G28<K28,"Défaite")))) -> Nul | G28: 1 | H28: 2.3 | I28: 3.1 | J28: 3.25 | K28: 1 | L28: =IF(R28="","",IF(R28>=C28,"OUI","NON")) -> OUI | M28: =IF(J28="","",IF(J28<H28,"OUI","NON")) -> NON | N28: =IF(O28="","",IF(O28="Défaite","0",IF(O28="Nul","1",IF(O28="Victoire","3")))) -> 1 | O28: =IF(K28="","",IF(F28="Nul","Nul",IF(F28="Victoire","Défaite",IF(F28="Défaite","Victoire")))) -> Nul | P28: Rennes | Q28: =IF(P28="","",VLOOKUP(P28,[2]Entraîneur!A:C,2,FALSE)) -> Christian Gourcuff | R28: =IF(P28="","",VLOOKUP(P28,[2]Budget!A:B,2,FALSE)) -> 50000000
B29: 42610 | C29: =IF(E29="","",VLOOKUP(E29,[2]Budget!A:B,2,FALSE)) -> 60000000 | D29: =IF(E29="","",VLOOKUP(E29,[2]Entraîneur!A:C,2,FALSE)) -> Jocelyn GOURVENNEC | E29: Bordeaux | F29: =IF(G29="","",IF(G29=K29,"Nul",IF(G29>K29,"Victoire",IF(G29<K29,"Défaite")))) -> Victoire | G29: 1 | H29: 2.1 | I29: 3.1 | J29: 3.75 | K29: 0 | L29: =IF(R29="","",IF(R29>=C29,"OUI","NON")) -> NON | M29: =IF(J29="","",IF(J29<H29,"OUI","NON")) -> NON | N29: =IF(O29="","",IF(O29="Défaite","0",IF(O29="Nul","1",IF(O29="Victoire","3")))) -> 0 | O29: =IF(K29="","",IF(F29="Nul","Nul",IF(F29="Victoire","Défaite",IF(F29="Défaite","Victoire")))) -> Défaite | P29: Nantes | Q29: =IF(P29="","",VLOOKUP(P29,[2]Entraîneur!A:C,2,FALSE)) -> René Girard | R29: =IF(P29="","",VLOOKUP(P29,[2]Budget!A:B,2,FALSE)) -> 40000000
B30: 42610 | C30: =IF(E30="","",VLOOKUP(E30,[2]Budget!A:B,2,FALSE)) -> 145000000 | D30: =IF(E30="","",VLOOKUP(E30,[2]Entraîneur!A:C,2,FALSE)) -> Leonardo Jardim | E30: Monaco | F30: =IF(G30="","",IF(G30=K30,"Nul",IF(G30>K30,"Victoire",IF(G30<K30,"Défaite")))) -> Victoire | G30: 3 | H30: 4.5 | I30: 3.7 | J30: 1.75 | K30: 1 | L30: =IF(R30="","",IF(R30>=C30,"OUI","NON")) -> OUI | M30: =IF(J30="","",IF(J30<H30,"OUI","NON")) -> OUI | N30: =IF(O30="","",IF(O30="Défaite","0",IF(O30="Nul","1",IF(O30="Victoire","3")))) -> 0 | O30: =IF(K30="","",IF(F30="Nul","Nul",IF(F30="Victoire","Défaite",IF(F30="Défaite","Victoire")))) -> Défaite | P30: PSG | Q30: =IF(P30="","",VLOOKUP(P30,[2]Entraîneur!A:C,2,FALSE)) -> Unaï Emery | R30: =IF(P30="","",VLOOKUP(P30,[2]Budget!A:B,2,FALSE)) -> 500000000
B31: 42610 | C31: =IF(E31="","",VLOOKUP(E31,[2]Budget!A:B,2,FALSE)) -> 70000000 | D31: =IF(E31="","",VLOOKUP(E31,[2]Entraîneur!A:C,2,FALSE)) -> Christophe Galtier | E31: St Etienne | F31: =IF(G31="","",IF(G31=K31,"Nul",IF(G31>K31,"Victoire",IF(G31<K31,"Défaite")))) -> Nul | G31: 0 | H31: 2.15 | I31: 3.2 | J31: 3.6 | K31: 0 | L31: =IF(R31="","",IF(R31>=C31,"OUI","NON")) -> NON | M31: =IF(J31="","",IF(J31<H31,"OUI","NON")) -> NON | N31: =IF(O31="","",IF(O31="Défaite","0",IF(O31="Nul","1",IF(O31="Victoire","3")))) -> 1 | O31: =IF(K31="","",IF(F31="Nul","Nul",IF(F31="Victoire","Défaite",IF(F31="Défaite","Victoire")))) -> Nul | P31: Toulouse | Q31: =IF(P31="","",VLOOKUP(P31,[2]Entraîneur!A:C,2,FALSE)) -> Pascal Dupraz | R31: =IF(P31="","",VLOOKUP(P31,[2]Budget!A:B,2,FALSE)) -> 35000000
B32: 42622 | C32: =IF(E32="","",VLOOKUP(E32,[2]Budget!A:B,2,FALSE)) -> 500000000 | D32: =IF(E32="","",VLOOKUP(E32,[2]Entraîneur!A:C,2,FALSE)) -> Unaï Emery | E32: PSG | F32: =IF(G32="","",IF(G32=K32,"Nul",IF(G32>K32,"Victoire",IF(G32<K32,"Défaite")))) -> Nul | G32: 1 | H32: 1.28 | I32: 5.1 | J32: 10.5 | K32: 1 | L32: =IF(R32="","",IF(R32>=C32,"OUI","NON")) -> NON | M32: =IF(J32="","",IF(J32<H32,"OUI","NON")) -> NON | N32: =IF(O32="","",IF(O32="Défaite","0",IF(O32="Nul","1",IF(O32="Victoire","3")))) -> 1 | O32: =IF(K32="","",IF(F32="Nul","Nul",IF(F32="Victoire","Défaite",IF(F32="Défaite","Victoire")))) -> Nul | P32: St Etienne | Q32: =IF(P32="","",VLOOKUP(P32,[2]Entraîneur!A:C,2,FALSE)) -> Christophe Galtier | R32: =IF(P32="","",VLOOKUP(P32,[2]Budget!A:B,2,FALSE)) -> 70000000
B33: 42623 | C33: =IF(E33="","",VLOOKUP(E33,[2]Budget!A:B,2,FALSE)) -> 250000000 | D33: =IF(E33="","",VLOOKUP(E33,[2]Entraîneur!A:C,2,FALSE)) -> Bruno Genesio | E33: Lyon | F33: =IF(G33="","",IF(G33=K33,"Nul",IF(G33>K33,"Victoire",IF(G33<K33,"Défaite")))) -> Défaite | G33: 1 | H33: 1.68 | I33: 3.7 | J33: 5.1 | K33: 3 | L33: =IF(R33="","",IF(R33>=C33,"OUI","NON")) -> NON | M33: =IF(J33="","",IF(J33<H33,"OUI","NON")) -> NON | N33: =IF(O33="","",IF(O33="Défaite","0",IF(O33="Nul","1",IF(O33="Victoire","3")))) -> 3 | O33: =IF(K33="","",IF(F33="Nul","Nul",IF(F33="Victoire","Défaite",IF(F33="Défaite","Victoire")))) -> Victoire | P33: Bordeaux | Q33: =IF(P33="","",VLOOKUP(P33,[2]Entraîneur!A:C,2,FALSE)) -> Jocelyn GOURVENNEC | R33: =IF(P33="","",VLOOKUP(P33,[2]Budget!A:B,2,FALSE)) -> 60000000
B34: 42623 | C34: =IF(E34="","",VLOOKUP(E34,[2]Budget!A:B,2,FALSE)) -> 36000000 | D34: =IF(E34="","",VLOOKUP(E34,[2]Entraîneur!A:C,2,FALSE)) -> Sylvain Ripoll | E34: Lorient | F34: =IF(G34="","",IF(G34=K34,"Nul",IF(G34>K34,"Victoire",IF(G34<K34,"Défaite")))) -> Défaite | G34: 0 | H34: 2.3 | I34: 3.1 | J34: 3.25 | K34: 2 | L34: =IF(R34="","",IF(R34>=C34,"OUI","NON")) -> NON | M34: =IF(J34="","",IF(J34<H34,"OUI","NON")) -> NON | N34: =IF(O34="","",IF(O34="Défaite","0",IF(O34="Nul","1",IF(O34="Victoire","3")))) -> 3 | O34: =IF(K34="","",IF(F34="Nul","Nul",IF(F34="Victoire","Défaite",IF(F34="Défaite","Victoire")))) -> Victoire | P34: Nancy | Q34: =IF(P34="","",VLOOKUP(P34,[2]Entraîneur!A:C,2,FALSE)) -> Pablo Correa | R34: =IF(P34="","",VLOOKUP(P34,[2]Budget!A:B,2,FALSE)) -> 30000000
... B41: 42624 | C41: =IF(E41="","",VLOOKUP(E41,[2]Budget!A:B,2,FALSE)) -> 42000000 | D41: =IF(E41="","",VLOOKUP(E41,[2]Entraîneur!A:C,2,FALSE)) -> Lucien FAVRE | E41: Nice | F41: =IF(G41="","",IF(G41=K41,"Nul",IF(G41>K41,"Victoire",IF(G41<K41,"Défaite")))) -> Victoire | G41: 1 | H41: 2.3 | I41: 3.1 | J41: 3.25 | K41: 0 | L41: =IF(R41="","",IF(R41>=C41,"OUI","NON")) -> OUI | M41: =IF(J41="","",IF(J41<H41,"OUI","NON")) -> NON | N41: =IF(O41="","",IF(O41="Défaite","0",IF(O41="Nul","1",IF(O41="Victoire","3")))) -> 0 | O41: =IF(K41="","",IF(F41="Nul","Nul",IF(F41="Victoire","Défaite",IF(F41="Défaite","Victoire")))) -> Défaite | P41: Marseille | Q41: =IF(P41="","",VLOOKUP(P41,[2]Entraîneur!A:C,2,FALSE)) -> Franck PASSI | R41: =IF(P41="","",VLOOKUP(P41,[2]Budget!A:B,2,FALSE)) -> 100000000
C42: =IF(E42="","",VLOOKUP(E42,[2]Budget!A:B,2,FALSE)) | D42: =IF(E42="","",VLOOKUP(E42,[2]Entraîneur!A:C,2,FALSE)) | F42: =IF(G42="","",IF(G42=K42,"Nul",IF(G42>K42,"Victoire",IF(G42<K42,"Défaite")))) | L42: =IF(R42="","",IF(R42>=C42,"OUI","NON")) | M42: =IF(J42="","",IF(J42<H42,"OUI","NON")) | N42: =IF(O42="","",IF(O42="Défaite","0",IF(O42="Nul","1",IF(O42="Victoire","3")))) | O42: =IF(K42="","",IF(F42="Nul","Nul",IF(F42="Victoire","Défaite",IF(F42="Défaite","Victoire")))) | Q42: =IF(P42="","",VLOOKUP(P42,[2]Entraîneur!A:C,2,FALSE)) | R42: =IF(P42="","",VLOOKUP(P42,[2]Budget!A:B,2,FALSE))
C43: =IF(E43="","",VLOOKUP(E43,[2]Budget!A:B,2,FALSE)) | D43: =IF(E43="","",VLOOKUP(E43,[2]Entraîneur!A:C,2,FALSE)) | F43: =IF(G43="","",IF(G43=K43,"Nul",IF(G43>K43,"Victoire",IF(G43<K43,"Défaite")))) | L43: =IF(R43="","",IF(R43>=C43,"OUI","NON")) | M43: =IF(J43="","",IF(J43<H43,"OUI","NON")) | N43: =IF(O43="","",IF(O43="Défaite","0",IF(O43="Nul","1",IF(O43="Victoire","3")))) | O43: =IF(K43="","",IF(F43="Nul","Nul",IF(F43="Victoire","Défaite",IF(F43="Défaite","Victoire")))) | Q43: =IF(P43="","",VLOOKUP(P43,[2]Entraîneur!A:C,2,FALSE)) | R43: =IF(P43="","",VLOOKUP(P43,[2]Budget!A:B,2,FALSE))
C44: =IF(E44="","",VLOOKUP(E44,[2]Budget!A:B,2,FALSE)) | D44: =IF(E44="","",VLOOKUP(E44,[2]Entraîneur!A:C,2,FALSE)) | F44: =IF(G44="","",IF(G44=K44,"Nul",IF(G44>K44,"Victoire",IF(G44<K44,"Défaite")))) | L44: =IF(R44="","",IF(R44>=C44,"OUI","NON")) | M44: =IF(J44="","",IF(J44<H44,"OUI","NON")) | N44: =IF(O44="","",IF(O44="Défaite","0",IF(O44="Nul","1",IF(O44="Victoire","3")))) | O44: =IF(K44="","",IF(F44="Nul","Nul",IF(F44="Victoire","Défaite",IF(F44="Défaite","Victoire")))) | Q44: =IF(P44="","",VLOOKUP(P44,[2]Entraîneur!A:C,2,FALSE)) | R44: =IF(P44="","",VLOOKUP(P44,[2]Budget!A:B,2,FALSE))
C45: =IF(E45="","",VLOOKUP(E45,[2]Budget!A:B,2,FALSE)) | D45: =IF(E45="","",VLOOKUP(E45,[2]Entraîneur!A:C,2,FALSE)) | F45: =IF(G45="","",IF(G45=K45,"Nul",IF(G45>K45,"Victoire",IF(G45<K45,"Défaite")))) | L45: =IF(R45="","",IF(R45>=C45,"OUI","NON")) | M45: =IF(J45="","",IF(J45<H45,"OUI","NON")) | N45: =IF(O45="","",IF(O45="Défaite","0",IF(O45="Nul","1",IF(O45="Victoire","3")))) | O45: =IF(K45="","",IF(F45="Nul","Nul",IF(F45="Victoire","Défaite",IF(F45="Défaite","Victoire")))) | Q45: =IF(P45="","",VLOOKUP(P45,[2]Entraîneur!A:C,2,FALSE)) | R45: =IF(P45="","",VLOOKUP(P45,[2]Budget!A:B,2,FALSE))
C46: =IF(E46="","",VLOOKUP(E46,[2]Budget!A:B,2,FALSE)) | D46: =IF(E46="","",VLOOKUP(E46,[2]Entraîneur!A:C,2,FALSE)) | F46: =IF(G46="","",IF(G46=K46,"Nul",IF(G46>K46,"Victoire",IF(G46<K46,"Défaite")))) | L46: =IF(R46="","",IF(R46>=C46,"OUI","NON")) | M46: =IF(J46="","",IF(J46<H46,"OUI","NON")) | N46: =IF(O46="","",IF(O46="Défaite","0",IF(O46="Nul","1",IF(O46="Victoire","3")))) | O46: =IF(K46="","",IF(F46="Nul","Nul",IF(F46="Victoire","Défaite",IF(F46="Défaite","Victoire")))) | Q46: =IF(P46="","",VLOOKUP(P46,[2]Entraîneur!A:C,2,FALSE)) | R46: =IF(P46="","",VLOOKUP(P46,[2]Budget!A:B,2,FALSE))
...

Sheet param
A2: {=OFFSET(Feuil1!E$1,MATCH(0,COUNTIF(A$1:A1,cole),0),)} -> Monaco
A3: {=OFFSET(Feuil1!E$1,MATCH(0,COUNTIF(A$1:A2,cole),0),)} -> Bastia
A4: {=OFFSET(Feuil1!E$1,MATCH(0,COUNTIF(A$1:A3,cole),0),)} -> Montpellier
A5: {=OFFSET(Feuil1!E$1,MATCH(0,COUNTIF(A$1:A4,cole),0),)} -> Metz
A6: {=OFFSET(Feuil1!E$1,MATCH(0,COUNTIF(A$1:A5,cole),0),)} -> Caen
A7: {=OFFSET(Feuil1!E$1,MATCH(0,COUNTIF(A$1:A6,cole),0),)} -> Dijon
A8: {=OFFSET(Feuil1!E$1,MATCH(0,COUNTIF(A$1:A7,cole),0),)} -> Bordeaux
A9: {=OFFSET(Feuil1!E$1,MATCH(0,COUNTIF(A$1:A8,cole),0),)} -> Nancy
A10: {=OFFSET(Feuil1!E$1,MATCH(0,COUNTIF(A$1:A9,cole),0),)} -> Nice
A11: {=OFFSET(Feuil1!E$1,MATCH(0,COUNTIF(A$1:A10,cole),0),)} -> Marseille
A12: {=OFFSET(Feuil1!E$1,MATCH(0,COUNTIF(A$1:A11,cole),0),)} -> Lyon
A13: {=OFFSET(Feuil1!E$1,MATCH(0,COUNTIF(A$1:A12,cole),0),)} -> Lorient
... A26: {=OFFSET(Feuil1!E$1,MATCH(0,COUNTIF(A$1:A25,cole),0),)} -> #N/A
