Workbook
Name agent: OFFSET(Feuil1!$E$2:$G$2,,,ROWS(date))
Name date: OFFSET(Feuil1!$I$2,,,MATCH(9^9,Feuil1!$I:$I)-1)
Name Liste_Ass: [1]Listes!$B$1:$B$7
Name Liste_RO: [1]Listes!$A$1:$A$7
Name param1: OFFSET(param!$B$2:$D$2,,,ROWS(date))
Name param2: OFFSET(param!$G$2,,,COUNTIF(param!$G:$G,"><"))

Sheet Feuil1
A1: OPERATION | B1: Prog | C1: RO | D1: ASSISTANTE | E1: 1 | F1: 2 | G1: 3 | H1: N | I1: DATE
A2: Bouton d'Or | B2: 2012 | E2: SRI | F2: DBE | H2: =+COUNTA(E2:G2) -> 2 | I2: 43929 | K2: nb d'agents | L2: =SUM(L4:L20) -> 4 | M2: =SUM(M4:M20) -> 4 | N2: =SUM(N4:N20) -> 3 | O2: =SUM(O4:O20) -> 4 | P2: =SUM(P4:P20) -> 6 | Q2: =SUM(Q4:Q20) -> 4 | R2: =SUM(R4:R20) -> 3 | S2: =SUM(S4:S20) -> 4 | ... AA2: =SUM(AA4:AA20) -> 0
A3: Tamariniers | B3: 2013 | C3: TQU | D3: VAF | E3: TQU | F3: VAF | H3: =+COUNTA(E3:G3) -> 2 | I3: 43929 | K3: Colonne1 | L3: {=IFERROR(OFFSET($I$1,MATCH(0,COUNTIF($K3:K3,date),0),),"")} -> 43929 | M3: {=IFERROR(OFFSET($I$1,MATCH(0,COUNTIF($K3:L3,date),0),),"")} -> 43930 | N3: {=IFERROR(OFFSET($I$1,MATCH(0,COUNTIF($K3:M3,date),0),),"")} -> 43931 | O3: {=IFERROR(OFFSET($I$1,MATCH(0,COUNTIF($K3:N3,date),0),),"")} -> 43934 | P3: {=IFERROR(OFFSET($I$1,MATCH(0,COUNTIF($K3:O3,date),0),),"")} -> 43935 | Q3: {=IFERROR(OFFSET($I$1,MATCH(0,COUNTIF($K3:P3,date),0),),"")} -> 43936 | R3: {=IFERROR(OFFSET($I$1,MATCH(0,COUNTIF($K3:Q3,date),0),),"")} -> 43937 | S3: {=IFERROR(OFFSET($I$1,MATCH(0,COUNTIF($K3:R3,date),0),),"")} -> 43938 | ... AA3: {=IFERROR(OFFSET($I$1,MATCH(0,COUNTIF($K3:Z3,date),0),),"")}
A4: Max GOBETTI (AUBEPINES) | B4: 2012 | D4: ECL | E4: ECL | F4: NLE | H4: =+COUNTA(E4:G4) -> 2 | I4: 43930 | K4: {=IFERROR(INDEX(param2,MATCH(0,COUNTIF(param2,"<"&param2)-SUM(COUNTIF(param2,K$3:K3)),0)),"")} -> BBL | L4: =IF($K4="","",MIN(1,SUMPRODUCT((date=L$3)*(agent=$K4)))) -> 0 | M4: =IF($K4="","",MIN(1,SUMPRODUCT((date=M$3)*(agent=$K4)))) -> 0 | N4: =IF($K4="","",MIN(1,SUMPRODUCT((date=N$3)*(agent=$K4)))) -> 0 | O4: =IF($K4="","",MIN(1,SUMPRODUCT((date=O$3)*(agent=$K4)))) -> 0 | P4: =IF($K4="","",MIN(1,SUMPRODUCT((date=P$3)*(agent=$K4)))) -> 0 | Q4: =IF($K4="","",MIN(1,SUMPRODUCT((date=Q$3)*(agent=$K4)))) -> 0 | R4: =IF($K4="","",MIN(1,SUMPRODUCT((date=R$3)*(agent=$K4)))) -> 1 | S4: =IF($K4="","",MIN(1,SUMPRODUCT((date=S$3)*(agent=$K4)))) -> 1 | ... AA4: =IF($K4="","",MIN(1,SUMPRODUCT((date=AA$3)*(agent=$K4)))) -> 0
A5: Laurency | B5: 2012 | D5: GGO | E5: VAF | F5: DBA | H5: =+COUNTA(E5:G5) -> 2 | I5: 43930 | K5: {=IFERROR(INDEX(param2,MATCH(0,COUNTIF(param2,"<"&param2)-SUM(COUNTIF(param2,K$3:K4)),0)),"")} -> DBA | L5: =IF($K5="","",MIN(1,SUMPRODUCT((date=L$3)*(agent=$K5)))) -> 0 | M5: =IF($K5="","",MIN(1,SUMPRODUCT((date=M$3)*(agent=$K5)))) -> 1 | N5: =IF($K5="","",MIN(1,SUMPRODUCT((date=N$3)*(agent=$K5)))) -> 1 | O5: =IF($K5="","",MIN(1,SUMPRODUCT((date=O$3)*(agent=$K5)))) -> 0 | P5: =IF($K5="","",MIN(1,SUMPRODUCT((date=P$3)*(agent=$K5)))) -> 1 | Q5: =IF($K5="","",MIN(1,SUMPRODUCT((date=Q$3)*(agent=$K5)))) -> 1 | R5: =IF($K5="","",MIN(1,SUMPRODUCT((date=R$3)*(agent=$K5)))) -> 0 | S5: =IF($K5="","",MIN(1,SUMPRODUCT((date=S$3)*(agent=$K5)))) -> 1 | ... AA5: =IF($K5="","",MIN(1,SUMPRODUCT((date=AA$3)*(agent=$K5)))) -> 0
A6: VEFA Petunias | B6: 2014 | C6: YFR | D6: DBA | E6: YFR | F6: DBA | H6: =+COUNTA(E6:G6) -> 2 | I6: 43931 | K6: {=IFERROR(INDEX(param2,MATCH(0,COUNTIF(param2,"<"&param2)-SUM(COUNTIF(param2,K$3:K5)),0)),"")} -> DBE | L6: =IF($K6="","",MIN(1,SUMPRODUCT((date=L$3)*(agent=$K6)))) -> 1 | M6: =IF($K6="","",MIN(1,SUMPRODUCT((date=M$3)*(agent=$K6)))) -> 0 | N6: =IF($K6="","",MIN(1,SUMPRODUCT((date=N$3)*(agent=$K6)))) -> 0 | O6: =IF($K6="","",MIN(1,SUMPRODUCT((date=O$3)*(agent=$K6)))) -> 1 | P6: =IF($K6="","",MIN(1,SUMPRODUCT((date=P$3)*(agent=$K6)))) -> 0 | Q6: =IF($K6="","",MIN(1,SUMPRODUCT((date=Q$3)*(agent=$K6)))) -> 0 | R6: =IF($K6="","",MIN(1,SUMPRODUCT((date=R$3)*(agent=$K6)))) -> 1 | S6: =IF($K6="","",MIN(1,SUMPRODUCT((date=S$3)*(agent=$K6)))) -> 0 | ... AA6: =IF($K6="","",MIN(1,SUMPRODUCT((date=AA$3)*(agent=$K6)))) -> 0
A7: Benoite Boulard (PIVET-VELIN) | B7: 2013 | C7: YFR | D7: DAM | E7: YFR | F7: DBA | G7: VAF | H7: =+COUNTA(E7:G7) -> 3 | I7: 43931 | K7: {=IFERROR(INDEX(param2,MATCH(0,COUNTIF(param2,"<"&param2)-SUM(COUNTIF(param2,K$3:K6)),0)),"")} -> ECL | L7: =IF($K7="","",MIN(1,SUMPRODUCT((date=L$3)*(agent=$K7)))) -> 0 | M7: =IF($K7="","",MIN(1,SUMPRODUCT((date=M$3)*(agent=$K7)))) -> 1 | N7: =IF($K7="","",MIN(1,SUMPRODUCT((date=N$3)*(agent=$K7)))) -> 0 | O7: =IF($K7="","",MIN(1,SUMPRODUCT((date=O$3)*(agent=$K7)))) -> 1 | P7: =IF($K7="","",MIN(1,SUMPRODUCT((date=P$3)*(agent=$K7)))) -> 1 | Q7: =IF($K7="","",MIN(1,SUMPRODUCT((date=Q$3)*(agent=$K7)))) -> 0 | R7: =IF($K7="","",MIN(1,SUMPRODUCT((date=R$3)*(agent=$K7)))) -> 0 | S7: =IF($K7="","",MIN(1,SUMPRODUCT((date=S$3)*(agent=$K7)))) -> 0 | ... AA7: =IF($K7="","",MIN(1,SUMPRODUCT((date=AA$3)*(agent=$K7)))) -> 0
A8: Rue de l'Eglise | B8: 2013 | D8: DAM | E8: SRI | F8: DBE | H8: =+COUNTA(E8:G8) -> 2 | I8: 43934 | K8: {=IFERROR(INDEX(param2,MATCH(0,COUNTIF(param2,"<"&param2)-SUM(COUNTIF(param2,K$3:K7)),0)),"")} -> FHO | L8: =IF($K8="","",MIN(1,SUMPRODUCT((date=L$3)*(agent=$K8)))) -> 0 | M8: =IF($K8="","",MIN(1,SUMPRODUCT((date=M$3)*(agent=$K8)))) -> 0 | N8: =IF($K8="","",MIN(1,SUMPRODUCT((date=N$3)*(agent=$K8)))) -> 0 | O8: =IF($K8="","",MIN(1,SUMPRODUCT((date=O$3)*(agent=$K8)))) -> 0 | P8: =IF($K8="","",MIN(1,SUMPRODUCT((date=P$3)*(agent=$K8)))) -> 1 | Q8: =IF($K8="","",MIN(1,SUMPRODUCT((date=Q$3)*(agent=$K8)))) -> 1 | R8: =IF($K8="","",MIN(1,SUMPRODUCT((date=R$3)*(agent=$K8)))) -> 0 | S8: =IF($K8="","",MIN(1,SUMPRODUCT((date=S$3)*(agent=$K8)))) -> 1 | ... AA8: =IF($K8="","",MIN(1,SUMPRODUCT((date=AA$3)*(agent=$K8)))) -> 0
A9: FANFAN | B9: 2013 | D9: DAM | E9: ECL | F9: NLE | H9: =+COUNTA(E9:G9) -> 2 | I9: 43934 | K9: {=IFERROR(INDEX(param2,MATCH(0,COUNTIF(param2,"<"&param2)-SUM(COUNTIF(param2,K$3:K8)),0)),"")} -> NLE | L9: =IF($K9="","",MIN(1,SUMPRODUCT((date=L$3)*(agent=$K9)))) -> 0 | M9: =IF($K9="","",MIN(1,SUMPRODUCT((date=M$3)*(agent=$K9)))) -> 1 | N9: =IF($K9="","",MIN(1,SUMPRODUCT((date=N$3)*(agent=$K9)))) -> 0 | O9: =IF($K9="","",MIN(1,SUMPRODUCT((date=O$3)*(agent=$K9)))) -> 1 | P9: =IF($K9="","",MIN(1,SUMPRODUCT((date=P$3)*(agent=$K9)))) -> 1 | Q9: =IF($K9="","",MIN(1,SUMPRODUCT((date=Q$3)*(agent=$K9)))) -> 0 | R9: =IF($K9="","",MIN(1,SUMPRODUCT((date=R$3)*(agent=$K9)))) -> 0 | S9: =IF($K9="","",MIN(1,SUMPRODUCT((date=S$3)*(agent=$K9)))) -> 0 | ... AA9: =IF($K9="","",MIN(1,SUMPRODUCT((date=AA$3)*(agent=$K9)))) -> 0
A10: Takamaka | B10: 2013 | C10: FHO | D10: VAF | E10: FHO | F10: DBA | G10: VAF | H10: =+COUNTA(E10:G10) -> 3 | I10: 43935 | K10: {=IFERROR(INDEX(param2,MATCH(0,COUNTIF(param2,"<"&param2)-SUM(COUNTIF(param2,K$3:K9)),0)),"")} -> SRI | L10: =IF($K10="","",MIN(1,SUMPRODUCT((date=L$3)*(agent=$K10)))) -> 1 | M10: =IF($K10="","",MIN(1,SUMPRODUCT((date=M$3)*(agent=$K10)))) -> 0 | N10: =IF($K10="","",MIN(1,SUMPRODUCT((date=N$3)*(agent=$K10)))) -> 0 | O10: =IF($K10="","",MIN(1,SUMPRODUCT((date=O$3)*(agent=$K10)))) -> 1 | P10: =IF($K10="","",MIN(1,SUMPRODUCT((date=P$3)*(agent=$K10)))) -> 0 | Q10: =IF($K10="","",MIN(1,SUMPRODUCT((date=Q$3)*(agent=$K10)))) -> 0 | R10: =IF($K10="","",MIN(1,SUMPRODUCT((date=R$3)*(agent=$K10)))) -> 1 | S10: =IF($K10="","",MIN(1,SUMPRODUCT((date=S$3)*(agent=$K10)))) -> 0 | ... AA10: =IF($K10="","",MIN(1,SUMPRODUCT((date=AA$3)*(agent=$K10)))) -> 0
A11: Lacaussade 3 | B11: 2015 | C11: TQU | D11: DAM | E11: TQU | F11: ECL | G11: NLE | H11: =+COUNTA(E11:G11) -> 3 | I11: 43935 | K11: {=IFERROR(INDEX(param2,MATCH(0,COUNTIF(param2,"<"&param2)-SUM(COUNTIF(param2,K$3:K10)),0)),"")} -> TQU | L11: =IF($K11="","",MIN(1,SUMPRODUCT((date=L$3)*(agent=$K11)))) -> 0 | M11: =IF($K11="","",MIN(1,SUMPRODUCT((date=M$3)*(agent=$K11)))) -> 0 | N11: =IF($K11="","",MIN(1,SUMPRODUCT((date=N$3)*(agent=$K11)))) -> 0 | O11: =IF($K11="","",MIN(1,SUMPRODUCT((date=O$3)*(agent=$K11)))) -> 0 | P11: =IF($K11="","",MIN(1,SUMPRODUCT((date=P$3)*(agent=$K11)))) -> 1 | Q11: =IF($K11="","",MIN(1,SUMPRODUCT((date=Q$3)*(agent=$K11)))) -> 0 | R11: =IF($K11="","",MIN(1,SUMPRODUCT((date=R$3)*(agent=$K11)))) -> 0 | S11: =IF($K11="","",MIN(1,SUMPRODUCT((date=S$3)*(agent=$K11)))) -> 0 | ... AA11: =IF($K11="","",MIN(1,SUMPRODUCT((date=AA$3)*(agent=$K11)))) -> 0
A12: Coco Huet (Parc à Moutons) | B12: 2013 | C12: YFR | D12: DBA | E12: YFR | F12: DBA | H12: =+COUNTA(E12:G12) -> 2 | I12: 43936 | K12: {=IFERROR(INDEX(param2,MATCH(0,COUNTIF(param2,"<"&param2)-SUM(COUNTIF(param2,K$3:K11)),0)),"")} -> TQU | L12: =IF($K12="","",MIN(1,SUMPRODUCT((date=L$3)*(agent=$K12)))) -> 1 | M12: =IF($K12="","",MIN(1,SUMPRODUCT((date=M$3)*(agent=$K12)))) -> 0 | N12: =IF($K12="","",MIN(1,SUMPRODUCT((date=N$3)*(agent=$K12)))) -> 0 | O12: =IF($K12="","",MIN(1,SUMPRODUCT((date=O$3)*(agent=$K12)))) -> 0 | P12: =IF($K12="","",MIN(1,SUMPRODUCT((date=P$3)*(agent=$K12)))) -> 0 | Q12: =IF($K12="","",MIN(1,SUMPRODUCT((date=Q$3)*(agent=$K12)))) -> 0 | R12: =IF($K12="","",MIN(1,SUMPRODUCT((date=R$3)*(agent=$K12)))) -> 0 | S12: =IF($K12="","",MIN(1,SUMPRODUCT((date=S$3)*(agent=$K12)))) -> 0 | ... AA12: =IF($K12="","",MIN(1,SUMPRODUCT((date=AA$3)*(agent=$K12)))) -> 0
A13: VEFA Paule & Gaston | B13: 2016 | C13: YFR | D13: DAM | E13: YFR | F13: DBA | H13: =+COUNTA(E13:G13) -> 2 | I13: 43936 | K13: {=IFERROR(INDEX(param2,MATCH(0,COUNTIF(param2,"<"&param2)-SUM(COUNTIF(param2,K$3:K12)),0)),"")} -> VAF | L13: =IF($K13="","",MIN(1,SUMPRODUCT((date=L$3)*(agent=$K13)))) -> 1 | M13: =IF($K13="","",MIN(1,SUMPRODUCT((date=M$3)*(agent=$K13)))) -> 1 | N13: =IF($K13="","",MIN(1,SUMPRODUCT((date=N$3)*(agent=$K13)))) -> 1 | O13: =IF($K13="","",MIN(1,SUMPRODUCT((date=O$3)*(agent=$K13)))) -> 0 | P13: =IF($K13="","",MIN(1,SUMPRODUCT((date=P$3)*(agent=$K13)))) -> 1 | Q13: =IF($K13="","",MIN(1,SUMPRODUCT((date=Q$3)*(agent=$K13)))) -> 1 | R13: =IF($K13="","",MIN(1,SUMPRODUCT((date=R$3)*(agent=$K13)))) -> 0 | S13: =IF($K13="","",MIN(1,SUMPRODUCT((date=S$3)*(agent=$K13)))) -> 1 | ... AA13: =IF($K13="","",MIN(1,SUMPRODUCT((date=AA$3)*(agent=$K13)))) -> 0
A14: Manapany | B14: 2014 | C14: FHO | D14: VAF | E14: FHO | F14: VAF | H14: =+COUNTA(E14:G14) -> 2 | I14: 43936 | K14: {=IFERROR(INDEX(param2,MATCH(0,COUNTIF(param2,"<"&param2)-SUM(COUNTIF(param2,K$3:K13)),0)),"")} -> YFR | L14: =IF($K14="","",MIN(1,SUMPRODUCT((date=L$3)*(agent=$K14)))) -> 0 | M14: =IF($K14="","",MIN(1,SUMPRODUCT((date=M$3)*(agent=$K14)))) -> 0 | N14: =IF($K14="","",MIN(1,SUMPRODUCT((date=N$3)*(agent=$K14)))) -> 1 | O14: =IF($K14="","",MIN(1,SUMPRODUCT((date=O$3)*(agent=$K14)))) -> 0 | P14: =IF($K14="","",MIN(1,SUMPRODUCT((date=P$3)*(agent=$K14)))) -> 0 | Q14: =IF($K14="","",MIN(1,SUMPRODUCT((date=Q$3)*(agent=$K14)))) -> 1 | R14: =IF($K14="","",MIN(1,SUMPRODUCT((date=R$3)*(agent=$K14)))) -> 0 | S14: =IF($K14="","",MIN(1,SUMPRODUCT((date=S$3)*(agent=$K14)))) -> 0 | ... AA14: =IF($K14="","",MIN(1,SUMPRODUCT((date=AA$3)*(agent=$K14)))) -> 0
A15: Anne Caze (Plaine St Paul) | B15: 2015 | C15: BBL | D15: DBE | E15: BBL | F15: SRI | G15: DBE | H15: =+COUNTA(E15:G15) -> 3 | I15: 43937 | K15: {=IFERROR(INDEX(param2,MATCH(0,COUNTIF(param2,"<"&param2)-SUM(COUNTIF(param2,K$3:K14)),0)),"")} | L15: =IF($K15="","",MIN(1,SUMPRODUCT((date=L$3)*(agent=$K15)))) | M15: =IF($K15="","",MIN(1,SUMPRODUCT((date=M$3)*(agent=$K15)))) | N15: =IF($K15="","",MIN(1,SUMPRODUCT((date=N$3)*(agent=$K15)))) | O15: =IF($K15="","",MIN(1,SUMPRODUCT((date=O$3)*(agent=$K15)))) | P15: =IF($K15="","",MIN(1,SUMPRODUCT((date=P$3)*(agent=$K15)))) | Q15: =IF($K15="","",MIN(1,SUMPRODUCT((date=Q$3)*(agent=$K15)))) | R15: =IF($K15="","",MIN(1,SUMPRODUCT((date=R$3)*(agent=$K15)))) | S15: =IF($K15="","",MIN(1,SUMPRODUCT((date=S$3)*(agent=$K15)))) | ... AA15: =IF($K15="","",MIN(1,SUMPRODUCT((date=AA$3)*(agent=$K15))))
A16: BATIMENT M | C16: BBL | E16: BBL | F16: SRI | G16: DBE | H16: =+COUNTA(E16:G16) -> 3 | I16: 43937 | K16: {=IFERROR(INDEX(param2,MATCH(0,COUNTIF(param2,"<"&param2)-SUM(COUNTIF(param2,K$3:K15)),0)),"")} | L16: =IF($K16="","",MIN(1,SUMPRODUCT((date=L$3)*(agent=$K16)))) | M16: =IF($K16="","",MIN(1,SUMPRODUCT((date=M$3)*(agent=$K16)))) | N16: =IF($K16="","",MIN(1,SUMPRODUCT((date=N$3)*(agent=$K16)))) | O16: =IF($K16="","",MIN(1,SUMPRODUCT((date=O$3)*(agent=$K16)))) | P16: =IF($K16="","",MIN(1,SUMPRODUCT((date=P$3)*(agent=$K16)))) | Q16: =IF($K16="","",MIN(1,SUMPRODUCT((date=Q$3)*(agent=$K16)))) | R16: =IF($K16="","",MIN(1,SUMPRODUCT((date=R$3)*(agent=$K16)))) | S16: =IF($K16="","",MIN(1,SUMPRODUCT((date=S$3)*(agent=$K16)))) | ... AA16: =IF($K16="","",MIN(1,SUMPRODUCT((date=AA$3)*(agent=$K16))))
A17: Lycée SCHOELCHER | C17: BBL | D17: DBA | E17: BBL | F17: DBA | G17: VAF | H17: =+COUNTA(E17:G17) -> 3 | I17: 43938 | K17: {=IFERROR(INDEX(param2,MATCH(0,COUNTIF(param2,"<"&param2)-SUM(COUNTIF(param2,K$3:K16)),0)),"")} | L17: =IF($K17="","",MIN(1,SUMPRODUCT((date=L$3)*(agent=$K17)))) | M17: =IF($K17="","",MIN(1,SUMPRODUCT((date=M$3)*(agent=$K17)))) | N17: =IF($K17="","",MIN(1,SUMPRODUCT((date=N$3)*(agent=$K17)))) | O17: =IF($K17="","",MIN(1,SUMPRODUCT((date=O$3)*(agent=$K17)))) | P17: =IF($K17="","",MIN(1,SUMPRODUCT((date=P$3)*(agent=$K17)))) | Q17: =IF($K17="","",MIN(1,SUMPRODUCT((date=Q$3)*(agent=$K17)))) | R17: =IF($K17="","",MIN(1,SUMPRODUCT((date=R$3)*(agent=$K17)))) | S17: =IF($K17="","",MIN(1,SUMPRODUCT((date=S$3)*(agent=$K17)))) | ... AA17: =IF($K17="","",MIN(1,SUMPRODUCT((date=AA$3)*(agent=$K17))))
A18: Fleurs jaunes (Ilôt 6.1) | B18: 2014 | C18: FHO | D18: VAF | E18: FHO | F18: VAF | H18: =+COUNTA(E18:G18) -> 2 | I18: 43938 | K18: {=IFERROR(INDEX(param2,MATCH(0,COUNTIF(param2,"<"&param2)-SUM(COUNTIF(param2,K$3:K17)),0)),"")} | L18: =IF($K18="","",MIN(1,SUMPRODUCT((date=L$3)*(agent=$K18)))) | M18: =IF($K18="","",MIN(1,SUMPRODUCT((date=M$3)*(agent=$K18)))) | N18: =IF($K18="","",MIN(1,SUMPRODUCT((date=N$3)*(agent=$K18)))) | O18: =IF($K18="","",MIN(1,SUMPRODUCT((date=O$3)*(agent=$K18)))) | P18: =IF($K18="","",MIN(1,SUMPRODUCT((date=P$3)*(agent=$K18)))) | Q18: =IF($K18="","",MIN(1,SUMPRODUCT((date=Q$3)*(agent=$K18)))) | R18: =IF($K18="","",MIN(1,SUMPRODUCT((date=R$3)*(agent=$K18)))) | S18: =IF($K18="","",MIN(1,SUMPRODUCT((date=S$3)*(agent=$K18)))) | ... AA18: =IF($K18="","",MIN(1,SUMPRODUCT((date=AA$3)*(agent=$K18))))
A19: Flamboyants (Avenue Raymond Barre) | B19: 2012 | C19: FHO | I19: ? | K19: {=IFERROR(INDEX(param2,MATCH(0,COUNTIF(param2,"<"&param2)-SUM(COUNTIF(param2,K$3:K18)),0)),"")} | L19: =IF($K19="","",MIN(1,SUMPRODUCT((date=L$3)*(agent=$K19)))) | M19: =IF($K19="","",MIN(1,SUMPRODUCT((date=M$3)*(agent=$K19)))) | N19: =IF($K19="","",MIN(1,SUMPRODUCT((date=N$3)*(agent=$K19)))) | O19: =IF($K19="","",MIN(1,SUMPRODUCT((date=O$3)*(agent=$K19)))) | P19: =IF($K19="","",MIN(1,SUMPRODUCT((date=P$3)*(agent=$K19)))) | Q19: =IF($K19="","",MIN(1,SUMPRODUCT((date=Q$3)*(agent=$K19)))) | R19: =IF($K19="","",MIN(1,SUMPRODUCT((date=R$3)*(agent=$K19)))) | S19: =IF($K19="","",MIN(1,SUMPRODUCT((date=S$3)*(agent=$K19)))) | ... AA19: =IF($K19="","",MIN(1,SUMPRODUCT((date=AA$3)*(agent=$K19))))
A20: Josepha Fontaine | B20: 2013 | C20: FHO | D20: DAM | E20: ECL/NLE | I20: ? | K20: {=IFERROR(INDEX(param2,MATCH(0,COUNTIF(param2,"<"&param2)-SUM(COUNTIF(param2,K$3:K19)),0)),"")} | L20: =IF($K20="","",MIN(1,SUMPRODUCT((date=L$3)*(agent=$K20)))) | M20: =IF($K20="","",MIN(1,SUMPRODUCT((date=M$3)*(agent=$K20)))) | N20: =IF($K20="","",MIN(1,SUMPRODUCT((date=N$3)*(agent=$K20)))) | O20: =IF($K20="","",MIN(1,SUMPRODUCT((date=O$3)*(agent=$K20)))) | P20: =IF($K20="","",MIN(1,SUMPRODUCT((date=P$3)*(agent=$K20)))) | Q20: =IF($K20="","",MIN(1,SUMPRODUCT((date=Q$3)*(agent=$K20)))) | R20: =IF($K20="","",MIN(1,SUMPRODUCT((date=R$3)*(agent=$K20)))) | S20: =IF($K20="","",MIN(1,SUMPRODUCT((date=S$3)*(agent=$K20)))) | ... AA20: =IF($K20="","",MIN(1,SUMPRODUCT((date=AA$3)*(agent=$K20))))
A21: Harry PAYET (Les Mimosas) | B21: 2012 | C21: FHO | D21: MMA | I21: ? | K21: {=IFERROR(INDEX(param2,MATCH(0,COUNTIF(param2,"<"&param2)-SUM(COUNTIF(param2,K$3:K20)),0)),"")} | L21: =IF($K21="","",MIN(1,SUMPRODUCT((date=L$3)*(agent=$K21)))) | M21: =IF($K21="","",MIN(1,SUMPRODUCT((date=M$3)*(agent=$K21)))) | N21: =IF($K21="","",MIN(1,SUMPRODUCT((date=N$3)*(agent=$K21)))) | O21: =IF($K21="","",MIN(1,SUMPRODUCT((date=O$3)*(agent=$K21)))) | P21: =IF($K21="","",MIN(1,SUMPRODUCT((date=P$3)*(agent=$K21)))) | Q21: =IF($K21="","",MIN(1,SUMPRODUCT((date=Q$3)*(agent=$K21)))) | R21: =IF($K21="","",MIN(1,SUMPRODUCT((date=R$3)*(agent=$K21)))) | S21: =IF($K21="","",MIN(1,SUMPRODUCT((date=S$3)*(agent=$K21)))) | ... AA21: =IF($K21="","",MIN(1,SUMPRODUCT((date=AA$3)*(agent=$K21))))
A22: Barrage | B22: 2013 | C22: BBL | D22: SRI | E22: trop tôt
A23: Jean MOREL (Amaryllis) | B23: 2013 | D23: MMA | I23: ?
A24: Lié ETHEVE (Poker As 2) | B24: 2013 | D24: MMA | I24: ?
A25: VEFA LOULOU PITOU (LA SAFRANIERE) | B25: 2014 | I25: ?
A26: FAHAM (Ilôt 5.6) | B26: 2016 | C26: TQU | D26: MMA
A27: Hélène TONRU (RPA mixte St Philippe) | B27: 2015 | C27: FHO | D27: MMA | E27: trop tôt
A28: Christiane - Amata (HE 168) LLTS | B28: 2015 | C28: MHO | D28: VAF | E28: trop tôt
A29: VEFA Maurice Lebon | B29: 2015 | C29: FHO | D29: VAF | E29: trop tôt
A30: Christiane - Amata (HE 168) LLS | B30: 2015 | C30: MHO | E30: trop tôt
A31: FANJAN (Ilot 6.2) | B31: 2015 | C31: MTG | D31: DBE | E31: trop tôt | U31: Retours OK
A32: Les Platanes | B32: 2016 | C32: FHO | D32: DAM / VAF | E32: trop tôt | U32: YFR
A33: Kakis | B33: 2016 | C33: FHO | D33: DBE | E33: trop tôt | U33: BBL
A34: VEFA CROUS St Pierre | B34: 2017 | C34: MTG | D34: VAF | E34: trop tôt | U34: DBA
A35: VEFA CROUS Tampon | B35: 2018 | C35: MTG | D35: VAF | E35: trop tôt | U35: DBE
U36: ECL
U37: NLE
U38: VAF

Sheet param
B2: =IF(ROW(A1)>ROWS(date),"",IF(Feuil1!E2<>"",ROW(A1)+COLUMN(A1)/1000,"")) -> 1.001 | C2: =IF(ROW(B1)>ROWS(date),"",IF(Feuil1!F2<>"",ROW(B1)+COLUMN(B1)/1000,"")) -> 1.002 | D2: =IF(ROW(C1)>ROWS(date),"",IF(Feuil1!G2<>"",ROW(C1)+COLUMN(C1)/1000,"")) | G2: =INDEX(agent,SUMPRODUCT((param1=SMALL(param1,ROW(A1)))*ROW(param1))-1,SUMPRODUCT((param1=SMALL(param1,ROW(A1)))*COLUMN(param1))-1) -> SRI
B3: =IF(ROW(A2)>ROWS(date),"",IF(Feuil1!E3<>"",ROW(A2)+COLUMN(A2)/1000,"")) -> 2.001 | C3: =IF(ROW(B2)>ROWS(date),"",IF(Feuil1!F3<>"",ROW(B2)+COLUMN(B2)/1000,"")) -> 2.002 | D3: =IF(ROW(C2)>ROWS(date),"",IF(Feuil1!G3<>"",ROW(C2)+COLUMN(C2)/1000,"")) | G3: =INDEX(agent,SUMPRODUCT((param1=SMALL(param1,ROW(A2)))*ROW(param1))-1,SUMPRODUCT((param1=SMALL(param1,ROW(A2)))*COLUMN(param1))-1) -> DBE
B4: =IF(ROW(A3)>ROWS(date),"",IF(Feuil1!E4<>"",ROW(A3)+COLUMN(A3)/1000,"")) -> 3.001 | C4: =IF(ROW(B3)>ROWS(date),"",IF(Feuil1!F4<>"",ROW(B3)+COLUMN(B3)/1000,"")) -> 3.002 | D4: =IF(ROW(C3)>ROWS(date),"",IF(Feuil1!G4<>"",ROW(C3)+COLUMN(C3)/1000,"")) | G4: =INDEX(agent,SUMPRODUCT((param1=SMALL(param1,ROW(A3)))*ROW(param1))-1,SUMPRODUCT((param1=SMALL(param1,ROW(A3)))*COLUMN(param1))-1) -> TQU
B5: =IF(ROW(A4)>ROWS(date),"",IF(Feuil1!E5<>"",ROW(A4)+COLUMN(A4)/1000,"")) -> 4.001 | C5: =IF(ROW(B4)>ROWS(date),"",IF(Feuil1!F5<>"",ROW(B4)+COLUMN(B4)/1000,"")) -> 4.002 | D5: =IF(ROW(C4)>ROWS(date),"",IF(Feuil1!G5<>"",ROW(C4)+COLUMN(C4)/1000,"")) | G5: =INDEX(agent,SUMPRODUCT((param1=SMALL(param1,ROW(A4)))*ROW(param1))-1,SUMPRODUCT((param1=SMALL(param1,ROW(A4)))*COLUMN(param1))-1) -> VAF
B6: =IF(ROW(A5)>ROWS(date),"",IF(Feuil1!E6<>"",ROW(A5)+COLUMN(A5)/1000,"")) -> 5.001 | C6: =IF(ROW(B5)>ROWS(date),"",IF(Feuil1!F6<>"",ROW(B5)+COLUMN(B5)/1000,"")) -> 5.002 | D6: =IF(ROW(C5)>ROWS(date),"",IF(Feuil1!G6<>"",ROW(C5)+COLUMN(C5)/1000,"")) | G6: =INDEX(agent,SUMPRODUCT((param1=SMALL(param1,ROW(A5)))*ROW(param1))-1,SUMPRODUCT((param1=SMALL(param1,ROW(A5)))*COLUMN(param1))-1) -> ECL
B7: =IF(ROW(A6)>ROWS(date),"",IF(Feuil1!E7<>"",ROW(A6)+COLUMN(A6)/1000,"")) -> 6.001 | C7: =IF(ROW(B6)>ROWS(date),"",IF(Feuil1!F7<>"",ROW(B6)+COLUMN(B6)/1000,"")) -> 6.002 | D7: =IF(ROW(C6)>ROWS(date),"",IF(Feuil1!G7<>"",ROW(C6)+COLUMN(C6)/1000,"")) -> 6.003 | G7: =INDEX(agent,SUMPRODUCT((param1=SMALL(param1,ROW(A6)))*ROW(param1))-1,SUMPRODUCT((param1=SMALL(param1,ROW(A6)))*COLUMN(param1))-1) -> NLE
B8: =IF(ROW(A7)>ROWS(date),"",IF(Feuil1!E8<>"",ROW(A7)+COLUMN(A7)/1000,"")) -> 7.001 | C8: =IF(ROW(B7)>ROWS(date),"",IF(Feuil1!F8<>"",ROW(B7)+COLUMN(B7)/1000,"")) -> 7.002 | D8: =IF(ROW(C7)>ROWS(date),"",IF(Feuil1!G8<>"",ROW(C7)+COLUMN(C7)/1000,"")) | G8: =INDEX(agent,SUMPRODUCT((param1=SMALL(param1,ROW(A7)))*ROW(param1))-1,SUMPRODUCT((param1=SMALL(param1,ROW(A7)))*COLUMN(param1))-1) -> VAF
B9: =IF(ROW(A8)>ROWS(date),"",IF(Feuil1!E9<>"",ROW(A8)+COLUMN(A8)/1000,"")) -> 8.001 | C9: =IF(ROW(B8)>ROWS(date),"",IF(Feuil1!F9<>"",ROW(B8)+COLUMN(B8)/1000,"")) -> 8.002 | D9: =IF(ROW(C8)>ROWS(date),"",IF(Feuil1!G9<>"",ROW(C8)+COLUMN(C8)/1000,"")) | G9: =INDEX(agent,SUMPRODUCT((param1=SMALL(param1,ROW(A8)))*ROW(param1))-1,SUMPRODUCT((param1=SMALL(param1,ROW(A8)))*COLUMN(param1))-1) -> DBA
B10: =IF(ROW(A9)>ROWS(date),"",IF(Feuil1!E10<>"",ROW(A9)+COLUMN(A9)/1000,"")) -> 9.001 | C10: =IF(ROW(B9)>ROWS(date),"",IF(Feuil1!F10<>"",ROW(B9)+COLUMN(B9)/1000,"")) -> 9.002 | D10: =IF(ROW(C9)>ROWS(date),"",IF(Feuil1!G10<>"",ROW(C9)+COLUMN(C9)/1000,"")) -> 9.003 | G10: =INDEX(agent,SUMPRODUCT((param1=SMALL(param1,ROW(A9)))*ROW(param1))-1,SUMPRODUCT((param1=SMALL(param1,ROW(A9)))*COLUMN(param1))-1) -> YFR
B11: =IF(ROW(A10)>ROWS(date),"",IF(Feuil1!E11<>"",ROW(A10)+COLUMN(A10)/1000,"")) -> 10.001 | C11: =IF(ROW(B10)>ROWS(date),"",IF(Feuil1!F11<>"",ROW(B10)+COLUMN(B10)/1000,"")) -> 10.002 | D11: =IF(ROW(C10)>ROWS(date),"",IF(Feuil1!G11<>"",ROW(C10)+COLUMN(C10)/1000,"")) -> 10.003 | G11: =INDEX(agent,SUMPRODUCT((param1=SMALL(param1,ROW(A10)))*ROW(param1))-1,SUMPRODUCT((param1=SMALL(param1,ROW(A10)))*COLUMN(param1))-1) -> DBA
B12: =IF(ROW(A11)>ROWS(date),"",IF(Feuil1!E12<>"",ROW(A11)+COLUMN(A11)/1000,"")) -> 11.001 | C12: =IF(ROW(B11)>ROWS(date),"",IF(Feuil1!F12<>"",ROW(B11)+COLUMN(B11)/1000,"")) -> 11.002 | D12: =IF(ROW(C11)>ROWS(date),"",IF(Feuil1!G12<>"",ROW(C11)+COLUMN(C11)/1000,"")) | G12: =INDEX(agent,SUMPRODUCT((param1=SMALL(param1,ROW(A11)))*ROW(param1))-1,SUMPRODUCT((param1=SMALL(param1,ROW(A11)))*COLUMN(param1))-1) -> YFR
B13: =IF(ROW(A12)>ROWS(date),"",IF(Feuil1!E13<>"",ROW(A12)+COLUMN(A12)/1000,"")) -> 12.001 | C13: =IF(ROW(B12)>ROWS(date),"",IF(Feuil1!F13<>"",ROW(B12)+COLUMN(B12)/1000,"")) -> 12.002 | D13: =IF(ROW(C12)>ROWS(date),"",IF(Feuil1!G13<>"",ROW(C12)+COLUMN(C12)/1000,"")) | G13: =INDEX(agent,SUMPRODUCT((param1=SMALL(param1,ROW(A12)))*ROW(param1))-1,SUMPRODUCT((param1=SMALL(param1,ROW(A12)))*COLUMN(param1))-1) -> DBA
... B63: =IF(ROW(A62)>ROWS(date),"",IF(Feuil1!E63<>"",ROW(A62)+COLUMN(A62)/1000,"")) | C63: =IF(ROW(B62)>ROWS(date),"",IF(Feuil1!F63<>"",ROW(B62)+COLUMN(B62)/1000,"")) | D63: =IF(ROW(C62)>ROWS(date),"",IF(Feuil1!G63<>"",ROW(C62)+COLUMN(C62)/1000,"")) | G63: =INDEX(agent,SUMPRODUCT((param1=SMALL(param1,ROW(A62)))*ROW(param1))-1,SUMPRODUCT((param1=SMALL(param1,ROW(A62)))*COLUMN(param1))-1) -> #NUM!
