Workbook
Name AUTRE: 'liste article'!$J$2
Name marques: 'liste article'!$F$1:$H$1
Name PLAQUE: 'liste article'!$F$2

Sheet Feuil15
D14: 1)tuchoisis la marque
D17: 2) tu choisis soit PLAQUE ou AUTRE pour autres (fourrure,susP,laine….)
D19: 3) tes 2 pré-tris étant faits tu choisis l'article
A20: REF
B21: marque | C21: plaque/autre
A22: =IFERROR(INDEX('liste article'!C$2:C$192,MATCH(Feuil15!$D22,'liste article'!B$2:B$192,0)),"") -> 1684748 | B22: PLACO | C22: PLAQUE | D22: PLACO 2,8 PLAQUE HYDRO DOUBLAGE
A23: =IFERROR(INDEX('liste article'!C$2:C$192,MATCH(Feuil15!$D23,'liste article'!B$2:B$192,0)),"")
A24: =IFERROR(INDEX('liste article'!C$2:C$192,MATCH(Feuil15!$D24,'liste article'!B$2:B$192,0)),"")
A25: =IFERROR(INDEX('liste article'!C$2:C$192,MATCH(Feuil15!$D25,'liste article'!B$2:B$192,0)),"")
A26: =IFERROR(INDEX('liste article'!C$2:C$192,MATCH(Feuil15!$D26,'liste article'!B$2:B$192,0)),"")
A27: =IFERROR(INDEX('liste article'!C$2:C$192,MATCH(Feuil15!$D27,'liste article'!B$2:B$192,0)),"")
A28: =IFERROR(INDEX('liste article'!C$2:C$192,MATCH(Feuil15!$D28,'liste article'!B$2:B$192,0)),"") -> 1684748 | B28: PLACO | C28: PLAQUE | D28: PLACO 2,8 PLAQUE HYDRO DOUBLAGE
A29: =IFERROR(INDEX('liste article'!C$2:C$192,MATCH(Feuil15!$D29,'liste article'!B$2:B$192,0)),"")
A30: =IFERROR(INDEX('liste article'!C$2:C$192,MATCH(Feuil15!$D30,'liste article'!B$2:B$192,0)),"")
A31: =IFERROR(INDEX('liste article'!C$2:C$192,MATCH(Feuil15!$D31,'liste article'!B$2:B$192,0)),"")
A32: =IFERROR(INDEX('liste article'!C$2:C$192,MATCH(Feuil15!$D32,'liste article'!B$2:B$192,0)),"")
A33: =IFERROR(INDEX('liste article'!C$2:C$192,MATCH(Feuil15!$D33,'liste article'!B$2:B$192,0)),"")
A34: =IFERROR(INDEX('liste article'!C$2:C$192,MATCH(Feuil15!$D34,'liste article'!B$2:B$192,0)),"")
A35: =IFERROR(INDEX('liste article'!C$2:C$192,MATCH(Feuil15!$D35,'liste article'!B$2:B$192,0)),"")
A36: =IFERROR(INDEX('liste article'!C$2:C$192,MATCH(Feuil15!$D36,'liste article'!B$2:B$192,0)),"")
A37: =IFERROR(INDEX('liste article'!C$2:C$192,MATCH(Feuil15!$D37,'liste article'!B$2:B$192,0)),"")
A38: =IFERROR(INDEX('liste article'!C$2:C$192,MATCH(Feuil15!$D38,'liste article'!B$2:B$192,0)),"")
A39: =IFERROR(INDEX('liste article'!C$2:C$192,MATCH(Feuil15!$D39,'liste article'!B$2:B$192,0)),"")
A40: =IFERROR(INDEX('liste article'!C$2:C$192,MATCH(Feuil15!$D40,'liste article'!B$2:B$192,0)),"")
... A63: =IFERROR(INDEX('liste article'!C$2:C$192,MATCH(Feuil15!$D63,'liste article'!B$2:B$192,0)),"")

Sheet liste article
A1: FOURNISSEUR | B1: PLAFOND | C1: CODE ARTICLE | F1: {=IFERROR(OFFSET($A$1,MATCH(0,IF($A$2:$A$192="","",COUNTIF($E1:E1,$A$2:$A$192)),0),),"")} -> SINIAT | G1: {=IFERROR(OFFSET($A$1,MATCH(0,IF($A$2:$A$192="","",COUNTIF($E1:F1,$A$2:$A$192)),0),),"")} -> PLACO | H1: {=IFERROR(OFFSET($A$1,MATCH(0,IF($A$2:$A$192="","",COUNTIF($E1:G1,$A$2:$A$192)),0),),"")} -> KNAUF | I1: {=IFERROR(OFFSET($A$1,MATCH(0,IF($A$2:$A$192="","",COUNTIF($E1:H1,$A$2:$A$192)),0),),"")} | J1: {=IFERROR(OFFSET($A$1,MATCH(0,IF($A$2:$A$192="","",COUNTIF($I1:I1,$A$2:$A$192)),0),),"")} -> SINIAT | K1: {=IFERROR(OFFSET($A$1,MATCH(0,IF($A$2:$A$192="","",COUNTIF($I1:J1,$A$2:$A$192)),0),),"")} -> PLACO | L1: {=IFERROR(OFFSET($A$1,MATCH(0,IF($A$2:$A$192="","",COUNTIF($I1:K1,$A$2:$A$192)),0),),"")} -> KNAUF | M1: {=IFERROR(OFFSET($A$1,MATCH(0,IF($A$2:$A$192="","",COUNTIF($I1:L1,$A$2:$A$192)),0),),"")}
A2: SINIAT | B2: SINIAT 2,6 PLAQUE ACTIV'AIR DOUBLAGE | C2: 1008805 | E2: plaques | F2: {=INDEX($B$2:$B$192,SMALL(IF((ISNUMBER(SEARCH("plaque",$B$2:$B$192))*1)*($A$2:$A$192=F$1),ROW($2:$192)-1,""),ROW($A1)))} -> SINIAT 2,6 PLAQUE ACTIV'AIR DOUBLAGE | G2: {=INDEX($B$2:$B$192,SMALL(IF((ISNUMBER(SEARCH("plaque",$B$2:$B$192))*1)*($A$2:$A$192=G$1),ROW($2:$192)-1,""),ROW($A1)))} -> PLACO 2,8 PLAQUE HYDRO DOUBLAGE | H2: {=INDEX($B$2:$B$192,SMALL(IF((ISNUMBER(SEARCH("plaque",$B$2:$B$192))*1)*($A$2:$A$192=H$1),ROW($2:$192)-1,""),ROW($A1)))} -> KNAUF2,5 PLAQUE IGNIFUGE DOUBLAGE | I2: autres | J2: {=INDEX($B$2:$B$192,SMALL(IF(NOT(ISNUMBER(SEARCH("plaque",$B$2:$B$192))*1)*($A$2:$A$192=J$1),ROW($2:$192)-1,""),ROW($A1)))} -> SINIAT RAILS CLOISON | K2: {=INDEX($B$2:$B$192,SMALL(IF(NOT(ISNUMBER(SEARCH("plaque",$B$2:$B$192))*1)*($A$2:$A$192=K$1),ROW($2:$192)-1,""),ROW($A1)))} -> PLACO FOURRURES PLAFOND | L2: {=INDEX($B$2:$B$192,SMALL(IF(NOT(ISNUMBER(SEARCH("plaque",$B$2:$B$192))*1)*($A$2:$A$192=L$1),ROW($2:$192)-1,""),ROW($A1)))} -> KNAUF FOURRURES PLAFOND
A3: SINIAT | B3: PLACO 2,6 PLAQUE PHONIQUE DOUBLAGE | C3: 1008805 | F3: {=INDEX($B$2:$B$192,SMALL(IF((ISNUMBER(SEARCH("plaque",$B$2:$B$192))*1)*($A$2:$A$192=F$1),ROW($2:$192)-1,""),ROW($A2)))} -> PLACO 2,6 PLAQUE PHONIQUE DOUBLAGE | G3: {=INDEX($B$2:$B$192,SMALL(IF((ISNUMBER(SEARCH("plaque",$B$2:$B$192))*1)*($A$2:$A$192=G$1),ROW($2:$192)-1,""),ROW($A2)))} -> PLACO 2,8 PLAQUE HYDRO CLOISON | H3: {=INDEX($B$2:$B$192,SMALL(IF((ISNUMBER(SEARCH("plaque",$B$2:$B$192))*1)*($A$2:$A$192=H$1),ROW($2:$192)-1,""),ROW($A2)))} -> KNAUF2,5 PLAQUE IGNIFUGE CLOISON | J3: {=INDEX($B$2:$B$192,SMALL(IF(NOT(ISNUMBER(SEARCH("plaque",$B$2:$B$192))*1)*($A$2:$A$192=J$1),ROW($2:$192)-1,""),ROW($A2)))} -> SINIAT FOURRURES PLAFOND | K3: {=INDEX($B$2:$B$192,SMALL(IF(NOT(ISNUMBER(SEARCH("plaque",$B$2:$B$192))*1)*($A$2:$A$192=K$1),ROW($2:$192)-1,""),ROW($A2)))} -> PLACO RAILS CLOISON | L3: {=INDEX($B$2:$B$192,SMALL(IF(NOT(ISNUMBER(SEARCH("plaque",$B$2:$B$192))*1)*($A$2:$A$192=L$1),ROW($2:$192)-1,""),ROW($A2)))} -> KNAUF SUSPENTES PLAFOND
A4: SINIAT | B4: SINIAT 2,6 PLAQUE ACTIV'AIR CLOISON | C4: 1008805 | F4: {=INDEX($B$2:$B$192,SMALL(IF((ISNUMBER(SEARCH("plaque",$B$2:$B$192))*1)*($A$2:$A$192=F$1),ROW($2:$192)-1,""),ROW($A3)))} -> SINIAT 2,6 PLAQUE ACTIV'AIR CLOISON | G4: {=INDEX($B$2:$B$192,SMALL(IF((ISNUMBER(SEARCH("plaque",$B$2:$B$192))*1)*($A$2:$A$192=G$1),ROW($2:$192)-1,""),ROW($A3)))} -> PLACO 2,7 PLAQUE STANDARD DOUBLAGE | H4: {=INDEX($B$2:$B$192,SMALL(IF((ISNUMBER(SEARCH("plaque",$B$2:$B$192))*1)*($A$2:$A$192=H$1),ROW($2:$192)-1,""),ROW($A3)))} -> KNAUF2,6 PLAQUE IGNIFUGE DOUBLAGE | J4: {=INDEX($B$2:$B$192,SMALL(IF(NOT(ISNUMBER(SEARCH("plaque",$B$2:$B$192))*1)*($A$2:$A$192=J$1),ROW($2:$192)-1,""),ROW($A3)))} -> SINIAT SUSPENTES PLAFOND | K4: {=INDEX($B$2:$B$192,SMALL(IF(NOT(ISNUMBER(SEARCH("plaque",$B$2:$B$192))*1)*($A$2:$A$192=K$1),ROW($2:$192)-1,""),ROW($A3)))} -> PLACO SUSPENTES PLAFOND | L4: {=INDEX($B$2:$B$192,SMALL(IF(NOT(ISNUMBER(SEARCH("plaque",$B$2:$B$192))*1)*($A$2:$A$192=L$1),ROW($2:$192)-1,""),ROW($A3)))} -> KNAUF RAILS CLOISON
A5: SINIAT | B5: PLACO 2,6 PLAQUE PHONIQUE CLOISON | C5: 1008805 | F5: {=INDEX($B$2:$B$192,SMALL(IF((ISNUMBER(SEARCH("plaque",$B$2:$B$192))*1)*($A$2:$A$192=F$1),ROW($2:$192)-1,""),ROW($A4)))} -> PLACO 2,6 PLAQUE PHONIQUE CLOISON | G5: {=INDEX($B$2:$B$192,SMALL(IF((ISNUMBER(SEARCH("plaque",$B$2:$B$192))*1)*($A$2:$A$192=G$1),ROW($2:$192)-1,""),ROW($A4)))} -> PLACO 2,7 PLAQUE STANDARD CLOISON | H5: {=INDEX($B$2:$B$192,SMALL(IF((ISNUMBER(SEARCH("plaque",$B$2:$B$192))*1)*($A$2:$A$192=H$1),ROW($2:$192)-1,""),ROW($A4)))} -> KNAUF2,6 PLAQUE IGNIFUGE CLOISON | J5: {=INDEX($B$2:$B$192,SMALL(IF(NOT(ISNUMBER(SEARCH("plaque",$B$2:$B$192))*1)*($A$2:$A$192=J$1),ROW($2:$192)-1,""),ROW($A4)))} -> SINIAT LAINE GR32/120 | K5: {=INDEX($B$2:$B$192,SMALL(IF(NOT(ISNUMBER(SEARCH("plaque",$B$2:$B$192))*1)*($A$2:$A$192=K$1),ROW($2:$192)-1,""),ROW($A4)))} -> PLACO LAINE GR32/100 | L5: {=INDEX($B$2:$B$192,SMALL(IF(NOT(ISNUMBER(SEARCH("plaque",$B$2:$B$192))*1)*($A$2:$A$192=L$1),ROW($2:$192)-1,""),ROW($A4)))} -> KNAUF LAINE GR32/120
A6: SINIAT | B6: SINIAT 2,7 PLAQUE ACTIV'AIR DOUBLAGE | C6: 1061753 | F6: {=INDEX($B$2:$B$192,SMALL(IF((ISNUMBER(SEARCH("plaque",$B$2:$B$192))*1)*($A$2:$A$192=F$1),ROW($2:$192)-1,""),ROW($A5)))} -> SINIAT 2,7 PLAQUE ACTIV'AIR DOUBLAGE | G6: {=INDEX($B$2:$B$192,SMALL(IF((ISNUMBER(SEARCH("plaque",$B$2:$B$192))*1)*($A$2:$A$192=G$1),ROW($2:$192)-1,""),ROW($A5)))} -> PLACO 2,5 PLAQUE IGNIFUGE DOUBLAGE | H6: {=INDEX($B$2:$B$192,SMALL(IF((ISNUMBER(SEARCH("plaque",$B$2:$B$192))*1)*($A$2:$A$192=H$1),ROW($2:$192)-1,""),ROW($A5)))} -> KNAUF2,8 PLAQUE IGNIFUGE DOUBLAGE | J6: {=INDEX($B$2:$B$192,SMALL(IF(NOT(ISNUMBER(SEARCH("plaque",$B$2:$B$192))*1)*($A$2:$A$192=J$1),ROW($2:$192)-1,""),ROW($A5)))} -> SINIAT LISSE DOUBLAGE | K6: {=INDEX($B$2:$B$192,SMALL(IF(NOT(ISNUMBER(SEARCH("plaque",$B$2:$B$192))*1)*($A$2:$A$192=K$1),ROW($2:$192)-1,""),ROW($A5)))} -> PLACO LISSE DOUBLAGE | L6: {=INDEX($B$2:$B$192,SMALL(IF(NOT(ISNUMBER(SEARCH("plaque",$B$2:$B$192))*1)*($A$2:$A$192=L$1),ROW($2:$192)-1,""),ROW($A5)))} -> KNAUF LISSE DOUBLAGE
A7: SINIAT | B7: PLACO 2,7 PLAQUE PHONIQUE DOUBLAGE | C7: 1061753 | F7: {=INDEX($B$2:$B$192,SMALL(IF((ISNUMBER(SEARCH("plaque",$B$2:$B$192))*1)*($A$2:$A$192=F$1),ROW($2:$192)-1,""),ROW($A6)))} -> PLACO 2,7 PLAQUE PHONIQUE DOUBLAGE | G7: {=INDEX($B$2:$B$192,SMALL(IF((ISNUMBER(SEARCH("plaque",$B$2:$B$192))*1)*($A$2:$A$192=G$1),ROW($2:$192)-1,""),ROW($A6)))} -> PLACO 2,5 PLAQUE IGNIFUGE CLOISON | H7: {=INDEX($B$2:$B$192,SMALL(IF((ISNUMBER(SEARCH("plaque",$B$2:$B$192))*1)*($A$2:$A$192=H$1),ROW($2:$192)-1,""),ROW($A6)))} -> KNAUF2,8 PLAQUE IGNIFUGE CLOISON | J7: {=INDEX($B$2:$B$192,SMALL(IF(NOT(ISNUMBER(SEARCH("plaque",$B$2:$B$192))*1)*($A$2:$A$192=J$1),ROW($2:$192)-1,""),ROW($A6)))} -> SINIAT APPUIS OPTIMA DOUBLAGE | K7: {=INDEX($B$2:$B$192,SMALL(IF(NOT(ISNUMBER(SEARCH("plaque",$B$2:$B$192))*1)*($A$2:$A$192=K$1),ROW($2:$192)-1,""),ROW($A6)))} -> PLACO APPUIS OPTIMA DOUBLAGE | L7: {=INDEX($B$2:$B$192,SMALL(IF(NOT(ISNUMBER(SEARCH("plaque",$B$2:$B$192))*1)*($A$2:$A$192=L$1),ROW($2:$192)-1,""),ROW($A6)))} -> KNAUF APPUIS OPTIMA DOUBLAGE
A8: SINIAT | B8: SINIAT2,7 PLAQUE ACTIV'AIR CLOISON | C8: 1061753 | F8: {=INDEX($B$2:$B$192,SMALL(IF((ISNUMBER(SEARCH("plaque",$B$2:$B$192))*1)*($A$2:$A$192=F$1),ROW($2:$192)-1,""),ROW($A7)))} -> SINIAT2,7 PLAQUE ACTIV'AIR CLOISON | G8: {=INDEX($B$2:$B$192,SMALL(IF((ISNUMBER(SEARCH("plaque",$B$2:$B$192))*1)*($A$2:$A$192=G$1),ROW($2:$192)-1,""),ROW($A7)))} -> PLACO 2,6 PLAQUE IGNIFUGE DOUBLAGE | H8: {=INDEX($B$2:$B$192,SMALL(IF((ISNUMBER(SEARCH("plaque",$B$2:$B$192))*1)*($A$2:$A$192=H$1),ROW($2:$192)-1,""),ROW($A7)))} -> KNAUF3 PLAQUE IGNIFUGE DOUBLAGE | J8: {=INDEX($B$2:$B$192,SMALL(IF(NOT(ISNUMBER(SEARCH("plaque",$B$2:$B$192))*1)*($A$2:$A$192=J$1),ROW($2:$192)-1,""),ROW($A7)))} -> SINIAT FOURRURES DOUBLAGE | K8: {=INDEX($B$2:$B$192,SMALL(IF(NOT(ISNUMBER(SEARCH("plaque",$B$2:$B$192))*1)*($A$2:$A$192=K$1),ROW($2:$192)-1,""),ROW($A7)))} -> PLACO FOURRURES DOUBLAGE | L8: {=INDEX($B$2:$B$192,SMALL(IF(NOT(ISNUMBER(SEARCH("plaque",$B$2:$B$192))*1)*($A$2:$A$192=L$1),ROW($2:$192)-1,""),ROW($A7)))} -> KNAUF FOURRURES DOUBLAGE
A9: SINIAT | B9: PLACO 2,7 PLAQUE PHONIQUE CLOISON | C9: 1061753 | F9: {=INDEX($B$2:$B$192,SMALL(IF((ISNUMBER(SEARCH("plaque",$B$2:$B$192))*1)*($A$2:$A$192=F$1),ROW($2:$192)-1,""),ROW($A8)))} -> PLACO 2,7 PLAQUE PHONIQUE CLOISON | G9: {=INDEX($B$2:$B$192,SMALL(IF((ISNUMBER(SEARCH("plaque",$B$2:$B$192))*1)*($A$2:$A$192=G$1),ROW($2:$192)-1,""),ROW($A8)))} -> PLACO 2,6 PLAQUE IGNIFUGE CLOISON | H9: {=INDEX($B$2:$B$192,SMALL(IF((ISNUMBER(SEARCH("plaque",$B$2:$B$192))*1)*($A$2:$A$192=H$1),ROW($2:$192)-1,""),ROW($A8)))} -> KNAUF3 PLAQUE IGNIFUGE CLOISON | J9: {=INDEX($B$2:$B$192,SMALL(IF(NOT(ISNUMBER(SEARCH("plaque",$B$2:$B$192))*1)*($A$2:$A$192=J$1),ROW($2:$192)-1,""),ROW($A8)))} -> SINIAT MONTANTS CLOISON | K9: {=INDEX($B$2:$B$192,SMALL(IF(NOT(ISNUMBER(SEARCH("plaque",$B$2:$B$192))*1)*($A$2:$A$192=K$1),ROW($2:$192)-1,""),ROW($A8)))} -> PLACO MONTANTS CLOISON | L9: {=INDEX($B$2:$B$192,SMALL(IF(NOT(ISNUMBER(SEARCH("plaque",$B$2:$B$192))*1)*($A$2:$A$192=L$1),ROW($2:$192)-1,""),ROW($A8)))} -> KNAUF MONTANTS CLOISON
A10: SINIAT | B10: SINIAT 2,5X1,20 PLAQUE | C10: 1174018 | F10: {=INDEX($B$2:$B$192,SMALL(IF((ISNUMBER(SEARCH("plaque",$B$2:$B$192))*1)*($A$2:$A$192=F$1),ROW($2:$192)-1,""),ROW($A9)))} -> SINIAT 2,5X1,20 PLAQUE | G10: {=INDEX($B$2:$B$192,SMALL(IF((ISNUMBER(SEARCH("plaque",$B$2:$B$192))*1)*($A$2:$A$192=G$1),ROW($2:$192)-1,""),ROW($A9)))} -> PLACO2,8 PLAQUE IGNIFUGE DOUBLAGE | H10: {=INDEX($B$2:$B$192,SMALL(IF((ISNUMBER(SEARCH("plaque",$B$2:$B$192))*1)*($A$2:$A$192=H$1),ROW($2:$192)-1,""),ROW($A9)))} -> KNAUF2,5 PLAQUE HYDRO DOUBLAGE | J10: {=INDEX($B$2:$B$192,SMALL(IF(NOT(ISNUMBER(SEARCH("plaque",$B$2:$B$192))*1)*($A$2:$A$192=J$1),ROW($2:$192)-1,""),ROW($A9)))} -> SINIATLAINE ACOUSTIQUE 45 mm CLOISON | K10: {=INDEX($B$2:$B$192,SMALL(IF(NOT(ISNUMBER(SEARCH("plaque",$B$2:$B$192))*1)*($A$2:$A$192=K$1),ROW($2:$192)-1,""),ROW($A9)))} -> PLACOLAINE ACOUSTIQUE 45 mm CLOISON | L10: {=INDEX($B$2:$B$192,SMALL(IF(NOT(ISNUMBER(SEARCH("plaque",$B$2:$B$192))*1)*($A$2:$A$192=L$1),ROW($2:$192)-1,""),ROW($A9)))} -> KNAUFLAINE ACOUSTIQUE 45 mm CLOISON
A11: SINIAT | B11: SINIAT 2,5 PLAQUE STANDARD DOUBLAGE | C11: 1174018 | F11: {=INDEX($B$2:$B$192,SMALL(IF((ISNUMBER(SEARCH("plaque",$B$2:$B$192))*1)*($A$2:$A$192=F$1),ROW($2:$192)-1,""),ROW($A10)))} -> SINIAT 2,5 PLAQUE STANDARD DOUBLAGE | G11: {=INDEX($B$2:$B$192,SMALL(IF((ISNUMBER(SEARCH("plaque",$B$2:$B$192))*1)*($A$2:$A$192=G$1),ROW($2:$192)-1,""),ROW($A10)))} -> PLACO2,8 PLAQUE IGNIFUGE CLOISON | H11: {=INDEX($B$2:$B$192,SMALL(IF((ISNUMBER(SEARCH("plaque",$B$2:$B$192))*1)*($A$2:$A$192=H$1),ROW($2:$192)-1,""),ROW($A10)))} -> KNAUF2.5 PLAQUE HYDRO CLOISON | J11: {=INDEX($B$2:$B$192,SMALL(IF(NOT(ISNUMBER(SEARCH("plaque",$B$2:$B$192))*1)*($A$2:$A$192=J$1),ROW($2:$192)-1,""),ROW($A10)))} -> #NUM! | K11: {=INDEX($B$2:$B$192,SMALL(IF(NOT(ISNUMBER(SEARCH("plaque",$B$2:$B$192))*1)*($A$2:$A$192=K$1),ROW($2:$192)-1,""),ROW($A10)))} -> #NUM! | L11: {=INDEX($B$2:$B$192,SMALL(IF(NOT(ISNUMBER(SEARCH("plaque",$B$2:$B$192))*1)*($A$2:$A$192=L$1),ROW($2:$192)-1,""),ROW($A10)))} -> #NUM!
A12: SINIAT | B12: SINIAT 2,5 PLAQUE STANDARD CLOISON | C12: 1174018 | F12: {=INDEX($B$2:$B$192,SMALL(IF((ISNUMBER(SEARCH("plaque",$B$2:$B$192))*1)*($A$2:$A$192=F$1),ROW($2:$192)-1,""),ROW($A11)))} -> SINIAT 2,5 PLAQUE STANDARD CLOISON | G12: {=INDEX($B$2:$B$192,SMALL(IF((ISNUMBER(SEARCH("plaque",$B$2:$B$192))*1)*($A$2:$A$192=G$1),ROW($2:$192)-1,""),ROW($A11)))} -> PLACO2,5 PLAQUE HYDRO DOUBLAGE | H12: {=INDEX($B$2:$B$192,SMALL(IF((ISNUMBER(SEARCH("plaque",$B$2:$B$192))*1)*($A$2:$A$192=H$1),ROW($2:$192)-1,""),ROW($A11)))} -> KNAUF2,6 PLAQUE HYDRO DOUBLAGE | J12: {=INDEX($B$2:$B$192,SMALL(IF(NOT(ISNUMBER(SEARCH("plaque",$B$2:$B$192))*1)*($A$2:$A$192=J$1),ROW($2:$192)-1,""),ROW($A11)))} -> #NUM! | K12: {=INDEX($B$2:$B$192,SMALL(IF(NOT(ISNUMBER(SEARCH("plaque",$B$2:$B$192))*1)*($A$2:$A$192=K$1),ROW($2:$192)-1,""),ROW($A11)))} -> #NUM! | L12: {=INDEX($B$2:$B$192,SMALL(IF(NOT(ISNUMBER(SEARCH("plaque",$B$2:$B$192))*1)*($A$2:$A$192=L$1),ROW($2:$192)-1,""),ROW($A11)))} -> #NUM!
A13: SINIAT | B13: SINIAT 2,6 PLAQUE STANDARD DOUBLAGE | C13: 1174019 | F13: {=INDEX($B$2:$B$192,SMALL(IF((ISNUMBER(SEARCH("plaque",$B$2:$B$192))*1)*($A$2:$A$192=F$1),ROW($2:$192)-1,""),ROW($A12)))} -> SINIAT 2,6 PLAQUE STANDARD DOUBLAGE | G13: {=INDEX($B$2:$B$192,SMALL(IF((ISNUMBER(SEARCH("plaque",$B$2:$B$192))*1)*($A$2:$A$192=G$1),ROW($2:$192)-1,""),ROW($A12)))} -> PLACO2,5 PLAQUE HYDRO CLOISON | H13: {=INDEX($B$2:$B$192,SMALL(IF((ISNUMBER(SEARCH("plaque",$B$2:$B$192))*1)*($A$2:$A$192=H$1),ROW($2:$192)-1,""),ROW($A12)))} -> KNAUF2.6 PLAQUE HYDRO CLOISON | J13: {=INDEX($B$2:$B$192,SMALL(IF(NOT(ISNUMBER(SEARCH("plaque",$B$2:$B$192))*1)*($A$2:$A$192=J$1),ROW($2:$192)-1,""),ROW($A12)))} -> #NUM! | K13: {=INDEX($B$2:$B$192,SMALL(IF(NOT(ISNUMBER(SEARCH("plaque",$B$2:$B$192))*1)*($A$2:$A$192=K$1),ROW($2:$192)-1,""),ROW($A12)))} -> #NUM! | L13: {=INDEX($B$2:$B$192,SMALL(IF(NOT(ISNUMBER(SEARCH("plaque",$B$2:$B$192))*1)*($A$2:$A$192=L$1),ROW($2:$192)-1,""),ROW($A12)))} -> #NUM!
A14: SINIAT | B14: SINIAT 2,6 PLAQUE STANDARD CLOISON | C14: 1174019 | F14: {=INDEX($B$2:$B$192,SMALL(IF((ISNUMBER(SEARCH("plaque",$B$2:$B$192))*1)*($A$2:$A$192=F$1),ROW($2:$192)-1,""),ROW($A13)))} -> SINIAT 2,6 PLAQUE STANDARD CLOISON | G14: {=INDEX($B$2:$B$192,SMALL(IF((ISNUMBER(SEARCH("plaque",$B$2:$B$192))*1)*($A$2:$A$192=G$1),ROW($2:$192)-1,""),ROW($A13)))} -> PLACO2,6X1,20 PLAQUE ACTIV'AIR | H14: {=INDEX($B$2:$B$192,SMALL(IF((ISNUMBER(SEARCH("plaque",$B$2:$B$192))*1)*($A$2:$A$192=H$1),ROW($2:$192)-1,""),ROW($A13)))} -> KNAUF2,8 PLAQUE HYDRO DOUBLAGE | J14: {=INDEX($B$2:$B$192,SMALL(IF(NOT(ISNUMBER(SEARCH("plaque",$B$2:$B$192))*1)*($A$2:$A$192=J$1),ROW($2:$192)-1,""),ROW($A13)))} -> #NUM! | K14: {=INDEX($B$2:$B$192,SMALL(IF(NOT(ISNUMBER(SEARCH("plaque",$B$2:$B$192))*1)*($A$2:$A$192=K$1),ROW($2:$192)-1,""),ROW($A13)))} -> #NUM! | L14: {=INDEX($B$2:$B$192,SMALL(IF(NOT(ISNUMBER(SEARCH("plaque",$B$2:$B$192))*1)*($A$2:$A$192=L$1),ROW($2:$192)-1,""),ROW($A13)))} -> #NUM!
... A27: SINIAT | B27: SINIAT 3 PLAQUE HABITO DOUBLAGE | C27: 1174064 | F27: {=INDEX($B$2:$B$192,SMALL(IF((ISNUMBER(SEARCH("plaque",$B$2:$B$192))*1)*($A$2:$A$192=F$1),ROW($2:$192)-1,""),ROW($A26)))} -> SINIAT 3 PLAQUE HABITO DOUBLAGE | G27: {=INDEX($B$2:$B$192,SMALL(IF((ISNUMBER(SEARCH("plaque",$B$2:$B$192))*1)*($A$2:$A$192=G$1),ROW($2:$192)-1,""),ROW($A26)))} -> PLACO3 PLAQUE STANDARD CLOISON | H27: {=INDEX($B$2:$B$192,SMALL(IF((ISNUMBER(SEARCH("plaque",$B$2:$B$192))*1)*($A$2:$A$192=H$1),ROW($2:$192)-1,""),ROW($A26)))} -> KNAUF2,5 PLAQUE STANDARD DOUBLAGE | J27: {=INDEX($B$2:$B$192,SMALL(IF(NOT(ISNUMBER(SEARCH("plaque",$B$2:$B$192))*1)*($A$2:$A$192=J$1),ROW($2:$192)-1,""),ROW($A26)))} -> #NUM! | K27: {=INDEX($B$2:$B$192,SMALL(IF(NOT(ISNUMBER(SEARCH("plaque",$B$2:$B$192))*1)*($A$2:$A$192=K$1),ROW($2:$192)-1,""),ROW($A26)))} -> #NUM! | L27: {=INDEX($B$2:$B$192,SMALL(IF(NOT(ISNUMBER(SEARCH("plaque",$B$2:$B$192))*1)*($A$2:$A$192=L$1),ROW($2:$192)-1,""),ROW($A26)))} -> #NUM!
A28: SINIAT | B28: SINIAT3 PLAQUE HABITO CLOISON | C28: 1174064 | F28: {=INDEX($B$2:$B$192,SMALL(IF((ISNUMBER(SEARCH("plaque",$B$2:$B$192))*1)*($A$2:$A$192=F$1),ROW($2:$192)-1,""),ROW($A27)))} -> SINIAT3 PLAQUE HABITO CLOISON | G28: {=INDEX($B$2:$B$192,SMALL(IF((ISNUMBER(SEARCH("plaque",$B$2:$B$192))*1)*($A$2:$A$192=G$1),ROW($2:$192)-1,""),ROW($A27)))} -> PLACO2,7 PLAQUE HYDRO DOUBLAGE | H28: {=INDEX($B$2:$B$192,SMALL(IF((ISNUMBER(SEARCH("plaque",$B$2:$B$192))*1)*($A$2:$A$192=H$1),ROW($2:$192)-1,""),ROW($A27)))} -> KNAUF2,5 PLAQUE STANDARD CLOISON
A29: SINIAT | B29: SINIAT 2,8 PLAQUE HABITO DOUBLAGE | C29: 1174065 | F29: {=INDEX($B$2:$B$192,SMALL(IF((ISNUMBER(SEARCH("plaque",$B$2:$B$192))*1)*($A$2:$A$192=F$1),ROW($2:$192)-1,""),ROW($A28)))} -> SINIAT 2,8 PLAQUE HABITO DOUBLAGE | G29: {=INDEX($B$2:$B$192,SMALL(IF((ISNUMBER(SEARCH("plaque",$B$2:$B$192))*1)*($A$2:$A$192=G$1),ROW($2:$192)-1,""),ROW($A28)))} -> PLACO2,7 PLAQUE HYDRO CLOISON | H29: {=INDEX($B$2:$B$192,SMALL(IF((ISNUMBER(SEARCH("plaque",$B$2:$B$192))*1)*($A$2:$A$192=H$1),ROW($2:$192)-1,""),ROW($A28)))} -> KNAUF2,6 PLAQUE STANDARD DOUBLAGE
A30: SINIAT | B30: SINIAT 2,8 PLAQUE HABITO CLOISON | C30: 1174065 | F30: {=INDEX($B$2:$B$192,SMALL(IF((ISNUMBER(SEARCH("plaque",$B$2:$B$192))*1)*($A$2:$A$192=F$1),ROW($2:$192)-1,""),ROW($A29)))} -> SINIAT 2,8 PLAQUE HABITO CLOISON | G30: {=INDEX($B$2:$B$192,SMALL(IF((ISNUMBER(SEARCH("plaque",$B$2:$B$192))*1)*($A$2:$A$192=G$1),ROW($2:$192)-1,""),ROW($A29)))} -> PLACO2,5 PLAQUE PHONIQUE DOUBLAGE | H30: {=INDEX($B$2:$B$192,SMALL(IF((ISNUMBER(SEARCH("plaque",$B$2:$B$192))*1)*($A$2:$A$192=H$1),ROW($2:$192)-1,""),ROW($A29)))} -> KNAUF2,6 PLAQUE STANDARD CLOISON
A31: SINIAT | B31: SINIAT 2,7 PLAQUE HYDRO DOUBLAGE | C31: 1174088 | F31: {=INDEX($B$2:$B$192,SMALL(IF((ISNUMBER(SEARCH("plaque",$B$2:$B$192))*1)*($A$2:$A$192=F$1),ROW($2:$192)-1,""),ROW($A30)))} -> SINIAT 2,7 PLAQUE HYDRO DOUBLAGE | G31: {=INDEX($B$2:$B$192,SMALL(IF((ISNUMBER(SEARCH("plaque",$B$2:$B$192))*1)*($A$2:$A$192=G$1),ROW($2:$192)-1,""),ROW($A30)))} -> PLACO2,5 PLAQUE PHONIQUE CLOISON | H31: {=INDEX($B$2:$B$192,SMALL(IF((ISNUMBER(SEARCH("plaque",$B$2:$B$192))*1)*($A$2:$A$192=H$1),ROW($2:$192)-1,""),ROW($A30)))} -> KNAUF2,8 PLAQUE STANDARD DOUBLAGE
A32: SINIAT | B32: SINIAT 2,7 PLAQUE HYDRO CLOISON | C32: 1174088 | F32: {=INDEX($B$2:$B$192,SMALL(IF((ISNUMBER(SEARCH("plaque",$B$2:$B$192))*1)*($A$2:$A$192=F$1),ROW($2:$192)-1,""),ROW($A31)))} -> SINIAT 2,7 PLAQUE HYDRO CLOISON | G32: {=INDEX($B$2:$B$192,SMALL(IF((ISNUMBER(SEARCH("plaque",$B$2:$B$192))*1)*($A$2:$A$192=G$1),ROW($2:$192)-1,""),ROW($A31)))} -> PLACO2,7 PLAQUE PHONIQUE DOUBLAGE | H32: {=INDEX($B$2:$B$192,SMALL(IF((ISNUMBER(SEARCH("plaque",$B$2:$B$192))*1)*($A$2:$A$192=H$1),ROW($2:$192)-1,""),ROW($A31)))} -> KNAUF2,8 PLAQUE STANDARD CLOISON
A33: SINIAT | B33: SINIAT 2,5 PLAQUE HYDRO DOUBLAGE | C33: 1174090 | F33: {=INDEX($B$2:$B$192,SMALL(IF((ISNUMBER(SEARCH("plaque",$B$2:$B$192))*1)*($A$2:$A$192=F$1),ROW($2:$192)-1,""),ROW($A32)))} -> SINIAT 2,5 PLAQUE HYDRO DOUBLAGE | G33: {=INDEX($B$2:$B$192,SMALL(IF((ISNUMBER(SEARCH("plaque",$B$2:$B$192))*1)*($A$2:$A$192=G$1),ROW($2:$192)-1,""),ROW($A32)))} -> PLACO2,7 PLAQUE PHONIQUE CLOISON | H33: {=INDEX($B$2:$B$192,SMALL(IF((ISNUMBER(SEARCH("plaque",$B$2:$B$192))*1)*($A$2:$A$192=H$1),ROW($2:$192)-1,""),ROW($A32)))} -> KNAUF2,6X1,20 PLAQUE ACTIV'AIR
A34: SINIAT | B34: SINIAT 2,5 PLAQUE HYDRO CLOISON | C34: 1174090 | F34: {=INDEX($B$2:$B$192,SMALL(IF((ISNUMBER(SEARCH("plaque",$B$2:$B$192))*1)*($A$2:$A$192=F$1),ROW($2:$192)-1,""),ROW($A33)))} -> SINIAT 2,5 PLAQUE HYDRO CLOISON | G34: {=INDEX($B$2:$B$192,SMALL(IF((ISNUMBER(SEARCH("plaque",$B$2:$B$192))*1)*($A$2:$A$192=G$1),ROW($2:$192)-1,""),ROW($A33)))} -> PLACO3 PLAQUE PHONIQUE DOUBLAGE | H34: {=INDEX($B$2:$B$192,SMALL(IF((ISNUMBER(SEARCH("plaque",$B$2:$B$192))*1)*($A$2:$A$192=H$1),ROW($2:$192)-1,""),ROW($A33)))} -> KNAUF3 PLAQUE STANDARD DOUBLAGE
A35: SINIAT | B35: SINIAT 2,6 PLAQUE HYDRO DOUBLAGE | C35: 1174091 | F35: {=INDEX($B$2:$B$192,SMALL(IF((ISNUMBER(SEARCH("plaque",$B$2:$B$192))*1)*($A$2:$A$192=F$1),ROW($2:$192)-1,""),ROW($A34)))} -> SINIAT 2,6 PLAQUE HYDRO DOUBLAGE | G35: {=INDEX($B$2:$B$192,SMALL(IF((ISNUMBER(SEARCH("plaque",$B$2:$B$192))*1)*($A$2:$A$192=G$1),ROW($2:$192)-1,""),ROW($A34)))} -> PLACO3 PLAQUE PHONIQUE CLOISON | H35: {=INDEX($B$2:$B$192,SMALL(IF((ISNUMBER(SEARCH("plaque",$B$2:$B$192))*1)*($A$2:$A$192=H$1),ROW($2:$192)-1,""),ROW($A34)))} -> KNAUF3 PLAQUE STANDARD CLOISON
A36: SINIAT | B36: SINIAT 2,6 PLAQUE HYDRO CLOISON | C36: 1174091 | F36: {=INDEX($B$2:$B$192,SMALL(IF((ISNUMBER(SEARCH("plaque",$B$2:$B$192))*1)*($A$2:$A$192=F$1),ROW($2:$192)-1,""),ROW($A35)))} -> SINIAT 2,6 PLAQUE HYDRO CLOISON | G36: {=INDEX($B$2:$B$192,SMALL(IF((ISNUMBER(SEARCH("plaque",$B$2:$B$192))*1)*($A$2:$A$192=G$1),ROW($2:$192)-1,""),ROW($A35)))} -> PLACO2,6 PLAQUE PHONIQUE DOUBLAGE | H36: {=INDEX($B$2:$B$192,SMALL(IF((ISNUMBER(SEARCH("plaque",$B$2:$B$192))*1)*($A$2:$A$192=H$1),ROW($2:$192)-1,""),ROW($A35)))} -> KNAUF2,7 PLAQUE STANDARD DOUBLAGE
A37: SINIAT | B37: SINIAT2,5 PLAQUE IGNIFUGE CLOISON | C37: 1174111 | F37: {=INDEX($B$2:$B$192,SMALL(IF((ISNUMBER(SEARCH("plaque",$B$2:$B$192))*1)*($A$2:$A$192=F$1),ROW($2:$192)-1,""),ROW($A36)))} -> SINIAT2,5 PLAQUE IGNIFUGE CLOISON | G37: {=INDEX($B$2:$B$192,SMALL(IF((ISNUMBER(SEARCH("plaque",$B$2:$B$192))*1)*($A$2:$A$192=G$1),ROW($2:$192)-1,""),ROW($A36)))} -> PLACO2,6 PLAQUE PHONIQUE CLOISON | H37: {=INDEX($B$2:$B$192,SMALL(IF((ISNUMBER(SEARCH("plaque",$B$2:$B$192))*1)*($A$2:$A$192=H$1),ROW($2:$192)-1,""),ROW($A36)))} -> KNAUF2,7 PLAQUE STANDARD CLOISON
A38: SINIAT | B38: SINIAT 2,5 PLAQUE IGNIFUGE CLOISON | C38: 1174111 | F38: {=INDEX($B$2:$B$192,SMALL(IF((ISNUMBER(SEARCH("plaque",$B$2:$B$192))*1)*($A$2:$A$192=F$1),ROW($2:$192)-1,""),ROW($A37)))} -> SINIAT 2,5 PLAQUE IGNIFUGE CLOISON | G38: {=INDEX($B$2:$B$192,SMALL(IF((ISNUMBER(SEARCH("plaque",$B$2:$B$192))*1)*($A$2:$A$192=G$1),ROW($2:$192)-1,""),ROW($A37)))} -> PLACO 2,5 PLAQUE ACTIV'AIR DOUBLAGE | H38: {=INDEX($B$2:$B$192,SMALL(IF((ISNUMBER(SEARCH("plaque",$B$2:$B$192))*1)*($A$2:$A$192=H$1),ROW($2:$192)-1,""),ROW($A37)))} -> KNAUF2,7 PLAQUE HYDRO DOUBLAGE
A39: SINIAT | B39: SINIAT 3 PLAQUE IGNIFUGE CLOISON | C39: 1174112 | F39: {=INDEX($B$2:$B$192,SMALL(IF((ISNUMBER(SEARCH("plaque",$B$2:$B$192))*1)*($A$2:$A$192=F$1),ROW($2:$192)-1,""),ROW($A38)))} -> SINIAT 3 PLAQUE IGNIFUGE CLOISON | G39: {=INDEX($B$2:$B$192,SMALL(IF((ISNUMBER(SEARCH("plaque",$B$2:$B$192))*1)*($A$2:$A$192=G$1),ROW($2:$192)-1,""),ROW($A38)))} -> PLACO 2,5 PLAQUE ACTIV'AIR CLOISON | H39: {=INDEX($B$2:$B$192,SMALL(IF((ISNUMBER(SEARCH("plaque",$B$2:$B$192))*1)*($A$2:$A$192=H$1),ROW($2:$192)-1,""),ROW($A38)))} -> KNAUF2.7 PLAQUE HYDRO CLOISON
... A73: KNAUF | B73: KNAUF2,6 PLAQUE IGNIFUGE DOUBLAGE | C73: 1831584 | F73: {=INDEX($B$2:$B$192,SMALL(IF((ISNUMBER(SEARCH("plaque",$B$2:$B$192))*1)*($A$2:$A$192=F$1),ROW($2:$192)-1,""),ROW($A72)))} -> #NUM! | G73: {=INDEX($B$2:$B$192,SMALL(IF((ISNUMBER(SEARCH("plaque",$B$2:$B$192))*1)*($A$2:$A$192=G$1),ROW($2:$192)-1,""),ROW($A72)))} -> #NUM! | H73: {=INDEX($B$2:$B$192,SMALL(IF((ISNUMBER(SEARCH("plaque",$B$2:$B$192))*1)*($A$2:$A$192=H$1),ROW($2:$192)-1,""),ROW($A72)))} -> #NUM!
A74: KNAUF | B74: KNAUF2,6 PLAQUE IGNIFUGE CLOISON | C74: 1831584
A75: KNAUF | B75: KNAUF2,8 PLAQUE IGNIFUGE DOUBLAGE | C75: 1831585
A76: KNAUF | B76: KNAUF2,8 PLAQUE IGNIFUGE CLOISON | C76: 1831585
A77: KNAUF | B77: KNAUF3 PLAQUE IGNIFUGE DOUBLAGE | C77: 1831586
A78: KNAUF | B78: KNAUF3 PLAQUE IGNIFUGE CLOISON | C78: 1831586
A79: KNAUF | B79: KNAUF2,5 PLAQUE HYDRO DOUBLAGE | C79: 1831587
A80: KNAUF | B80: KNAUF2.5 PLAQUE HYDRO CLOISON | C80: 1831587
A81: KNAUF | B81: KNAUF2,6 PLAQUE HYDRO DOUBLAGE | C81: 1831588
A82: KNAUF | B82: KNAUF2.6 PLAQUE HYDRO CLOISON | C82: 1831588
A83: KNAUF | B83: KNAUF2,8 PLAQUE HYDRO DOUBLAGE | C83: 1831589
A84: KNAUF | B84: KNAUF2.8 PLAQUE HYDRO CLOISON | C84: 1831589
A85: KNAUF | B85: KNAUF3 PLAQUE HYDRO DOUBLAGE | C85: 1831590
... A169: PLACO | B169: PLACO3 PLAQUE HABITO CLOISON | C169: 6614930
A170: SINIAT | B170: SINIAT2,6X1,20 PLAQUE ACTIV'AIR
A171: SINIAT | B171: SINIAT SUSPENTES PLAFOND
A172: PLACO | B172: PLACO SUSPENTES PLAFOND
B173: DOUBLAGE
A174: SINIAT | B174: SINIAT LAINE GR32/120
A175: PLACO | B175: PLACO LAINE GR32/100
A176: KNAUF | B176: KNAUF LAINE GR32/120
A177: PLACO | B177: PLACO LISSE DOUBLAGE
A178: SINIAT | B178: SINIAT LISSE DOUBLAGE
A179: KNAUF | B179: KNAUF LISSE DOUBLAGE
A180: PLACO | B180: PLACO APPUIS OPTIMA DOUBLAGE
A181: SINIAT | B181: SINIAT APPUIS OPTIMA DOUBLAGE
A182: KNAUF | B182: KNAUF APPUIS OPTIMA DOUBLAGE
A183: PLACO | B183: PLACO FOURRURES DOUBLAGE
A184: SINIAT | B184: SINIAT FOURRURES DOUBLAGE
A185: KNAUF | B185: KNAUF FOURRURES DOUBLAGE
B186: CLOISON
A187: SINIAT | B187: SINIAT MONTANTS CLOISON
A188: PLACO | B188: PLACO MONTANTS CLOISON
A189: KNAUF | B189: KNAUF MONTANTS CLOISON
A190: KNAUF | B190: KNAUFLAINE ACOUSTIQUE 45 mm CLOISON
A191: SINIAT | B191: SINIATLAINE ACOUSTIQUE 45 mm CLOISON
A192: PLACO | B192: PLACOLAINE ACOUSTIQUE 45 mm CLOISON

Sheet Feuil3
