Workbook
Name client: OFFSET('Historique client'!$A$2,,,COUNTIF('Historique client'!$A:$A,"><")-1)
Name nechu: OFFSET(client,,9,)
Name retard: OFFSET(client,,8,)

Sheet Historique client
A1: Code client | B1: Type de l'opération | C1: Numéro de l'opération | D1: Libellé de l'opération | E1: Période | F1: Date | G1: échéance | H1: Date du jour | I1: Jours en retard | J1: Non échu | K1: +1 | L1: +30 | M1: +60 | N1: +90 | O1: Montant débit | P1: Montant crédit | Q1: Solde
A2: AMACA000 | B2: FACT | C2: 2016298 | E2: 1607 | F2: 42559 | G2: 42569 | H2: =TODAY() -> 42747 | I2: =+G2-H2 -> -178 | J2: =IF($H2-G2<=0,Q2,"") | N2: =IF($H2-G2>=90,Q2,"") -> 1385 | O2: 1385 | Q2: =+O2-P2 -> 1385
A3: AMACA000 | B3: FACT | C3: 2016312 | E3: 1607 | F3: 42563 | G3: 42573 | H3: =TODAY() -> 42747 | I3: =+G3-H3 -> -174 | J3: =IF($H3-G3<=0,Q3,"") | N3: =IF($H3-G3>=90,Q3,"") -> 1285 | O3: 1285 | Q3: =+O3-P3 -> 1285
A4: AMBW0000 | B4: FACT | C4: 2016410 | E4: 1609 | F4: 42616 | G4: 42646 | H4: =TODAY() -> 42747 | I4: =+G4-H4 -> -101 | J4: =IF($H4-G4<=0,Q4,"") | N4: =IF($H4-G4>=90,Q4,"") -> 1154.34 | O4: 1154.34 | Q4: =+O4-P4 -> 1154.34
A5: AMBW0000 | B5: FACT | C5: 2016585 | E5: 1610 | F5: 42671 | G5: 42681 | H5: =TODAY() -> 42747 | I5: =+G5-H5 -> -66 | J5: =IF($H5-G5<=0,Q5,"") | N5: =IF($H5-G5>=90,Q5,"") | O5: 320.65 | Q5: =+O5-P5 -> 320.65
A6: AMBW0000 | B6: FACT | C6: 2016607 | E6: 1611 | F6: 42684 | G6: 42694 | H6: =TODAY() -> 42747 | I6: =+G6-H6 -> -53 | J6: =IF($H6-G6<=0,Q6,"") | N6: =IF($H6-G6>=90,Q6,"") | O6: 6397.15 | Q6: =+O6-P6 -> 6397.15
A7: AMBW0000 | B7: FACT | C7: 2016608 | E7: 1611 | F7: 42684 | G7: 42804 | H7: =TODAY() -> 42747 | I7: =+G7-H7 -> 57 | J7: =IF($H7-G7<=0,Q7,"") -> 55100.98 | N7: =IF($H7-G7>=90,Q7,"") | O7: 55100.98 | Q7: =+O7-P7 -> 55100.98
A8: AMBW0000 | B8: FACT | C8: 2016648 | E8: 1611 | F8: 42696 | G8: 42726 | H8: =TODAY() -> 42747 | I8: =+G8-H8 -> -21 | J8: =IF($H8-G8<=0,Q8,"") | N8: =IF($H8-G8>=90,Q8,"") | O8: 2202.2 | Q8: =+O8-P8 -> 2202.2
A9: AMBW0000 | B9: FACT | C9: 2016662 | E9: 1611 | F9: 42698 | G9: 42728 | H9: =TODAY() -> 42747 | I9: =+G9-H9 -> -19 | J9: =IF($H9-G9<=0,Q9,"") | N9: =IF($H9-G9>=90,Q9,"") | O9: 98.01 | Q9: =+O9-P9 -> 98.01
A10: AMBW0000 | B10: BE66 | C10: 177 | E10: 1611 | F10: 42677 | G10: 42677 | H10: =TODAY() -> 42747 | I10: =+G10-H10 -> -70 | J10: =IF($H10-G10<=0,Q10,"") | N10: =IF($H10-G10>=90,Q10,"") | P10: 500 | Q10: =+O10-P10 -> -500
A11: AMBW0000 | B11: FACT | C11: 2016706 | E11: 1612 | F11: 42710 | G11: 42770 | H11: =TODAY() -> 42747 | I11: =+G11-H11 -> 23 | J11: =IF($H11-G11<=0,Q11,"") -> 3073.4 | N11: =IF($H11-G11>=90,Q11,"") | O11: 3073.4 | Q11: =+O11-P11 -> 3073.4
A12: AMBW0000 | B12: FACT | C12: 2016707 | E12: 1612 | F12: 42710 | G12: 42830 | H12: =TODAY() -> 42747 | I12: =+G12-H12 -> 83 | J12: =IF($H12-G12<=0,Q12,"") -> 8447.01 | N12: =IF($H12-G12>=90,Q12,"") | O12: 8447.01 | Q12: =+O12-P12 -> 8447.01
A13: AMBW0000 | B13: FACT | C13: 2016708 | E13: 1612 | F13: 42710 | G13: 42830 | H13: =TODAY() -> 42747 | I13: =+G13-H13 -> 83 | J13: =IF($H13-G13<=0,Q13,"") -> 338.8 | N13: =IF($H13-G13>=90,Q13,"") | O13: 338.8 | Q13: =+O13-P13 -> 338.8
A14: AMBW0000 | B14: FACT | C14: 2016726 | E14: 1612 | F14: 42716 | G14: 42836 | H14: =TODAY() -> 42747 | I14: =+G14-H14 -> 89 | J14: =IF($H14-G14<=0,Q14,"") -> 2831.4 | N14: =IF($H14-G14>=90,Q14,"") | O14: 2831.4 | Q14: =+O14-P14 -> 2831.4
A15: AMBW0000 | B15: BE66 | C15: 200 | E15: 1612 | F15: 42711 | G15: 42711 | H15: =TODAY() -> 42747 | I15: =+G15-H15 -> -36 | J15: =IF($H15-G15<=0,Q15,"") | N15: =IF($H15-G15>=90,Q15,"") | P15: 3397.15 | Q15: =+O15-P15 -> -3397.15
A16: AMBW0000 | B16: BE66 | C16: 210 | E16: 1612 | F16: 42725 | G16: 42725 | H16: =TODAY() -> 42747 | I16: =+G16-H16 -> -22 | J16: =IF($H16-G16<=0,Q16,"") | N16: =IF($H16-G16>=90,Q16,"") | P16: 2000 | Q16: =+O16-P16 -> -2000
A17: AMBW0000 | B17: FACT | C17: 2016781 | E17: 1701 | F17: 42738 | G17: 42858 | H17: =TODAY() -> 42747 | I17: =+G17-H17 -> 111 | J17: =IF($H17-G17<=0,Q17,"") -> 181.5 | N17: =IF($H17-G17>=90,Q17,"") | O17: 181.5 | Q17: =+O17-P17 -> 181.5
A18: AMBW0000 | B18: BE66 | C18: 5 | E18: 1701 | F18: 42741 | G18: 42741 | H18: =TODAY() -> 42747 | I18: =+G18-H18 -> -6 | J18: =IF($H18-G18<=0,Q18,"") | N18: =IF($H18-G18>=90,Q18,"") | P18: 3000 | Q18: =+O18-P18 -> -3000
A19: ANCA0000 | B19: FACT | C19: 2016548 | E19: 1610 | F19: 42661 | G19: 42671 | H19: =TODAY() -> 42747 | I19: =+G19-H19 -> -76 | J19: =IF($H19-G19<=0,Q19,"") | N19: =IF($H19-G19>=90,Q19,"") | O19: 2607.55 | Q19: =+O19-P19 -> 2607.55
A20: AREG | B20: BE66 | C20: 93 | D20: STRIPE | E20: 1606 | F20: 42551 | G20: 42551 | H20: =TODAY() -> 42747 | I20: =+G20-H20 -> -196 | J20: =IF($H20-G20<=0,Q20,"") | N20: =IF($H20-G20>=90,Q20,"") -> -274.1 | P20: 274.1 | Q20: =+O20-P20 -> -274.1
A21: AREG | B21: BE66 | C21: 144 | D21: STRIPE | E21: 1609 | F21: 42629 | G21: 42629 | H21: =TODAY() -> 42747 | I21: =+G21-H21 -> -118 | J21: =IF($H21-G21<=0,Q21,"") | N21: =IF($H21-G21>=90,Q21,"") -> -27.42 | P21: 27.42 | Q21: =+O21-P21 -> -27.42
A22: AREG | B22: FACT | C22: 2016445 | E22: 1609 | F22: 42628 | G22: 42638 | H22: =TODAY() -> 42747 | I22: =+G22-H22 -> -109 | J22: =IF($H22-G22<=0,Q22,"") | N22: =IF($H22-G22>=90,Q22,"") -> 0 | O22: 0 | Q22: =+O22-P22 -> 0
A23: AREG | B23: BE66 | C23: 147 | D23: STRIPE | E23: 1609 | F23: 42634 | G23: 42634 | H23: =TODAY() -> 42747 | I23: =+G23-H23 -> -113 | J23: =IF($H23-G23<=0,Q23,"") | N23: =IF($H23-G23>=90,Q23,"") -> -81.24 | P23: 81.24 | Q23: =+O23-P23 -> -81.24
A24: AREG | B24: FACT | C24: 2016495 | E24: 1609 | F24: 42643 | G24: 42653 | H24: =TODAY() -> 42747 | I24: =+G24-H24 -> -94 | J24: =IF($H24-G24<=0,Q24,"") | N24: =IF($H24-G24>=90,Q24,"") -> 0 | O24: 0 | Q24: =+O24-P24 -> 0
A25: AREG | B25: FACT | C25: 2016496 | E25: 1609 | F25: 42643 | G25: 42653 | H25: =TODAY() -> 42747 | I25: =+G25-H25 -> -94 | J25: =IF($H25-G25<=0,Q25,"") | N25: =IF($H25-G25>=90,Q25,"") -> 0 | O25: 0 | Q25: =+O25-P25 -> 0
A26: AREG | B26: FACT | C26: 2016498 | E26: 1609 | F26: 42643 | G26: 42653 | H26: =TODAY() -> 42747 | I26: =+G26-H26 -> -94 | J26: =IF($H26-G26<=0,Q26,"") | N26: =IF($H26-G26>=90,Q26,"") -> 0 | O26: 0 | Q26: =+O26-P26 -> 0
A27: AREG | B27: FACT | C27: 2016499 | E27: 1609 | F27: 42643 | G27: 42653 | H27: =TODAY() -> 42747 | I27: =+G27-H27 -> -94 | J27: =IF($H27-G27<=0,Q27,"") | N27: =IF($H27-G27>=90,Q27,"") -> 0 | O27: 0 | Q27: =+O27-P27 -> 0
A28: AREG | B28: BE66 | C28: 155 | D28: STRIPE | E28: 1610 | F28: 42646 | G28: 42646 | H28: =TODAY() -> 42747 | I28: =+G28-H28 -> -101 | J28: =IF($H28-G28<=0,Q28,"") | N28: =IF($H28-G28>=90,Q28,"") -> -121.08 | P28: 121.08 | Q28: =+O28-P28 -> -121.08
A29: AREG | B29: BE66 | C29: 159 | D29: STRIPE | E29: 1610 | F29: 42650 | G29: 42650 | H29: =TODAY() -> 42747 | I29: =+G29-H29 -> -97 | J29: =IF($H29-G29<=0,Q29,"") | N29: =IF($H29-G29>=90,Q29,"") -> -172.79 | P29: 172.79 | Q29: =+O29-P29 -> -172.79
A30: AREG | B30: BE66 | C30: 166 | D30: STRIPE | E30: 1610 | F30: 42661 | G30: 42661 | H30: =TODAY() -> 42747 | I30: =+G30-H30 -> -86 | J30: =IF($H30-G30<=0,Q30,"") | N30: =IF($H30-G30>=90,Q30,"") | P30: 9.46 | Q30: =+O30-P30 -> -9.46
A31: AREG | B31: BE66 | C31: 169 | D31: STRIPE | E31: 1610 | F31: 42664 | G31: 42664 | H31: =TODAY() -> 42747 | I31: =+G31-H31 -> -83 | J31: =IF($H31-G31<=0,Q31,"") | N31: =IF($H31-G31>=90,Q31,"") | P31: 130.91 | Q31: =+O31-P31 -> -130.91
A32: AREG | B32: BE66 | C32: 170 | D32: STRIPE | E32: 1610 | F32: 42667 | G32: 42667 | H32: =TODAY() -> 42747 | I32: =+G32-H32 -> -80 | J32: =IF($H32-G32<=0,Q32,"") | N32: =IF($H32-G32>=90,Q32,"") | P32: 212.73 | Q32: =+O32-P32 -> -212.73
A33: AREG | B33: BE66 | C33: 174 | D33: STRIPE | E33: 1610 | F33: 42671 | G33: 42671 | H33: =TODAY() -> 42747 | I33: =+G33-H33 -> -76 | J33: =IF($H33-G33<=0,Q33,"") | N33: =IF($H33-G33>=90,Q33,"") | P33: 26.99 | Q33: =+O33-P33 -> -26.99
A34: AREG | B34: BE66 | C34: 175 | D34: STRIPE | E34: 1610 | F34: 42674 | G34: 42674 | H34: =TODAY() -> 42747 | I34: =+G34-H34 -> -73 | J34: =IF($H34-G34<=0,Q34,"") | N34: =IF($H34-G34>=90,Q34,"") | P34: 502.61 | Q34: =+O34-P34 -> -502.61
A35: AREG | B35: BE66 | C35: 175 | D35: STRIPE | E35: 1610 | F35: 42674 | G35: 42674 | H35: =TODAY() -> 42747 | I35: =+G35-H35 -> -73 | J35: =IF($H35-G35<=0,Q35,"") | N35: =IF($H35-G35>=90,Q35,"") | P35: 163.18 | Q35: =+O35-P35 -> -163.18
A36: AREG | B36: FACT | C36: 2016596 | E36: 1611 | F36: 42678 | G36: 42678 | H36: =TODAY() -> 42747 | I36: =+G36-H36 -> -69 | J36: =IF($H36-G36<=0,Q36,"") | N36: =IF($H36-G36>=90,Q36,"") | O36: 0 | Q36: =+O36-P36 -> 0
A37: AREG | B37: BE66 | C37: 183 | D37: STRIPE | E37: 1611 | F37: 42688 | G37: 42688 | H37: =TODAY() -> 42747 | I37: =+G37-H37 -> -59 | J37: =IF($H37-G37<=0,Q37,"") | N37: =IF($H37-G37>=90,Q37,"") | P37: 274.84 | Q37: =+O37-P37 -> -274.84
A38: AREG | B38: BE66 | C38: 203 | D38: STRIPE | E38: 1612 | F38: 42716 | G38: 42716 | H38: =TODAY() -> 42747 | I38: =+G38-H38 -> -31 | J38: =IF($H38-G38<=0,Q38,"") | N38: =IF($H38-G38>=90,Q38,"") | P38: 161.95 | Q38: =+O38-P38 -> -161.95
A39: AREG | B39: BE66 | C39: 203 | D39: STRIPE | E39: 1612 | F39: 42716 | G39: 42716 | H39: =TODAY() -> 42747 | I39: =+G39-H39 -> -31 | J39: =IF($H39-G39<=0,Q39,"") | N39: =IF($H39-G39>=90,Q39,"") | P39: 253.88 | Q39: =+O39-P39 -> -253.88
A40: AREG | B40: BE66 | C40: 204 | D40: SUMUP | E40: 1612 | F40: 42716 | G40: 42716 | H40: =TODAY() -> 42747 | I40: =+G40-H40 -> -31 | J40: =IF($H40-G40<=0,Q40,"") | N40: =IF($H40-G40>=90,Q40,"") | P40: 1.96 | Q40: =+O40-P40 -> -1.96
...

Sheet Feuil1
B1: 0 | C1: 30 | D1: 60 | E1: 90 | F1: 1000
A2: {=IFERROR(OFFSET('Historique client'!A$1,MATCH(0,COUNTIF(A$1:A1,client),0),),"")} -> AMACA000 | B2: {=MAX(IF((client=$A2)*(retard<=1)*(retard=0),nechu,""))} -> 0 | C2: {=MAX(IF((client=$A2)*(retard>=1)*(retard<=C$1),nechu,""))} -> 0 | D2: {=MAX(IF((client=$A2)*(retard>C$1)*(retard<=D$1),nechu,""))} -> 0 | E2: {=MAX(IF((client=$A2)*(retard>D$1)*(retard<=E$1),nechu,""))} -> 0 | F2: {=MAX(IF((client=$A2)*(retard>E$1)*(retard<=F$1),nechu,""))} -> 0
A3: {=IFERROR(OFFSET('Historique client'!A$1,MATCH(0,COUNTIF(A$1:A2,client),0),),"")} -> AMBW0000 | B3: {=MAX(IF((client=$A3)*(retard<=1)*(retard=0),nechu,""))} -> 0 | C3: {=MAX(IF((client=$A3)*(retard>=1)*(retard<=C$1),nechu,""))} -> 3073.4 | D3: {=MAX(IF((client=$A3)*(retard>C$1)*(retard<=D$1),nechu,""))} -> 55100.98 | E3: {=MAX(IF((client=$A3)*(retard>D$1)*(retard<=E$1),nechu,""))} -> 8447.01 | F3: {=MAX(IF((client=$A3)*(retard>E$1)*(retard<=F$1),nechu,""))} -> 181.5
A4: {=IFERROR(OFFSET('Historique client'!A$1,MATCH(0,COUNTIF(A$1:A3,client),0),),"")} -> ANCA0000 | B4: {=MAX(IF((client=$A4)*(retard<=1)*(retard=0),nechu,""))} -> 0 | C4: {=MAX(IF((client=$A4)*(retard>=1)*(retard<=C$1),nechu,""))} -> 0 | D4: {=MAX(IF((client=$A4)*(retard>C$1)*(retard<=D$1),nechu,""))} -> 0 | E4: {=MAX(IF((client=$A4)*(retard>D$1)*(retard<=E$1),nechu,""))} -> 0 | F4: {=MAX(IF((client=$A4)*(retard>E$1)*(retard<=F$1),nechu,""))} -> 0
A5: {=IFERROR(OFFSET('Historique client'!A$1,MATCH(0,COUNTIF(A$1:A4,client),0),),"")} -> AREG | B5: {=MAX(IF((client=$A5)*(retard<=1)*(retard=0),nechu,""))} -> 0 | C5: {=MAX(IF((client=$A5)*(retard>=1)*(retard<=C$1),nechu,""))} -> 0 | D5: {=MAX(IF((client=$A5)*(retard>C$1)*(retard<=D$1),nechu,""))} -> 0 | E5: {=MAX(IF((client=$A5)*(retard>D$1)*(retard<=E$1),nechu,""))} -> 0 | F5: {=MAX(IF((client=$A5)*(retard>E$1)*(retard<=F$1),nechu,""))} -> 0
A6: {=IFERROR(OFFSET('Historique client'!A$1,MATCH(0,COUNTIF(A$1:A5,client),0),),"")} -> ASTIR | B6: {=MAX(IF((client=$A6)*(retard<=1)*(retard=0),nechu,""))} -> 0 | C6: {=MAX(IF((client=$A6)*(retard>=1)*(retard<=C$1),nechu,""))} -> 0 | D6: {=MAX(IF((client=$A6)*(retard>C$1)*(retard<=D$1),nechu,""))} -> 0 | E6: {=MAX(IF((client=$A6)*(retard>D$1)*(retard<=E$1),nechu,""))} -> 0 | F6: {=MAX(IF((client=$A6)*(retard>E$1)*(retard<=F$1),nechu,""))} -> 0
A7: {=IFERROR(OFFSET('Historique client'!A$1,MATCH(0,COUNTIF(A$1:A6,client),0),),"")} -> AUXARCAD | B7: {=MAX(IF((client=$A7)*(retard<=1)*(retard=0),nechu,""))} -> 0 | C7: {=MAX(IF((client=$A7)*(retard>=1)*(retard<=C$1),nechu,""))} -> 0 | D7: {=MAX(IF((client=$A7)*(retard>C$1)*(retard<=D$1),nechu,""))} -> 0 | E7: {=MAX(IF((client=$A7)*(retard>D$1)*(retard<=E$1),nechu,""))} -> 0 | F7: {=MAX(IF((client=$A7)*(retard>E$1)*(retard<=F$1),nechu,""))} -> 0
A8: {=IFERROR(OFFSET('Historique client'!A$1,MATCH(0,COUNTIF(A$1:A7,client),0),),"")} -> AZZURO | B8: {=MAX(IF((client=$A8)*(retard<=1)*(retard=0),nechu,""))} -> 0 | C8: {=MAX(IF((client=$A8)*(retard>=1)*(retard<=C$1),nechu,""))} -> 0 | D8: {=MAX(IF((client=$A8)*(retard>C$1)*(retard<=D$1),nechu,""))} -> 0 | E8: {=MAX(IF((client=$A8)*(retard>D$1)*(retard<=E$1),nechu,""))} -> 0 | F8: {=MAX(IF((client=$A8)*(retard>E$1)*(retard<=F$1),nechu,""))} -> 0
A9: {=IFERROR(OFFSET('Historique client'!A$1,MATCH(0,COUNTIF(A$1:A8,client),0),),"")} -> BAKEHOUS | B9: {=MAX(IF((client=$A9)*(retard<=1)*(retard=0),nechu,""))} -> 0 | C9: {=MAX(IF((client=$A9)*(retard>=1)*(retard<=C$1),nechu,""))} -> 0 | D9: {=MAX(IF((client=$A9)*(retard>C$1)*(retard<=D$1),nechu,""))} -> 0 | E9: {=MAX(IF((client=$A9)*(retard>D$1)*(retard<=E$1),nechu,""))} -> 0 | F9: {=MAX(IF((client=$A9)*(retard>E$1)*(retard<=F$1),nechu,""))} -> 0
A10: {=IFERROR(OFFSET('Historique client'!A$1,MATCH(0,COUNTIF(A$1:A9,client),0),),"")} -> BAPSHO | B10: {=MAX(IF((client=$A10)*(retard<=1)*(retard=0),nechu,""))} -> 0 | C10: {=MAX(IF((client=$A10)*(retard>=1)*(retard<=C$1),nechu,""))} -> 0 | D10: {=MAX(IF((client=$A10)*(retard>C$1)*(retard<=D$1),nechu,""))} -> 0 | E10: {=MAX(IF((client=$A10)*(retard>D$1)*(retard<=E$1),nechu,""))} -> 0 | F10: {=MAX(IF((client=$A10)*(retard>E$1)*(retard<=F$1),nechu,""))} -> 0
A11: {=IFERROR(OFFSET('Historique client'!A$1,MATCH(0,COUNTIF(A$1:A10,client),0),),"")} -> BARBARO0 | B11: {=MAX(IF((client=$A11)*(retard<=1)*(retard=0),nechu,""))} -> 0 | C11: {=MAX(IF((client=$A11)*(retard>=1)*(retard<=C$1),nechu,""))} -> 469 | D11: {=MAX(IF((client=$A11)*(retard>C$1)*(retard<=D$1),nechu,""))} -> 0 | E11: {=MAX(IF((client=$A11)*(retard>D$1)*(retard<=E$1),nechu,""))} -> 0 | F11: {=MAX(IF((client=$A11)*(retard>E$1)*(retard<=F$1),nechu,""))} -> 0
A12: {=IFERROR(OFFSET('Historique client'!A$1,MATCH(0,COUNTIF(A$1:A11,client),0),),"")} -> BNJ00000 | B12: {=MAX(IF((client=$A12)*(retard<=1)*(retard=0),nechu,""))} -> 0 | C12: {=MAX(IF((client=$A12)*(retard>=1)*(retard<=C$1),nechu,""))} -> 0 | D12: {=MAX(IF((client=$A12)*(retard>C$1)*(retard<=D$1),nechu,""))} -> 0 | E12: {=MAX(IF((client=$A12)*(retard>D$1)*(retard<=E$1),nechu,""))} -> 0 | F12: {=MAX(IF((client=$A12)*(retard>E$1)*(retard<=F$1),nechu,""))} -> 0
A13: {=IFERROR(OFFSET('Historique client'!A$1,MATCH(0,COUNTIF(A$1:A12,client),0),),"")} -> BOELSBAS | B13: {=MAX(IF((client=$A13)*(retard<=1)*(retard=0),nechu,""))} -> 0 | C13: {=MAX(IF((client=$A13)*(retard>=1)*(retard<=C$1),nechu,""))} -> 1993.54 | D13: {=MAX(IF((client=$A13)*(retard>C$1)*(retard<=D$1),nechu,""))} -> 0 | E13: {=MAX(IF((client=$A13)*(retard>D$1)*(retard<=E$1),nechu,""))} -> 0 | F13: {=MAX(IF((client=$A13)*(retard>E$1)*(retard<=F$1),nechu,""))} -> 0
... A20: {=IFERROR(OFFSET('Historique client'!A$1,MATCH(0,COUNTIF(A$1:A19,client),0),),"")} -> CONTI-E0 | B20: {=MAX(IF((client=$A20)*(retard<=1)*(retard=0),nechu,""))} -> 0 | C20: {=MAX(IF((client=$A20)*(retard>=1)*(retard<=C$1),nechu,""))} -> 0 | D20: {=MAX(IF((client=$A20)*(retard>C$1)*(retard<=D$1),nechu,""))} -> 0 | E20: {=MAX(IF((client=$A20)*(retard>D$1)*(retard<=E$1),nechu,""))} -> 0 | F20: {=MAX(IF((client=$A20)*(retard>E$1)*(retard<=F$1),nechu,""))} -> 0
A21: {=IFERROR(OFFSET('Historique client'!A$1,MATCH(0,COUNTIF(A$1:A20,client),0),),"")} -> COSTA000 | B21: =SUMPRODUCT(MAX((client=$A21)*(ABS(retard)<=1))) -> 0
A22: {=IFERROR(OFFSET('Historique client'!A$1,MATCH(0,COUNTIF(A$1:A21,client),0),),"")} -> CREDE000 | B22: =SUMPRODUCT(MAX((client=$A22)*(ABS(retard)<=1))) -> 0
A23: {=IFERROR(OFFSET('Historique client'!A$1,MATCH(0,COUNTIF(A$1:A22,client),0),),"")} -> DCODE000 | B23: =SUMPRODUCT(MAX((client=$A23)*(ABS(retard)<=1))) -> 0
A24: {=IFERROR(OFFSET('Historique client'!A$1,MATCH(0,COUNTIF(A$1:A23,client),0),),"")} -> DED00000 | B24: =SUMPRODUCT(MAX((client=$A24)*(ABS(retard)<=1))) -> 0
A25: {=IFERROR(OFFSET('Historique client'!A$1,MATCH(0,COUNTIF(A$1:A24,client),0),),"")} -> DENTELLE | B25: =SUMPRODUCT(MAX((client=$A25)*(ABS(retard)<=1))) -> 0
A26: {=IFERROR(OFFSET('Historique client'!A$1,MATCH(0,COUNTIF(A$1:A25,client),0),),"")} -> DESDESSO | B26: =SUMPRODUCT(MAX((client=$A26)*(ABS(retard)<=1))) -> 0
A27: {=IFERROR(OFFSET('Historique client'!A$1,MATCH(0,COUNTIF(A$1:A26,client),0),),"")} -> DIFFUSIO | B27: =SUMPRODUCT(MAX((client=$A27)*(ABS(retard)<=1))) -> 0
A28: {=IFERROR(OFFSET('Historique client'!A$1,MATCH(0,COUNTIF(A$1:A27,client),0),),"")} -> DINASTIJ | B28: =SUMPRODUCT(MAX((client=$A28)*(ABS(retard)<=1))) -> 0
A29: {=IFERROR(OFFSET('Historique client'!A$1,MATCH(0,COUNTIF(A$1:A28,client),0),),"")} -> DINGLE | B29: =SUMPRODUCT(MAX((client=$A29)*(ABS(retard)<=1))) -> 0
A30: {=IFERROR(OFFSET('Historique client'!A$1,MATCH(0,COUNTIF(A$1:A29,client),0),),"")} -> DIZZY000 | B30: =SUMPRODUCT(MAX((client=$A30)*(ABS(retard)<=1))) -> 0
A31: {=IFERROR(OFFSET('Historique client'!A$1,MATCH(0,COUNTIF(A$1:A30,client),0),),"")} -> DROHME00 | B31: =SUMPRODUCT(MAX((client=$A31)*(ABS(retard)<=1))) -> 0
A32: {=IFERROR(OFFSET('Historique client'!A$1,MATCH(0,COUNTIF(A$1:A31,client),0),),"")} -> DUEGI000 | B32: =SUMPRODUCT(MAX((client=$A32)*(ABS(retard)<=1))) -> 0
... A46: {=IFERROR(OFFSET('Historique client'!A$1,MATCH(0,COUNTIF(A$1:A45,client),0),),"")} -> ISLEY000 | B46: =SUMPRODUCT(MAX((client=$A46)*(ABS(retard)<=1))) -> 0
A47: {=IFERROR(OFFSET('Historique client'!A$1,MATCH(0,COUNTIF(A$1:A46,client),0),),"")} -> JAX00000
A48: {=IFERROR(OFFSET('Historique client'!A$1,MATCH(0,COUNTIF(A$1:A47,client),0),),"")} -> JFD00000
A49: {=IFERROR(OFFSET('Historique client'!A$1,MATCH(0,COUNTIF(A$1:A48,client),0),),"")} -> JOANA0
A50: {=IFERROR(OFFSET('Historique client'!A$1,MATCH(0,COUNTIF(A$1:A49,client),0),),"")} -> LACABA
A51: {=IFERROR(OFFSET('Historique client'!A$1,MATCH(0,COUNTIF(A$1:A50,client),0),),"")} -> LAMERIDI
A52: {=IFERROR(OFFSET('Historique client'!A$1,MATCH(0,COUNTIF(A$1:A51,client),0),),"")} -> LAPOMA00
A53: {=IFERROR(OFFSET('Historique client'!A$1,MATCH(0,COUNTIF(A$1:A52,client),0),),"")} -> LARINA
A54: {=IFERROR(OFFSET('Historique client'!A$1,MATCH(0,COUNTIF(A$1:A53,client),0),),"")} -> LAROCA00
A55: {=IFERROR(OFFSET('Historique client'!A$1,MATCH(0,COUNTIF(A$1:A54,client),0),),"")} -> LATLANTI
A56: {=IFERROR(OFFSET('Historique client'!A$1,MATCH(0,COUNTIF(A$1:A55,client),0),),"")} -> LE8HARR0
A57: {=IFERROR(OFFSET('Historique client'!A$1,MATCH(0,COUNTIF(A$1:A56,client),0),),"")} -> LEAF00
A58: {=IFERROR(OFFSET('Historique client'!A$1,MATCH(0,COUNTIF(A$1:A57,client),0),),"")} -> LECHE000
... A132: {=IFERROR(OFFSET('Historique client'!A$1,MATCH(0,COUNTIF(A$1:A131,client),0),),"")}
