Workbook
Name client: OFFSET('Historique client'!$A$2,,,COUNTIF('Historique client'!$A:$A,"><")-1)
Name nechu: OFFSET(client,,9,)
Name retard: OFFSET(client,,8,)

Sheet Historique client
A1: Code client | B1: Type de l'opération | C1: Numéro de l'opération | D1: Libellé de l'opération | E1: Période | F1: Date | G1: échéance | H1: Date du jour | I1: Jours en retard | J1: Non échu | K1: +1 | L1: +30 | M1: +60 | N1: +90 | O1: Montant débit | P1: Montant crédit | Q1: Solde
A2: AMACA000 | B2: FACT | C2: 2016298 | E2: 1607 | F2: 42559 | G2: 42569 | H2: =TODAY() -> 42747 | I2: =+G2-H2 -> -178 | J2: =IF($H2-G2<=0,Q2,"") | N2: =IF($H2-G2>=90,Q2,"") -> 1385 | O2: 1385 | Q2: =+O2-P2 -> 1385
A3: AMACA000 | B3: FACT | C3: 2016312 | E3: 1607 | F3: 42563 | G3: 42573 | H3: =TODAY() -> 42747 | I3: =+G3-H3 -> -174 | J3: =IF($H3-G3<=0,Q3,"") | N3: =IF($H3-G3>=90,Q3,"") -> 1285 | O3: 1285 | Q3: =+O3-P3 -> 1285
A4: AMBW0000 | B4: FACT | C4: 2016410 | E4: 1609 | F4: 42616 | G4: 42646 | H4: =TODAY() -> 42747 | I4: =+G4-H4 -> -101 | J4: =IF($H4-G4<=0,Q4,"") | N4: =IF($H4-G4>=90,Q4,"") -> 1154.34 | O4: 1154.34 | Q4: =+O4-P4 -> 1154.34
A5: AMBW0000 | B5: FACT | C5: 2016585 | E5: 1610 | F5: 42671 | G5: 42681 | H5: =TODAY() -> 42747 | I5: =+G5-H5 -> -66 | J5: =IF($H5-G5<=0,Q5,"") | N5: =IF($H5-G5>=90,Q5,"") | O5: 320.65 | Q5: =+O5-P5 -> 320.65
A6: AMBW0000 | B6: FACT | C6: 2016607 | E6: 1611 | F6: 42684 | G6: 42694 | H6: =TODAY() -> 42747 | I6: =+G6-H6 -> -53 | J6: =IF($H6-G6<=0,Q6,"") | N6: =IF($H6-G6>=90,Q6,"") | O6: 6397.15 | Q6: =+O6-P6 -> 6397.15
A7: AMBW0000 | B7: FACT | C7: 2016608 | E7: 1611 | F7: 42684 | G7: 42804 | H7: =TODAY() -> 42747 | I7: =+G7-H7 -> 57 | J7: =IF($H7-G7<=0,Q7,"") -> 55100.98 | N7: =IF($H7-G7>=90,Q7,"") | O7: 55100.98 | Q7: =+O7-P7 -> 55100.98
A8: AMBW0000 | B8: FACT | C8: 2016648 | E8: 1611 | F8: 42696 | G8: 42726 | H8: =TODAY() -> 42747 | I8: =+G8-H8 -> -21 | J8: =IF($H8-G8<=0,Q8,"") | N8: =IF($H8-G8>=90,Q8,"") | O8: 2202.2 | Q8: =+O8-P8 -> 2202.2
A9: AMBW0000 | B9: FACT | C9: 2016662 | E9: 1611 | F9: 42698 | G9: 42728 | H9: =TODAY() -> 42747 | I9: =+G9-H9 -> -19 | J9: =IF($H9-G9<=0,Q9,"") | N9: =IF($H9-G9>=90,Q9,"") | O9: 98.01 | Q9: =+O9-P9 -> 98.01
A10: AMBW0000 | B10: BE66 | C10: 177 | E10: 1611 | F10: 42677 | G10: 42677 | H10: =TODAY() -> 42747 | I10: =+G10-H10 -> -70 | J10: =IF($H10-G10<=0,Q10,"") | N10: =IF($H10-G10>=90,Q10,"") | P10: 500 | Q10: =+O10-P10 -> -500
A11: AMBW0000 | B11: FACT | C11: 2016706 | E11: 1612 | F11: 42710 | G11: 42770 | H11: =TODAY() -> 42747 | I11: =+G11-H11 -> 23 | J11: =IF($H11-G11<=0,Q11,"") -> 3073.4 | N11: =IF($H11-G11>=90,Q11,"") | O11: 3073.4 | Q11: =+O11-P11 -> 3073.4
A12: AMBW0000 | B12: FACT | C12: 2016707 | E12: 1612 | F12: 42710 | G12: 42830 | H12: =TODAY() -> 42747 | I12: =+G12-H12 -> 83 | J12: =IF($H12-G12<=0,Q12,"") -> 8447.01 | N12: =IF($H12-G12>=90,Q12,"") | O12: 8447.01 | Q12: =+O12-P12 -> 8447.01
A13: AMBW0000 | B13: FACT | C13: 2016708 | E13: 1612 | F13: 42710 | G13: 42830 | H13: =TODAY() -> 42747 | I13: =+G13-H13 -> 83 | J13: =IF($H13-G13<=0,Q13,"") -> 338.8 | N13: =IF($H13-G13>=90,Q13,"") | O13: 338.8 | Q13: =+O13-P13 -> 338.8
A14: AMBW0000 | B14: FACT | C14: 2016726 | E14: 1612 | F14: 42716 | G14: 42836 | H14: =TODAY() -> 42747 | I14: =+G14-H14 -> 89 | J14: =IF($H14-G14<=0,Q14,"") -> 2831.4 | N14: =IF($H14-G14>=90,Q14,"") | O14: 2831.4 | Q14: =+O14-P14 -> 2831.4
A15: AMBW0000 | B15: BE66 | C15: 200 | E15: 1612 | F15: 42711 | G15: 42711 | H15: =TODAY() -> 42747 | I15: =+G15-H15 -> -36 | J15: =IF($H15-G15<=0,Q15,"") | N15: =IF($H15-G15>=90,Q15,"") | P15: 3397.15 | Q15: =+O15-P15 -> -3397.15
A16: AMBW0000 | B16: BE66 | C16: 210 | E16: 1612 | F16: 42725 | G16: 42725 | H16: =TODAY() -> 42747 | I16: =+G16-H16 -> -22 | J16: =IF($H16-G16<=0,Q16,"") | N16: =IF($H16-G16>=90,Q16,"") | P16: 2000 | Q16: =+O16-P16 -> -2000
A17: AMBW0000 | B17: FACT | C17: 2016781 | E17: 1701 | F17: 42738 | G17: 42858 | H17: =TODAY() -> 42747 | I17: =+G17-H17 -> 111 | J17: =IF($H17-G17<=0,Q17,"") -> 181.5 | N17: =IF($H17-G17>=90,Q17,"") | O17: 181.5 | Q17: =+O17-P17 -> 181.5
A18: AMBW0000 | B18: BE66 | C18: 5 | E18: 1701 | F18: 42741 | G18: 42741 | H18: =TODAY() -> 42747 | I18: =+G18-H18 -> -6 | J18: =IF($H18-G18<=0,Q18,"") | N18: =IF($H18-G18>=90,Q18,"") | P18: 3000 | Q18: =+O18-P18 -> -3000
A19: ANCA0000 | B19: FACT | C19: 2016548 | E19: 1610 | F19: 42661 | G19: 42671 | H19: =TODAY() -> 42747 | I19: =+G19-H19 -> -76 | J19: =IF($H19-G19<=0,Q19,"") | N19: =IF($H19-G19>=90,Q19,"") | O19: 2607.55 | Q19: =+O19-P19 -> 2607.55
A20: AREG | B20: BE66 | C20: 93 | D20: STRIPE | E20: 1606 | F20: 42551 | G20: 42551 | H20: =TODAY() -> 42747 | I20: =+G20-H20 -> -196 | J20: =IF($H20-G20<=0,Q20,"") | N20: =IF($H20-G20>=90,Q20,"") -> -274.1 | P20: 274.1 | Q20: =+O20-P20 -> -274.1
A21: AREG | B21: BE66 | C21: 144 | D21: STRIPE | E21: 1609 | F21: 42629 | G21: 42629 | H21: =TODAY() -> 42747 | I21: =+G21-H21 -> -118 | J21: =IF($H21-G21<=0,Q21,"") | N21: =IF($H21-G21>=90,Q21,"") -> -27.42 | P21: 27.42 | Q21: =+O21-P21 -> -27.42
A22: AREG | B22: FACT | C22: 2016445 | E22: 1609 | F22: 42628 | G22: 42638 | H22: =TODAY() -> 42747 | I22: =+G22-H22 -> -109 | J22: =IF($H22-G22<=0,Q22,"") | N22: =IF($H22-G22>=90,Q22,"") -> 0 | O22: 0 | Q22: =+O22-P22 -> 0
A23: AREG | B23: BE66 | C23: 147 | D23: STRIPE | E23: 1609 | F23: 42634 | G23: 42634 | H23: =TODAY() -> 42747 | I23: =+G23-H23 -> -113 | J23: =IF($H23-G23<=0,Q23,"") | N23: =IF($H23-G23>=90,Q23,"") -> -81.24 | P23: 81.24 | Q23: =+O23-P23 -> -81.24
A24: AREG | B24: FACT | C24: 2016495 | E24: 1609 | F24: 42643 | G24: 42653 | H24: =TODAY() -> 42747 | I24: =+G24-H24 -> -94 | J24: =IF($H24-G24<=0,Q24,"") | N24: =IF($H24-G24>=90,Q24,"") -> 0 | O24: 0 | Q24: =+O24-P24 -> 0
A25: AREG | B25: FACT | C25: 2016496 | E25: 1609 | F25: 42643 | G25: 42653 | H25: =TODAY() -> 42747 | I25: =+G25-H25 -> -94 | J25: =IF($H25-G25<=0,Q25,"") | N25: =IF($H25-G25>=90,Q25,"") -> 0 | O25: 0 | Q25: =+O25-P25 -> 0
A26: AREG | B26: FACT | C26: 2016498 | E26: 1609 | F26: 42643 | G26: 42653 | H26: =TODAY() -> 42747 | I26: =+G26-H26 -> -94 | J26: =IF($H26-G26<=0,Q26,"") | N26: =IF($H26-G26>=90,Q26,"") -> 0 | O26: 0 | Q26: =+O26-P26 -> 0
A27: AREG | B27: FACT | C27: 2016499 | E27: 1609 | F27: 42643 | G27: 42653 | H27: =TODAY() -> 42747 | I27: =+G27-H27 -> -94 | J27: =IF($H27-G27<=0,Q27,"") | N27: =IF($H27-G27>=90,Q27,"") -> 0 | O27: 0 | Q27: =+O27-P27 -> 0
A28: AREG | B28: BE66 | C28: 155 | D28: STRIPE | E28: 1610 | F28: 42646 | G28: 42646 | H28: =TODAY() -> 42747 | I28: =+G28-H28 -> -101 | J28: =IF($H28-G28<=0,Q28,"") | N28: =IF($H28-G28>=90,Q28,"") -> -121.08 | P28: 121.08 | Q28: =+O28-P28 -> -121.08
A29: AREG | B29: BE66 | C29: 159 | D29: STRIPE | E29: 1610 | F29: 42650 | G29: 42650 | H29: =TODAY() -> 42747 | I29: =+G29-H29 -> -97 | J29: =IF($H29-G29<=0,Q29,"") | N29: =IF($H29-G29>=90,Q29,"") -> -172.79 | P29: 172.79 | Q29: =+O29-P29 -> -172.79
A30: AREG | B30: BE66 | C30: 166 | D30: STRIPE | E30: 1610 | F30: 42661 | G30: 42661 | H30: =TODAY() -> 42747 | I30: =+G30-H30 -> -86 | J30: =IF($H30-G30<=0,Q30,"") | N30: =IF($H30-G30>=90,Q30,"") | P30: 9.46 | Q30: =+O30-P30 -> -9.46
A31: AREG | B31: BE66 | C31: 169 | D31: STRIPE | E31: 1610 | F31: 42664 | G31: 42664 | H31: =TODAY() -> 42747 | I31: =+G31-H31 -> -83 | J31: =IF($H31-G31<=0,Q31,"") | N31: =IF($H31-G31>=90,Q31,"") | P31: 130.91 | Q31: =+O31-P31 -> -130.91
A32: AREG | B32: BE66 | C32: 170 | D32: STRIPE | E32: 1610 | F32: 42667 | G32: 42667 | H32: =TODAY() -> 42747 | I32: =+G32-H32 -> -80 | J32: =IF($H32-G32<=0,Q32,"") | N32: =IF($H32-G32>=90,Q32,"") | P32: 212.73 | Q32: =+O32-P32 -> -212.73
A33: AREG | B33: BE66 | C33: 174 | D33: STRIPE | E33: 1610 | F33: 42671 | G33: 42671 | H33: =TODAY() -> 42747 | I33: =+G33-H33 -> -76 | J33: =IF($H33-G33<=0,Q33,"") | N33: =IF($H33-G33>=90,Q33,"") | P33: 26.99 | Q33: =+O33-P33 -> -26.99
A34: AREG | B34: BE66 | C34: 175 | D34: STRIPE | E34: 1610 | F34: 42674 | G34: 42674 | H34: =TODAY() -> 42747 | I34: =+G34-H34 -> -73 | J34: =IF($H34-G34<=0,Q34,"") | N34: =IF($H34-G34>=90,Q34,"") | P34: 502.61 | Q34: =+O34-P34 -> -502.61
A35: AREG | B35: BE66 | C35: 175 | D35: STRIPE | E35: 1610 | F35: 42674 | G35: 42674 | H35: =TODAY() -> 42747 | I35: =+G35-H35 -> -73 | J35: =IF($H35-G35<=0,Q35,"") | N35: =IF($H35-G35>=90,Q35,"") | P35: 163.18 | Q35: =+O35-P35 -> -163.18
A36: AREG | B36: FACT | C36: 2016596 | E36: 1611 | F36: 42678 | G36: 42678 | H36: =TODAY() -> 42747 | I36: =+G36-H36 -> -69 | J36: =IF($H36-G36<=0,Q36,"") | N36: =IF($H36-G36>=90,Q36,"") | O36: 0 | Q36: =+O36-P36 -> 0
A37: AREG | B37: BE66 | C37: 183 | D37: STRIPE | E37: 1611 | F37: 42688 | G37: 42688 | H37: =TODAY() -> 42747 | I37: =+G37-H37 -> -59 | J37: =IF($H37-G37<=0,Q37,"") | N37: =IF($H37-G37>=90,Q37,"") | P37: 274.84 | Q37: =+O37-P37 -> -274.84
A38: AREG | B38: BE66 | C38: 203 | D38: STRIPE | E38: 1612 | F38: 42716 | G38: 42716 | H38: =TODAY() -> 42747 | I38: =+G38-H38 -> -31 | J38: =IF($H38-G38<=0,Q38,"") | N38: =IF($H38-G38>=90,Q38,"") | P38: 161.95 | Q38: =+O38-P38 -> -161.95
A39: AREG | B39: BE66 | C39: 203 | D39: STRIPE | E39: 1612 | F39: 42716 | G39: 42716 | H39: =TODAY() -> 42747 | I39: =+G39-H39 -> -31 | J39: =IF($H39-G39<=0,Q39,"") | N39: =IF($H39-G39>=90,Q39,"") | P39: 253.88 | Q39: =+O39-P39 -> -253.88
A40: AREG | B40: BE66 | C40: 204 | D40: SUMUP | E40: 1612 | F40: 42716 | G40: 42716 | H40: =TODAY() -> 42747 | I40: =+G40-H40 -> -31 | J40: =IF($H40-G40<=0,Q40,"") | N40: =IF($H40-G40>=90,Q40,"") | P40: 1.96 | Q40: =+O40-P40 -> -1.96
A41: AREG | B41: BE66 | C41: 206 | D41: SUMUP | E41: 1612 | F41: 42719 | G41: 42719 | H41: =TODAY() -> 42747 | I41: =+G41-H41 -> -28 | J41: =IF($H41-G41<=0,Q41,"") | N41: =IF($H41-G41>=90,Q41,"") | P41: 0.98 | Q41: =+O41-P41 -> -0.98
A42: AREG | B42: BE66 | C42: 208 | D42: STRIPE | E42: 1612 | F42: 42723 | G42: 42723 | H42: =TODAY() -> 42747 | I42: =+G42-H42 -> -24 | J42: =IF($H42-G42<=0,Q42,"") | N42: =IF($H42-G42>=90,Q42,"") | P42: 319.21 | Q42: =+O42-P42 -> -319.21
A43: AREG | B43: BE66 | C43: 212 | D43: SARL GUIGOURS | E43: 1612 | F43: 42727 | G43: 42727 | H43: =TODAY() -> 42747 | I43: =+G43-H43 -> -20 | J43: =IF($H43-G43<=0,Q43,"") | N43: =IF($H43-G43>=90,Q43,"") | P43: 915.35 | Q43: =+O43-P43 -> -915.35
A44: AREG | B44: BE66 | C44: 3 | D44: STRIPE | E44: 1701 | F44: 42739 | G44: 42739 | H44: =TODAY() -> 42747 | I44: =+G44-H44 -> -8 | J44: =IF($H44-G44<=0,Q44,"") | N44: =IF($H44-G44>=90,Q44,"") | P44: 234.72 | Q44: =+O44-P44 -> -234.72
A45: ASTIR | B45: FACT | C45: 2016147 | E45: 1604 | F45: 42464 | G45: 42494 | H45: =TODAY() -> 42747 | I45: =+G45-H45 -> -253 | J45: =IF($H45-G45<=0,Q45,"") | N45: =IF($H45-G45>=90,Q45,"") -> 1976 | O45: 1976 | Q45: =+O45-P45 -> 1976
A46: ASTIR | B46: FACT | C46: 2016186 | E46: 1604 | F46: 42488 | G46: 42518 | H46: =TODAY() -> 42747 | I46: =+G46-H46 -> -229 | J46: =IF($H46-G46<=0,Q46,"") | N46: =IF($H46-G46>=90,Q46,"") -> 520 | O46: 520 | Q46: =+O46-P46 -> 520
A47: ASTIR | B47: FACT | C47: 2016569 | E47: 1610 | F47: 42667 | G47: 42677 | H47: =TODAY() -> 42747 | I47: =+G47-H47 -> -70 | J47: =IF($H47-G47<=0,Q47,"") | N47: =IF($H47-G47>=90,Q47,"") | O47: 3010 | Q47: =+O47-P47 -> 3010
A48: AUXARCAD | B48: FACT | C48: 2016731 | E48: 1612 | F48: 42718 | G48: 42728 | H48: =TODAY() -> 42747 | I48: =+G48-H48 -> -19 | J48: =IF($H48-G48<=0,Q48,"") | N48: =IF($H48-G48>=90,Q48,"") | O48: 4225 | Q48: =+O48-P48 -> 4225
A49: AUXARCAD | B49: FACT | C49: 2016732 | E49: 1612 | F49: 42718 | G49: 42728 | H49: =TODAY() -> 42747 | I49: =+G49-H49 -> -19 | J49: =IF($H49-G49<=0,Q49,"") | N49: =IF($H49-G49>=90,Q49,"") | O49: 4485 | Q49: =+O49-P49 -> 4485
A50: AZZURO | B50: FACT | C50: 2016637 | E50: 1611 | F50: 42690 | G50: 42700 | H50: =TODAY() -> 42747 | I50: =+G50-H50 -> -47 | J50: =IF($H50-G50<=0,Q50,"") | N50: =IF($H50-G50>=90,Q50,"") | O50: 102.85 | Q50: =+O50-P50 -> 102.85
A51: BAKEHOUS | B51: FACT | C51: 2016391 | E51: 1608 | F51: 42600 | G51: 42630 | H51: =TODAY() -> 42747 | I51: =+G51-H51 -> -117 | J51: =IF($H51-G51<=0,Q51,"") | N51: =IF($H51-G51>=90,Q51,"") -> 975 | O51: 975 | Q51: =+O51-P51 -> 975
A52: BAKEHOUS | B52: FACT | C52: 2016400 | E52: 1608 | F52: 42611 | G52: 42641 | H52: =TODAY() -> 42747 | I52: =+G52-H52 -> -106 | J52: =IF($H52-G52<=0,Q52,"") | N52: =IF($H52-G52>=90,Q52,"") -> 65 | O52: 65 | Q52: =+O52-P52 -> 65
A53: BAKEHOUS | B53: BE66 | C53: 176 | E53: 1611 | F53: 42676 | G53: 42676 | H53: =TODAY() -> 42747 | I53: =+G53-H53 -> -71 | J53: =IF($H53-G53<=0,Q53,"") | N53: =IF($H53-G53>=90,Q53,"") | P53: 340 | Q53: =+O53-P53 -> -340
A54: BAPSHO | B54: FACT | C54: 2016159 | E54: 1604 | F54: 42472 | G54: 42482 | H54: =TODAY() -> 42747 | I54: =+G54-H54 -> -265 | J54: =IF($H54-G54<=0,Q54,"") | N54: =IF($H54-G54>=90,Q54,"") -> 1690 | O54: 1690 | Q54: =+O54-P54 -> 1690
A55: BARBARO0 | B55: FACT | C55: 2016660 | E55: 1611 | F55: 42697 | G55: 42757 | H55: =TODAY() -> 42747 | I55: =+G55-H55 -> 10 | J55: =IF($H55-G55<=0,Q55,"") -> 469 | N55: =IF($H55-G55>=90,Q55,"") | O55: 469 | Q55: =+O55-P55 -> 469
A56: BNJ00000 | B56: FACT | C56: 2016656 | E56: 1611 | F56: 42697 | G56: 42727 | H56: =TODAY() -> 42747 | I56: =+G56-H56 -> -20 | J56: =IF($H56-G56<=0,Q56,"") | N56: =IF($H56-G56>=90,Q56,"") | O56: 948.64 | Q56: =+O56-P56 -> 948.64
A57: BOELSBAS | B57: FACT | C57: 2016381 | E57: 1608 | F57: 42592 | G57: 42622 | H57: =TODAY() -> 42747 | I57: =+G57-H57 -> -125 | J57: =IF($H57-G57<=0,Q57,"") | N57: =IF($H57-G57>=90,Q57,"") -> 3514.2 | O57: 3514.2 | Q57: =+O57-P57 -> 3514.2
A58: BOELSBAS | B58: BE66 | C58: 216 | D58: Part-payment | E58: 1612 | F58: 42734 | G58: 42734 | H58: =TODAY() -> 42747 | I58: =+G58-H58 -> -13 | J58: =IF($H58-G58<=0,Q58,"") | N58: =IF($H58-G58>=90,Q58,"") | P58: 2904.3 | Q58: =+O58-P58 -> -2904.3
A59: BOELSBAS | B59: FACT | C59: 2016734 | E59: 1612 | F59: 42718 | G59: 42748 | H59: =TODAY() -> 42747 | I59: =+G59-H59 -> 1 | J59: =IF($H59-G59<=0,Q59,"") -> 1993.54 | N59: =IF($H59-G59>=90,Q59,"") | O59: 1993.54 | Q59: =+O59-P59 -> 1993.54
A60: BURROW | B60: FACT | C60: 2016096 | E60: 1603 | F60: 42436 | G60: 42466 | H60: =TODAY() -> 42747 | I60: =+G60-H60 -> -281 | J60: =IF($H60-G60<=0,Q60,"") | N60: =IF($H60-G60>=90,Q60,"") -> 715 | O60: 715 | Q60: =+O60-P60 -> 715
A61: BURROW | B61: FACT | C61: 2016112 | E61: 1603 | F61: 42440 | G61: 42470 | H61: =TODAY() -> 42747 | I61: =+G61-H61 -> -277 | J61: =IF($H61-G61<=0,Q61,"") | N61: =IF($H61-G61>=90,Q61,"") -> 715 | O61: 715 | Q61: =+O61-P61 -> 715
A62: BURROW | B62: FACT | C62: 2016344 | E62: 1607 | F62: 42576 | G62: 42606 | H62: =TODAY() -> 42747 | I62: =+G62-H62 -> -141 | J62: =IF($H62-G62<=0,Q62,"") | N62: =IF($H62-G62>=90,Q62,"") -> 1680 | O62: 1680 | Q62: =+O62-P62 -> 1680
A63: CARMEN00 | B63: FACT | C63: 2016528 | E63: 1610 | F63: 42654 | G63: 42654 | H63: =TODAY() -> 42747 | I63: =+G63-H63 -> -93 | J63: =IF($H63-G63<=0,Q63,"") | N63: =IF($H63-G63>=90,Q63,"") -> 195 | O63: 195 | Q63: =+O63-P63 -> 195
A64: CARMEN00 | B64: BE66 | C64: 164 | D64: PINACHO 2016528 | E64: 1610 | F64: 42657 | G64: 42657 | H64: =TODAY() -> 42747 | I64: =+G64-H64 -> -90 | J64: =IF($H64-G64<=0,Q64,"") | N64: =IF($H64-G64>=90,Q64,"") -> -130 | P64: 130 | Q64: =+O64-P64 -> -130
A65: CD0000 | B65: FACT | C65: 2016663 | E65: 1611 | F65: 42698 | G65: 42728 | H65: =TODAY() -> 42747 | I65: =+G65-H65 -> -19 | J65: =IF($H65-G65<=0,Q65,"") | N65: =IF($H65-G65>=90,Q65,"") | O65: 362 | Q65: =+O65-P65 -> 362
A66: CHEQUES0 | B66: BE66 | C66: 196 | D66: MALICIA | E66: 1612 | F66: 42705 | G66: 42705 | H66: =TODAY() -> 42747 | I66: =+G66-H66 -> -42 | J66: =IF($H66-G66<=0,Q66,"") | N66: =IF($H66-G66>=90,Q66,"") | O66: 390 | Q66: =+O66-P66 -> 390
A67: CHEQUES0 | B67: BE66 | C67: 197 | E67: 1612 | F67: 42706 | G67: 42706 | H67: =TODAY() -> 42747 | I67: =+G67-H67 -> -41 | J67: =IF($H67-G67<=0,Q67,"") | N67: =IF($H67-G67>=90,Q67,"") | O67: 112.5 | Q67: =+O67-P67 -> 112.5
A68: CHEQUES0 | B68: DIV | C68: 201702 | D68: kiowa | E68: 1701 | F68: 42739 | G68: 42739 | H68: =TODAY() -> 42747 | I68: =+G68-H68 -> -8 | J68: =IF($H68-G68<=0,Q68,"") | N68: =IF($H68-G68>=90,Q68,"") | O68: 816 | Q68: =+O68-P68 -> 816
A69: CHEQUES0 | B69: DIV | C69: 201702 | D69: iona | E69: 1701 | F69: 42739 | G69: 42739 | H69: =TODAY() -> 42747 | I69: =+G69-H69 -> -8 | J69: =IF($H69-G69<=0,Q69,"") | N69: =IF($H69-G69>=90,Q69,"") | O69: 323 | Q69: =+O69-P69 -> 323
A70: CHEQUES0 | B70: DIV | C70: 201702 | D70: mbs | E70: 1701 | F70: 42739 | G70: 42739 | H70: =TODAY() -> 42747 | I70: =+G70-H70 -> -8 | J70: =IF($H70-G70<=0,Q70,"") | N70: =IF($H70-G70>=90,Q70,"") | O70: 900 | Q70: =+O70-P70 -> 900
A71: CLAVERIA | B71: FACT | C71: 2016154 | E71: 1604 | F71: 42468 | G71: 42498 | H71: =TODAY() -> 42747 | I71: =+G71-H71 -> -249 | J71: =IF($H71-G71<=0,Q71,"") | N71: =IF($H71-G71>=90,Q71,"") -> 6090 | O71: 6090 | Q71: =+O71-P71 -> 6090
A72: CONCEP | B72: FACT | C72: 2016332 | E72: 1607 | F72: 42571 | G72: 42601 | H72: =TODAY() -> 42747 | I72: =+G72-H72 -> -146 | J72: =IF($H72-G72<=0,Q72,"") | N72: =IF($H72-G72>=90,Q72,"") -> 1185.8 | O72: 1185.8 | Q72: =+O72-P72 -> 1185.8
A73: CONTI-E0 | B73: FACT | C73: 2016194 | E73: 1605 | F73: 42493 | G73: 42523 | H73: =TODAY() -> 42747 | I73: =+G73-H73 -> -224 | J73: =IF($H73-G73<=0,Q73,"") | N73: =IF($H73-G73>=90,Q73,"") -> 2845 | O73: 2845 | Q73: =+O73-P73 -> 2845
A74: COSTA000 | B74: FACT | C74: 2016674 | E74: 1611 | F74: 42699 | G74: 42709 | H74: =TODAY() -> 42747 | I74: =+G74-H74 -> -38 | J74: =IF($H74-G74<=0,Q74,"") | N74: =IF($H74-G74>=90,Q74,"") | O74: 790 | Q74: =+O74-P74 -> 790
A75: COSTA000 | B75: FACT | C75: 2016675 | E75: 1611 | F75: 42699 | G75: 42709 | H75: =TODAY() -> 42747 | I75: =+G75-H75 -> -38 | J75: =IF($H75-G75<=0,Q75,"") | N75: =IF($H75-G75>=90,Q75,"") | O75: 65 | Q75: =+O75-P75 -> 65
A76: CREDE000 | B76: FACT | C76: 2016049 | E76: 1602 | F76: 42419 | G76: 42429 | H76: =TODAY() -> 42747 | I76: =+G76-H76 -> -318 | J76: =IF($H76-G76<=0,Q76,"") | N76: =IF($H76-G76>=90,Q76,"") -> 1170 | O76: 1170 | Q76: =+O76-P76 -> 1170
A77: CREDE000 | B77: FACT | C77: 2016063 | E77: 1602 | F77: 42423 | G77: 42433 | H77: =TODAY() -> 42747 | I77: =+G77-H77 -> -314 | J77: =IF($H77-G77<=0,Q77,"") | N77: =IF($H77-G77>=90,Q77,"") -> 705 | O77: 705 | Q77: =+O77-P77 -> 705
A78: CREDE000 | B78: BE66 | C78: 114 | E78: 1608 | F78: 42584 | G78: 42584 | H78: =TODAY() -> 42747 | I78: =+G78-H78 -> -163 | J78: =IF($H78-G78<=0,Q78,"") | N78: =IF($H78-G78>=90,Q78,"") -> -1300 | P78: 1300 | Q78: =+O78-P78 -> -1300
A79: CREDE000 | B79: FACT | C79: 2016382 | E79: 1608 | F79: 42594 | G79: 42624 | H79: =TODAY() -> 42747 | I79: =+G79-H79 -> -123 | J79: =IF($H79-G79<=0,Q79,"") | N79: =IF($H79-G79>=90,Q79,"") -> 3365 | O79: 3365 | Q79: =+O79-P79 -> 3365
A80: CREDE000 | B80: FACT | C80: 2016388 | E80: 1608 | F80: 42600 | G80: 42630 | H80: =TODAY() -> 42747 | I80: =+G80-H80 -> -117 | J80: =IF($H80-G80<=0,Q80,"") | N80: =IF($H80-G80>=90,Q80,"") -> 260 | O80: 260 | Q80: =+O80-P80 -> 260
A81: CREDE000 | B81: FACT | C81: 2016405 | E81: 1608 | F81: 42613 | G81: 42643 | H81: =TODAY() -> 42747 | I81: =+G81-H81 -> -104 | J81: =IF($H81-G81<=0,Q81,"") | N81: =IF($H81-G81>=90,Q81,"") -> 390 | O81: 390 | Q81: =+O81-P81 -> 390
A82: CREDE000 | B82: FACT | C82: 2016429 | E82: 1609 | F82: 42625 | G82: 42655 | H82: =TODAY() -> 42747 | I82: =+G82-H82 -> -92 | J82: =IF($H82-G82<=0,Q82,"") | N82: =IF($H82-G82>=90,Q82,"") -> 1300 | O82: 1300 | Q82: =+O82-P82 -> 1300
A83: CREDE000 | B83: CRED | C83: 2016619 | E83: 1611 | F83: 42688 | G83: 42718 | H83: =TODAY() -> 42747 | I83: =+G83-H83 -> -29 | J83: =IF($H83-G83<=0,Q83,"") | N83: =IF($H83-G83>=90,Q83,"") | P83: 1430 | Q83: =+O83-P83 -> -1430
A84: CREDE000 | B84: BE66 | C84: 199 | E84: 1612 | F84: 42710 | G84: 42710 | H84: =TODAY() -> 42747 | I84: =+G84-H84 -> -37 | J84: =IF($H84-G84<=0,Q84,"") | N84: =IF($H84-G84>=90,Q84,"") | P84: 500 | Q84: =+O84-P84 -> -500
A85: CREDE000 | B85: BE66 | C85: 5 | E85: 1701 | F85: 42741 | G85: 42741 | H85: =TODAY() -> 42747 | I85: =+G85-H85 -> -6 | J85: =IF($H85-G85<=0,Q85,"") | N85: =IF($H85-G85>=90,Q85,"") | P85: 500 | Q85: =+O85-P85 -> -500
A86: DCODE000 | B86: FACT | C86: 2016300 | E86: 1607 | F86: 42559 | G86: 42569 | H86: =TODAY() -> 42747 | I86: =+G86-H86 -> -178 | J86: =IF($H86-G86<=0,Q86,"") | N86: =IF($H86-G86>=90,Q86,"") -> 758 | O86: 758 | Q86: =+O86-P86 -> 758
A87: DCODE000 | B87: FACT | C87: 2016309 | E87: 1607 | F87: 42562 | G87: 42572 | H87: =TODAY() -> 42747 | I87: =+G87-H87 -> -175 | J87: =IF($H87-G87<=0,Q87,"") | N87: =IF($H87-G87>=90,Q87,"") -> 1170 | O87: 1170 | Q87: =+O87-P87 -> 1170
A88: DED00000 | B88: FACT | C88: 2016417 | E88: 1609 | F88: 42620 | G88: 42650 | H88: =TODAY() -> 42747 | I88: =+G88-H88 -> -97 | J88: =IF($H88-G88<=0,Q88,"") | N88: =IF($H88-G88>=90,Q88,"") -> 1350 | O88: 1350 | Q88: =+O88-P88 -> 1350
A89: DED00000 | B89: FACT | C89: 2016421 | E89: 1609 | F89: 42625 | G89: 42655 | H89: =TODAY() -> 42747 | I89: =+G89-H89 -> -92 | J89: =IF($H89-G89<=0,Q89,"") | N89: =IF($H89-G89>=90,Q89,"") -> 75 | O89: 75 | Q89: =+O89-P89 -> 75
A90: DENTELLE | B90: FACT | C90: 2016733 | E90: 1612 | F90: 42718 | G90: 42728 | H90: =TODAY() -> 42747 | I90: =+G90-H90 -> -19 | J90: =IF($H90-G90<=0,Q90,"") | N90: =IF($H90-G90>=90,Q90,"") | O90: 5348.2 | Q90: =+O90-P90 -> 5348.2
A91: DESDESSO | B91: FACT | C91: 2016488 | E91: 1609 | F91: 42643 | G91: 42673 | H91: =TODAY() -> 42747 | I91: =+G91-H91 -> -74 | J91: =IF($H91-G91<=0,Q91,"") | N91: =IF($H91-G91>=90,Q91,"") | O91: 462.22 | Q91: =+O91-P91 -> 462.22
A92: DESDESSO | B92: FACT | C92: 2016604 | E92: 1611 | F92: 42681 | G92: 42711 | H92: =TODAY() -> 42747 | I92: =+G92-H92 -> -36 | J92: =IF($H92-G92<=0,Q92,"") | N92: =IF($H92-G92>=90,Q92,"") | O92: 136 | Q92: =+O92-P92 -> 136
A93: DESDESSO | B93: FACT | C93: 2016777 | E93: 1701 | F93: 42738 | G93: 42768 | H93: =TODAY() -> 42747 | I93: =+G93-H93 -> 21 | J93: =IF($H93-G93<=0,Q93,"") -> 1253.56 | N93: =IF($H93-G93>=90,Q93,"") | O93: 1253.56 | Q93: =+O93-P93 -> 1253.56
A94: DIFFUSIO | B94: FACT | C94: 2016386 | E94: 1608 | F94: 42598 | G94: 42718 | H94: =TODAY() -> 42747 | I94: =+G94-H94 -> -29 | J94: =IF($H94-G94<=0,Q94,"") | N94: =IF($H94-G94>=90,Q94,"") | O94: 11020.68 | Q94: =+O94-P94 -> 11020.68
A95: DIFFUSIO | B95: FACT | C95: 2016586 | E95: 1610 | F95: 42671 | G95: 42791 | H95: =TODAY() -> 42747 | I95: =+G95-H95 -> 44 | J95: =IF($H95-G95<=0,Q95,"") -> 105.27 | N95: =IF($H95-G95>=90,Q95,"") | O95: 105.27 | Q95: =+O95-P95 -> 105.27
A96: DINASTIJ | B96: FACT | C96: 2016314 | E96: 1607 | F96: 42564 | G96: 42594 | H96: =TODAY() -> 42747 | I96: =+G96-H96 -> -153 | J96: =IF($H96-G96<=0,Q96,"") | N96: =IF($H96-G96>=90,Q96,"") -> 2891.9 | O96: 2891.9 | Q96: =+O96-P96 -> 2891.9
A97: DINGLE | B97: FACT | C97: 2016705 | E97: 1612 | F97: 42709 | G97: 42739 | H97: =TODAY() -> 42747 | I97: =+G97-H97 -> -8 | J97: =IF($H97-G97<=0,Q97,"") | N97: =IF($H97-G97>=90,Q97,"") | O97: 6825 | Q97: =+O97-P97 -> 6825
... A106: ENJOY0 | B106: FACT | C106: 2016727 | E106: 1612 | F106: 42717 | G106: 42747 | H106: =TODAY() -> 42747 | I106: =+G106-H106 -> 0 | J106: =IF($H106-G106<=0,Q106,"") -> 1161.6 | N106: =IF($H106-G106>=90,Q106,"") | O106: 1161.6 | Q106: =+O106-P106 -> 1161.6
A107: ENJOY0 | B107: CRED | C107: 2016755 | E107: 1612 | F107: 42726 | G107: 42747 | H107: =TODAY() -> 42747 | I107: =+G107-H107 -> 0 | J107: =IF($H107-G107<=0,Q107,"") -> -1258.4 | N107: =IF($H107-G107>=90,Q107,"") | P107: 1258.4 | Q107: =+O107-P107 -> -1258.4
A108: FUT01 | B108: FACT | C108: 2016486 | E108: 1609 | F108: 42642 | G108: 42732 | H108: =TODAY() -> 42747 | I108: =+G108-H108 -> -15 | J108: =IF($H108-G108<=0,Q108,"") | N108: =IF($H108-G108>=90,Q108,"") | O108: 3637 | Q108: =+O108-P108 -> 3637
...

Sheet Feuil1
B1: 0 | C1: 30 | D1: 60 | E1: 90 | F1: 1000
A2: {=IFERROR(OFFSET('Historique client'!A$1,MATCH(0,COUNTIF(A$1:A1,client),0),),"")} -> AMACA000 | B2: {=MAX(IF((client=$A2)*(retard<=1)*(retard=0),nechu,""))} -> 0 | C2: {=MAX(IF((client=$A2)*(retard>=1)*(retard<=C$1),nechu,""))} -> 0 | D2: {=MAX(IF((client=$A2)*(retard>C$1)*(retard<=D$1),nechu,""))} -> 0 | E2: {=MAX(IF((client=$A2)*(retard>D$1)*(retard<=E$1),nechu,""))} -> 0 | F2: {=MAX(IF((client=$A2)*(retard>E$1)*(retard<=F$1),nechu,""))} -> 0
A3: {=IFERROR(OFFSET('Historique client'!A$1,MATCH(0,COUNTIF(A$1:A2,client),0),),"")} -> AMBW0000 | B3: {=MAX(IF((client=$A3)*(retard<=1)*(retard=0),nechu,""))} -> 0 | C3: {=MAX(IF((client=$A3)*(retard>=1)*(retard<=C$1),nechu,""))} -> 3073.4 | D3: {=MAX(IF((client=$A3)*(retard>C$1)*(retard<=D$1),nechu,""))} -> 55100.98 | E3: {=MAX(IF((client=$A3)*(retard>D$1)*(retard<=E$1),nechu,""))} -> 8447.01 | F3: {=MAX(IF((client=$A3)*(retard>E$1)*(retard<=F$1),nechu,""))} -> 181.5
A4: {=IFERROR(OFFSET('Historique client'!A$1,MATCH(0,COUNTIF(A$1:A3,client),0),),"")} -> ANCA0000 | B4: {=MAX(IF((client=$A4)*(retard<=1)*(retard=0),nechu,""))} -> 0 | C4: {=MAX(IF((client=$A4)*(retard>=1)*(retard<=C$1),nechu,""))} -> 0 | D4: {=MAX(IF((client=$A4)*(retard>C$1)*(retard<=D$1),nechu,""))} -> 0 | E4: {=MAX(IF((client=$A4)*(retard>D$1)*(retard<=E$1),nechu,""))} -> 0 | F4: {=MAX(IF((client=$A4)*(retard>E$1)*(retard<=F$1),nechu,""))} -> 0
A5: {=IFERROR(OFFSET('Historique client'!A$1,MATCH(0,COUNTIF(A$1:A4,client),0),),"")} -> AREG | B5: {=MAX(IF((client=$A5)*(retard<=1)*(retard=0),nechu,""))} -> 0 | C5: {=MAX(IF((client=$A5)*(retard>=1)*(retard<=C$1),nechu,""))} -> 0 | D5: {=MAX(IF((client=$A5)*(retard>C$1)*(retard<=D$1),nechu,""))} -> 0 | E5: {=MAX(IF((client=$A5)*(retard>D$1)*(retard<=E$1),nechu,""))} -> 0 | F5: {=MAX(IF((client=$A5)*(retard>E$1)*(retard<=F$1),nechu,""))} -> 0
A6: {=IFERROR(OFFSET('Historique client'!A$1,MATCH(0,COUNTIF(A$1:A5,client),0),),"")} -> ASTIR | B6: {=MAX(IF((client=$A6)*(retard<=1)*(retard=0),nechu,""))} -> 0 | C6: {=MAX(IF((client=$A6)*(retard>=1)*(retard<=C$1),nechu,""))} -> 0 | D6: {=MAX(IF((client=$A6)*(retard>C$1)*(retard<=D$1),nechu,""))} -> 0 | E6: {=MAX(IF((client=$A6)*(retard>D$1)*(retard<=E$1),nechu,""))} -> 0 | F6: {=MAX(IF((client=$A6)*(retard>E$1)*(retard<=F$1),nechu,""))} -> 0
A7: {=IFERROR(OFFSET('Historique client'!A$1,MATCH(0,COUNTIF(A$1:A6,client),0),),"")} -> AUXARCAD | B7: {=MAX(IF((client=$A7)*(retard<=1)*(retard=0),nechu,""))} -> 0 | C7: {=MAX(IF((client=$A7)*(retard>=1)*(retard<=C$1),nechu,""))} -> 0 | D7: {=MAX(IF((client=$A7)*(retard>C$1)*(retard<=D$1),nechu,""))} -> 0 | E7: {=MAX(IF((client=$A7)*(retard>D$1)*(retard<=E$1),nechu,""))} -> 0 | F7: {=MAX(IF((client=$A7)*(retard>E$1)*(retard<=F$1),nechu,""))} -> 0
A8: {=IFERROR(OFFSET('Historique client'!A$1,MATCH(0,COUNTIF(A$1:A7,client),0),),"")} -> AZZURO | B8: {=MAX(IF((client=$A8)*(retard<=1)*(retard=0),nechu,""))} -> 0 | C8: {=MAX(IF((client=$A8)*(retard>=1)*(retard<=C$1),nechu,""))} -> 0 | D8: {=MAX(IF((client=$A8)*(retard>C$1)*(retard<=D$1),nechu,""))} -> 0 | E8: {=MAX(IF((client=$A8)*(retard>D$1)*(retard<=E$1),nechu,""))} -> 0 | F8: {=MAX(IF((client=$A8)*(retard>E$1)*(retard<=F$1),nechu,""))} -> 0
A9: {=IFERROR(OFFSET('Historique client'!A$1,MATCH(0,COUNTIF(A$1:A8,client),0),),"")} -> BAKEHOUS | B9: {=MAX(IF((client=$A9)*(retard<=1)*(retard=0),nechu,""))} -> 0 | C9: {=MAX(IF((client=$A9)*(retard>=1)*(retard<=C$1),nechu,""))} -> 0 | D9: {=MAX(IF((client=$A9)*(retard>C$1)*(retard<=D$1),nechu,""))} -> 0 | E9: {=MAX(IF((client=$A9)*(retard>D$1)*(retard<=E$1),nechu,""))} -> 0 | F9: {=MAX(IF((client=$A9)*(retard>E$1)*(retard<=F$1),nechu,""))} -> 0
A10: {=IFERROR(OFFSET('Historique client'!A$1,MATCH(0,COUNTIF(A$1:A9,client),0),),"")} -> BAPSHO | B10: {=MAX(IF((client=$A10)*(retard<=1)*(retard=0),nechu,""))} -> 0 | C10: {=MAX(IF((client=$A10)*(retard>=1)*(retard<=C$1),nechu,""))} -> 0 | D10: {=MAX(IF((client=$A10)*(retard>C$1)*(retard<=D$1),nechu,""))} -> 0 | E10: {=MAX(IF((client=$A10)*(retard>D$1)*(retard<=E$1),nechu,""))} -> 0 | F10: {=MAX(IF((client=$A10)*(retard>E$1)*(retard<=F$1),nechu,""))} -> 0
A11: {=IFERROR(OFFSET('Historique client'!A$1,MATCH(0,COUNTIF(A$1:A10,client),0),),"")} -> BARBARO0 | B11: {=MAX(IF((client=$A11)*(retard<=1)*(retard=0),nechu,""))} -> 0 | C11: {=MAX(IF((client=$A11)*(retard>=1)*(retard<=C$1),nechu,""))} -> 469 | D11: {=MAX(IF((client=$A11)*(retard>C$1)*(retard<=D$1),nechu,""))} -> 0 | E11: {=MAX(IF((client=$A11)*(retard>D$1)*(retard<=E$1),nechu,""))} -> 0 | F11: {=MAX(IF((client=$A11)*(retard>E$1)*(retard<=F$1),nechu,""))} -> 0
A12: {=IFERROR(OFFSET('Historique client'!A$1,MATCH(0,COUNTIF(A$1:A11,client),0),),"")} -> BNJ00000 | B12: {=MAX(IF((client=$A12)*(retard<=1)*(retard=0),nechu,""))} -> 0 | C12: {=MAX(IF((client=$A12)*(retard>=1)*(retard<=C$1),nechu,""))} -> 0 | D12: {=MAX(IF((client=$A12)*(retard>C$1)*(retard<=D$1),nechu,""))} -> 0 | E12: {=MAX(IF((client=$A12)*(retard>D$1)*(retard<=E$1),nechu,""))} -> 0 | F12: {=MAX(IF((client=$A12)*(retard>E$1)*(retard<=F$1),nechu,""))} -> 0
A13: {=IFERROR(OFFSET('Historique client'!A$1,MATCH(0,COUNTIF(A$1:A12,client),0),),"")} -> BOELSBAS | B13: {=MAX(IF((client=$A13)*(retard<=1)*(retard=0),nechu,""))} -> 0 | C13: {=MAX(IF((client=$A13)*(retard>=1)*(retard<=C$1),nechu,""))} -> 1993.54 | D13: {=MAX(IF((client=$A13)*(retard>C$1)*(retard<=D$1),nechu,""))} -> 0 | E13: {=MAX(IF((client=$A13)*(retard>D$1)*(retard<=E$1),nechu,""))} -> 0 | F13: {=MAX(IF((client=$A13)*(retard>E$1)*(retard<=F$1),nechu,""))} -> 0
... A20: {=IFERROR(OFFSET('Historique client'!A$1,MATCH(0,COUNTIF(A$1:A19,client),0),),"")} -> CONTI-E0 | B20: {=MAX(IF((client=$A20)*(retard<=1)*(retard=0),nechu,""))} -> 0 | C20: {=MAX(IF((client=$A20)*(retard>=1)*(retard<=C$1),nechu,""))} -> 0 | D20: {=MAX(IF((client=$A20)*(retard>C$1)*(retard<=D$1),nechu,""))} -> 0 | E20: {=MAX(IF((client=$A20)*(retard>D$1)*(retard<=E$1),nechu,""))} -> 0 | F20: {=MAX(IF((client=$A20)*(retard>E$1)*(retard<=F$1),nechu,""))} -> 0
A21: {=IFERROR(OFFSET('Historique client'!A$1,MATCH(0,COUNTIF(A$1:A20,client),0),),"")} -> COSTA000 | B21: =SUMPRODUCT(MAX((client=$A21)*(ABS(retard)<=1))) -> 0
A22: {=IFERROR(OFFSET('Historique client'!A$1,MATCH(0,COUNTIF(A$1:A21,client),0),),"")} -> CREDE000 | B22: =SUMPRODUCT(MAX((client=$A22)*(ABS(retard)<=1))) -> 0
A23: {=IFERROR(OFFSET('Historique client'!A$1,MATCH(0,COUNTIF(A$1:A22,client),0),),"")} -> DCODE000 | B23: =SUMPRODUCT(MAX((client=$A23)*(ABS(retard)<=1))) -> 0
A24: {=IFERROR(OFFSET('Historique client'!A$1,MATCH(0,COUNTIF(A$1:A23,client),0),),"")} -> DED00000 | B24: =SUMPRODUCT(MAX((client=$A24)*(ABS(retard)<=1))) -> 0
A25: {=IFERROR(OFFSET('Historique client'!A$1,MATCH(0,COUNTIF(A$1:A24,client),0),),"")} -> DENTELLE | B25: =SUMPRODUCT(MAX((client=$A25)*(ABS(retard)<=1))) -> 0
A26: {=IFERROR(OFFSET('Historique client'!A$1,MATCH(0,COUNTIF(A$1:A25,client),0),),"")} -> DESDESSO | B26: =SUMPRODUCT(MAX((client=$A26)*(ABS(retard)<=1))) -> 0
A27: {=IFERROR(OFFSET('Historique client'!A$1,MATCH(0,COUNTIF(A$1:A26,client),0),),"")} -> DIFFUSIO | B27: =SUMPRODUCT(MAX((client=$A27)*(ABS(retard)<=1))) -> 0
A28: {=IFERROR(OFFSET('Historique client'!A$1,MATCH(0,COUNTIF(A$1:A27,client),0),),"")} -> DINASTIJ | B28: =SUMPRODUCT(MAX((client=$A28)*(ABS(retard)<=1))) -> 0
A29: {=IFERROR(OFFSET('Historique client'!A$1,MATCH(0,COUNTIF(A$1:A28,client),0),),"")} -> DINGLE | B29: =SUMPRODUCT(MAX((client=$A29)*(ABS(retard)<=1))) -> 0
A30: {=IFERROR(OFFSET('Historique client'!A$1,MATCH(0,COUNTIF(A$1:A29,client),0),),"")} -> DIZZY000 | B30: =SUMPRODUCT(MAX((client=$A30)*(ABS(retard)<=1))) -> 0
A31: {=IFERROR(OFFSET('Historique client'!A$1,MATCH(0,COUNTIF(A$1:A30,client),0),),"")} -> DROHME00 | B31: =SUMPRODUCT(MAX((client=$A31)*(ABS(retard)<=1))) -> 0
A32: {=IFERROR(OFFSET('Historique client'!A$1,MATCH(0,COUNTIF(A$1:A31,client),0),),"")} -> DUEGI000 | B32: =SUMPRODUCT(MAX((client=$A32)*(ABS(retard)<=1))) -> 0
... A46: {=IFERROR(OFFSET('Historique client'!A$1,MATCH(0,COUNTIF(A$1:A45,client),0),),"")} -> ISLEY000 | B46: =SUMPRODUCT(MAX((client=$A46)*(ABS(retard)<=1))) -> 0
A47: {=IFERROR(OFFSET('Historique client'!A$1,MATCH(0,COUNTIF(A$1:A46,client),0),),"")} -> JAX00000
A48: {=IFERROR(OFFSET('Historique client'!A$1,MATCH(0,COUNTIF(A$1:A47,client),0),),"")} -> JFD00000
A49: {=IFERROR(OFFSET('Historique client'!A$1,MATCH(0,COUNTIF(A$1:A48,client),0),),"")} -> JOANA0
A50: {=IFERROR(OFFSET('Historique client'!A$1,MATCH(0,COUNTIF(A$1:A49,client),0),),"")} -> LACABA
A51: {=IFERROR(OFFSET('Historique client'!A$1,MATCH(0,COUNTIF(A$1:A50,client),0),),"")} -> LAMERIDI
A52: {=IFERROR(OFFSET('Historique client'!A$1,MATCH(0,COUNTIF(A$1:A51,client),0),),"")} -> LAPOMA00
A53: {=IFERROR(OFFSET('Historique client'!A$1,MATCH(0,COUNTIF(A$1:A52,client),0),),"")} -> LARINA
A54: {=IFERROR(OFFSET('Historique client'!A$1,MATCH(0,COUNTIF(A$1:A53,client),0),),"")} -> LAROCA00
A55: {=IFERROR(OFFSET('Historique client'!A$1,MATCH(0,COUNTIF(A$1:A54,client),0),),"")} -> LATLANTI
A56: {=IFERROR(OFFSET('Historique client'!A$1,MATCH(0,COUNTIF(A$1:A55,client),0),),"")} -> LE8HARR0
A57: {=IFERROR(OFFSET('Historique client'!A$1,MATCH(0,COUNTIF(A$1:A56,client),0),),"")} -> LEAF00
A58: {=IFERROR(OFFSET('Historique client'!A$1,MATCH(0,COUNTIF(A$1:A57,client),0),),"")} -> LECHE000
... A132: {=IFERROR(OFFSET('Historique client'!A$1,MATCH(0,COUNTIF(A$1:A131,client),0),),"")}
