Workbook
Name a: #REF!
Name an: #REF!
Name Base: #REF!,#REF!,#REF!,#REF!,#REF!,#REF!
Name Case: #REF!
Name case2: #REF!
Name case3: #REF!
Name COPIE: #REF!
Name DATEREF: #REF!
Name Excel_BuiltIn_Print_Area_55: #REF!
Name Excel_builtin_print_area_55bis: #REF!
Name excel_builtin_print_area_55ter: #REF!
Name Excel_BuiltIn_Print_Area_56: #REF!
Name Excel_BuiltIn_Print_Area_57: #REF!
Name Fériés: #REF!
Name LaBase: #REF!,#REF!,#REF!,#REF!,#REF!,#REF!
Name ListeToussaint: #REF!
Name Listnum: #REF!
Name Paques: #REF!
Name SEDZ: #REF!

Sheet CP
A1: 42373 | B1: 42374 | C1: 42375 | D1: 42376 | E1: 42377 | I1: 42373 | J1: 42374 | K1: 42375 | L1: 42376 | M1: 42377
A2: 3 | B2: 1 | C2: 3 | D2: 1 | E2: F | G2: Station 703761 | I2: =IFERROR(VLOOKUP(INDEX(A$2:A$26,INT(ROW(A2)/2)),Donnees!$A$2:$C$9,MOD(ROW(),2)+2,0),"") -> Station 703763 | J2: =IFERROR(VLOOKUP(INDEX(B$2:B$26,INT(ROW(B2)/2)),Donnees!$A$2:$C$9,MOD(ROW(),2)+2,0),"") -> Station 703761 | K2: =IFERROR(VLOOKUP(INDEX(C$2:C$26,INT(ROW(C2)/2)),Donnees!$A$2:$C$9,MOD(ROW(),2)+2,0),"") -> Station 703763 | L2: =IFERROR(VLOOKUP(INDEX(D$2:D$26,INT(ROW(D2)/2)),Donnees!$A$2:$C$9,MOD(ROW(),2)+2,0),"") -> Station 703761 | M2: =IFERROR(VLOOKUP(INDEX(E$2:E$26,INT(ROW(E2)/2)),Donnees!$A$2:$C$9,MOD(ROW(),2)+2,0),"") -> Formation
A3: 1 | B3: 3 | C3: 2 | G3: Agent 703918 | I3: =IFERROR(VLOOKUP(INDEX(A$2:A$26,INT(ROW(A3)/2)),Donnees!$A$2:$C$9,MOD(ROW(),2)+2,0),"") -> Agent 703920 | J3: =IFERROR(VLOOKUP(INDEX(B$2:B$26,INT(ROW(B3)/2)),Donnees!$A$2:$C$9,MOD(ROW(),2)+2,0),"") -> Agent 703918 | K3: =IFERROR(VLOOKUP(INDEX(C$2:C$26,INT(ROW(C3)/2)),Donnees!$A$2:$C$9,MOD(ROW(),2)+2,0),"") -> Agent 703920 | L3: =IFERROR(VLOOKUP(INDEX(D$2:D$26,INT(ROW(D3)/2)),Donnees!$A$2:$C$9,MOD(ROW(),2)+2,0),"") -> Agent 703918 | M3: =IFERROR(VLOOKUP(INDEX(E$2:E$26,INT(ROW(E3)/2)),Donnees!$A$2:$C$9,MOD(ROW(),2)+2,0),"") -> Formation
A4: 2 | G4: Station 703762 | I4: =IFERROR(VLOOKUP(INDEX(A$2:A$26,INT(ROW(A4)/2)),Donnees!$A$2:$C$9,MOD(ROW(),2)+2,0),"") -> Station 703761 | J4: =IFERROR(VLOOKUP(INDEX(B$2:B$26,INT(ROW(B4)/2)),Donnees!$A$2:$C$9,MOD(ROW(),2)+2,0),"") -> Station 703763 | K4: =IFERROR(VLOOKUP(INDEX(C$2:C$26,INT(ROW(C4)/2)),Donnees!$A$2:$C$9,MOD(ROW(),2)+2,0),"") -> Station 703762 | L4: =IFERROR(VLOOKUP(INDEX(D$2:D$26,INT(ROW(D4)/2)),Donnees!$A$2:$C$9,MOD(ROW(),2)+2,0),"") | M4: =IFERROR(VLOOKUP(INDEX(E$2:E$26,INT(ROW(E4)/2)),Donnees!$A$2:$C$9,MOD(ROW(),2)+2,0),"")
A5: 1 | B5: F | C5: F | D5: F | E5: F | G5: Agent 703919 | I5: =IFERROR(VLOOKUP(INDEX(A$2:A$26,INT(ROW(A5)/2)),Donnees!$A$2:$C$9,MOD(ROW(),2)+2,0),"") -> Agent 703918 | J5: =IFERROR(VLOOKUP(INDEX(B$2:B$26,INT(ROW(B5)/2)),Donnees!$A$2:$C$9,MOD(ROW(),2)+2,0),"") -> Agent 703920 | K5: =IFERROR(VLOOKUP(INDEX(C$2:C$26,INT(ROW(C5)/2)),Donnees!$A$2:$C$9,MOD(ROW(),2)+2,0),"") -> Agent 703919 | L5: =IFERROR(VLOOKUP(INDEX(D$2:D$26,INT(ROW(D5)/2)),Donnees!$A$2:$C$9,MOD(ROW(),2)+2,0),"") | M5: =IFERROR(VLOOKUP(INDEX(E$2:E$26,INT(ROW(E5)/2)),Donnees!$A$2:$C$9,MOD(ROW(),2)+2,0),"")
A6: 2 | B6: F | C6: F | D6: F | E6: F | I6: =IFERROR(VLOOKUP(INDEX(A$2:A$26,INT(ROW(A6)/2)),Donnees!$A$2:$C$9,MOD(ROW(),2)+2,0),"") -> Station 703762 | J6: =IFERROR(VLOOKUP(INDEX(B$2:B$26,INT(ROW(B6)/2)),Donnees!$A$2:$C$9,MOD(ROW(),2)+2,0),"") | K6: =IFERROR(VLOOKUP(INDEX(C$2:C$26,INT(ROW(C6)/2)),Donnees!$A$2:$C$9,MOD(ROW(),2)+2,0),"") | L6: =IFERROR(VLOOKUP(INDEX(D$2:D$26,INT(ROW(D6)/2)),Donnees!$A$2:$C$9,MOD(ROW(),2)+2,0),"") | M6: =IFERROR(VLOOKUP(INDEX(E$2:E$26,INT(ROW(E6)/2)),Donnees!$A$2:$C$9,MOD(ROW(),2)+2,0),"")
A7: 3 | I7: =IFERROR(VLOOKUP(INDEX(A$2:A$26,INT(ROW(A7)/2)),Donnees!$A$2:$C$9,MOD(ROW(),2)+2,0),"") -> Agent 703919 | J7: =IFERROR(VLOOKUP(INDEX(B$2:B$26,INT(ROW(B7)/2)),Donnees!$A$2:$C$9,MOD(ROW(),2)+2,0),"") | K7: =IFERROR(VLOOKUP(INDEX(C$2:C$26,INT(ROW(C7)/2)),Donnees!$A$2:$C$9,MOD(ROW(),2)+2,0),"") | L7: =IFERROR(VLOOKUP(INDEX(D$2:D$26,INT(ROW(D7)/2)),Donnees!$A$2:$C$9,MOD(ROW(),2)+2,0),"") | M7: =IFERROR(VLOOKUP(INDEX(E$2:E$26,INT(ROW(E7)/2)),Donnees!$A$2:$C$9,MOD(ROW(),2)+2,0),"")
A8: 1 | I8: =IFERROR(VLOOKUP(INDEX(A$2:A$26,INT(ROW(A8)/2)),Donnees!$A$2:$C$9,MOD(ROW(),2)+2,0),"") -> Station 703761 | J8: =IFERROR(VLOOKUP(INDEX(B$2:B$26,INT(ROW(B8)/2)),Donnees!$A$2:$C$9,MOD(ROW(),2)+2,0),"") -> Formation | K8: =IFERROR(VLOOKUP(INDEX(C$2:C$26,INT(ROW(C8)/2)),Donnees!$A$2:$C$9,MOD(ROW(),2)+2,0),"") -> Formation | L8: =IFERROR(VLOOKUP(INDEX(D$2:D$26,INT(ROW(D8)/2)),Donnees!$A$2:$C$9,MOD(ROW(),2)+2,0),"") -> Formation | M8: =IFERROR(VLOOKUP(INDEX(E$2:E$26,INT(ROW(E8)/2)),Donnees!$A$2:$C$9,MOD(ROW(),2)+2,0),"") -> Formation
A9: 2 | B9: F | C9: F | D9: F | E9: F | I9: =IFERROR(VLOOKUP(INDEX(A$2:A$26,INT(ROW(A9)/2)),Donnees!$A$2:$C$9,MOD(ROW(),2)+2,0),"") -> Agent 703918 | J9: =IFERROR(VLOOKUP(INDEX(B$2:B$26,INT(ROW(B9)/2)),Donnees!$A$2:$C$9,MOD(ROW(),2)+2,0),"") -> Formation | K9: =IFERROR(VLOOKUP(INDEX(C$2:C$26,INT(ROW(C9)/2)),Donnees!$A$2:$C$9,MOD(ROW(),2)+2,0),"") -> Formation | L9: =IFERROR(VLOOKUP(INDEX(D$2:D$26,INT(ROW(D9)/2)),Donnees!$A$2:$C$9,MOD(ROW(),2)+2,0),"") -> Formation | M9: =IFERROR(VLOOKUP(INDEX(E$2:E$26,INT(ROW(E9)/2)),Donnees!$A$2:$C$9,MOD(ROW(),2)+2,0),"") -> Formation
A10: 3 | C10: F | D10: F | E10: F | I10: =IFERROR(VLOOKUP(INDEX(A$2:A$26,INT(ROW(A10)/2)),Donnees!$A$2:$C$9,MOD(ROW(),2)+2,0),"") -> Station 703762 | J10: =IFERROR(VLOOKUP(INDEX(B$2:B$26,INT(ROW(B10)/2)),Donnees!$A$2:$C$9,MOD(ROW(),2)+2,0),"") -> Formation | K10: =IFERROR(VLOOKUP(INDEX(C$2:C$26,INT(ROW(C10)/2)),Donnees!$A$2:$C$9,MOD(ROW(),2)+2,0),"") -> Formation | L10: =IFERROR(VLOOKUP(INDEX(D$2:D$26,INT(ROW(D10)/2)),Donnees!$A$2:$C$9,MOD(ROW(),2)+2,0),"") -> Formation | M10: =IFERROR(VLOOKUP(INDEX(E$2:E$26,INT(ROW(E10)/2)),Donnees!$A$2:$C$9,MOD(ROW(),2)+2,0),"") -> Formation
A11: 1 | B11: F | C11: F | D11: F | E11: F | I11: =IFERROR(VLOOKUP(INDEX(A$2:A$26,INT(ROW(A11)/2)),Donnees!$A$2:$C$9,MOD(ROW(),2)+2,0),"") -> Agent 703919 | J11: =IFERROR(VLOOKUP(INDEX(B$2:B$26,INT(ROW(B11)/2)),Donnees!$A$2:$C$9,MOD(ROW(),2)+2,0),"") -> Formation | K11: =IFERROR(VLOOKUP(INDEX(C$2:C$26,INT(ROW(C11)/2)),Donnees!$A$2:$C$9,MOD(ROW(),2)+2,0),"") -> Formation | L11: =IFERROR(VLOOKUP(INDEX(D$2:D$26,INT(ROW(D11)/2)),Donnees!$A$2:$C$9,MOD(ROW(),2)+2,0),"") -> Formation | M11: =IFERROR(VLOOKUP(INDEX(E$2:E$26,INT(ROW(E11)/2)),Donnees!$A$2:$C$9,MOD(ROW(),2)+2,0),"") -> Formation
A12: 2 | B12: F | D12: F | E12: F | I12: =IFERROR(VLOOKUP(INDEX(A$2:A$26,INT(ROW(A12)/2)),Donnees!$A$2:$C$9,MOD(ROW(),2)+2,0),"") -> Station 703763 | J12: =IFERROR(VLOOKUP(INDEX(B$2:B$26,INT(ROW(B12)/2)),Donnees!$A$2:$C$9,MOD(ROW(),2)+2,0),"") | K12: =IFERROR(VLOOKUP(INDEX(C$2:C$26,INT(ROW(C12)/2)),Donnees!$A$2:$C$9,MOD(ROW(),2)+2,0),"") | L12: =IFERROR(VLOOKUP(INDEX(D$2:D$26,INT(ROW(D12)/2)),Donnees!$A$2:$C$9,MOD(ROW(),2)+2,0),"") | M12: =IFERROR(VLOOKUP(INDEX(E$2:E$26,INT(ROW(E12)/2)),Donnees!$A$2:$C$9,MOD(ROW(),2)+2,0),"")
A13: 3 | B13: F | C13: F | D13: F | E13: F | I13: =IFERROR(VLOOKUP(INDEX(A$2:A$26,INT(ROW(A13)/2)),Donnees!$A$2:$C$9,MOD(ROW(),2)+2,0),"") -> Agent 703920 | J13: =IFERROR(VLOOKUP(INDEX(B$2:B$26,INT(ROW(B13)/2)),Donnees!$A$2:$C$9,MOD(ROW(),2)+2,0),"") | K13: =IFERROR(VLOOKUP(INDEX(C$2:C$26,INT(ROW(C13)/2)),Donnees!$A$2:$C$9,MOD(ROW(),2)+2,0),"") | L13: =IFERROR(VLOOKUP(INDEX(D$2:D$26,INT(ROW(D13)/2)),Donnees!$A$2:$C$9,MOD(ROW(),2)+2,0),"") | M13: =IFERROR(VLOOKUP(INDEX(E$2:E$26,INT(ROW(E13)/2)),Donnees!$A$2:$C$9,MOD(ROW(),2)+2,0),"")
A14: 1 | B14: F | C14: F | D14: F | E14: F | I14: =IFERROR(VLOOKUP(INDEX(A$2:A$26,INT(ROW(A14)/2)),Donnees!$A$2:$C$9,MOD(ROW(),2)+2,0),"") -> Station 703761 | J14: =IFERROR(VLOOKUP(INDEX(B$2:B$26,INT(ROW(B14)/2)),Donnees!$A$2:$C$9,MOD(ROW(),2)+2,0),"") | K14: =IFERROR(VLOOKUP(INDEX(C$2:C$26,INT(ROW(C14)/2)),Donnees!$A$2:$C$9,MOD(ROW(),2)+2,0),"") | L14: =IFERROR(VLOOKUP(INDEX(D$2:D$26,INT(ROW(D14)/2)),Donnees!$A$2:$C$9,MOD(ROW(),2)+2,0),"") | M14: =IFERROR(VLOOKUP(INDEX(E$2:E$26,INT(ROW(E14)/2)),Donnees!$A$2:$C$9,MOD(ROW(),2)+2,0),"")
A15: 2 | C15: F | D15: F | I15: =IFERROR(VLOOKUP(INDEX(A$2:A$26,INT(ROW(A15)/2)),Donnees!$A$2:$C$9,MOD(ROW(),2)+2,0),"") -> Agent 703918 | J15: =IFERROR(VLOOKUP(INDEX(B$2:B$26,INT(ROW(B15)/2)),Donnees!$A$2:$C$9,MOD(ROW(),2)+2,0),"") | K15: =IFERROR(VLOOKUP(INDEX(C$2:C$26,INT(ROW(C15)/2)),Donnees!$A$2:$C$9,MOD(ROW(),2)+2,0),"") | L15: =IFERROR(VLOOKUP(INDEX(D$2:D$26,INT(ROW(D15)/2)),Donnees!$A$2:$C$9,MOD(ROW(),2)+2,0),"") | M15: =IFERROR(VLOOKUP(INDEX(E$2:E$26,INT(ROW(E15)/2)),Donnees!$A$2:$C$9,MOD(ROW(),2)+2,0),"")
A16: 3 | B16: F | C16: F | E16: F | I16: =IFERROR(VLOOKUP(INDEX(A$2:A$26,INT(ROW(A16)/2)),Donnees!$A$2:$C$9,MOD(ROW(),2)+2,0),"") -> Station 703762 | J16: =IFERROR(VLOOKUP(INDEX(B$2:B$26,INT(ROW(B16)/2)),Donnees!$A$2:$C$9,MOD(ROW(),2)+2,0),"") -> Formation | K16: =IFERROR(VLOOKUP(INDEX(C$2:C$26,INT(ROW(C16)/2)),Donnees!$A$2:$C$9,MOD(ROW(),2)+2,0),"") -> Formation | L16: =IFERROR(VLOOKUP(INDEX(D$2:D$26,INT(ROW(D16)/2)),Donnees!$A$2:$C$9,MOD(ROW(),2)+2,0),"") -> Formation | M16: =IFERROR(VLOOKUP(INDEX(E$2:E$26,INT(ROW(E16)/2)),Donnees!$A$2:$C$9,MOD(ROW(),2)+2,0),"") -> Formation
A17: 1 | I17: =IFERROR(VLOOKUP(INDEX(A$2:A$26,INT(ROW(A17)/2)),Donnees!$A$2:$C$9,MOD(ROW(),2)+2,0),"") -> Agent 703919 | J17: =IFERROR(VLOOKUP(INDEX(B$2:B$26,INT(ROW(B17)/2)),Donnees!$A$2:$C$9,MOD(ROW(),2)+2,0),"") -> Formation | K17: =IFERROR(VLOOKUP(INDEX(C$2:C$26,INT(ROW(C17)/2)),Donnees!$A$2:$C$9,MOD(ROW(),2)+2,0),"") -> Formation | L17: =IFERROR(VLOOKUP(INDEX(D$2:D$26,INT(ROW(D17)/2)),Donnees!$A$2:$C$9,MOD(ROW(),2)+2,0),"") -> Formation | M17: =IFERROR(VLOOKUP(INDEX(E$2:E$26,INT(ROW(E17)/2)),Donnees!$A$2:$C$9,MOD(ROW(),2)+2,0),"") -> Formation
A18: 2 | I18: =IFERROR(VLOOKUP(INDEX(A$2:A$26,INT(ROW(A18)/2)),Donnees!$A$2:$C$9,MOD(ROW(),2)+2,0),"") -> Station 703763 | J18: =IFERROR(VLOOKUP(INDEX(B$2:B$26,INT(ROW(B18)/2)),Donnees!$A$2:$C$9,MOD(ROW(),2)+2,0),"") | K18: =IFERROR(VLOOKUP(INDEX(C$2:C$26,INT(ROW(C18)/2)),Donnees!$A$2:$C$9,MOD(ROW(),2)+2,0),"") -> Formation | L18: =IFERROR(VLOOKUP(INDEX(D$2:D$26,INT(ROW(D18)/2)),Donnees!$A$2:$C$9,MOD(ROW(),2)+2,0),"") -> Formation | M18: =IFERROR(VLOOKUP(INDEX(E$2:E$26,INT(ROW(E18)/2)),Donnees!$A$2:$C$9,MOD(ROW(),2)+2,0),"") -> Formation
A19: 3 | D19: 4 | I19: =IFERROR(VLOOKUP(INDEX(A$2:A$26,INT(ROW(A19)/2)),Donnees!$A$2:$C$9,MOD(ROW(),2)+2,0),"") -> Agent 703920 | J19: =IFERROR(VLOOKUP(INDEX(B$2:B$26,INT(ROW(B19)/2)),Donnees!$A$2:$C$9,MOD(ROW(),2)+2,0),"") | K19: =IFERROR(VLOOKUP(INDEX(C$2:C$26,INT(ROW(C19)/2)),Donnees!$A$2:$C$9,MOD(ROW(),2)+2,0),"") -> Formation | L19: =IFERROR(VLOOKUP(INDEX(D$2:D$26,INT(ROW(D19)/2)),Donnees!$A$2:$C$9,MOD(ROW(),2)+2,0),"") -> Formation | M19: =IFERROR(VLOOKUP(INDEX(E$2:E$26,INT(ROW(E19)/2)),Donnees!$A$2:$C$9,MOD(ROW(),2)+2,0),"") -> Formation
A20: 1 | C20: 3 | I20: =IFERROR(VLOOKUP(INDEX(A$2:A$26,INT(ROW(A20)/2)),Donnees!$A$2:$C$9,MOD(ROW(),2)+2,0),"") -> Station 703761 | J20: =IFERROR(VLOOKUP(INDEX(B$2:B$26,INT(ROW(B20)/2)),Donnees!$A$2:$C$9,MOD(ROW(),2)+2,0),"") -> Formation | K20: =IFERROR(VLOOKUP(INDEX(C$2:C$26,INT(ROW(C20)/2)),Donnees!$A$2:$C$9,MOD(ROW(),2)+2,0),"") -> Formation | L20: =IFERROR(VLOOKUP(INDEX(D$2:D$26,INT(ROW(D20)/2)),Donnees!$A$2:$C$9,MOD(ROW(),2)+2,0),"") -> Formation | M20: =IFERROR(VLOOKUP(INDEX(E$2:E$26,INT(ROW(E20)/2)),Donnees!$A$2:$C$9,MOD(ROW(),2)+2,0),"") -> Formation
A21: 2 | B21: C/2 | C21: 2/C | D21: 2 | I21: =IFERROR(VLOOKUP(INDEX(A$2:A$26,INT(ROW(A21)/2)),Donnees!$A$2:$C$9,MOD(ROW(),2)+2,0),"") -> Agent 703918 | J21: =IFERROR(VLOOKUP(INDEX(B$2:B$26,INT(ROW(B21)/2)),Donnees!$A$2:$C$9,MOD(ROW(),2)+2,0),"") -> Formation | K21: =IFERROR(VLOOKUP(INDEX(C$2:C$26,INT(ROW(C21)/2)),Donnees!$A$2:$C$9,MOD(ROW(),2)+2,0),"") -> Formation | L21: =IFERROR(VLOOKUP(INDEX(D$2:D$26,INT(ROW(D21)/2)),Donnees!$A$2:$C$9,MOD(ROW(),2)+2,0),"") -> Formation | M21: =IFERROR(VLOOKUP(INDEX(E$2:E$26,INT(ROW(E21)/2)),Donnees!$A$2:$C$9,MOD(ROW(),2)+2,0),"") -> Formation
A22: 3 | I22: =IFERROR(VLOOKUP(INDEX(A$2:A$26,INT(ROW(A22)/2)),Donnees!$A$2:$C$9,MOD(ROW(),2)+2,0),"") -> Station 703762 | J22: =IFERROR(VLOOKUP(INDEX(B$2:B$26,INT(ROW(B22)/2)),Donnees!$A$2:$C$9,MOD(ROW(),2)+2,0),"") -> Formation | K22: =IFERROR(VLOOKUP(INDEX(C$2:C$26,INT(ROW(C22)/2)),Donnees!$A$2:$C$9,MOD(ROW(),2)+2,0),"") | L22: =IFERROR(VLOOKUP(INDEX(D$2:D$26,INT(ROW(D22)/2)),Donnees!$A$2:$C$9,MOD(ROW(),2)+2,0),"") -> Formation | M22: =IFERROR(VLOOKUP(INDEX(E$2:E$26,INT(ROW(E22)/2)),Donnees!$A$2:$C$9,MOD(ROW(),2)+2,0),"") -> Formation
A23: 1 | D23: e | I23: =IFERROR(VLOOKUP(INDEX(A$2:A$26,INT(ROW(A23)/2)),Donnees!$A$2:$C$9,MOD(ROW(),2)+2,0),"") -> Agent 703919 | J23: =IFERROR(VLOOKUP(INDEX(B$2:B$26,INT(ROW(B23)/2)),Donnees!$A$2:$C$9,MOD(ROW(),2)+2,0),"") -> Formation | K23: =IFERROR(VLOOKUP(INDEX(C$2:C$26,INT(ROW(C23)/2)),Donnees!$A$2:$C$9,MOD(ROW(),2)+2,0),"") | L23: =IFERROR(VLOOKUP(INDEX(D$2:D$26,INT(ROW(D23)/2)),Donnees!$A$2:$C$9,MOD(ROW(),2)+2,0),"") -> Formation | M23: =IFERROR(VLOOKUP(INDEX(E$2:E$26,INT(ROW(E23)/2)),Donnees!$A$2:$C$9,MOD(ROW(),2)+2,0),"") -> Formation
A24: 2 | C24: 1 | I24: =IFERROR(VLOOKUP(INDEX(A$2:A$26,INT(ROW(A24)/2)),Donnees!$A$2:$C$9,MOD(ROW(),2)+2,0),"") -> Station 703763 | J24: =IFERROR(VLOOKUP(INDEX(B$2:B$26,INT(ROW(B24)/2)),Donnees!$A$2:$C$9,MOD(ROW(),2)+2,0),"") -> Formation | K24: =IFERROR(VLOOKUP(INDEX(C$2:C$26,INT(ROW(C24)/2)),Donnees!$A$2:$C$9,MOD(ROW(),2)+2,0),"") -> Formation | L24: =IFERROR(VLOOKUP(INDEX(D$2:D$26,INT(ROW(D24)/2)),Donnees!$A$2:$C$9,MOD(ROW(),2)+2,0),"") -> Formation | M24: =IFERROR(VLOOKUP(INDEX(E$2:E$26,INT(ROW(E24)/2)),Donnees!$A$2:$C$9,MOD(ROW(),2)+2,0),"") -> Formation
A25: 3 | I25: =IFERROR(VLOOKUP(INDEX(A$2:A$26,INT(ROW(A25)/2)),Donnees!$A$2:$C$9,MOD(ROW(),2)+2,0),"") -> Agent 703920 | J25: =IFERROR(VLOOKUP(INDEX(B$2:B$26,INT(ROW(B25)/2)),Donnees!$A$2:$C$9,MOD(ROW(),2)+2,0),"") -> Formation | K25: =IFERROR(VLOOKUP(INDEX(C$2:C$26,INT(ROW(C25)/2)),Donnees!$A$2:$C$9,MOD(ROW(),2)+2,0),"") -> Formation | L25: =IFERROR(VLOOKUP(INDEX(D$2:D$26,INT(ROW(D25)/2)),Donnees!$A$2:$C$9,MOD(ROW(),2)+2,0),"") -> Formation | M25: =IFERROR(VLOOKUP(INDEX(E$2:E$26,INT(ROW(E25)/2)),Donnees!$A$2:$C$9,MOD(ROW(),2)+2,0),"") -> Formation
A26: 1 | C26: a | E26: a | I26: =IFERROR(VLOOKUP(INDEX(A$2:A$26,INT(ROW(A26)/2)),Donnees!$A$2:$C$9,MOD(ROW(),2)+2,0),"") -> Station 703761 | J26: =IFERROR(VLOOKUP(INDEX(B$2:B$26,INT(ROW(B26)/2)),Donnees!$A$2:$C$9,MOD(ROW(),2)+2,0),"") -> Formation | K26: =IFERROR(VLOOKUP(INDEX(C$2:C$26,INT(ROW(C26)/2)),Donnees!$A$2:$C$9,MOD(ROW(),2)+2,0),"") -> Formation | L26: =IFERROR(VLOOKUP(INDEX(D$2:D$26,INT(ROW(D26)/2)),Donnees!$A$2:$C$9,MOD(ROW(),2)+2,0),"") -> Formation | M26: =IFERROR(VLOOKUP(INDEX(E$2:E$26,INT(ROW(E26)/2)),Donnees!$A$2:$C$9,MOD(ROW(),2)+2,0),"") -> Formation
I27: =IFERROR(VLOOKUP(INDEX(A$2:A$26,INT(ROW(A27)/2)),Donnees!$A$2:$C$9,MOD(ROW(),2)+2,0),"") -> Agent 703918 | J27: =IFERROR(VLOOKUP(INDEX(B$2:B$26,INT(ROW(B27)/2)),Donnees!$A$2:$C$9,MOD(ROW(),2)+2,0),"") -> Formation | K27: =IFERROR(VLOOKUP(INDEX(C$2:C$26,INT(ROW(C27)/2)),Donnees!$A$2:$C$9,MOD(ROW(),2)+2,0),"") -> Formation | L27: =IFERROR(VLOOKUP(INDEX(D$2:D$26,INT(ROW(D27)/2)),Donnees!$A$2:$C$9,MOD(ROW(),2)+2,0),"") -> Formation | M27: =IFERROR(VLOOKUP(INDEX(E$2:E$26,INT(ROW(E27)/2)),Donnees!$A$2:$C$9,MOD(ROW(),2)+2,0),"") -> Formation
I28: =IFERROR(VLOOKUP(INDEX(A$2:A$26,INT(ROW(A28)/2)),Donnees!$A$2:$C$9,MOD(ROW(),2)+2,0),"") -> Station 703762 | J28: =IFERROR(VLOOKUP(INDEX(B$2:B$26,INT(ROW(B28)/2)),Donnees!$A$2:$C$9,MOD(ROW(),2)+2,0),"") | K28: =IFERROR(VLOOKUP(INDEX(C$2:C$26,INT(ROW(C28)/2)),Donnees!$A$2:$C$9,MOD(ROW(),2)+2,0),"") -> Formation | L28: =IFERROR(VLOOKUP(INDEX(D$2:D$26,INT(ROW(D28)/2)),Donnees!$A$2:$C$9,MOD(ROW(),2)+2,0),"") -> Formation | M28: =IFERROR(VLOOKUP(INDEX(E$2:E$26,INT(ROW(E28)/2)),Donnees!$A$2:$C$9,MOD(ROW(),2)+2,0),"")
I29: =IFERROR(VLOOKUP(INDEX(A$2:A$26,INT(ROW(A29)/2)),Donnees!$A$2:$C$9,MOD(ROW(),2)+2,0),"") -> Agent 703919 | J29: =IFERROR(VLOOKUP(INDEX(B$2:B$26,INT(ROW(B29)/2)),Donnees!$A$2:$C$9,MOD(ROW(),2)+2,0),"") | K29: =IFERROR(VLOOKUP(INDEX(C$2:C$26,INT(ROW(C29)/2)),Donnees!$A$2:$C$9,MOD(ROW(),2)+2,0),"") -> Formation | L29: =IFERROR(VLOOKUP(INDEX(D$2:D$26,INT(ROW(D29)/2)),Donnees!$A$2:$C$9,MOD(ROW(),2)+2,0),"") -> Formation | M29: =IFERROR(VLOOKUP(INDEX(E$2:E$26,INT(ROW(E29)/2)),Donnees!$A$2:$C$9,MOD(ROW(),2)+2,0),"")
I30: =IFERROR(VLOOKUP(INDEX(A$2:A$26,INT(ROW(A30)/2)),Donnees!$A$2:$C$9,MOD(ROW(),2)+2,0),"") -> Station 703763 | J30: =IFERROR(VLOOKUP(INDEX(B$2:B$26,INT(ROW(B30)/2)),Donnees!$A$2:$C$9,MOD(ROW(),2)+2,0),"") -> Formation | K30: =IFERROR(VLOOKUP(INDEX(C$2:C$26,INT(ROW(C30)/2)),Donnees!$A$2:$C$9,MOD(ROW(),2)+2,0),"") -> Formation | L30: =IFERROR(VLOOKUP(INDEX(D$2:D$26,INT(ROW(D30)/2)),Donnees!$A$2:$C$9,MOD(ROW(),2)+2,0),"") | M30: =IFERROR(VLOOKUP(INDEX(E$2:E$26,INT(ROW(E30)/2)),Donnees!$A$2:$C$9,MOD(ROW(),2)+2,0),"") -> Formation
I31: =IFERROR(VLOOKUP(INDEX(A$2:A$26,INT(ROW(A31)/2)),Donnees!$A$2:$C$9,MOD(ROW(),2)+2,0),"") -> Agent 703920 | J31: =IFERROR(VLOOKUP(INDEX(B$2:B$26,INT(ROW(B31)/2)),Donnees!$A$2:$C$9,MOD(ROW(),2)+2,0),"") -> Formation | K31: =IFERROR(VLOOKUP(INDEX(C$2:C$26,INT(ROW(C31)/2)),Donnees!$A$2:$C$9,MOD(ROW(),2)+2,0),"") -> Formation | L31: =IFERROR(VLOOKUP(INDEX(D$2:D$26,INT(ROW(D31)/2)),Donnees!$A$2:$C$9,MOD(ROW(),2)+2,0),"") | M31: =IFERROR(VLOOKUP(INDEX(E$2:E$26,INT(ROW(E31)/2)),Donnees!$A$2:$C$9,MOD(ROW(),2)+2,0),"") -> Formation
I32: =IFERROR(VLOOKUP(INDEX(A$2:A$26,INT(ROW(A32)/2)),Donnees!$A$2:$C$9,MOD(ROW(),2)+2,0),"") -> Station 703761 | J32: =IFERROR(VLOOKUP(INDEX(B$2:B$26,INT(ROW(B32)/2)),Donnees!$A$2:$C$9,MOD(ROW(),2)+2,0),"") | K32: =IFERROR(VLOOKUP(INDEX(C$2:C$26,INT(ROW(C32)/2)),Donnees!$A$2:$C$9,MOD(ROW(),2)+2,0),"") | L32: =IFERROR(VLOOKUP(INDEX(D$2:D$26,INT(ROW(D32)/2)),Donnees!$A$2:$C$9,MOD(ROW(),2)+2,0),"") | M32: =IFERROR(VLOOKUP(INDEX(E$2:E$26,INT(ROW(E32)/2)),Donnees!$A$2:$C$9,MOD(ROW(),2)+2,0),"")
I33: =IFERROR(VLOOKUP(INDEX(A$2:A$26,INT(ROW(A33)/2)),Donnees!$A$2:$C$9,MOD(ROW(),2)+2,0),"") -> Agent 703918 | J33: =IFERROR(VLOOKUP(INDEX(B$2:B$26,INT(ROW(B33)/2)),Donnees!$A$2:$C$9,MOD(ROW(),2)+2,0),"") | K33: =IFERROR(VLOOKUP(INDEX(C$2:C$26,INT(ROW(C33)/2)),Donnees!$A$2:$C$9,MOD(ROW(),2)+2,0),"") | L33: =IFERROR(VLOOKUP(INDEX(D$2:D$26,INT(ROW(D33)/2)),Donnees!$A$2:$C$9,MOD(ROW(),2)+2,0),"") | M33: =IFERROR(VLOOKUP(INDEX(E$2:E$26,INT(ROW(E33)/2)),Donnees!$A$2:$C$9,MOD(ROW(),2)+2,0),"")
I34: =IFERROR(VLOOKUP(INDEX(A$2:A$26,INT(ROW(A34)/2)),Donnees!$A$2:$C$9,MOD(ROW(),2)+2,0),"") -> Station 703762 | J34: =IFERROR(VLOOKUP(INDEX(B$2:B$26,INT(ROW(B34)/2)),Donnees!$A$2:$C$9,MOD(ROW(),2)+2,0),"") | K34: =IFERROR(VLOOKUP(INDEX(C$2:C$26,INT(ROW(C34)/2)),Donnees!$A$2:$C$9,MOD(ROW(),2)+2,0),"") | L34: =IFERROR(VLOOKUP(INDEX(D$2:D$26,INT(ROW(D34)/2)),Donnees!$A$2:$C$9,MOD(ROW(),2)+2,0),"") | M34: =IFERROR(VLOOKUP(INDEX(E$2:E$26,INT(ROW(E34)/2)),Donnees!$A$2:$C$9,MOD(ROW(),2)+2,0),"")
I35: =IFERROR(VLOOKUP(INDEX(A$2:A$26,INT(ROW(A35)/2)),Donnees!$A$2:$C$9,MOD(ROW(),2)+2,0),"") -> Agent 703919 | J35: =IFERROR(VLOOKUP(INDEX(B$2:B$26,INT(ROW(B35)/2)),Donnees!$A$2:$C$9,MOD(ROW(),2)+2,0),"") | K35: =IFERROR(VLOOKUP(INDEX(C$2:C$26,INT(ROW(C35)/2)),Donnees!$A$2:$C$9,MOD(ROW(),2)+2,0),"") | L35: =IFERROR(VLOOKUP(INDEX(D$2:D$26,INT(ROW(D35)/2)),Donnees!$A$2:$C$9,MOD(ROW(),2)+2,0),"") | M35: =IFERROR(VLOOKUP(INDEX(E$2:E$26,INT(ROW(E35)/2)),Donnees!$A$2:$C$9,MOD(ROW(),2)+2,0),"")
I36: =IFERROR(VLOOKUP(INDEX(A$2:A$26,INT(ROW(A36)/2)),Donnees!$A$2:$C$9,MOD(ROW(),2)+2,0),"") -> Station 703763 | J36: =IFERROR(VLOOKUP(INDEX(B$2:B$26,INT(ROW(B36)/2)),Donnees!$A$2:$C$9,MOD(ROW(),2)+2,0),"") | K36: =IFERROR(VLOOKUP(INDEX(C$2:C$26,INT(ROW(C36)/2)),Donnees!$A$2:$C$9,MOD(ROW(),2)+2,0),"") | L36: =IFERROR(VLOOKUP(INDEX(D$2:D$26,INT(ROW(D36)/2)),Donnees!$A$2:$C$9,MOD(ROW(),2)+2,0),"") | M36: =IFERROR(VLOOKUP(INDEX(E$2:E$26,INT(ROW(E36)/2)),Donnees!$A$2:$C$9,MOD(ROW(),2)+2,0),"")
I37: =IFERROR(VLOOKUP(INDEX(A$2:A$26,INT(ROW(A37)/2)),Donnees!$A$2:$C$9,MOD(ROW(),2)+2,0),"") -> Agent 703920 | J37: =IFERROR(VLOOKUP(INDEX(B$2:B$26,INT(ROW(B37)/2)),Donnees!$A$2:$C$9,MOD(ROW(),2)+2,0),"") | K37: =IFERROR(VLOOKUP(INDEX(C$2:C$26,INT(ROW(C37)/2)),Donnees!$A$2:$C$9,MOD(ROW(),2)+2,0),"") | L37: =IFERROR(VLOOKUP(INDEX(D$2:D$26,INT(ROW(D37)/2)),Donnees!$A$2:$C$9,MOD(ROW(),2)+2,0),"") | M37: =IFERROR(VLOOKUP(INDEX(E$2:E$26,INT(ROW(E37)/2)),Donnees!$A$2:$C$9,MOD(ROW(),2)+2,0),"")
I38: =IFERROR(VLOOKUP(INDEX(A$2:A$26,INT(ROW(A38)/2)),Donnees!$A$2:$C$9,MOD(ROW(),2)+2,0),"") -> Station 703761 | J38: =IFERROR(VLOOKUP(INDEX(B$2:B$26,INT(ROW(B38)/2)),Donnees!$A$2:$C$9,MOD(ROW(),2)+2,0),"") | K38: =IFERROR(VLOOKUP(INDEX(C$2:C$26,INT(ROW(C38)/2)),Donnees!$A$2:$C$9,MOD(ROW(),2)+2,0),"") -> Station 703763 | L38: =IFERROR(VLOOKUP(INDEX(D$2:D$26,INT(ROW(D38)/2)),Donnees!$A$2:$C$9,MOD(ROW(),2)+2,0),"") | M38: =IFERROR(VLOOKUP(INDEX(E$2:E$26,INT(ROW(E38)/2)),Donnees!$A$2:$C$9,MOD(ROW(),2)+2,0),"")
... I61: =IFERROR(VLOOKUP(INDEX(A$2:A$26,INT(ROW(A61)/2)),Donnees!$A$2:$C$9,MOD(ROW(),2)+2,0),"") | J61: =IFERROR(VLOOKUP(INDEX(B$2:B$26,INT(ROW(B61)/2)),Donnees!$A$2:$C$9,MOD(ROW(),2)+2,0),"") | K61: =IFERROR(VLOOKUP(INDEX(C$2:C$26,INT(ROW(C61)/2)),Donnees!$A$2:$C$9,MOD(ROW(),2)+2,0),"") | L61: =IFERROR(VLOOKUP(INDEX(D$2:D$26,INT(ROW(D61)/2)),Donnees!$A$2:$C$9,MOD(ROW(),2)+2,0),"") | M61: =IFERROR(VLOOKUP(INDEX(E$2:E$26,INT(ROW(E61)/2)),Donnees!$A$2:$C$9,MOD(ROW(),2)+2,0),"")

Sheet Donnees
A1: Cellule planning annuel | B1: Cellule Haut | C1: Cellule Bas
A2: 1 | B2: Station 703761 | C2: Agent 703918
A3: 2 | B3: Station 703762 | C3: Agent 703919
A4: 3 | B4: Station 703763 | C4: Agent 703920
A5: C | B5: Congés | C5: Congés
A6: F | B6: Formation | C6: Formation
A7: 2/C | B7: Congés
A8: C/2 | C8: Congés
A9: Ma | B9: Maladie | C9: Maladie
A77: Boucle

Sheet BDD
A1: VACANCES | E1: Couleur | F1: F
C2: DU | D2: AU
A3: NOEL | C3: =+#REF! -> #REF! | D3: 42373
A4: HIVER | C4: 42422 | D4: 42434
A5: PRINTEMPS | C5: 42480 | D5: 42485
A6: ÉTÉ | C6: 42552 | D6: 42618
A7: TOUSSAINT | C7: 42663 | D7: 42684
A8: NOEL | C8: 42721 | D8: =+#REF! -> #REF!
