Workbook
Name annéeencours: données!$M$2
Name base: données!$B$1:$J$1
Name coutchat: données!$H$2:$H$17
Name coutchien: données!$D$2:$D$18
Name coutnac: données!$L$2:$L$17
Name dept: données!$B$2
Name listechat: données!$F$2:$F$17
Name listechien: données!$B$2:$B$18
Name listenac: données!$J$2:$J$17

Sheet Janvier
A3: =données!N2 -> Janvier | C3: ="chiffre d'affaires du mois: "&TEXT(SUM(AI6:AI27 )," # ##0,00 €") -> chiffre d'affaires du mois: 0,00 € | AH3: =annéeencours -> 2019
C4: =DATE(annéeencours,MONTH(1&A3),1) -> 43466 | D4: =C4+1 -> 43467 | E4: =D4+1 -> 43468 | F4: =E4+1 -> 43469 | G4: =F4+1 -> 43470 | H4: =G4+1 -> 43471 | I4: =H4+1 -> 43472 | J4: =I4+1 -> 43473 | K4: =J4+1 -> 43474 | ... AG4: =AF4+1 -> 43496
A5: noms de l'animal | B5: Colonne1 | C5: 1 | D5: 2 | E5: 3 | F5: 4 | G5: 5 | H5: 6 | I5: 7 | J5: 8 | K5: 9 | L5: 10 | M5: 11 | N5: 12 | O5: 13 | P5: 14 | Q5: 15 | R5: 16 | S5: 17 | T5: 18 | U5: 19 | V5: 20 | W5: 21 | X5: 22 | Y5: 23 | Z5: 24 | AA5: 25 | AB5: 26 | AC5: 27 | AD5: 28 | AE5: 29 | AF5: 30 | AG5: 31 | AH5: Total jour | AI5: Total €
AH6: =COUNTA(Janvier!$C6:$AG6) -> 0 | AI6: =IFERROR(SUMPRODUCT(SUMIF(INDIRECT("liste"&$B6),Janvier!$C6:$AG6,INDIRECT("cout"&$B6))),"")
AH7: =COUNTA(Janvier!$C7:$AG7) -> 0 | AI7: =IFERROR(SUMPRODUCT(SUMIF(INDIRECT("liste"&$B7),Janvier!$C7:$AG7,INDIRECT("cout"&$B7))),"")
AH8: =COUNTA(Janvier!$C8:$AG8) -> 0 | AI8: =IFERROR(SUMPRODUCT(SUMIF(INDIRECT("liste"&$B8),Janvier!$C8:$AG8,INDIRECT("cout"&$B8))),"")
AH9: =COUNTA(Janvier!$C9:$AG9) -> 0 | AI9: =IFERROR(SUMPRODUCT(SUMIF(INDIRECT("liste"&$B9),Janvier!$C9:$AG9,INDIRECT("cout"&$B9))),"")
AH10: =COUNTA(Janvier!$C10:$AG10) -> 0 | AI10: =IFERROR(SUMPRODUCT(SUMIF(INDIRECT("liste"&$B10),Janvier!$C10:$AG10,INDIRECT("cout"&$B10))),"")
AH11: =COUNTA(Janvier!$C11:$AG11) -> 0 | AI11: =IFERROR(SUMPRODUCT(SUMIF(INDIRECT("liste"&$B11),Janvier!$C11:$AG11,INDIRECT("cout"&$B11))),"")
AH12: =COUNTA(Janvier!$C12:$AG12) -> 0 | AI12: =IFERROR(SUMPRODUCT(SUMIF(INDIRECT("liste"&$B12),Janvier!$C12:$AG12,INDIRECT("cout"&$B12))),"")
AH13: =COUNTA(Janvier!$C13:$AG13) -> 0 | AI13: =IFERROR(SUMPRODUCT(SUMIF(INDIRECT("liste"&$B13),Janvier!$C13:$AG13,INDIRECT("cout"&$B13))),"")
AH14: =COUNTA(Janvier!$C14:$AG14) -> 0 | AI14: =IFERROR(SUMPRODUCT(SUMIF(INDIRECT("liste"&$B14),Janvier!$C14:$AG14,INDIRECT("cout"&$B14))),"")
AH15: =COUNTA(Janvier!$C15:$AG15) -> 0 | AI15: =IFERROR(SUMPRODUCT(SUMIF(INDIRECT("liste"&$B15),Janvier!$C15:$AG15,INDIRECT("cout"&$B15))),"")
AH16: =COUNTA(Janvier!$C16:$AG16) -> 0 | AI16: =IFERROR(SUMPRODUCT(SUMIF(INDIRECT("liste"&$B16),Janvier!$C16:$AG16,INDIRECT("cout"&$B16))),"")
AH17: =COUNTA(Janvier!$C17:$AG17) -> 0 | AI17: =IFERROR(SUMPRODUCT(SUMIF(INDIRECT("liste"&$B17),Janvier!$C17:$AG17,INDIRECT("cout"&$B17))),"")
... AH27: =COUNTA(Janvier!$C27:$AG27) -> 0 | AI27: =IFERROR(SUMPRODUCT(SUMIF(INDIRECT("liste"&$B27),Janvier!$C27:$AG27,INDIRECT("cout"&$B27))),"")

Sheet Février
A3: =données!N3 -> Février | C3: ="chiffre d'affaires du mois: "&TEXT(SUM(AI6:AI27 )," # ##0,00 €") -> chiffre d'affaires du mois: 0,00 € | AH3: =annéeencours -> 2019
C4: =DATE(annéeencours,MONTH(1&A3),1) -> 43497 | D4: =C4+1 -> 43498 | E4: =D4+1 -> 43499 | F4: =E4+1 -> 43500 | G4: =F4+1 -> 43501 | H4: =G4+1 -> 43502 | I4: =H4+1 -> 43503 | J4: =I4+1 -> 43504 | K4: =J4+1 -> 43505 | ... AC4: =AB4+1 -> 43523 | AD4: =IF(MONTH(AC4+1)>MONTH(1&$A3),"",AC4+1) -> 43524 | AE4: =IFERROR(IF(MONTH(AD4+1)<>MONTH(1&$A3),"",AD4+1),"") | AF4: =IFERROR(IF(MONTH(AE4+1)<>MONTH(1&$A3),"",AE4+1),"") | AG4: =IFERROR(IF(MONTH(AF4+1)<>MONTH(1&$A3),"",AF4+1),"")
A5: noms de l'animal | B5: Colonne1 | C5: 1 | D5: 2 | E5: 3 | F5: 4 | G5: 5 | H5: 6 | I5: 7 | J5: 8 | K5: 9 | L5: 10 | M5: 11 | N5: 12 | O5: 13 | P5: 14 | Q5: 15 | R5: 16 | S5: 17 | T5: 18 | U5: 19 | V5: 20 | W5: 21 | X5: 22 | Y5: 23 | Z5: 24 | AA5: 25 | AB5: 26 | AC5: 27 | AD5: 28 | AE5: 29 | AF5: 30 | AG5: 31 | AH5: Total jour | AI5: Total €
AH6: =COUNTA(Février!$C6:$AG6) -> 0 | AI6: =IFERROR(SUMPRODUCT(SUMIF(INDIRECT("liste"&$B6),Février!$C6:$AG6,INDIRECT("cout"&$B6))),"")
AH7: =COUNTA(Février!$C7:$AG7) -> 0 | AI7: =IFERROR(SUMPRODUCT(SUMIF(INDIRECT("liste"&$B7),Février!$C7:$AG7,INDIRECT("cout"&$B7))),"")
AH8: =COUNTA(Février!$C8:$AG8) -> 0 | AI8: =IFERROR(SUMPRODUCT(SUMIF(INDIRECT("liste"&$B8),Février!$C8:$AG8,INDIRECT("cout"&$B8))),"")
AH9: =COUNTA(Février!$C9:$AG9) -> 0 | AI9: =IFERROR(SUMPRODUCT(SUMIF(INDIRECT("liste"&$B9),Février!$C9:$AG9,INDIRECT("cout"&$B9))),"")
AH10: =COUNTA(Février!$C10:$AG10) -> 0 | AI10: =IFERROR(SUMPRODUCT(SUMIF(INDIRECT("liste"&$B10),Février!$C10:$AG10,INDIRECT("cout"&$B10))),"")
AH11: =COUNTA(Février!$C11:$AG11) -> 0 | AI11: =IFERROR(SUMPRODUCT(SUMIF(INDIRECT("liste"&$B11),Février!$C11:$AG11,INDIRECT("cout"&$B11))),"")
AH12: =COUNTA(Février!$C12:$AG12) -> 0 | AI12: =IFERROR(SUMPRODUCT(SUMIF(INDIRECT("liste"&$B12),Février!$C12:$AG12,INDIRECT("cout"&$B12))),"")
AH13: =COUNTA(Février!$C13:$AG13) -> 0 | AI13: =IFERROR(SUMPRODUCT(SUMIF(INDIRECT("liste"&$B13),Février!$C13:$AG13,INDIRECT("cout"&$B13))),"")
AH14: =COUNTA(Février!$C14:$AG14) -> 0 | AI14: =IFERROR(SUMPRODUCT(SUMIF(INDIRECT("liste"&$B14),Février!$C14:$AG14,INDIRECT("cout"&$B14))),"")
AH15: =COUNTA(Février!$C15:$AG15) -> 0 | AI15: =IFERROR(SUMPRODUCT(SUMIF(INDIRECT("liste"&$B15),Février!$C15:$AG15,INDIRECT("cout"&$B15))),"")
AH16: =COUNTA(Février!$C16:$AG16) -> 0 | AI16: =IFERROR(SUMPRODUCT(SUMIF(INDIRECT("liste"&$B16),Février!$C16:$AG16,INDIRECT("cout"&$B16))),"")
AH17: =COUNTA(Février!$C17:$AG17) -> 0 | AI17: =IFERROR(SUMPRODUCT(SUMIF(INDIRECT("liste"&$B17),Février!$C17:$AG17,INDIRECT("cout"&$B17))),"")
... AH27: =COUNTA(Février!$C27:$AG27) -> 0 | AI27: =IFERROR(SUMPRODUCT(SUMIF(INDIRECT("liste"&$B27),Février!$C27:$AG27,INDIRECT("cout"&$B27))),"")

Sheet Mars
A3: =données!N4 -> Mars | C3: ="chiffre d'affaires du mois: "&TEXT(SUM(AI6:AI27 )," # ##0,00 €") -> chiffre d'affaires du mois: 0,00 € | AH3: =annéeencours -> 2019
C4: =DATE(annéeencours,MONTH(1&A3),1) -> 43525 | D4: =C4+1 -> 43526 | E4: =D4+1 -> 43527 | F4: =E4+1 -> 43528 | G4: =F4+1 -> 43529 | H4: =G4+1 -> 43530 | I4: =H4+1 -> 43531 | J4: =I4+1 -> 43532 | K4: =J4+1 -> 43533 | ... AG4: =AF4+1 -> 43555
A5: noms de l'animal | B5: Colonne1 | C5: 1 | D5: 2 | E5: 3 | F5: 4 | G5: 5 | H5: 6 | I5: 7 | J5: 8 | K5: 9 | L5: 10 | M5: 11 | N5: 12 | O5: 13 | P5: 14 | Q5: 15 | R5: 16 | S5: 17 | T5: 18 | U5: 19 | V5: 20 | W5: 21 | X5: 22 | Y5: 23 | Z5: 24 | AA5: 25 | AB5: 26 | AC5: 27 | AD5: 28 | AE5: 29 | AF5: 30 | AG5: 31 | AH5: Total jour | AI5: Total €
AH6: =COUNTA(Mars!$C6:$AG6) -> 0 | AI6: =IFERROR(SUMPRODUCT(SUMIF(INDIRECT("liste"&$B6),Mars!$C6:$AG6,INDIRECT("cout"&$B6))),"")
AH7: =COUNTA(Mars!$C7:$AG7) -> 0 | AI7: =IFERROR(SUMPRODUCT(SUMIF(INDIRECT("liste"&$B7),Mars!$C7:$AG7,INDIRECT("cout"&$B7))),"")
AH8: =COUNTA(Mars!$C8:$AG8) -> 0 | AI8: =IFERROR(SUMPRODUCT(SUMIF(INDIRECT("liste"&$B8),Mars!$C8:$AG8,INDIRECT("cout"&$B8))),"")
AH9: =COUNTA(Mars!$C9:$AG9) -> 0 | AI9: =IFERROR(SUMPRODUCT(SUMIF(INDIRECT("liste"&$B9),Mars!$C9:$AG9,INDIRECT("cout"&$B9))),"")
AH10: =COUNTA(Mars!$C10:$AG10) -> 0 | AI10: =IFERROR(SUMPRODUCT(SUMIF(INDIRECT("liste"&$B10),Mars!$C10:$AG10,INDIRECT("cout"&$B10))),"")
AH11: =COUNTA(Mars!$C11:$AG11) -> 0 | AI11: =IFERROR(SUMPRODUCT(SUMIF(INDIRECT("liste"&$B11),Mars!$C11:$AG11,INDIRECT("cout"&$B11))),"")
AH12: =COUNTA(Mars!$C12:$AG12) -> 0 | AI12: =IFERROR(SUMPRODUCT(SUMIF(INDIRECT("liste"&$B12),Mars!$C12:$AG12,INDIRECT("cout"&$B12))),"")
AH13: =COUNTA(Mars!$C13:$AG13) -> 0 | AI13: =IFERROR(SUMPRODUCT(SUMIF(INDIRECT("liste"&$B13),Mars!$C13:$AG13,INDIRECT("cout"&$B13))),"")
AH14: =COUNTA(Mars!$C14:$AG14) -> 0 | AI14: =IFERROR(SUMPRODUCT(SUMIF(INDIRECT("liste"&$B14),Mars!$C14:$AG14,INDIRECT("cout"&$B14))),"")
AH15: =COUNTA(Mars!$C15:$AG15) -> 0 | AI15: =IFERROR(SUMPRODUCT(SUMIF(INDIRECT("liste"&$B15),Mars!$C15:$AG15,INDIRECT("cout"&$B15))),"")
AH16: =COUNTA(Mars!$C16:$AG16) -> 0 | AI16: =IFERROR(SUMPRODUCT(SUMIF(INDIRECT("liste"&$B16),Mars!$C16:$AG16,INDIRECT("cout"&$B16))),"")
AH17: =COUNTA(Mars!$C17:$AG17) -> 0 | AI17: =IFERROR(SUMPRODUCT(SUMIF(INDIRECT("liste"&$B17),Mars!$C17:$AG17,INDIRECT("cout"&$B17))),"")
... AH27: =COUNTA(Mars!$C27:$AG27) -> 0 | AI27: =IFERROR(SUMPRODUCT(SUMIF(INDIRECT("liste"&$B27),Mars!$C27:$AG27,INDIRECT("cout"&$B27))),"")

Sheet Avril
A3: =données!N5 -> Avril | C3: ="chiffre d'affaires du mois: "&TEXT(SUM(AI6:AI27 )," # ##0,00 €") -> chiffre d'affaires du mois: 0,00 € | AH3: =annéeencours -> 2019
C4: =DATE(annéeencours,MONTH(1&A3),1) -> 43556 | D4: =C4+1 -> 43557 | E4: =D4+1 -> 43558 | F4: =E4+1 -> 43559 | G4: =F4+1 -> 43560 | H4: =G4+1 -> 43561 | I4: =H4+1 -> 43562 | J4: =I4+1 -> 43563 | K4: =J4+1 -> 43564 | ... AG4: =AF4+1 -> 43586
A5: noms de l'animal | B5: Colonne1 | C5: 1 | D5: 2 | E5: 3 | F5: 4 | G5: 5 | H5: 6 | I5: 7 | J5: 8 | K5: 9 | L5: 10 | M5: 11 | N5: 12 | O5: 13 | P5: 14 | Q5: 15 | R5: 16 | S5: 17 | T5: 18 | U5: 19 | V5: 20 | W5: 21 | X5: 22 | Y5: 23 | Z5: 24 | AA5: 25 | AB5: 26 | AC5: 27 | AD5: 28 | AE5: 29 | AF5: 30 | AG5: 31 | AH5: Total jour | AI5: Total €
AH6: =COUNTA(Avril!$C6:$AG6) -> 0 | AI6: =IFERROR(SUMPRODUCT(SUMIF(INDIRECT("liste"&$B6),Avril!$C6:$AG6,INDIRECT("cout"&$B6))),"")
AH7: =COUNTA(Avril!$C7:$AG7) -> 0 | AI7: =IFERROR(SUMPRODUCT(SUMIF(INDIRECT("liste"&$B7),Avril!$C7:$AG7,INDIRECT("cout"&$B7))),"")
AH8: =COUNTA(Avril!$C8:$AG8) -> 0 | AI8: =IFERROR(SUMPRODUCT(SUMIF(INDIRECT("liste"&$B8),Avril!$C8:$AG8,INDIRECT("cout"&$B8))),"")
AH9: =COUNTA(Avril!$C9:$AG9) -> 0 | AI9: =IFERROR(SUMPRODUCT(SUMIF(INDIRECT("liste"&$B9),Avril!$C9:$AG9,INDIRECT("cout"&$B9))),"")
AH10: =COUNTA(Avril!$C10:$AG10) -> 0 | AI10: =IFERROR(SUMPRODUCT(SUMIF(INDIRECT("liste"&$B10),Avril!$C10:$AG10,INDIRECT("cout"&$B10))),"")
AH11: =COUNTA(Avril!$C11:$AG11) -> 0 | AI11: =IFERROR(SUMPRODUCT(SUMIF(INDIRECT("liste"&$B11),Avril!$C11:$AG11,INDIRECT("cout"&$B11))),"")
AH12: =COUNTA(Avril!$C12:$AG12) -> 0 | AI12: =IFERROR(SUMPRODUCT(SUMIF(INDIRECT("liste"&$B12),Avril!$C12:$AG12,INDIRECT("cout"&$B12))),"")
AH13: =COUNTA(Avril!$C13:$AG13) -> 0 | AI13: =IFERROR(SUMPRODUCT(SUMIF(INDIRECT("liste"&$B13),Avril!$C13:$AG13,INDIRECT("cout"&$B13))),"")
AH14: =COUNTA(Avril!$C14:$AG14) -> 0 | AI14: =IFERROR(SUMPRODUCT(SUMIF(INDIRECT("liste"&$B14),Avril!$C14:$AG14,INDIRECT("cout"&$B14))),"")
AH15: =COUNTA(Avril!$C15:$AG15) -> 0 | AI15: =IFERROR(SUMPRODUCT(SUMIF(INDIRECT("liste"&$B15),Avril!$C15:$AG15,INDIRECT("cout"&$B15))),"")
AH16: =COUNTA(Avril!$C16:$AG16) -> 0 | AI16: =IFERROR(SUMPRODUCT(SUMIF(INDIRECT("liste"&$B16),Avril!$C16:$AG16,INDIRECT("cout"&$B16))),"")
AH17: =COUNTA(Avril!$C17:$AG17) -> 0 | AI17: =IFERROR(SUMPRODUCT(SUMIF(INDIRECT("liste"&$B17),Avril!$C17:$AG17,INDIRECT("cout"&$B17))),"")
... AH27: =COUNTA(Avril!$C27:$AG27) -> 0 | AI27: =IFERROR(SUMPRODUCT(SUMIF(INDIRECT("liste"&$B27),Avril!$C27:$AG27,INDIRECT("cout"&$B27))),"")

Sheet Mai
A3: =données!N6 -> Mai | C3: EXEMPLE POUR PLANNING | AH3: =annéeencours -> 2019
C4: =DATE(annéeencours,MONTH(1&A3),1) -> 43586 | D4: =C4+1 -> 43587 | E4: =D4+1 -> 43588 | F4: =E4+1 -> 43589 | G4: =F4+1 -> 43590 | H4: =G4+1 -> 43591 | I4: =H4+1 -> 43592 | J4: =I4+1 -> 43593 | K4: =J4+1 -> 43594 | ... AG4: =AF4+1 -> 43616
A5: noms de l'animal | B5: Colonne1 | C5: 1 | D5: 2 | E5: 3 | F5: 4 | G5: 5 | H5: 6 | I5: 7 | J5: 8 | K5: 9 | L5: 10 | M5: 11 | N5: 12 | O5: 13 | P5: 14 | Q5: 15 | R5: 16 | S5: 17 | T5: 18 | U5: 19 | V5: 20 | W5: 21 | X5: 22 | Y5: 23 | Z5: 24 | AA5: 25 | AB5: 26 | AC5: 27 | AD5: 28 | AE5: 29 | AF5: 30 | AG5: 31 | AH5: Total jour | AI5: Total €
AH6: =COUNTA(Mai!$C6:$AG6) -> 0 | AI6: =IFERROR(SUMPRODUCT(SUMIF(INDIRECT("liste"&$B6),Mai!$C6:$AG6,INDIRECT("cout"&$B6))),"")
AH7: =COUNTA(Mai!$C7:$AG7) -> 0 | AI7: =IFERROR(SUMPRODUCT(SUMIF(INDIRECT("liste"&$B7),Mai!$C7:$AG7,INDIRECT("cout"&$B7))),"")
AH8: =COUNTA(Mai!$C8:$AG8) -> 0 | AI8: =IFERROR(SUMPRODUCT(SUMIF(INDIRECT("liste"&$B8),Mai!$C8:$AG8,INDIRECT("cout"&$B8))),"")
AH9: =COUNTA(Mai!$C9:$AG9) -> 0 | AI9: =IFERROR(SUMPRODUCT(SUMIF(INDIRECT("liste"&$B9),Mai!$C9:$AG9,INDIRECT("cout"&$B9))),"")
AH10: =COUNTA(Mai!$C10:$AG10) -> 0 | AI10: =IFERROR(SUMPRODUCT(SUMIF(INDIRECT("liste"&$B10),Mai!$C10:$AG10,INDIRECT("cout"&$B10))),"")
AH11: =COUNTA(Mai!$C11:$AG11) -> 0 | AI11: =IFERROR(SUMPRODUCT(SUMIF(INDIRECT("liste"&$B11),Mai!$C11:$AG11,INDIRECT("cout"&$B11))),"")
AH12: =COUNTA(Mai!$C12:$AG12) -> 0 | AI12: =IFERROR(SUMPRODUCT(SUMIF(INDIRECT("liste"&$B12),Mai!$C12:$AG12,INDIRECT("cout"&$B12))),"")
AH13: =COUNTA(Mai!$C13:$AG13) -> 0 | AI13: =IFERROR(SUMPRODUCT(SUMIF(INDIRECT("liste"&$B13),Mai!$C13:$AG13,INDIRECT("cout"&$B13))),"")
AH14: =COUNTA(Mai!$C14:$AG14) -> 0 | AI14: =IFERROR(SUMPRODUCT(SUMIF(INDIRECT("liste"&$B14),Mai!$C14:$AG14,INDIRECT("cout"&$B14))),"")
AH15: =COUNTA(Mai!$C15:$AG15) -> 0 | AI15: =IFERROR(SUMPRODUCT(SUMIF(INDIRECT("liste"&$B15),Mai!$C15:$AG15,INDIRECT("cout"&$B15))),"")
AH16: =COUNTA(Mai!$C16:$AG16) -> 0 | AI16: =IFERROR(SUMPRODUCT(SUMIF(INDIRECT("liste"&$B16),Mai!$C16:$AG16,INDIRECT("cout"&$B16))),"")
AH17: =COUNTA(Mai!$C17:$AG17) -> 0 | AI17: =IFERROR(SUMPRODUCT(SUMIF(INDIRECT("liste"&$B17),Mai!$C17:$AG17,INDIRECT("cout"&$B17))),"")
... AH27: =COUNTA(Mai!$C27:$AG27) -> 0 | AI27: =IFERROR(SUMPRODUCT(SUMIF(INDIRECT("liste"&$B27),Mai!$C27:$AG27,INDIRECT("cout"&$B27))),"")

Sheet Juin
A3: =données!N7 -> Juin | C3: EXEMPLE POUR PLANNING | AH3: =annéeencours -> 2019
C4: =DATE(annéeencours,MONTH(1&A3),1) -> 43617 | D4: =C4+1 -> 43618 | E4: =D4+1 -> 43619 | F4: =E4+1 -> 43620 | G4: =F4+1 -> 43621 | H4: =G4+1 -> 43622 | I4: =H4+1 -> 43623 | J4: =I4+1 -> 43624 | K4: =J4+1 -> 43625 | ... AG4: =AF4+1 -> 43647
A5: noms de l'animal | B5: Colonne1 | C5: 1 | D5: 2 | E5: 3 | F5: 4 | G5: 5 | H5: 6 | I5: 7 | J5: 8 | K5: 9 | L5: 10 | M5: 11 | N5: 12 | O5: 13 | P5: 14 | Q5: 15 | R5: 16 | S5: 17 | T5: 18 | U5: 19 | V5: 20 | W5: 21 | X5: 22 | Y5: 23 | Z5: 24 | AA5: 25 | AB5: 26 | AC5: 27 | AD5: 28 | AE5: 29 | AF5: 30 | AG5: 31 | AH5: Total jour | AI5: Total €
AH6: =COUNTA(Juin!$C6:$AG6) -> 0 | AI6: =IFERROR(SUMPRODUCT(SUMIF(INDIRECT("liste"&$B6),Juin!$C6:$AG6,INDIRECT("cout"&$B6))),"")
AH7: =COUNTA(Juin!$C7:$AG7) -> 0 | AI7: =IFERROR(SUMPRODUCT(SUMIF(INDIRECT("liste"&$B7),Juin!$C7:$AG7,INDIRECT("cout"&$B7))),"")
AH8: =COUNTA(Juin!$C8:$AG8) -> 0 | AI8: =IFERROR(SUMPRODUCT(SUMIF(INDIRECT("liste"&$B8),Juin!$C8:$AG8,INDIRECT("cout"&$B8))),"")
AH9: =COUNTA(Juin!$C9:$AG9) -> 0 | AI9: =IFERROR(SUMPRODUCT(SUMIF(INDIRECT("liste"&$B9),Juin!$C9:$AG9,INDIRECT("cout"&$B9))),"")
AH10: =COUNTA(Juin!$C10:$AG10) -> 0 | AI10: =IFERROR(SUMPRODUCT(SUMIF(INDIRECT("liste"&$B10),Juin!$C10:$AG10,INDIRECT("cout"&$B10))),"")
AH11: =COUNTA(Juin!$C11:$AG11) -> 0 | AI11: =IFERROR(SUMPRODUCT(SUMIF(INDIRECT("liste"&$B11),Juin!$C11:$AG11,INDIRECT("cout"&$B11))),"")
AH12: =COUNTA(Juin!$C12:$AG12) -> 0 | AI12: =IFERROR(SUMPRODUCT(SUMIF(INDIRECT("liste"&$B12),Juin!$C12:$AG12,INDIRECT("cout"&$B12))),"")
AH13: =COUNTA(Juin!$C13:$AG13) -> 0 | AI13: =IFERROR(SUMPRODUCT(SUMIF(INDIRECT("liste"&$B13),Juin!$C13:$AG13,INDIRECT("cout"&$B13))),"")
AH14: =COUNTA(Juin!$C14:$AG14) -> 0 | AI14: =IFERROR(SUMPRODUCT(SUMIF(INDIRECT("liste"&$B14),Juin!$C14:$AG14,INDIRECT("cout"&$B14))),"")
AH15: =COUNTA(Juin!$C15:$AG15) -> 0 | AI15: =IFERROR(SUMPRODUCT(SUMIF(INDIRECT("liste"&$B15),Juin!$C15:$AG15,INDIRECT("cout"&$B15))),"")
AH16: =COUNTA(Juin!$C16:$AG16) -> 0 | AI16: =IFERROR(SUMPRODUCT(SUMIF(INDIRECT("liste"&$B16),Juin!$C16:$AG16,INDIRECT("cout"&$B16))),"")
AH17: =COUNTA(Juin!$C17:$AG17) -> 0 | AI17: =IFERROR(SUMPRODUCT(SUMIF(INDIRECT("liste"&$B17),Juin!$C17:$AG17,INDIRECT("cout"&$B17))),"")
... AH27: =COUNTA(Juin!$C27:$AG27) -> 0 | AI27: =IFERROR(SUMPRODUCT(SUMIF(INDIRECT("liste"&$B27),Juin!$C27:$AG27,INDIRECT("cout"&$B27))),"")

Sheet Juillet
A3: =données!N8 -> Juillet | C3: EXEMPLE POUR PLANNING | AH3: =annéeencours -> 2019
C4: =DATE(annéeencours,MONTH(1&A3),1) -> 43647 | D4: =C4+1 -> 43648 | E4: =D4+1 -> 43649 | F4: =E4+1 -> 43650 | G4: =F4+1 -> 43651 | H4: =G4+1 -> 43652 | I4: =H4+1 -> 43653 | J4: =I4+1 -> 43654 | K4: =J4+1 -> 43655 | ... AG4: =AF4+1 -> 43677
A5: noms de l'animal | B5: Colonne1 | C5: 1 | D5: 2 | E5: 3 | F5: 4 | G5: 5 | H5: 6 | I5: 7 | J5: 8 | K5: 9 | L5: 10 | M5: 11 | N5: 12 | O5: 13 | P5: 14 | Q5: 15 | R5: 16 | S5: 17 | T5: 18 | U5: 19 | V5: 20 | W5: 21 | X5: 22 | Y5: 23 | Z5: 24 | AA5: 25 | AB5: 26 | AC5: 27 | AD5: 28 | AE5: 29 | AF5: 30 | AG5: 31 | AH5: Total jour | AI5: Total €
AH6: =COUNTA(Juillet!$C6:$AG6) -> 0 | AI6: =IFERROR(SUMPRODUCT(SUMIF(INDIRECT("liste"&$B6),Juillet!$C6:$AG6,INDIRECT("cout"&$B6))),"")
AH7: =COUNTA(Juillet!$C7:$AG7) -> 0 | AI7: =IFERROR(SUMPRODUCT(SUMIF(INDIRECT("liste"&$B7),Juillet!$C7:$AG7,INDIRECT("cout"&$B7))),"")
AH8: =COUNTA(Juillet!$C8:$AG8) -> 0 | AI8: =IFERROR(SUMPRODUCT(SUMIF(INDIRECT("liste"&$B8),Juillet!$C8:$AG8,INDIRECT("cout"&$B8))),"")
AH9: =COUNTA(Juillet!$C9:$AG9) -> 0 | AI9: =IFERROR(SUMPRODUCT(SUMIF(INDIRECT("liste"&$B9),Juillet!$C9:$AG9,INDIRECT("cout"&$B9))),"")
AH10: =COUNTA(Juillet!$C10:$AG10) -> 0 | AI10: =IFERROR(SUMPRODUCT(SUMIF(INDIRECT("liste"&$B10),Juillet!$C10:$AG10,INDIRECT("cout"&$B10))),"")
AH11: =COUNTA(Juillet!$C11:$AG11) -> 0 | AI11: =IFERROR(SUMPRODUCT(SUMIF(INDIRECT("liste"&$B11),Juillet!$C11:$AG11,INDIRECT("cout"&$B11))),"")
AH12: =COUNTA(Juillet!$C12:$AG12) -> 0 | AI12: =IFERROR(SUMPRODUCT(SUMIF(INDIRECT("liste"&$B12),Juillet!$C12:$AG12,INDIRECT("cout"&$B12))),"")
AH13: =COUNTA(Juillet!$C13:$AG13) -> 0 | AI13: =IFERROR(SUMPRODUCT(SUMIF(INDIRECT("liste"&$B13),Juillet!$C13:$AG13,INDIRECT("cout"&$B13))),"")
AH14: =COUNTA(Juillet!$C14:$AG14) -> 0 | AI14: =IFERROR(SUMPRODUCT(SUMIF(INDIRECT("liste"&$B14),Juillet!$C14:$AG14,INDIRECT("cout"&$B14))),"")
AH15: =COUNTA(Juillet!$C15:$AG15) -> 0 | AI15: =IFERROR(SUMPRODUCT(SUMIF(INDIRECT("liste"&$B15),Juillet!$C15:$AG15,INDIRECT("cout"&$B15))),"")
AH16: =COUNTA(Juillet!$C16:$AG16) -> 0 | AI16: =IFERROR(SUMPRODUCT(SUMIF(INDIRECT("liste"&$B16),Juillet!$C16:$AG16,INDIRECT("cout"&$B16))),"")
AH17: =COUNTA(Juillet!$C17:$AG17) -> 0 | AI17: =IFERROR(SUMPRODUCT(SUMIF(INDIRECT("liste"&$B17),Juillet!$C17:$AG17,INDIRECT("cout"&$B17))),"")
... AH27: =COUNTA(Juillet!$C27:$AG27) -> 0 | AI27: =IFERROR(SUMPRODUCT(SUMIF(INDIRECT("liste"&$B27),Juillet!$C27:$AG27,INDIRECT("cout"&$B27))),"")

Sheet Août
A3: =données!N9 -> Août | C3: EXEMPLE POUR PLANNING | AH3: =annéeencours -> 2019
C4: =DATE(annéeencours,MONTH(1&A3),1) -> 43678 | D4: =C4+1 -> 43679 | E4: =D4+1 -> 43680 | F4: =E4+1 -> 43681 | G4: =F4+1 -> 43682 | H4: =G4+1 -> 43683 | I4: =H4+1 -> 43684 | J4: =I4+1 -> 43685 | K4: =J4+1 -> 43686 | ... AG4: =AF4+1 -> 43708
A5: noms de l'animal | B5: Colonne1 | C5: 1 | D5: 2 | E5: 3 | F5: 4 | G5: 5 | H5: 6 | I5: 7 | J5: 8 | K5: 9 | L5: 10 | M5: 11 | N5: 12 | O5: 13 | P5: 14 | Q5: 15 | R5: 16 | S5: 17 | T5: 18 | U5: 19 | V5: 20 | W5: 21 | X5: 22 | Y5: 23 | Z5: 24 | AA5: 25 | AB5: 26 | AC5: 27 | AD5: 28 | AE5: 29 | AF5: 30 | AG5: 31 | AH5: Total jour | AI5: Total €
AH6: =COUNTA(Août!$C6:$AG6) -> 0 | AI6: =IFERROR(SUMPRODUCT(SUMIF(INDIRECT("liste"&$B6),Août!$C6:$AG6,INDIRECT("cout"&$B6))),"")
AH7: =COUNTA(Août!$C7:$AG7) -> 0 | AI7: =IFERROR(SUMPRODUCT(SUMIF(INDIRECT("liste"&$B7),Août!$C7:$AG7,INDIRECT("cout"&$B7))),"")
AH8: =COUNTA(Août!$C8:$AG8) -> 0 | AI8: =IFERROR(SUMPRODUCT(SUMIF(INDIRECT("liste"&$B8),Août!$C8:$AG8,INDIRECT("cout"&$B8))),"")
AH9: =COUNTA(Août!$C9:$AG9) -> 0 | AI9: =IFERROR(SUMPRODUCT(SUMIF(INDIRECT("liste"&$B9),Août!$C9:$AG9,INDIRECT("cout"&$B9))),"")
AH10: =COUNTA(Août!$C10:$AG10) -> 0 | AI10: =IFERROR(SUMPRODUCT(SUMIF(INDIRECT("liste"&$B10),Août!$C10:$AG10,INDIRECT("cout"&$B10))),"")
AH11: =COUNTA(Août!$C11:$AG11) -> 0 | AI11: =IFERROR(SUMPRODUCT(SUMIF(INDIRECT("liste"&$B11),Août!$C11:$AG11,INDIRECT("cout"&$B11))),"")
AH12: =COUNTA(Août!$C12:$AG12) -> 0 | AI12: =IFERROR(SUMPRODUCT(SUMIF(INDIRECT("liste"&$B12),Août!$C12:$AG12,INDIRECT("cout"&$B12))),"")
AH13: =COUNTA(Août!$C13:$AG13) -> 0 | AI13: =IFERROR(SUMPRODUCT(SUMIF(INDIRECT("liste"&$B13),Août!$C13:$AG13,INDIRECT("cout"&$B13))),"")
AH14: =COUNTA(Août!$C14:$AG14) -> 0 | AI14: =IFERROR(SUMPRODUCT(SUMIF(INDIRECT("liste"&$B14),Août!$C14:$AG14,INDIRECT("cout"&$B14))),"")
AH15: =COUNTA(Août!$C15:$AG15) -> 0 | AI15: =IFERROR(SUMPRODUCT(SUMIF(INDIRECT("liste"&$B15),Août!$C15:$AG15,INDIRECT("cout"&$B15))),"")
AH16: =COUNTA(Août!$C16:$AG16) -> 0 | AI16: =IFERROR(SUMPRODUCT(SUMIF(INDIRECT("liste"&$B16),Août!$C16:$AG16,INDIRECT("cout"&$B16))),"")
AH17: =COUNTA(Août!$C17:$AG17) -> 0 | AI17: =IFERROR(SUMPRODUCT(SUMIF(INDIRECT("liste"&$B17),Août!$C17:$AG17,INDIRECT("cout"&$B17))),"")
... AH27: =COUNTA(Août!$C27:$AG27) -> 0 | AI27: =IFERROR(SUMPRODUCT(SUMIF(INDIRECT("liste"&$B27),Août!$C27:$AG27,INDIRECT("cout"&$B27))),"")

Sheet Septembre
A3: =données!N10 -> Septembre | C3: EXEMPLE POUR PLANNING | AH3: =annéeencours -> 2019
C4: =DATE(annéeencours,MONTH(1&A3),1) -> 43709 | D4: =C4+1 -> 43710 | E4: =D4+1 -> 43711 | F4: =E4+1 -> 43712 | G4: =F4+1 -> 43713 | H4: =G4+1 -> 43714 | I4: =H4+1 -> 43715 | J4: =I4+1 -> 43716 | K4: =J4+1 -> 43717 | ... AG4: =AF4+1 -> 43739
A5: noms de l'animal | B5: Colonne1 | C5: 1 | D5: 2 | E5: 3 | F5: 4 | G5: 5 | H5: 6 | I5: 7 | J5: 8 | K5: 9 | L5: 10 | M5: 11 | N5: 12 | O5: 13 | P5: 14 | Q5: 15 | R5: 16 | S5: 17 | T5: 18 | U5: 19 | V5: 20 | W5: 21 | X5: 22 | Y5: 23 | Z5: 24 | AA5: 25 | AB5: 26 | AC5: 27 | AD5: 28 | AE5: 29 | AF5: 30 | AG5: 31 | AH5: Total jour | AI5: Total €
AH6: =COUNTA(Septembre!$C6:$AG6) -> 0 | AI6: =IFERROR(SUMPRODUCT(SUMIF(INDIRECT("liste"&$B6),Septembre!$C6:$AG6,INDIRECT("cout"&$B6))),"")
AH7: =COUNTA(Septembre!$C7:$AG7) -> 0 | AI7: =IFERROR(SUMPRODUCT(SUMIF(INDIRECT("liste"&$B7),Septembre!$C7:$AG7,INDIRECT("cout"&$B7))),"")
AH8: =COUNTA(Septembre!$C8:$AG8) -> 0 | AI8: =IFERROR(SUMPRODUCT(SUMIF(INDIRECT("liste"&$B8),Septembre!$C8:$AG8,INDIRECT("cout"&$B8))),"")
AH9: =COUNTA(Septembre!$C9:$AG9) -> 0 | AI9: =IFERROR(SUMPRODUCT(SUMIF(INDIRECT("liste"&$B9),Septembre!$C9:$AG9,INDIRECT("cout"&$B9))),"")
AH10: =COUNTA(Septembre!$C10:$AG10) -> 0 | AI10: =IFERROR(SUMPRODUCT(SUMIF(INDIRECT("liste"&$B10),Septembre!$C10:$AG10,INDIRECT("cout"&$B10))),"")
AH11: =COUNTA(Septembre!$C11:$AG11) -> 0 | AI11: =IFERROR(SUMPRODUCT(SUMIF(INDIRECT("liste"&$B11),Septembre!$C11:$AG11,INDIRECT("cout"&$B11))),"")
AH12: =COUNTA(Septembre!$C12:$AG12) -> 0 | AI12: =IFERROR(SUMPRODUCT(SUMIF(INDIRECT("liste"&$B12),Septembre!$C12:$AG12,INDIRECT("cout"&$B12))),"")
AH13: =COUNTA(Septembre!$C13:$AG13) -> 0 | AI13: =IFERROR(SUMPRODUCT(SUMIF(INDIRECT("liste"&$B13),Septembre!$C13:$AG13,INDIRECT("cout"&$B13))),"")
AH14: =COUNTA(Septembre!$C14:$AG14) -> 0 | AI14: =IFERROR(SUMPRODUCT(SUMIF(INDIRECT("liste"&$B14),Septembre!$C14:$AG14,INDIRECT("cout"&$B14))),"")
AH15: =COUNTA(Septembre!$C15:$AG15) -> 0 | AI15: =IFERROR(SUMPRODUCT(SUMIF(INDIRECT("liste"&$B15),Septembre!$C15:$AG15,INDIRECT("cout"&$B15))),"")
AH16: =COUNTA(Septembre!$C16:$AG16) -> 0 | AI16: =IFERROR(SUMPRODUCT(SUMIF(INDIRECT("liste"&$B16),Septembre!$C16:$AG16,INDIRECT("cout"&$B16))),"")
AH17: =COUNTA(Septembre!$C17:$AG17) -> 0 | AI17: =IFERROR(SUMPRODUCT(SUMIF(INDIRECT("liste"&$B17),Septembre!$C17:$AG17,INDIRECT("cout"&$B17))),"")
... AH27: =COUNTA(Septembre!$C27:$AG27) -> 0 | AI27: =IFERROR(SUMPRODUCT(SUMIF(INDIRECT("liste"&$B27),Septembre!$C27:$AG27,INDIRECT("cout"&$B27))),"")

Sheet Octobre
A3: =données!N11 -> Octobre | C3: EXEMPLE POUR PLANNING | AH3: =annéeencours -> 2019
C4: =DATE(annéeencours,MONTH(1&A3),1) -> 43739 | D4: =C4+1 -> 43740 | E4: =D4+1 -> 43741 | F4: =E4+1 -> 43742 | G4: =F4+1 -> 43743 | H4: =G4+1 -> 43744 | I4: =H4+1 -> 43745 | J4: =I4+1 -> 43746 | K4: =J4+1 -> 43747 | ... AG4: =AF4+1 -> 43769
A5: noms de l'animal | B5: Colonne1 | C5: 1 | D5: 2 | E5: 3 | F5: 4 | G5: 5 | H5: 6 | I5: 7 | J5: 8 | K5: 9 | L5: 10 | M5: 11 | N5: 12 | O5: 13 | P5: 14 | Q5: 15 | R5: 16 | S5: 17 | T5: 18 | U5: 19 | V5: 20 | W5: 21 | X5: 22 | Y5: 23 | Z5: 24 | AA5: 25 | AB5: 26 | AC5: 27 | AD5: 28 | AE5: 29 | AF5: 30 | AG5: 31 | AH5: Total jour | AI5: Total €
AH6: =COUNTA(Octobre!$C6:$AG6) -> 0 | AI6: =IFERROR(SUMPRODUCT(SUMIF(INDIRECT("liste"&$B6),Octobre!$C6:$AG6,INDIRECT("cout"&$B6))),"")
AH7: =COUNTA(Octobre!$C7:$AG7) -> 0 | AI7: =IFERROR(SUMPRODUCT(SUMIF(INDIRECT("liste"&$B7),Octobre!$C7:$AG7,INDIRECT("cout"&$B7))),"")
AH8: =COUNTA(Octobre!$C8:$AG8) -> 0 | AI8: =IFERROR(SUMPRODUCT(SUMIF(INDIRECT("liste"&$B8),Octobre!$C8:$AG8,INDIRECT("cout"&$B8))),"")
AH9: =COUNTA(Octobre!$C9:$AG9) -> 0 | AI9: =IFERROR(SUMPRODUCT(SUMIF(INDIRECT("liste"&$B9),Octobre!$C9:$AG9,INDIRECT("cout"&$B9))),"")
AH10: =COUNTA(Octobre!$C10:$AG10) -> 0 | AI10: =IFERROR(SUMPRODUCT(SUMIF(INDIRECT("liste"&$B10),Octobre!$C10:$AG10,INDIRECT("cout"&$B10))),"")
AH11: =COUNTA(Octobre!$C11:$AG11) -> 0 | AI11: =IFERROR(SUMPRODUCT(SUMIF(INDIRECT("liste"&$B11),Octobre!$C11:$AG11,INDIRECT("cout"&$B11))),"")
AH12: =COUNTA(Octobre!$C12:$AG12) -> 0 | AI12: =IFERROR(SUMPRODUCT(SUMIF(INDIRECT("liste"&$B12),Octobre!$C12:$AG12,INDIRECT("cout"&$B12))),"")
AH13: =COUNTA(Octobre!$C13:$AG13) -> 0 | AI13: =IFERROR(SUMPRODUCT(SUMIF(INDIRECT("liste"&$B13),Octobre!$C13:$AG13,INDIRECT("cout"&$B13))),"")
AH14: =COUNTA(Octobre!$C14:$AG14) -> 0 | AI14: =IFERROR(SUMPRODUCT(SUMIF(INDIRECT("liste"&$B14),Octobre!$C14:$AG14,INDIRECT("cout"&$B14))),"")
AH15: =COUNTA(Octobre!$C15:$AG15) -> 0 | AI15: =IFERROR(SUMPRODUCT(SUMIF(INDIRECT("liste"&$B15),Octobre!$C15:$AG15,INDIRECT("cout"&$B15))),"")
AH16: =COUNTA(Octobre!$C16:$AG16) -> 0 | AI16: =IFERROR(SUMPRODUCT(SUMIF(INDIRECT("liste"&$B16),Octobre!$C16:$AG16,INDIRECT("cout"&$B16))),"")
AH17: =COUNTA(Octobre!$C17:$AG17) -> 0 | AI17: =IFERROR(SUMPRODUCT(SUMIF(INDIRECT("liste"&$B17),Octobre!$C17:$AG17,INDIRECT("cout"&$B17))),"")
... AH27: =COUNTA(Octobre!$C27:$AG27) -> 0 | AI27: =IFERROR(SUMPRODUCT(SUMIF(INDIRECT("liste"&$B27),Octobre!$C27:$AG27,INDIRECT("cout"&$B27))),"")

Sheet Novembre
A3: =données!N12 -> Novembre | C3: EXEMPLE POUR PLANNING | AH3: =annéeencours -> 2019
C4: =DATE(annéeencours,MONTH(1&A3),1) -> 43770 | D4: =C4+1 -> 43771 | E4: =D4+1 -> 43772 | F4: =E4+1 -> 43773 | G4: =F4+1 -> 43774 | H4: =G4+1 -> 43775 | I4: =H4+1 -> 43776 | J4: =I4+1 -> 43777 | K4: =J4+1 -> 43778 | ... AG4: =AF4+1 -> 43800
A5: noms de l'animal | B5: Colonne1 | C5: 1 | D5: 2 | E5: 3 | F5: 4 | G5: 5 | H5: 6 | I5: 7 | J5: 8 | K5: 9 | L5: 10 | M5: 11 | N5: 12 | O5: 13 | P5: 14 | Q5: 15 | R5: 16 | S5: 17 | T5: 18 | U5: 19 | V5: 20 | W5: 21 | X5: 22 | Y5: 23 | Z5: 24 | AA5: 25 | AB5: 26 | AC5: 27 | AD5: 28 | AE5: 29 | AF5: 30 | AG5: 31 | AH5: Total jour | AI5: Total €
AH6: =COUNTA(Janvier11[[#This Row],[1]:[31]]) -> 0 | AI6: =IFERROR(SUMPRODUCT(SUMIF(INDIRECT("liste"&$B6),Janvier11[[#This Row],[1]:[31]],INDIRECT("cout"&$B6))),"")
B7: chien | AH7: =COUNTA(Janvier11[[#This Row],[1]:[31]]) -> 0 | AI7: =IFERROR(SUMPRODUCT(SUMIF(INDIRECT("liste"&$B7),Janvier11[[#This Row],[1]:[31]],INDIRECT("cout"&$B7))),"") -> 0
AH8: =COUNTA(Janvier11[[#This Row],[1]:[31]]) -> 0 | AI8: =IFERROR(SUMPRODUCT(SUMIF(INDIRECT("liste"&$B8),Janvier11[[#This Row],[1]:[31]],INDIRECT("cout"&$B8))),"")
B9: chat | AH9: =COUNTA(Janvier11[[#This Row],[1]:[31]]) -> 0 | AI9: =IFERROR(SUMPRODUCT(SUMIF(INDIRECT("liste"&$B9),Janvier11[[#This Row],[1]:[31]],INDIRECT("cout"&$B9))),"") -> 0
B10: chat | AH10: =COUNTA(Janvier11[[#This Row],[1]:[31]]) -> 0 | AI10: =IFERROR(SUMPRODUCT(SUMIF(INDIRECT("liste"&$B10),Janvier11[[#This Row],[1]:[31]],INDIRECT("cout"&$B10))),"") -> 0
B11: nac | AH11: =COUNTA(Janvier11[[#This Row],[1]:[31]]) -> 0 | AI11: =IFERROR(SUMPRODUCT(SUMIF(INDIRECT("liste"&$B11),Janvier11[[#This Row],[1]:[31]],INDIRECT("cout"&$B11))),"") -> 0
B12: nac | AH12: =COUNTA(Janvier11[[#This Row],[1]:[31]]) -> 0 | AI12: =IFERROR(SUMPRODUCT(SUMIF(INDIRECT("liste"&$B12),Janvier11[[#This Row],[1]:[31]],INDIRECT("cout"&$B12))),"") -> 0
AH13: =COUNTA(Janvier11[[#This Row],[1]:[31]]) -> 0 | AI13: =IFERROR(SUMPRODUCT(SUMIF(INDIRECT("liste"&$B13),Janvier11[[#This Row],[1]:[31]],INDIRECT("cout"&$B13))),"")
AH14: =COUNTA(Janvier11[[#This Row],[1]:[31]]) -> 0 | AI14: =IFERROR(SUMPRODUCT(SUMIF(INDIRECT("liste"&$B14),Janvier11[[#This Row],[1]:[31]],INDIRECT("cout"&$B14))),"")
AH15: =COUNTA(Janvier11[[#This Row],[1]:[31]]) -> 0 | AI15: =IFERROR(SUMPRODUCT(SUMIF(INDIRECT("liste"&$B15),Janvier11[[#This Row],[1]:[31]],INDIRECT("cout"&$B15))),"")
AH16: =COUNTA(Janvier11[[#This Row],[1]:[31]]) -> 0 | AI16: =IFERROR(SUMPRODUCT(SUMIF(INDIRECT("liste"&$B16),Janvier11[[#This Row],[1]:[31]],INDIRECT("cout"&$B16))),"")
AH17: =COUNTA(Janvier11[[#This Row],[1]:[31]]) -> 0 | AI17: =IFERROR(SUMPRODUCT(SUMIF(INDIRECT("liste"&$B17),Janvier11[[#This Row],[1]:[31]],INDIRECT("cout"&$B17))),"")
AH18: =COUNTA(Janvier11[[#This Row],[1]:[31]]) -> 0 | AI18: =IFERROR(SUMPRODUCT(SUMIF(INDIRECT("liste"&$B18),Janvier11[[#This Row],[1]:[31]],INDIRECT("cout"&$B18))),"")
AH19: =COUNTA(Janvier11[[#This Row],[1]:[31]]) -> 0 | AI19: =IFERROR(SUMPRODUCT(SUMIF(INDIRECT("liste"&$B19),Janvier11[[#This Row],[1]:[31]],INDIRECT("cout"&$B19))),"")
AH20: =COUNTA(Janvier11[[#This Row],[1]:[31]]) -> 0 | AI20: =IFERROR(SUMPRODUCT(SUMIF(INDIRECT("liste"&$B20),Janvier11[[#This Row],[1]:[31]],INDIRECT("cout"&$B20))),"")
AH21: =COUNTA(Janvier11[[#This Row],[1]:[31]]) -> 0 | AI21: =IFERROR(SUMPRODUCT(SUMIF(INDIRECT("liste"&$B21),Janvier11[[#This Row],[1]:[31]],INDIRECT("cout"&$B21))),"")
AH22: =COUNTA(Janvier11[[#This Row],[1]:[31]]) -> 0 | AI22: =IFERROR(SUMPRODUCT(SUMIF(INDIRECT("liste"&$B22),Janvier11[[#This Row],[1]:[31]],INDIRECT("cout"&$B22))),"")
AH23: =COUNTA(Janvier11[[#This Row],[1]:[31]]) -> 0 | AI23: =IFERROR(SUMPRODUCT(SUMIF(INDIRECT("liste"&$B23),Janvier11[[#This Row],[1]:[31]],INDIRECT("cout"&$B23))),"")
AH24: =COUNTA(Janvier11[[#This Row],[1]:[31]]) -> 0 | AI24: =IFERROR(SUMPRODUCT(SUMIF(INDIRECT("liste"&$B24),Janvier11[[#This Row],[1]:[31]],INDIRECT("cout"&$B24))),"")
... AH27: =COUNTA(Janvier11[[#This Row],[1]:[31]]) -> 0 | AI27: =IFERROR(SUMPRODUCT(SUMIF(INDIRECT("liste"&$B27),Janvier11[[#This Row],[1]:[31]],INDIRECT("cout"&$B27))),"")

Sheet Décembre
A3: =données!N13 -> Décembre | C3: EXEMPLE POUR PLANNING | AH3: =annéeencours -> 2019
C4: =DATE(annéeencours,MONTH(1&A3),1) -> 43800 | D4: =C4+1 -> 43801 | E4: =D4+1 -> 43802 | F4: =E4+1 -> 43803 | G4: =F4+1 -> 43804 | H4: =G4+1 -> 43805 | I4: =H4+1 -> 43806 | J4: =I4+1 -> 43807 | K4: =J4+1 -> 43808 | ... AG4: =AF4+1 -> 43830
A5: noms de l'animal | B5: Colonne1 | C5: 1 | D5: 2 | E5: 3 | F5: 4 | G5: 5 | H5: 6 | I5: 7 | J5: 8 | K5: 9 | L5: 10 | M5: 11 | N5: 12 | O5: 13 | P5: 14 | Q5: 15 | R5: 16 | S5: 17 | T5: 18 | U5: 19 | V5: 20 | W5: 21 | X5: 22 | Y5: 23 | Z5: 24 | AA5: 25 | AB5: 26 | AC5: 27 | AD5: 28 | AE5: 29 | AF5: 30 | AG5: 31 | AH5: Total jour | AI5: Total €
AH6: =COUNTA(Décembre!$C6:$AG6) -> 0 | AI6: =IFERROR(SUMPRODUCT(SUMIF(INDIRECT("liste"&$B6),Décembre!$C6:$AG6,INDIRECT("cout"&$B6))),"")
AH7: =COUNTA(Décembre!$C7:$AG7) -> 0 | AI7: =IFERROR(SUMPRODUCT(SUMIF(INDIRECT("liste"&$B7),Décembre!$C7:$AG7,INDIRECT("cout"&$B7))),"")
AH8: =COUNTA(Décembre!$C8:$AG8) -> 0 | AI8: =IFERROR(SUMPRODUCT(SUMIF(INDIRECT("liste"&$B8),Décembre!$C8:$AG8,INDIRECT("cout"&$B8))),"")
AH9: =COUNTA(Décembre!$C9:$AG9) -> 0 | AI9: =IFERROR(SUMPRODUCT(SUMIF(INDIRECT("liste"&$B9),Décembre!$C9:$AG9,INDIRECT("cout"&$B9))),"")
AH10: =COUNTA(Décembre!$C10:$AG10) -> 0 | AI10: =IFERROR(SUMPRODUCT(SUMIF(INDIRECT("liste"&$B10),Décembre!$C10:$AG10,INDIRECT("cout"&$B10))),"")
AH11: =COUNTA(Décembre!$C11:$AG11) -> 0 | AI11: =IFERROR(SUMPRODUCT(SUMIF(INDIRECT("liste"&$B11),Décembre!$C11:$AG11,INDIRECT("cout"&$B11))),"")
AH12: =COUNTA(Décembre!$C12:$AG12) -> 0 | AI12: =IFERROR(SUMPRODUCT(SUMIF(INDIRECT("liste"&$B12),Décembre!$C12:$AG12,INDIRECT("cout"&$B12))),"")
AH13: =COUNTA(Décembre!$C13:$AG13) -> 0 | AI13: =IFERROR(SUMPRODUCT(SUMIF(INDIRECT("liste"&$B13),Décembre!$C13:$AG13,INDIRECT("cout"&$B13))),"")
AH14: =COUNTA(Décembre!$C14:$AG14) -> 0 | AI14: =IFERROR(SUMPRODUCT(SUMIF(INDIRECT("liste"&$B14),Décembre!$C14:$AG14,INDIRECT("cout"&$B14))),"")
AH15: =COUNTA(Décembre!$C15:$AG15) -> 0 | AI15: =IFERROR(SUMPRODUCT(SUMIF(INDIRECT("liste"&$B15),Décembre!$C15:$AG15,INDIRECT("cout"&$B15))),"")
AH16: =COUNTA(Décembre!$C16:$AG16) -> 0 | AI16: =IFERROR(SUMPRODUCT(SUMIF(INDIRECT("liste"&$B16),Décembre!$C16:$AG16,INDIRECT("cout"&$B16))),"")
AH17: =COUNTA(Décembre!$C17:$AG17) -> 0 | AI17: =IFERROR(SUMPRODUCT(SUMIF(INDIRECT("liste"&$B17),Décembre!$C17:$AG17,INDIRECT("cout"&$B17))),"")
... AH27: =COUNTA(Décembre!$C27:$AG27) -> 0 | AI27: =IFERROR(SUMPRODUCT(SUMIF(INDIRECT("liste"&$B27),Décembre!$C27:$AG27,INDIRECT("cout"&$B27))),"")

Sheet données
B1: chien | F1: chat | J1: nac | M1: année en cours
B2: G | C2: Garde | D2: 15 | F2: VF1 | G2: matin | H2: 8 | J2: VN1 | K2: matin | L2: 7 | M2: 2019 | N2: Janvier
B3: VC1 | C3: matin | D3: 9 | F3: VF2 | G3: midi | H3: 8 | J3: VN2 | K3: midi | L3: 7 | N3: Février
B4: VC2 | C4: midi | D4: 9 | F4: VF3 | G4: après-midi | H4: 8 | J4: VN3 | K4: après-midi | L4: 7 | N4: Mars
B5: VC3 | C5: après-midi | D5: 9 | F5: VF4 | G5: soir | H5: 8 | J5: VN4 | K5: soir | L5: 7 | N5: Avril
B6: VC4 | C6: soir | D6: 9 | F6: VF5 | G6: matin/midi | H6: 16 | J6: VN5 | K6: matin/midi | L6: 14 | N6: Mai
B7: VC5 | C7: matin/midi | D7: 18 | F7: VF6 | G7: matin/après-midi | H7: 16 | J7: VN6 | K7: matin/après-midi | L7: 14 | N7: Juin
B8: VC6 | C8: matin/après-midi | D8: 18 | F8: VF7 | G8: matin/soir | H8: 16 | J8: VN7 | K8: matin/soir | L8: 14 | N8: Juillet
B9: VC7 | C9: matin/soir | D9: 18 | F9: VF8 | G9: midi/soir | H9: 16 | J9: VN8 | K9: midi/soir | L9: 14 | N9: Août
B10: VC8 | C10: midi/soir | D10: 18 | F10: VF9 | G10: après-midi/soir | H10: 16 | J10: VN9 | K10: après-midi/soir | L10: 14 | N10: Septembre
B11: VC9 | C11: après-midi/soir | D11: 18 | F11: VF10 | G11: matin/midi/soir | H11: 24 | J11: VN10 | K11: matin/midi/soir | L11: 21 | N11: Octobre
B12: VC10 | C12: matin/midi/soir | D12: 27 | F12: VF11 | G12: matin/après-midi/soir | H12: 24 | J12: VN11 | K12: matin/après-midi/soir | L12: 21 | N12: Novembre
B13: VC11 | C13: matin/après-midi/soir | D13: 27 | F13: G | G13: Garde | H13: 7 | J13: G | K13: Garde | L13: 5 | N13: Décembre
B14: VC12 | C14: Tarif personnalisé | D14: 10 | F14: VF12 | G14: Tarif personnalisé | H14: 5 | J14: VN12 | K14: Tarif personnalisé | L14: 1
B15: VC13 | C15: Tarif personnalisé | D15: 11 | F15: VF13 | G15: Tarif personnalisé | H15: 6 | J15: VN13 | K15: Tarif personnalisé | L15: 2
B16: VC14 | C16: Tarif personnalisé | D16: 12 | F16: VF14 | G16: Tarif personnalisé | H16: 7 | J16: VN14 | K16: Tarif personnalisé | L16: 3
B17: VC15 | C17: Tarif personnalisé | D17: 13 | F17: VF15 | G17: Tarif personnalisé | H17: 8 | J17: VN15 | K17: Tarif personnalisé | L17: 4
B18: VC16 | C18: Tarif personnalisé | D18: 14
